{"text_format":"1","workbook":"xlsx","n_sheets":14,"sheets":["Money Leaders","GOY","Match Play","Winners","Results (Low Net)","Results (Pairings)","Skins - CP's","Matches","Posting Sheet","Pots","Players","Pairings","Members","Information"],"not_rendered":{"charts":0,"images":1,"macros":1,"external_links":0,"defined_names":27,"comments":0,"pivot_tables":0},"unopened":[],"bounds":{"document_bytes":16777216,"sheet_cells":100000,"rows_first":2000,"rows_last":500,"rows_between":2000,"halvings":0,"cell_chars":16384,"cell_head_chars":4096},"cells_cut":0,"cells_raw":0,"read":"whole","date_system":"1900"}

{"sheet":"Money Leaders","index":0,"n_rows":78,"n_cols":13,"rows_kept":78,"cut":false,"hidden":false,"merged":[[0,0,0,12],[77,0,77,2]]}
["\"2018 Money Leaderboard\""]
["Position","No.","Player","2018-01-20","2018-03-18","2018-05-20","2018-07-22","2018-09-15","2018-09-16","2018-11-01","MP","GOY","Total"]
[{"$f":"IF($M3=$M4,\"T\"&$B3,$B3)","v":"1"},"1","Christen, Lou",102,17,"",{"$f":"IF($G$2<>Players!$B$4,\"\",IF(SUMIF(Winners!$B$4:$J$34,$C3,Winners!$D$4:$L$34)=0,\"\",SUMIF(Winners!$B$4:$J$34,$C3,Winners!$D$4:$L$34)))","v":39.5},{"$f":"IF($H$2<>Players!$B$4,\"\",IF(SUMIF(Winners!$B$4:$J$34,$C3,Winners!$D$4:$L$34)=0,\"\",SUMIF(Winners!$B$4:$J$34,$C3,Winners!$D$4:$L$34)))","v":""},{"$f":"IF($I$2<>Players!$B$4,\"\",IF(SUMIF(Winners!$B$4:$J$34,$C3,Winners!$D$4:$L$34)=0,\"\",SUMIF(Winners!$B$4:$J$34,$C3,Winners!$D$4:$L$34)))","v":""},{"$f":"IF($J$2<>Players!$B$4,\"\",IF(SUMIF(Winners!$B$4:$J$34,$C3,Winners!$D$4:$L$34)=0,\"\",SUMIF(Winners!$B$4:$J$34,$C3,Winners!$D$4:$L$34)))","v":""},null,null,{"$f":"SUM($D3:$J3,$K3:$L3)","v":158.5}]
[{"$f":"IF($M4=$M3,$A3,IF($M4=$M5,\"T\"&$B4,$B4))","v":"2"},"2","Lunghard, Rich",40,91.5,12.5,{"$f":"IF($G$2<>Players!$B$4,\"\",IF(SUMIF(Winners!$B$4:$J$34,$C4,Winners!$D$4:$L$34)=0,\"\",SUMIF(Winners!$B$4:$J$34,$C4,Winners!$D$4:$L$34)))","v":""},{"$f":"IF($H$2<>Players!$B$4,\"\",IF(SUMIF(Winners!$B$4:$J$34,$C4,Winners!$D$4:$L$34)=0,\"\",SUMIF(Winners!$B$4:$J$34,$C4,Winners!$D$4:$L$34)))","v":""},{"$f":"IF($I$2<>Players!$B$4,\"\",IF(SUMIF(Winners!$B$4:$J$34,$C4,Winners!$D$4:$L$34)=0,\"\",SUMIF(Winners!$B$4:$J$34,$C4,Winners!$D$4:$L$34)))","v":""},{"$f":"IF($J$2<>Players!$B$4,\"\",IF(SUMIF(Winners!$B$4:$J$34,$C4,Winners!$D$4:$L$34)=0,\"\",SUMIF(Winners!$B$4:$J$34,$C4,Winners!$D$4:$L$34)))","v":""},null,null,{"$f":"SUM($D4:$J4,$K4:$L4)","v":144}]
["3","3","Jones, Gary","","","",{"$f":"IF($G$2<>Players!$B$4,\"\",IF(SUMIF(Winners!$B$4:$J$34,$C5,Winners!$D$4:$L$34)=0,\"\",SUMIF(Winners!$B$4:$J$34,$C5,Winners!$D$4:$L$34)))","v":129.5},{"$f":"IF($H$2<>Players!$B$4,\"\",IF(SUMIF(Winners!$B$4:$J$34,$C5,Winners!$D$4:$L$34)=0,\"\",SUMIF(Winners!$B$4:$J$34,$C5,Winners!$D$4:$L$34)))","v":""},{"$f":"IF($I$2<>Players!$B$4,\"\",IF(SUMIF(Winners!$B$4:$J$34,$C5,Winners!$D$4:$L$34)=0,\"\",SUMIF(Winners!$B$4:$J$34,$C5,Winners!$D$4:$L$34)))","v":""},{"$f":"IF($J$2<>Players!$B$4,\"\",IF(SUMIF(Winners!$B$4:$J$34,$C5,Winners!$D$4:$L$34)=0,\"\",SUMIF(Winners!$B$4:$J$34,$C5,Winners!$D$4:$L$34)))","v":""},null,null,{"$f":"SUM($D5:$J5,$K5:$L5)","v":129.5}]
["4","4","Escobedo, Hector",39,49,13,{"$f":"IF($G$2<>Players!$B$4,\"\",IF(SUMIF(Winners!$B$4:$J$34,$C6,Winners!$D$4:$L$34)=0,\"\",SUMIF(Winners!$B$4:$J$34,$C6,Winners!$D$4:$L$34)))","v":16},{"$f":"IF($H$2<>Players!$B$4,\"\",IF(SUMIF(Winners!$B$4:$J$34,$C6,Winners!$D$4:$L$34)=0,\"\",SUMIF(Winners!$B$4:$J$34,$C6,Winners!$D$4:$L$34)))","v":""},{"$f":"IF($I$2<>Players!$B$4,\"\",IF(SUMIF(Winners!$B$4:$J$34,$C6,Winners!$D$4:$L$34)=0,\"\",SUMIF(Winners!$B$4:$J$34,$C6,Winners!$D$4:$L$34)))","v":""},{"$f":"IF($J$2<>Players!$B$4,\"\",IF(SUMIF(Winners!$B$4:$J$34,$C6,Winners!$D$4:$L$34)=0,\"\",SUMIF(Winners!$B$4:$J$34,$C6,Winners!$D$4:$L$34)))","v":""},null,null,{"$f":"SUM($D6:$J6,$K6:$L6)","v":117}]
["5","5","Graham, Travis","",83,15,{"$f":"IF($G$2<>Players!$B$4,\"\",IF(SUMIF(Winners!$B$4:$J$34,$C7,Winners!$D$4:$L$34)=0,\"\",SUMIF(Winners!$B$4:$J$34,$C7,Winners!$D$4:$L$34)))","v":""},{"$f":"IF($H$2<>Players!$B$4,\"\",IF(SUMIF(Winners!$B$4:$J$34,$C7,Winners!$D$4:$L$34)=0,\"\",SUMIF(Winners!$B$4:$J$34,$C7,Winners!$D$4:$L$34)))","v":""},{"$f":"IF($I$2<>Players!$B$4,\"\",IF(SUMIF(Winners!$B$4:$J$34,$C7,Winners!$D$4:$L$34)=0,\"\",SUMIF(Winners!$B$4:$J$34,$C7,Winners!$D$4:$L$34)))","v":""},{"$f":"IF($J$2<>Players!$B$4,\"\",IF(SUMIF(Winners!$B$4:$J$34,$C7,Winners!$D$4:$L$34)=0,\"\",SUMIF(Winners!$B$4:$J$34,$C7,Winners!$D$4:$L$34)))","v":""},null,null,{"$f":"SUM($D7:$J7,$K7:$L7)","v":98}]
["6","6","Blodgett, Kevin","","",86.5,{"$f":"IF($G$2<>Players!$B$4,\"\",IF(SUMIF(Winners!$B$4:$J$34,$C8,Winners!$D$4:$L$34)=0,\"\",SUMIF(Winners!$B$4:$J$34,$C8,Winners!$D$4:$L$34)))","v":6},{"$f":"IF($H$2<>Players!$B$4,\"\",IF(SUMIF(Winners!$B$4:$J$34,$C8,Winners!$D$4:$L$34)=0,\"\",SUMIF(Winners!$B$4:$J$34,$C8,Winners!$D$4:$L$34)))","v":""},{"$f":"IF($I$2<>Players!$B$4,\"\",IF(SUMIF(Winners!$B$4:$J$34,$C8,Winners!$D$4:$L$34)=0,\"\",SUMIF(Winners!$B$4:$J$34,$C8,Winners!$D$4:$L$34)))","v":""},{"$f":"IF($J$2<>Players!$B$4,\"\",IF(SUMIF(Winners!$B$4:$J$34,$C8,Winners!$D$4:$L$34)=0,\"\",SUMIF(Winners!$B$4:$J$34,$C8,Winners!$D$4:$L$34)))","v":""},null,null,{"$f":"SUM($D8:$J8,$K8:$L8)","v":92.5}]
["7","7","Tenorio, Noe",18,8.5,"",{"$f":"IF($G$2<>Players!$B$4,\"\",IF(SUMIF(Winners!$B$4:$J$34,$C9,Winners!$D$4:$L$34)=0,\"\",SUMIF(Winners!$B$4:$J$34,$C9,Winners!$D$4:$L$34)))","v":58},{"$f":"IF($H$2<>Players!$B$4,\"\",IF(SUMIF(Winners!$B$4:$J$34,$C9,Winners!$D$4:$L$34)=0,\"\",SUMIF(Winners!$B$4:$J$34,$C9,Winners!$D$4:$L$34)))","v":""},{"$f":"IF($I$2<>Players!$B$4,\"\",IF(SUMIF(Winners!$B$4:$J$34,$C9,Winners!$D$4:$L$34)=0,\"\",SUMIF(Winners!$B$4:$J$34,$C9,Winners!$D$4:$L$34)))","v":""},{"$f":"IF($J$2<>Players!$B$4,\"\",IF(SUMIF(Winners!$B$4:$J$34,$C9,Winners!$D$4:$L$34)=0,\"\",SUMIF(Winners!$B$4:$J$34,$C9,Winners!$D$4:$L$34)))","v":""},null,null,{"$f":"SUM($D9:$J9,$K9:$L9)","v":84.5}]
["8","8","Escobedo, Marco","",15,68,{"$f":"IF($G$2<>Players!$B$4,\"\",IF(SUMIF(Winners!$B$4:$J$34,$C10,Winners!$D$4:$L$34)=0,\"\",SUMIF(Winners!$B$4:$J$34,$C10,Winners!$D$4:$L$34)))","v":""},{"$f":"IF($H$2<>Players!$B$4,\"\",IF(SUMIF(Winners!$B$4:$J$34,$C10,Winners!$D$4:$L$34)=0,\"\",SUMIF(Winners!$B$4:$J$34,$C10,Winners!$D$4:$L$34)))","v":""},{"$f":"IF($I$2<>Players!$B$4,\"\",IF(SUMIF(Winners!$B$4:$J$34,$C10,Winners!$D$4:$L$34)=0,\"\",SUMIF(Winners!$B$4:$J$34,$C10,Winners!$D$4:$L$34)))","v":""},{"$f":"IF($J$2<>Players!$B$4,\"\",IF(SUMIF(Winners!$B$4:$J$34,$C10,Winners!$D$4:$L$34)=0,\"\",SUMIF(Winners!$B$4:$J$34,$C10,Winners!$D$4:$L$34)))","v":""},null,null,{"$f":"SUM($D10:$J10,$K10:$L10)","v":83}]
["9","9","Doden, Jeff",20,"",52.5,{"$f":"IF($G$2<>Players!$B$4,\"\",IF(SUMIF(Winners!$B$4:$J$34,$C11,Winners!$D$4:$L$34)=0,\"\",SUMIF(Winners!$B$4:$J$34,$C11,Winners!$D$4:$L$34)))","v":""},{"$f":"IF($H$2<>Players!$B$4,\"\",IF(SUMIF(Winners!$B$4:$J$34,$C11,Winners!$D$4:$L$34)=0,\"\",SUMIF(Winners!$B$4:$J$34,$C11,Winners!$D$4:$L$34)))","v":""},{"$f":"IF($I$2<>Players!$B$4,\"\",IF(SUMIF(Winners!$B$4:$J$34,$C11,Winners!$D$4:$L$34)=0,\"\",SUMIF(Winners!$B$4:$J$34,$C11,Winners!$D$4:$L$34)))","v":""},{"$f":"IF($J$2<>Players!$B$4,\"\",IF(SUMIF(Winners!$B$4:$J$34,$C11,Winners!$D$4:$L$34)=0,\"\",SUMIF(Winners!$B$4:$J$34,$C11,Winners!$D$4:$L$34)))","v":""},null,null,{"$f":"SUM($D11:$J11,$K11:$L11)","v":72.5}]
["10","10","Medina, Randy","",34,12.5,{"$f":"IF($G$2<>Players!$B$4,\"\",IF(SUMIF(Winners!$B$4:$J$34,$C12,Winners!$D$4:$L$34)=0,\"\",SUMIF(Winners!$B$4:$J$34,$C12,Winners!$D$4:$L$34)))","v":""},{"$f":"IF($H$2<>Players!$B$4,\"\",IF(SUMIF(Winners!$B$4:$J$34,$C12,Winners!$D$4:$L$34)=0,\"\",SUMIF(Winners!$B$4:$J$34,$C12,Winners!$D$4:$L$34)))","v":""},{"$f":"IF($I$2<>Players!$B$4,\"\",IF(SUMIF(Winners!$B$4:$J$34,$C12,Winners!$D$4:$L$34)=0,\"\",SUMIF(Winners!$B$4:$J$34,$C12,Winners!$D$4:$L$34)))","v":""},{"$f":"IF($J$2<>Players!$B$4,\"\",IF(SUMIF(Winners!$B$4:$J$34,$C12,Winners!$D$4:$L$34)=0,\"\",SUMIF(Winners!$B$4:$J$34,$C12,Winners!$D$4:$L$34)))","v":""},null,null,{"$f":"SUM($D12:$J12,$K12:$L12)","v":46.5}]
["11","11","Feeney, Steve",44,"","",{"$f":"IF($G$2<>Players!$B$4,\"\",IF(SUMIF(Winners!$B$4:$J$34,$C13,Winners!$D$4:$L$34)=0,\"\",SUMIF(Winners!$B$4:$J$34,$C13,Winners!$D$4:$L$34)))","v":""},{"$f":"IF($H$2<>Players!$B$4,\"\",IF(SUMIF(Winners!$B$4:$J$34,$C13,Winners!$D$4:$L$34)=0,\"\",SUMIF(Winners!$B$4:$J$34,$C13,Winners!$D$4:$L$34)))","v":""},{"$f":"IF($I$2<>Players!$B$4,\"\",IF(SUMIF(Winners!$B$4:$J$34,$C13,Winners!$D$4:$L$34)=0,\"\",SUMIF(Winners!$B$4:$J$34,$C13,Winners!$D$4:$L$34)))","v":""},{"$f":"IF($J$2<>Players!$B$4,\"\",IF(SUMIF(Winners!$B$4:$J$34,$C13,Winners!$D$4:$L$34)=0,\"\",SUMIF(Winners!$B$4:$J$34,$C13,Winners!$D$4:$L$34)))","v":""},null,null,{"$f":"SUM($D13:$J13,$K13:$L13)","v":44}]
["12","12","Ornelas, Eddie",39,"","",{"$f":"IF($G$2<>Players!$B$4,\"\",IF(SUMIF(Winners!$B$4:$J$34,$C14,Winners!$D$4:$L$34)=0,\"\",SUMIF(Winners!$B$4:$J$34,$C14,Winners!$D$4:$L$34)))","v":""},{"$f":"IF($H$2<>Players!$B$4,\"\",IF(SUMIF(Winners!$B$4:$J$34,$C14,Winners!$D$4:$L$34)=0,\"\",SUMIF(Winners!$B$4:$J$34,$C14,Winners!$D$4:$L$34)))","v":""},{"$f":"IF($I$2<>Players!$B$4,\"\",IF(SUMIF(Winners!$B$4:$J$34,$C14,Winners!$D$4:$L$34)=0,\"\",SUMIF(Winners!$B$4:$J$34,$C14,Winners!$D$4:$L$34)))","v":""},{"$f":"IF($J$2<>Players!$B$4,\"\",IF(SUMIF(Winners!$B$4:$J$34,$C14,Winners!$D$4:$L$34)=0,\"\",SUMIF(Winners!$B$4:$J$34,$C14,Winners!$D$4:$L$34)))","v":""},null,null,{"$f":"SUM($D14:$J14,$K14:$L14)","v":39}]
["13","13","Kozachenko, Jon","","","",{"$f":"IF($G$2<>Players!$B$4,\"\",IF(SUMIF(Winners!$B$4:$J$34,$C15,Winners!$D$4:$L$34)=0,\"\",SUMIF(Winners!$B$4:$J$34,$C15,Winners!$D$4:$L$34)))","v":21},{"$f":"IF($H$2<>Players!$B$4,\"\",IF(SUMIF(Winners!$B$4:$J$34,$C15,Winners!$D$4:$L$34)=0,\"\",SUMIF(Winners!$B$4:$J$34,$C15,Winners!$D$4:$L$34)))","v":""},{"$f":"IF($I$2<>Players!$B$4,\"\",IF(SUMIF(Winners!$B$4:$J$34,$C15,Winners!$D$4:$L$34)=0,\"\",SUMIF(Winners!$B$4:$J$34,$C15,Winners!$D$4:$L$34)))","v":""},{"$f":"IF($J$2<>Players!$B$4,\"\",IF(SUMIF(Winners!$B$4:$J$34,$C15,Winners!$D$4:$L$34)=0,\"\",SUMIF(Winners!$B$4:$J$34,$C15,Winners!$D$4:$L$34)))","v":""},null,null,{"$f":"SUM($D15:$J15,$K15:$L15)","v":21}]
["14","14","Deutsch, Paul","",17,"",{"$f":"IF($G$2<>Players!$B$4,\"\",IF(SUMIF(Winners!$B$4:$J$34,$C16,Winners!$D$4:$L$34)=0,\"\",SUMIF(Winners!$B$4:$J$34,$C16,Winners!$D$4:$L$34)))","v":""},{"$f":"IF($H$2<>Players!$B$4,\"\",IF(SUMIF(Winners!$B$4:$J$34,$C16,Winners!$D$4:$L$34)=0,\"\",SUMIF(Winners!$B$4:$J$34,$C16,Winners!$D$4:$L$34)))","v":""},{"$f":"IF($I$2<>Players!$B$4,\"\",IF(SUMIF(Winners!$B$4:$J$34,$C16,Winners!$D$4:$L$34)=0,\"\",SUMIF(Winners!$B$4:$J$34,$C16,Winners!$D$4:$L$34)))","v":""},{"$f":"IF($J$2<>Players!$B$4,\"\",IF(SUMIF(Winners!$B$4:$J$34,$C16,Winners!$D$4:$L$34)=0,\"\",SUMIF(Winners!$B$4:$J$34,$C16,Winners!$D$4:$L$34)))","v":""},null,null,{"$f":"SUM($D16:$J16,$K16:$L16)","v":17}]
["T15","15","Basham, Baret","",15,"",{"$f":"IF($G$2<>Players!$B$4,\"\",IF(SUMIF(Winners!$B$4:$J$34,$C17,Winners!$D$4:$L$34)=0,\"\",SUMIF(Winners!$B$4:$J$34,$C17,Winners!$D$4:$L$34)))","v":""},{"$f":"IF($H$2<>Players!$B$4,\"\",IF(SUMIF(Winners!$B$4:$J$34,$C17,Winners!$D$4:$L$34)=0,\"\",SUMIF(Winners!$B$4:$J$34,$C17,Winners!$D$4:$L$34)))","v":""},{"$f":"IF($I$2<>Players!$B$4,\"\",IF(SUMIF(Winners!$B$4:$J$34,$C17,Winners!$D$4:$L$34)=0,\"\",SUMIF(Winners!$B$4:$J$34,$C17,Winners!$D$4:$L$34)))","v":""},{"$f":"IF($J$2<>Players!$B$4,\"\",IF(SUMIF(Winners!$B$4:$J$34,$C17,Winners!$D$4:$L$34)=0,\"\",SUMIF(Winners!$B$4:$J$34,$C17,Winners!$D$4:$L$34)))","v":""},null,null,{"$f":"SUM($D17:$J17,$K17:$L17)","v":15}]
["T15","16","Mikschl, Tom","","",15,{"$f":"IF($G$2<>Players!$B$4,\"\",IF(SUMIF(Winners!$B$4:$J$34,$C18,Winners!$D$4:$L$34)=0,\"\",SUMIF(Winners!$B$4:$J$34,$C18,Winners!$D$4:$L$34)))","v":""},{"$f":"IF($H$2<>Players!$B$4,\"\",IF(SUMIF(Winners!$B$4:$J$34,$C18,Winners!$D$4:$L$34)=0,\"\",SUMIF(Winners!$B$4:$J$34,$C18,Winners!$D$4:$L$34)))","v":""},{"$f":"IF($I$2<>Players!$B$4,\"\",IF(SUMIF(Winners!$B$4:$J$34,$C18,Winners!$D$4:$L$34)=0,\"\",SUMIF(Winners!$B$4:$J$34,$C18,Winners!$D$4:$L$34)))","v":""},{"$f":"IF($J$2<>Players!$B$4,\"\",IF(SUMIF(Winners!$B$4:$J$34,$C18,Winners!$D$4:$L$34)=0,\"\",SUMIF(Winners!$B$4:$J$34,$C18,Winners!$D$4:$L$34)))","v":""},null,null,{"$f":"SUM($D18:$J18,$K18:$L18)","v":15}]
["T15","17","Thompson, Dan","",15,"",{"$f":"IF($G$2<>Players!$B$4,\"\",IF(SUMIF(Winners!$B$4:$J$34,$C19,Winners!$D$4:$L$34)=0,\"\",SUMIF(Winners!$B$4:$J$34,$C19,Winners!$D$4:$L$34)))","v":""},{"$f":"IF($H$2<>Players!$B$4,\"\",IF(SUMIF(Winners!$B$4:$J$34,$C19,Winners!$D$4:$L$34)=0,\"\",SUMIF(Winners!$B$4:$J$34,$C19,Winners!$D$4:$L$34)))","v":""},{"$f":"IF($I$2<>Players!$B$4,\"\",IF(SUMIF(Winners!$B$4:$J$34,$C19,Winners!$D$4:$L$34)=0,\"\",SUMIF(Winners!$B$4:$J$34,$C19,Winners!$D$4:$L$34)))","v":""},{"$f":"IF($J$2<>Players!$B$4,\"\",IF(SUMIF(Winners!$B$4:$J$34,$C19,Winners!$D$4:$L$34)=0,\"\",SUMIF(Winners!$B$4:$J$34,$C19,Winners!$D$4:$L$34)))","v":""},null,null,{"$f":"SUM($D19:$J19,$K19:$L19)","v":15}]
["18","18","Havstad, Steve",8,"","",{"$f":"IF($G$2<>Players!$B$4,\"\",IF(SUMIF(Winners!$B$4:$J$34,$C20,Winners!$D$4:$L$34)=0,\"\",SUMIF(Winners!$B$4:$J$34,$C20,Winners!$D$4:$L$34)))","v":""},{"$f":"IF($H$2<>Players!$B$4,\"\",IF(SUMIF(Winners!$B$4:$J$34,$C20,Winners!$D$4:$L$34)=0,\"\",SUMIF(Winners!$B$4:$J$34,$C20,Winners!$D$4:$L$34)))","v":""},{"$f":"IF($I$2<>Players!$B$4,\"\",IF(SUMIF(Winners!$B$4:$J$34,$C20,Winners!$D$4:$L$34)=0,\"\",SUMIF(Winners!$B$4:$J$34,$C20,Winners!$D$4:$L$34)))","v":""},{"$f":"IF($J$2<>Players!$B$4,\"\",IF(SUMIF(Winners!$B$4:$J$34,$C20,Winners!$D$4:$L$34)=0,\"\",SUMIF(Winners!$B$4:$J$34,$C20,Winners!$D$4:$L$34)))","v":""},null,null,{"$f":"SUM($D20:$J20,$K20:$L20)","v":8}]
["T19","19","Aldrian, Mark","","","",{"$f":"IF($G$2<>Players!$B$4,\"\",IF(SUMIF(Winners!$B$4:$J$34,$C21,Winners!$D$4:$L$34)=0,\"\",SUMIF(Winners!$B$4:$J$34,$C21,Winners!$D$4:$L$34)))","v":""},{"$f":"IF($H$2<>Players!$B$4,\"\",IF(SUMIF(Winners!$B$4:$J$34,$C21,Winners!$D$4:$L$34)=0,\"\",SUMIF(Winners!$B$4:$J$34,$C21,Winners!$D$4:$L$34)))","v":""},{"$f":"IF($I$2<>Players!$B$4,\"\",IF(SUMIF(Winners!$B$4:$J$34,$C21,Winners!$D$4:$L$34)=0,\"\",SUMIF(Winners!$B$4:$J$34,$C21,Winners!$D$4:$L$34)))","v":""},{"$f":"IF($J$2<>Players!$B$4,\"\",IF(SUMIF(Winners!$B$4:$J$34,$C21,Winners!$D$4:$L$34)=0,\"\",SUMIF(Winners!$B$4:$J$34,$C21,Winners!$D$4:$L$34)))","v":""},null,null,{"$f":"SUM($D21:$J21,$K21:$L21)","v":0}]
["T19","20","Bateson, Brad","","","",{"$f":"IF($G$2<>Players!$B$4,\"\",IF(SUMIF(Winners!$B$4:$J$34,$C22,Winners!$D$4:$L$34)=0,\"\",SUMIF(Winners!$B$4:$J$34,$C22,Winners!$D$4:$L$34)))","v":""},{"$f":"IF($H$2<>Players!$B$4,\"\",IF(SUMIF(Winners!$B$4:$J$34,$C22,Winners!$D$4:$L$34)=0,\"\",SUMIF(Winners!$B$4:$J$34,$C22,Winners!$D$4:$L$34)))","v":""},{"$f":"IF($I$2<>Players!$B$4,\"\",IF(SUMIF(Winners!$B$4:$J$34,$C22,Winners!$D$4:$L$34)=0,\"\",SUMIF(Winners!$B$4:$J$34,$C22,Winners!$D$4:$L$34)))","v":""},{"$f":"IF($J$2<>Players!$B$4,\"\",IF(SUMIF(Winners!$B$4:$J$34,$C22,Winners!$D$4:$L$34)=0,\"\",SUMIF(Winners!$B$4:$J$34,$C22,Winners!$D$4:$L$34)))","v":""},null,null,{"$f":"SUM($D22:$J22,$K22:$L22)","v":0}]
["T19","21","Forstot, Joshua","","","",{"$f":"IF($G$2<>Players!$B$4,\"\",IF(SUMIF(Winners!$B$4:$J$34,$C23,Winners!$D$4:$L$34)=0,\"\",SUMIF(Winners!$B$4:$J$34,$C23,Winners!$D$4:$L$34)))","v":""},{"$f":"IF($H$2<>Players!$B$4,\"\",IF(SUMIF(Winners!$B$4:$J$34,$C23,Winners!$D$4:$L$34)=0,\"\",SUMIF(Winners!$B$4:$J$34,$C23,Winners!$D$4:$L$34)))","v":""},{"$f":"IF($I$2<>Players!$B$4,\"\",IF(SUMIF(Winners!$B$4:$J$34,$C23,Winners!$D$4:$L$34)=0,\"\",SUMIF(Winners!$B$4:$J$34,$C23,Winners!$D$4:$L$34)))","v":""},{"$f":"IF($J$2<>Players!$B$4,\"\",IF(SUMIF(Winners!$B$4:$J$34,$C23,Winners!$D$4:$L$34)=0,\"\",SUMIF(Winners!$B$4:$J$34,$C23,Winners!$D$4:$L$34)))","v":""},null,null,{"$f":"SUM($D23:$J23,$K23:$L23)","v":0}]
["T19","22","Hammond, Rob","","","",{"$f":"IF($G$2<>Players!$B$4,\"\",IF(SUMIF(Winners!$B$4:$J$34,$C24,Winners!$D$4:$L$34)=0,\"\",SUMIF(Winners!$B$4:$J$34,$C24,Winners!$D$4:$L$34)))","v":""},{"$f":"IF($H$2<>Players!$B$4,\"\",IF(SUMIF(Winners!$B$4:$J$34,$C24,Winners!$D$4:$L$34)=0,\"\",SUMIF(Winners!$B$4:$J$34,$C24,Winners!$D$4:$L$34)))","v":""},{"$f":"IF($I$2<>Players!$B$4,\"\",IF(SUMIF(Winners!$B$4:$J$34,$C24,Winners!$D$4:$L$34)=0,\"\",SUMIF(Winners!$B$4:$J$34,$C24,Winners!$D$4:$L$34)))","v":""},{"$f":"IF($J$2<>Players!$B$4,\"\",IF(SUMIF(Winners!$B$4:$J$34,$C24,Winners!$D$4:$L$34)=0,\"\",SUMIF(Winners!$B$4:$J$34,$C24,Winners!$D$4:$L$34)))","v":""},null,null,{"$f":"SUM($D24:$J24,$K24:$L24)","v":0}]
["T19","23","Hart, Dave","","","",{"$f":"IF($G$2<>Players!$B$4,\"\",IF(SUMIF(Winners!$B$4:$J$34,$C25,Winners!$D$4:$L$34)=0,\"\",SUMIF(Winners!$B$4:$J$34,$C25,Winners!$D$4:$L$34)))","v":""},{"$f":"IF($H$2<>Players!$B$4,\"\",IF(SUMIF(Winners!$B$4:$J$34,$C25,Winners!$D$4:$L$34)=0,\"\",SUMIF(Winners!$B$4:$J$34,$C25,Winners!$D$4:$L$34)))","v":""},{"$f":"IF($I$2<>Players!$B$4,\"\",IF(SUMIF(Winners!$B$4:$J$34,$C25,Winners!$D$4:$L$34)=0,\"\",SUMIF(Winners!$B$4:$J$34,$C25,Winners!$D$4:$L$34)))","v":""},{"$f":"IF($J$2<>Players!$B$4,\"\",IF(SUMIF(Winners!$B$4:$J$34,$C25,Winners!$D$4:$L$34)=0,\"\",SUMIF(Winners!$B$4:$J$34,$C25,Winners!$D$4:$L$34)))","v":""},null,null,{"$f":"SUM($D25:$J25,$K25:$L25)","v":0}]
["T19","24","Havstad, Peter","","","",{"$f":"IF($G$2<>Players!$B$4,\"\",IF(SUMIF(Winners!$B$4:$J$34,$C26,Winners!$D$4:$L$34)=0,\"\",SUMIF(Winners!$B$4:$J$34,$C26,Winners!$D$4:$L$34)))","v":""},{"$f":"IF($H$2<>Players!$B$4,\"\",IF(SUMIF(Winners!$B$4:$J$34,$C26,Winners!$D$4:$L$34)=0,\"\",SUMIF(Winners!$B$4:$J$34,$C26,Winners!$D$4:$L$34)))","v":""},{"$f":"IF($I$2<>Players!$B$4,\"\",IF(SUMIF(Winners!$B$4:$J$34,$C26,Winners!$D$4:$L$34)=0,\"\",SUMIF(Winners!$B$4:$J$34,$C26,Winners!$D$4:$L$34)))","v":""},{"$f":"IF($J$2<>Players!$B$4,\"\",IF(SUMIF(Winners!$B$4:$J$34,$C26,Winners!$D$4:$L$34)=0,\"\",SUMIF(Winners!$B$4:$J$34,$C26,Winners!$D$4:$L$34)))","v":""},null,null,{"$f":"SUM($D26:$J26,$K26:$L26)","v":0}]
["T19","25","Holzrichter, Geoff","","","",{"$f":"IF($G$2<>Players!$B$4,\"\",IF(SUMIF(Winners!$B$4:$J$34,$C27,Winners!$D$4:$L$34)=0,\"\",SUMIF(Winners!$B$4:$J$34,$C27,Winners!$D$4:$L$34)))","v":""},{"$f":"IF($H$2<>Players!$B$4,\"\",IF(SUMIF(Winners!$B$4:$J$34,$C27,Winners!$D$4:$L$34)=0,\"\",SUMIF(Winners!$B$4:$J$34,$C27,Winners!$D$4:$L$34)))","v":""},{"$f":"IF($I$2<>Players!$B$4,\"\",IF(SUMIF(Winners!$B$4:$J$34,$C27,Winners!$D$4:$L$34)=0,\"\",SUMIF(Winners!$B$4:$J$34,$C27,Winners!$D$4:$L$34)))","v":""},{"$f":"IF($J$2<>Players!$B$4,\"\",IF(SUMIF(Winners!$B$4:$J$34,$C27,Winners!$D$4:$L$34)=0,\"\",SUMIF(Winners!$B$4:$J$34,$C27,Winners!$D$4:$L$34)))","v":""},null,null,{"$f":"SUM($D27:$J27,$K27:$L27)","v":0}]
["T19","26","Johnson, Carl","","","",{"$f":"IF($G$2<>Players!$B$4,\"\",IF(SUMIF(Winners!$B$4:$J$34,$C28,Winners!$D$4:$L$34)=0,\"\",SUMIF(Winners!$B$4:$J$34,$C28,Winners!$D$4:$L$34)))","v":""},{"$f":"IF($H$2<>Players!$B$4,\"\",IF(SUMIF(Winners!$B$4:$J$34,$C28,Winners!$D$4:$L$34)=0,\"\",SUMIF(Winners!$B$4:$J$34,$C28,Winners!$D$4:$L$34)))","v":""},{"$f":"IF($I$2<>Players!$B$4,\"\",IF(SUMIF(Winners!$B$4:$J$34,$C28,Winners!$D$4:$L$34)=0,\"\",SUMIF(Winners!$B$4:$J$34,$C28,Winners!$D$4:$L$34)))","v":""},{"$f":"IF($J$2<>Players!$B$4,\"\",IF(SUMIF(Winners!$B$4:$J$34,$C28,Winners!$D$4:$L$34)=0,\"\",SUMIF(Winners!$B$4:$J$34,$C28,Winners!$D$4:$L$34)))","v":""},null,null,{"$f":"SUM($D28:$J28,$K28:$L28)","v":0}]
["T19","27","Lujan, Fil","","","",{"$f":"IF($G$2<>Players!$B$4,\"\",IF(SUMIF(Winners!$B$4:$J$34,$C29,Winners!$D$4:$L$34)=0,\"\",SUMIF(Winners!$B$4:$J$34,$C29,Winners!$D$4:$L$34)))","v":""},{"$f":"IF($H$2<>Players!$B$4,\"\",IF(SUMIF(Winners!$B$4:$J$34,$C29,Winners!$D$4:$L$34)=0,\"\",SUMIF(Winners!$B$4:$J$34,$C29,Winners!$D$4:$L$34)))","v":""},{"$f":"IF($I$2<>Players!$B$4,\"\",IF(SUMIF(Winners!$B$4:$J$34,$C29,Winners!$D$4:$L$34)=0,\"\",SUMIF(Winners!$B$4:$J$34,$C29,Winners!$D$4:$L$34)))","v":""},{"$f":"IF($J$2<>Players!$B$4,\"\",IF(SUMIF(Winners!$B$4:$J$34,$C29,Winners!$D$4:$L$34)=0,\"\",SUMIF(Winners!$B$4:$J$34,$C29,Winners!$D$4:$L$34)))","v":""},null,null,{"$f":"SUM($D29:$J29,$K29:$L29)","v":0}]
["T19","28","Mariano, Joe","","","",{"$f":"IF($G$2<>Players!$B$4,\"\",IF(SUMIF(Winners!$B$4:$J$34,$C30,Winners!$D$4:$L$34)=0,\"\",SUMIF(Winners!$B$4:$J$34,$C30,Winners!$D$4:$L$34)))","v":""},{"$f":"IF($H$2<>Players!$B$4,\"\",IF(SUMIF(Winners!$B$4:$J$34,$C30,Winners!$D$4:$L$34)=0,\"\",SUMIF(Winners!$B$4:$J$34,$C30,Winners!$D$4:$L$34)))","v":""},{"$f":"IF($I$2<>Players!$B$4,\"\",IF(SUMIF(Winners!$B$4:$J$34,$C30,Winners!$D$4:$L$34)=0,\"\",SUMIF(Winners!$B$4:$J$34,$C30,Winners!$D$4:$L$34)))","v":""},{"$f":"IF($J$2<>Players!$B$4,\"\",IF(SUMIF(Winners!$B$4:$J$34,$C30,Winners!$D$4:$L$34)=0,\"\",SUMIF(Winners!$B$4:$J$34,$C30,Winners!$D$4:$L$34)))","v":""},null,null,{"$f":"SUM($D30:$J30,$K30:$L30)","v":0}]
["T19","29","Matthews, Keith","","","",{"$f":"IF($G$2<>Players!$B$4,\"\",IF(SUMIF(Winners!$B$4:$J$34,$C31,Winners!$D$4:$L$34)=0,\"\",SUMIF(Winners!$B$4:$J$34,$C31,Winners!$D$4:$L$34)))","v":""},{"$f":"IF($H$2<>Players!$B$4,\"\",IF(SUMIF(Winners!$B$4:$J$34,$C31,Winners!$D$4:$L$34)=0,\"\",SUMIF(Winners!$B$4:$J$34,$C31,Winners!$D$4:$L$34)))","v":""},{"$f":"IF($I$2<>Players!$B$4,\"\",IF(SUMIF(Winners!$B$4:$J$34,$C31,Winners!$D$4:$L$34)=0,\"\",SUMIF(Winners!$B$4:$J$34,$C31,Winners!$D$4:$L$34)))","v":""},{"$f":"IF($J$2<>Players!$B$4,\"\",IF(SUMIF(Winners!$B$4:$J$34,$C31,Winners!$D$4:$L$34)=0,\"\",SUMIF(Winners!$B$4:$J$34,$C31,Winners!$D$4:$L$34)))","v":""},null,null,{"$f":"SUM($D31:$J31,$K31:$L31)","v":0}]
["T19","30","Montgomery, Andy","","","",{"$f":"IF($G$2<>Players!$B$4,\"\",IF(SUMIF(Winners!$B$4:$J$34,$C32,Winners!$D$4:$L$34)=0,\"\",SUMIF(Winners!$B$4:$J$34,$C32,Winners!$D$4:$L$34)))","v":""},{"$f":"IF($H$2<>Players!$B$4,\"\",IF(SUMIF(Winners!$B$4:$J$34,$C32,Winners!$D$4:$L$34)=0,\"\",SUMIF(Winners!$B$4:$J$34,$C32,Winners!$D$4:$L$34)))","v":""},{"$f":"IF($I$2<>Players!$B$4,\"\",IF(SUMIF(Winners!$B$4:$J$34,$C32,Winners!$D$4:$L$34)=0,\"\",SUMIF(Winners!$B$4:$J$34,$C32,Winners!$D$4:$L$34)))","v":""},{"$f":"IF($J$2<>Players!$B$4,\"\",IF(SUMIF(Winners!$B$4:$J$34,$C32,Winners!$D$4:$L$34)=0,\"\",SUMIF(Winners!$B$4:$J$34,$C32,Winners!$D$4:$L$34)))","v":""},null,null,{"$f":"SUM($D32:$J32,$K32:$L32)","v":0}]
["T19","31","Nagel, Rich","","","",{"$f":"IF($G$2<>Players!$B$4,\"\",IF(SUMIF(Winners!$B$4:$J$34,$C33,Winners!$D$4:$L$34)=0,\"\",SUMIF(Winners!$B$4:$J$34,$C33,Winners!$D$4:$L$34)))","v":""},{"$f":"IF($H$2<>Players!$B$4,\"\",IF(SUMIF(Winners!$B$4:$J$34,$C33,Winners!$D$4:$L$34)=0,\"\",SUMIF(Winners!$B$4:$J$34,$C33,Winners!$D$4:$L$34)))","v":""},{"$f":"IF($I$2<>Players!$B$4,\"\",IF(SUMIF(Winners!$B$4:$J$34,$C33,Winners!$D$4:$L$34)=0,\"\",SUMIF(Winners!$B$4:$J$34,$C33,Winners!$D$4:$L$34)))","v":""},{"$f":"IF($J$2<>Players!$B$4,\"\",IF(SUMIF(Winners!$B$4:$J$34,$C33,Winners!$D$4:$L$34)=0,\"\",SUMIF(Winners!$B$4:$J$34,$C33,Winners!$D$4:$L$34)))","v":""},null,null,{"$f":"SUM($D33:$J33,$K33:$L33)","v":0}]
["T19","32","Poyar, Bob","","","",{"$f":"IF($G$2<>Players!$B$4,\"\",IF(SUMIF(Winners!$B$4:$J$34,$C34,Winners!$D$4:$L$34)=0,\"\",SUMIF(Winners!$B$4:$J$34,$C34,Winners!$D$4:$L$34)))","v":""},{"$f":"IF($H$2<>Players!$B$4,\"\",IF(SUMIF(Winners!$B$4:$J$34,$C34,Winners!$D$4:$L$34)=0,\"\",SUMIF(Winners!$B$4:$J$34,$C34,Winners!$D$4:$L$34)))","v":""},{"$f":"IF($I$2<>Players!$B$4,\"\",IF(SUMIF(Winners!$B$4:$J$34,$C34,Winners!$D$4:$L$34)=0,\"\",SUMIF(Winners!$B$4:$J$34,$C34,Winners!$D$4:$L$34)))","v":""},{"$f":"IF($J$2<>Players!$B$4,\"\",IF(SUMIF(Winners!$B$4:$J$34,$C34,Winners!$D$4:$L$34)=0,\"\",SUMIF(Winners!$B$4:$J$34,$C34,Winners!$D$4:$L$34)))","v":""},null,null,{"$f":"SUM($D34:$J34,$K34:$L34)","v":0}]
["T19","33","Rojes, Ray","","","",{"$f":"IF($G$2<>Players!$B$4,\"\",IF(SUMIF(Winners!$B$4:$J$34,$C35,Winners!$D$4:$L$34)=0,\"\",SUMIF(Winners!$B$4:$J$34,$C35,Winners!$D$4:$L$34)))","v":""},{"$f":"IF($H$2<>Players!$B$4,\"\",IF(SUMIF(Winners!$B$4:$J$34,$C35,Winners!$D$4:$L$34)=0,\"\",SUMIF(Winners!$B$4:$J$34,$C35,Winners!$D$4:$L$34)))","v":""},{"$f":"IF($I$2<>Players!$B$4,\"\",IF(SUMIF(Winners!$B$4:$J$34,$C35,Winners!$D$4:$L$34)=0,\"\",SUMIF(Winners!$B$4:$J$34,$C35,Winners!$D$4:$L$34)))","v":""},{"$f":"IF($J$2<>Players!$B$4,\"\",IF(SUMIF(Winners!$B$4:$J$34,$C35,Winners!$D$4:$L$34)=0,\"\",SUMIF(Winners!$B$4:$J$34,$C35,Winners!$D$4:$L$34)))","v":""},null,null,{"$f":"SUM($D35:$J35,$K35:$L35)","v":0}]
["T19","34","Salinas, Frank","","","",{"$f":"IF($G$2<>Players!$B$4,\"\",IF(SUMIF(Winners!$B$4:$J$34,$C36,Winners!$D$4:$L$34)=0,\"\",SUMIF(Winners!$B$4:$J$34,$C36,Winners!$D$4:$L$34)))","v":""},{"$f":"IF($H$2<>Players!$B$4,\"\",IF(SUMIF(Winners!$B$4:$J$34,$C36,Winners!$D$4:$L$34)=0,\"\",SUMIF(Winners!$B$4:$J$34,$C36,Winners!$D$4:$L$34)))","v":""},{"$f":"IF($I$2<>Players!$B$4,\"\",IF(SUMIF(Winners!$B$4:$J$34,$C36,Winners!$D$4:$L$34)=0,\"\",SUMIF(Winners!$B$4:$J$34,$C36,Winners!$D$4:$L$34)))","v":""},{"$f":"IF($J$2<>Players!$B$4,\"\",IF(SUMIF(Winners!$B$4:$J$34,$C36,Winners!$D$4:$L$34)=0,\"\",SUMIF(Winners!$B$4:$J$34,$C36,Winners!$D$4:$L$34)))","v":""},null,null,{"$f":"SUM($D36:$J36,$K36:$L36)","v":0}]
["T19","35",null,{"$f":"IF($D$2<>Players!$B$4,\"\",IF(SUMIF(Winners!$B$4:$J$34,$C37,Winners!$D$4:$L$34)=0,\"\",SUMIF(Winners!$B$4:$J$34,$C37,Winners!$D$4:$L$34)))","v":""},{"$f":"IF($E$2<>Players!$B$4,\"\",IF(SUMIF(Winners!$B$4:$J$34,$C37,Winners!$D$4:$L$34)=0,\"\",SUMIF(Winners!$B$4:$J$34,$C37,Winners!$D$4:$L$34)))","v":""},{"$f":"IF($F$2<>Players!$B$4,\"\",IF(SUMIF(Winners!$B$4:$J$34,$C37,Winners!$D$4:$L$34)=0,\"\",SUMIF(Winners!$B$4:$J$34,$C37,Winners!$D$4:$L$34)))","v":""},{"$f":"IF($G$2<>Players!$B$4,\"\",IF(SUMIF(Winners!$B$4:$J$34,$C37,Winners!$D$4:$L$34)=0,\"\",SUMIF(Winners!$B$4:$J$34,$C37,Winners!$D$4:$L$34)))","v":""},{"$f":"IF($H$2<>Players!$B$4,\"\",IF(SUMIF(Winners!$B$4:$J$34,$C37,Winners!$D$4:$L$34)=0,\"\",SUMIF(Winners!$B$4:$J$34,$C37,Winners!$D$4:$L$34)))","v":""},{"$f":"IF($I$2<>Players!$B$4,\"\",IF(SUMIF(Winners!$B$4:$J$34,$C37,Winners!$D$4:$L$34)=0,\"\",SUMIF(Winners!$B$4:$J$34,$C37,Winners!$D$4:$L$34)))","v":""},{"$f":"IF($J$2<>Players!$B$4,\"\",IF(SUMIF(Winners!$B$4:$J$34,$C37,Winners!$D$4:$L$34)=0,\"\",SUMIF(Winners!$B$4:$J$34,$C37,Winners!$D$4:$L$34)))","v":""},null,null,{"$f":"SUM($D37:$J37,$K37:$L37)","v":0}]
["T19","36",null,{"$f":"IF($D$2<>Players!$B$4,\"\",IF(SUMIF(Winners!$B$4:$J$34,$C38,Winners!$D$4:$L$34)=0,\"\",SUMIF(Winners!$B$4:$J$34,$C38,Winners!$D$4:$L$34)))","v":""},{"$f":"IF($E$2<>Players!$B$4,\"\",IF(SUMIF(Winners!$B$4:$J$34,$C38,Winners!$D$4:$L$34)=0,\"\",SUMIF(Winners!$B$4:$J$34,$C38,Winners!$D$4:$L$34)))","v":""},{"$f":"IF($F$2<>Players!$B$4,\"\",IF(SUMIF(Winners!$B$4:$J$34,$C38,Winners!$D$4:$L$34)=0,\"\",SUMIF(Winners!$B$4:$J$34,$C38,Winners!$D$4:$L$34)))","v":""},{"$f":"IF($G$2<>Players!$B$4,\"\",IF(SUMIF(Winners!$B$4:$J$34,$C38,Winners!$D$4:$L$34)=0,\"\",SUMIF(Winners!$B$4:$J$34,$C38,Winners!$D$4:$L$34)))","v":""},{"$f":"IF($H$2<>Players!$B$4,\"\",IF(SUMIF(Winners!$B$4:$J$34,$C38,Winners!$D$4:$L$34)=0,\"\",SUMIF(Winners!$B$4:$J$34,$C38,Winners!$D$4:$L$34)))","v":""},{"$f":"IF($I$2<>Players!$B$4,\"\",IF(SUMIF(Winners!$B$4:$J$34,$C38,Winners!$D$4:$L$34)=0,\"\",SUMIF(Winners!$B$4:$J$34,$C38,Winners!$D$4:$L$34)))","v":""},{"$f":"IF($J$2<>Players!$B$4,\"\",IF(SUMIF(Winners!$B$4:$J$34,$C38,Winners!$D$4:$L$34)=0,\"\",SUMIF(Winners!$B$4:$J$34,$C38,Winners!$D$4:$L$34)))","v":""},null,null,0]
["T19","37",null,{"$f":"IF($D$2<>Players!$B$4,\"\",IF(SUMIF(Winners!$B$4:$J$34,$C39,Winners!$D$4:$L$34)=0,\"\",SUMIF(Winners!$B$4:$J$34,$C39,Winners!$D$4:$L$34)))","v":""},{"$f":"IF($E$2<>Players!$B$4,\"\",IF(SUMIF(Winners!$B$4:$J$34,$C39,Winners!$D$4:$L$34)=0,\"\",SUMIF(Winners!$B$4:$J$34,$C39,Winners!$D$4:$L$34)))","v":""},{"$f":"IF($F$2<>Players!$B$4,\"\",IF(SUMIF(Winners!$B$4:$J$34,$C39,Winners!$D$4:$L$34)=0,\"\",SUMIF(Winners!$B$4:$J$34,$C39,Winners!$D$4:$L$34)))","v":""},{"$f":"IF($G$2<>Players!$B$4,\"\",IF(SUMIF(Winners!$B$4:$J$34,$C39,Winners!$D$4:$L$34)=0,\"\",SUMIF(Winners!$B$4:$J$34,$C39,Winners!$D$4:$L$34)))","v":""},{"$f":"IF($H$2<>Players!$B$4,\"\",IF(SUMIF(Winners!$B$4:$J$34,$C39,Winners!$D$4:$L$34)=0,\"\",SUMIF(Winners!$B$4:$J$34,$C39,Winners!$D$4:$L$34)))","v":""},{"$f":"IF($I$2<>Players!$B$4,\"\",IF(SUMIF(Winners!$B$4:$J$34,$C39,Winners!$D$4:$L$34)=0,\"\",SUMIF(Winners!$B$4:$J$34,$C39,Winners!$D$4:$L$34)))","v":""},{"$f":"IF($J$2<>Players!$B$4,\"\",IF(SUMIF(Winners!$B$4:$J$34,$C39,Winners!$D$4:$L$34)=0,\"\",SUMIF(Winners!$B$4:$J$34,$C39,Winners!$D$4:$L$34)))","v":""},null,null,0]
["T19","38",null,{"$f":"IF($D$2<>Players!$B$4,\"\",IF(SUMIF(Winners!$B$4:$J$34,$C40,Winners!$D$4:$L$34)=0,\"\",SUMIF(Winners!$B$4:$J$34,$C40,Winners!$D$4:$L$34)))","v":""},{"$f":"IF($E$2<>Players!$B$4,\"\",IF(SUMIF(Winners!$B$4:$J$34,$C40,Winners!$D$4:$L$34)=0,\"\",SUMIF(Winners!$B$4:$J$34,$C40,Winners!$D$4:$L$34)))","v":""},{"$f":"IF($F$2<>Players!$B$4,\"\",IF(SUMIF(Winners!$B$4:$J$34,$C40,Winners!$D$4:$L$34)=0,\"\",SUMIF(Winners!$B$4:$J$34,$C40,Winners!$D$4:$L$34)))","v":""},{"$f":"IF($G$2<>Players!$B$4,\"\",IF(SUMIF(Winners!$B$4:$J$34,$C40,Winners!$D$4:$L$34)=0,\"\",SUMIF(Winners!$B$4:$J$34,$C40,Winners!$D$4:$L$34)))","v":""},{"$f":"IF($H$2<>Players!$B$4,\"\",IF(SUMIF(Winners!$B$4:$J$34,$C40,Winners!$D$4:$L$34)=0,\"\",SUMIF(Winners!$B$4:$J$34,$C40,Winners!$D$4:$L$34)))","v":""},{"$f":"IF($I$2<>Players!$B$4,\"\",IF(SUMIF(Winners!$B$4:$J$34,$C40,Winners!$D$4:$L$34)=0,\"\",SUMIF(Winners!$B$4:$J$34,$C40,Winners!$D$4:$L$34)))","v":""},{"$f":"IF($J$2<>Players!$B$4,\"\",IF(SUMIF(Winners!$B$4:$J$34,$C40,Winners!$D$4:$L$34)=0,\"\",SUMIF(Winners!$B$4:$J$34,$C40,Winners!$D$4:$L$34)))","v":""},null,null,0]
["T19","39",null,{"$f":"IF($D$2<>Players!$B$4,\"\",IF(SUMIF(Winners!$B$4:$J$34,$C41,Winners!$D$4:$L$34)=0,\"\",SUMIF(Winners!$B$4:$J$34,$C41,Winners!$D$4:$L$34)))","v":""},{"$f":"IF($E$2<>Players!$B$4,\"\",IF(SUMIF(Winners!$B$4:$J$34,$C41,Winners!$D$4:$L$34)=0,\"\",SUMIF(Winners!$B$4:$J$34,$C41,Winners!$D$4:$L$34)))","v":""},{"$f":"IF($F$2<>Players!$B$4,\"\",IF(SUMIF(Winners!$B$4:$J$34,$C41,Winners!$D$4:$L$34)=0,\"\",SUMIF(Winners!$B$4:$J$34,$C41,Winners!$D$4:$L$34)))","v":""},{"$f":"IF($G$2<>Players!$B$4,\"\",IF(SUMIF(Winners!$B$4:$J$34,$C41,Winners!$D$4:$L$34)=0,\"\",SUMIF(Winners!$B$4:$J$34,$C41,Winners!$D$4:$L$34)))","v":""},{"$f":"IF($H$2<>Players!$B$4,\"\",IF(SUMIF(Winners!$B$4:$J$34,$C41,Winners!$D$4:$L$34)=0,\"\",SUMIF(Winners!$B$4:$J$34,$C41,Winners!$D$4:$L$34)))","v":""},{"$f":"IF($I$2<>Players!$B$4,\"\",IF(SUMIF(Winners!$B$4:$J$34,$C41,Winners!$D$4:$L$34)=0,\"\",SUMIF(Winners!$B$4:$J$34,$C41,Winners!$D$4:$L$34)))","v":""},{"$f":"IF($J$2<>Players!$B$4,\"\",IF(SUMIF(Winners!$B$4:$J$34,$C41,Winners!$D$4:$L$34)=0,\"\",SUMIF(Winners!$B$4:$J$34,$C41,Winners!$D$4:$L$34)))","v":""},null,null,0]
["T19","40",null,{"$f":"IF($D$2<>Players!$B$4,\"\",IF(SUMIF(Winners!$B$4:$J$34,$C42,Winners!$D$4:$L$34)=0,\"\",SUMIF(Winners!$B$4:$J$34,$C42,Winners!$D$4:$L$34)))","v":""},{"$f":"IF($E$2<>Players!$B$4,\"\",IF(SUMIF(Winners!$B$4:$J$34,$C42,Winners!$D$4:$L$34)=0,\"\",SUMIF(Winners!$B$4:$J$34,$C42,Winners!$D$4:$L$34)))","v":""},{"$f":"IF($F$2<>Players!$B$4,\"\",IF(SUMIF(Winners!$B$4:$J$34,$C42,Winners!$D$4:$L$34)=0,\"\",SUMIF(Winners!$B$4:$J$34,$C42,Winners!$D$4:$L$34)))","v":""},{"$f":"IF($G$2<>Players!$B$4,\"\",IF(SUMIF(Winners!$B$4:$J$34,$C42,Winners!$D$4:$L$34)=0,\"\",SUMIF(Winners!$B$4:$J$34,$C42,Winners!$D$4:$L$34)))","v":""},{"$f":"IF($H$2<>Players!$B$4,\"\",IF(SUMIF(Winners!$B$4:$J$34,$C42,Winners!$D$4:$L$34)=0,\"\",SUMIF(Winners!$B$4:$J$34,$C42,Winners!$D$4:$L$34)))","v":""},{"$f":"IF($I$2<>Players!$B$4,\"\",IF(SUMIF(Winners!$B$4:$J$34,$C42,Winners!$D$4:$L$34)=0,\"\",SUMIF(Winners!$B$4:$J$34,$C42,Winners!$D$4:$L$34)))","v":""},{"$f":"IF($J$2<>Players!$B$4,\"\",IF(SUMIF(Winners!$B$4:$J$34,$C42,Winners!$D$4:$L$34)=0,\"\",SUMIF(Winners!$B$4:$J$34,$C42,Winners!$D$4:$L$34)))","v":""},null,null,0]
["T19","41",null,{"$f":"IF($D$2<>Players!$B$4,\"\",IF(SUMIF(Winners!$B$4:$J$34,$C43,Winners!$D$4:$L$34)=0,\"\",SUMIF(Winners!$B$4:$J$34,$C43,Winners!$D$4:$L$34)))","v":""},{"$f":"IF($E$2<>Players!$B$4,\"\",IF(SUMIF(Winners!$B$4:$J$34,$C43,Winners!$D$4:$L$34)=0,\"\",SUMIF(Winners!$B$4:$J$34,$C43,Winners!$D$4:$L$34)))","v":""},{"$f":"IF($F$2<>Players!$B$4,\"\",IF(SUMIF(Winners!$B$4:$J$34,$C43,Winners!$D$4:$L$34)=0,\"\",SUMIF(Winners!$B$4:$J$34,$C43,Winners!$D$4:$L$34)))","v":""},{"$f":"IF($G$2<>Players!$B$4,\"\",IF(SUMIF(Winners!$B$4:$J$34,$C43,Winners!$D$4:$L$34)=0,\"\",SUMIF(Winners!$B$4:$J$34,$C43,Winners!$D$4:$L$34)))","v":""},{"$f":"IF($H$2<>Players!$B$4,\"\",IF(SUMIF(Winners!$B$4:$J$34,$C43,Winners!$D$4:$L$34)=0,\"\",SUMIF(Winners!$B$4:$J$34,$C43,Winners!$D$4:$L$34)))","v":""},{"$f":"IF($I$2<>Players!$B$4,\"\",IF(SUMIF(Winners!$B$4:$J$34,$C43,Winners!$D$4:$L$34)=0,\"\",SUMIF(Winners!$B$4:$J$34,$C43,Winners!$D$4:$L$34)))","v":""},{"$f":"IF($J$2<>Players!$B$4,\"\",IF(SUMIF(Winners!$B$4:$J$34,$C43,Winners!$D$4:$L$34)=0,\"\",SUMIF(Winners!$B$4:$J$34,$C43,Winners!$D$4:$L$34)))","v":""},null,null,0]
["T19","42",null,{"$f":"IF($D$2<>Players!$B$4,\"\",IF(SUMIF(Winners!$B$4:$J$34,$C44,Winners!$D$4:$L$34)=0,\"\",SUMIF(Winners!$B$4:$J$34,$C44,Winners!$D$4:$L$34)))","v":""},{"$f":"IF($E$2<>Players!$B$4,\"\",IF(SUMIF(Winners!$B$4:$J$34,$C44,Winners!$D$4:$L$34)=0,\"\",SUMIF(Winners!$B$4:$J$34,$C44,Winners!$D$4:$L$34)))","v":""},{"$f":"IF($F$2<>Players!$B$4,\"\",IF(SUMIF(Winners!$B$4:$J$34,$C44,Winners!$D$4:$L$34)=0,\"\",SUMIF(Winners!$B$4:$J$34,$C44,Winners!$D$4:$L$34)))","v":""},{"$f":"IF($G$2<>Players!$B$4,\"\",IF(SUMIF(Winners!$B$4:$J$34,$C44,Winners!$D$4:$L$34)=0,\"\",SUMIF(Winners!$B$4:$J$34,$C44,Winners!$D$4:$L$34)))","v":""},{"$f":"IF($H$2<>Players!$B$4,\"\",IF(SUMIF(Winners!$B$4:$J$34,$C44,Winners!$D$4:$L$34)=0,\"\",SUMIF(Winners!$B$4:$J$34,$C44,Winners!$D$4:$L$34)))","v":""},{"$f":"IF($I$2<>Players!$B$4,\"\",IF(SUMIF(Winners!$B$4:$J$34,$C44,Winners!$D$4:$L$34)=0,\"\",SUMIF(Winners!$B$4:$J$34,$C44,Winners!$D$4:$L$34)))","v":""},{"$f":"IF($J$2<>Players!$B$4,\"\",IF(SUMIF(Winners!$B$4:$J$34,$C44,Winners!$D$4:$L$34)=0,\"\",SUMIF(Winners!$B$4:$J$34,$C44,Winners!$D$4:$L$34)))","v":""},null,null,0]
["T19","43",null,{"$f":"IF($D$2<>Players!$B$4,\"\",IF(SUMIF(Winners!$B$4:$J$34,$C45,Winners!$D$4:$L$34)=0,\"\",SUMIF(Winners!$B$4:$J$34,$C45,Winners!$D$4:$L$34)))","v":""},{"$f":"IF($E$2<>Players!$B$4,\"\",IF(SUMIF(Winners!$B$4:$J$34,$C45,Winners!$D$4:$L$34)=0,\"\",SUMIF(Winners!$B$4:$J$34,$C45,Winners!$D$4:$L$34)))","v":""},{"$f":"IF($F$2<>Players!$B$4,\"\",IF(SUMIF(Winners!$B$4:$J$34,$C45,Winners!$D$4:$L$34)=0,\"\",SUMIF(Winners!$B$4:$J$34,$C45,Winners!$D$4:$L$34)))","v":""},{"$f":"IF($G$2<>Players!$B$4,\"\",IF(SUMIF(Winners!$B$4:$J$34,$C45,Winners!$D$4:$L$34)=0,\"\",SUMIF(Winners!$B$4:$J$34,$C45,Winners!$D$4:$L$34)))","v":""},{"$f":"IF($H$2<>Players!$B$4,\"\",IF(SUMIF(Winners!$B$4:$J$34,$C45,Winners!$D$4:$L$34)=0,\"\",SUMIF(Winners!$B$4:$J$34,$C45,Winners!$D$4:$L$34)))","v":""},{"$f":"IF($I$2<>Players!$B$4,\"\",IF(SUMIF(Winners!$B$4:$J$34,$C45,Winners!$D$4:$L$34)=0,\"\",SUMIF(Winners!$B$4:$J$34,$C45,Winners!$D$4:$L$34)))","v":""},{"$f":"IF($J$2<>Players!$B$4,\"\",IF(SUMIF(Winners!$B$4:$J$34,$C45,Winners!$D$4:$L$34)=0,\"\",SUMIF(Winners!$B$4:$J$34,$C45,Winners!$D$4:$L$34)))","v":""},null,null,0]
["T19","44",null,{"$f":"IF($D$2<>Players!$B$4,\"\",IF(SUMIF(Winners!$B$4:$J$34,$C46,Winners!$D$4:$L$34)=0,\"\",SUMIF(Winners!$B$4:$J$34,$C46,Winners!$D$4:$L$34)))","v":""},{"$f":"IF($E$2<>Players!$B$4,\"\",IF(SUMIF(Winners!$B$4:$J$34,$C46,Winners!$D$4:$L$34)=0,\"\",SUMIF(Winners!$B$4:$J$34,$C46,Winners!$D$4:$L$34)))","v":""},{"$f":"IF($F$2<>Players!$B$4,\"\",IF(SUMIF(Winners!$B$4:$J$34,$C46,Winners!$D$4:$L$34)=0,\"\",SUMIF(Winners!$B$4:$J$34,$C46,Winners!$D$4:$L$34)))","v":""},{"$f":"IF($G$2<>Players!$B$4,\"\",IF(SUMIF(Winners!$B$4:$J$34,$C46,Winners!$D$4:$L$34)=0,\"\",SUMIF(Winners!$B$4:$J$34,$C46,Winners!$D$4:$L$34)))","v":""},{"$f":"IF($H$2<>Players!$B$4,\"\",IF(SUMIF(Winners!$B$4:$J$34,$C46,Winners!$D$4:$L$34)=0,\"\",SUMIF(Winners!$B$4:$J$34,$C46,Winners!$D$4:$L$34)))","v":""},{"$f":"IF($I$2<>Players!$B$4,\"\",IF(SUMIF(Winners!$B$4:$J$34,$C46,Winners!$D$4:$L$34)=0,\"\",SUMIF(Winners!$B$4:$J$34,$C46,Winners!$D$4:$L$34)))","v":""},{"$f":"IF($J$2<>Players!$B$4,\"\",IF(SUMIF(Winners!$B$4:$J$34,$C46,Winners!$D$4:$L$34)=0,\"\",SUMIF(Winners!$B$4:$J$34,$C46,Winners!$D$4:$L$34)))","v":""},null,null,0]
["T19","45",null,{"$f":"IF($D$2<>Players!$B$4,\"\",IF(SUMIF(Winners!$B$4:$J$34,$C47,Winners!$D$4:$L$34)=0,\"\",SUMIF(Winners!$B$4:$J$34,$C47,Winners!$D$4:$L$34)))","v":""},{"$f":"IF($E$2<>Players!$B$4,\"\",IF(SUMIF(Winners!$B$4:$J$34,$C47,Winners!$D$4:$L$34)=0,\"\",SUMIF(Winners!$B$4:$J$34,$C47,Winners!$D$4:$L$34)))","v":""},{"$f":"IF($F$2<>Players!$B$4,\"\",IF(SUMIF(Winners!$B$4:$J$34,$C47,Winners!$D$4:$L$34)=0,\"\",SUMIF(Winners!$B$4:$J$34,$C47,Winners!$D$4:$L$34)))","v":""},{"$f":"IF($G$2<>Players!$B$4,\"\",IF(SUMIF(Winners!$B$4:$J$34,$C47,Winners!$D$4:$L$34)=0,\"\",SUMIF(Winners!$B$4:$J$34,$C47,Winners!$D$4:$L$34)))","v":""},{"$f":"IF($H$2<>Players!$B$4,\"\",IF(SUMIF(Winners!$B$4:$J$34,$C47,Winners!$D$4:$L$34)=0,\"\",SUMIF(Winners!$B$4:$J$34,$C47,Winners!$D$4:$L$34)))","v":""},{"$f":"IF($I$2<>Players!$B$4,\"\",IF(SUMIF(Winners!$B$4:$J$34,$C47,Winners!$D$4:$L$34)=0,\"\",SUMIF(Winners!$B$4:$J$34,$C47,Winners!$D$4:$L$34)))","v":""},{"$f":"IF($J$2<>Players!$B$4,\"\",IF(SUMIF(Winners!$B$4:$J$34,$C47,Winners!$D$4:$L$34)=0,\"\",SUMIF(Winners!$B$4:$J$34,$C47,Winners!$D$4:$L$34)))","v":""},null,null,0]
["T19","46",null,{"$f":"IF($D$2<>Players!$B$4,\"\",IF(SUMIF(Winners!$B$4:$J$34,$C48,Winners!$D$4:$L$34)=0,\"\",SUMIF(Winners!$B$4:$J$34,$C48,Winners!$D$4:$L$34)))","v":""},{"$f":"IF($E$2<>Players!$B$4,\"\",IF(SUMIF(Winners!$B$4:$J$34,$C48,Winners!$D$4:$L$34)=0,\"\",SUMIF(Winners!$B$4:$J$34,$C48,Winners!$D$4:$L$34)))","v":""},{"$f":"IF($F$2<>Players!$B$4,\"\",IF(SUMIF(Winners!$B$4:$J$34,$C48,Winners!$D$4:$L$34)=0,\"\",SUMIF(Winners!$B$4:$J$34,$C48,Winners!$D$4:$L$34)))","v":""},{"$f":"IF($G$2<>Players!$B$4,\"\",IF(SUMIF(Winners!$B$4:$J$34,$C48,Winners!$D$4:$L$34)=0,\"\",SUMIF(Winners!$B$4:$J$34,$C48,Winners!$D$4:$L$34)))","v":""},{"$f":"IF($H$2<>Players!$B$4,\"\",IF(SUMIF(Winners!$B$4:$J$34,$C48,Winners!$D$4:$L$34)=0,\"\",SUMIF(Winners!$B$4:$J$34,$C48,Winners!$D$4:$L$34)))","v":""},{"$f":"IF($I$2<>Players!$B$4,\"\",IF(SUMIF(Winners!$B$4:$J$34,$C48,Winners!$D$4:$L$34)=0,\"\",SUMIF(Winners!$B$4:$J$34,$C48,Winners!$D$4:$L$34)))","v":""},{"$f":"IF($J$2<>Players!$B$4,\"\",IF(SUMIF(Winners!$B$4:$J$34,$C48,Winners!$D$4:$L$34)=0,\"\",SUMIF(Winners!$B$4:$J$34,$C48,Winners!$D$4:$L$34)))","v":""},null,null,0]
["T19","47",null,{"$f":"IF($D$2<>Players!$B$4,\"\",IF(SUMIF(Winners!$B$4:$J$34,$C49,Winners!$D$4:$L$34)=0,\"\",SUMIF(Winners!$B$4:$J$34,$C49,Winners!$D$4:$L$34)))","v":""},{"$f":"IF($E$2<>Players!$B$4,\"\",IF(SUMIF(Winners!$B$4:$J$34,$C49,Winners!$D$4:$L$34)=0,\"\",SUMIF(Winners!$B$4:$J$34,$C49,Winners!$D$4:$L$34)))","v":""},{"$f":"IF($F$2<>Players!$B$4,\"\",IF(SUMIF(Winners!$B$4:$J$34,$C49,Winners!$D$4:$L$34)=0,\"\",SUMIF(Winners!$B$4:$J$34,$C49,Winners!$D$4:$L$34)))","v":""},{"$f":"IF($G$2<>Players!$B$4,\"\",IF(SUMIF(Winners!$B$4:$J$34,$C49,Winners!$D$4:$L$34)=0,\"\",SUMIF(Winners!$B$4:$J$34,$C49,Winners!$D$4:$L$34)))","v":""},{"$f":"IF($H$2<>Players!$B$4,\"\",IF(SUMIF(Winners!$B$4:$J$34,$C49,Winners!$D$4:$L$34)=0,\"\",SUMIF(Winners!$B$4:$J$34,$C49,Winners!$D$4:$L$34)))","v":""},{"$f":"IF($I$2<>Players!$B$4,\"\",IF(SUMIF(Winners!$B$4:$J$34,$C49,Winners!$D$4:$L$34)=0,\"\",SUMIF(Winners!$B$4:$J$34,$C49,Winners!$D$4:$L$34)))","v":""},{"$f":"IF($J$2<>Players!$B$4,\"\",IF(SUMIF(Winners!$B$4:$J$34,$C49,Winners!$D$4:$L$34)=0,\"\",SUMIF(Winners!$B$4:$J$34,$C49,Winners!$D$4:$L$34)))","v":""},null,null,0]
["T19","48",null,{"$f":"IF($D$2<>Players!$B$4,\"\",IF(SUMIF(Winners!$B$4:$J$34,$C50,Winners!$D$4:$L$34)=0,\"\",SUMIF(Winners!$B$4:$J$34,$C50,Winners!$D$4:$L$34)))","v":""},{"$f":"IF($E$2<>Players!$B$4,\"\",IF(SUMIF(Winners!$B$4:$J$34,$C50,Winners!$D$4:$L$34)=0,\"\",SUMIF(Winners!$B$4:$J$34,$C50,Winners!$D$4:$L$34)))","v":""},{"$f":"IF($F$2<>Players!$B$4,\"\",IF(SUMIF(Winners!$B$4:$J$34,$C50,Winners!$D$4:$L$34)=0,\"\",SUMIF(Winners!$B$4:$J$34,$C50,Winners!$D$4:$L$34)))","v":""},{"$f":"IF($G$2<>Players!$B$4,\"\",IF(SUMIF(Winners!$B$4:$J$34,$C50,Winners!$D$4:$L$34)=0,\"\",SUMIF(Winners!$B$4:$J$34,$C50,Winners!$D$4:$L$34)))","v":""},{"$f":"IF($H$2<>Players!$B$4,\"\",IF(SUMIF(Winners!$B$4:$J$34,$C50,Winners!$D$4:$L$34)=0,\"\",SUMIF(Winners!$B$4:$J$34,$C50,Winners!$D$4:$L$34)))","v":""},{"$f":"IF($I$2<>Players!$B$4,\"\",IF(SUMIF(Winners!$B$4:$J$34,$C50,Winners!$D$4:$L$34)=0,\"\",SUMIF(Winners!$B$4:$J$34,$C50,Winners!$D$4:$L$34)))","v":""},{"$f":"IF($J$2<>Players!$B$4,\"\",IF(SUMIF(Winners!$B$4:$J$34,$C50,Winners!$D$4:$L$34)=0,\"\",SUMIF(Winners!$B$4:$J$34,$C50,Winners!$D$4:$L$34)))","v":""},null,null,0]
["T19","49",null,{"$f":"IF($D$2<>Players!$B$4,\"\",IF(SUMIF(Winners!$B$4:$J$34,$C51,Winners!$D$4:$L$34)=0,\"\",SUMIF(Winners!$B$4:$J$34,$C51,Winners!$D$4:$L$34)))","v":""},{"$f":"IF($E$2<>Players!$B$4,\"\",IF(SUMIF(Winners!$B$4:$J$34,$C51,Winners!$D$4:$L$34)=0,\"\",SUMIF(Winners!$B$4:$J$34,$C51,Winners!$D$4:$L$34)))","v":""},{"$f":"IF($F$2<>Players!$B$4,\"\",IF(SUMIF(Winners!$B$4:$J$34,$C51,Winners!$D$4:$L$34)=0,\"\",SUMIF(Winners!$B$4:$J$34,$C51,Winners!$D$4:$L$34)))","v":""},{"$f":"IF($G$2<>Players!$B$4,\"\",IF(SUMIF(Winners!$B$4:$J$34,$C51,Winners!$D$4:$L$34)=0,\"\",SUMIF(Winners!$B$4:$J$34,$C51,Winners!$D$4:$L$34)))","v":""},{"$f":"IF($H$2<>Players!$B$4,\"\",IF(SUMIF(Winners!$B$4:$J$34,$C51,Winners!$D$4:$L$34)=0,\"\",SUMIF(Winners!$B$4:$J$34,$C51,Winners!$D$4:$L$34)))","v":""},{"$f":"IF($I$2<>Players!$B$4,\"\",IF(SUMIF(Winners!$B$4:$J$34,$C51,Winners!$D$4:$L$34)=0,\"\",SUMIF(Winners!$B$4:$J$34,$C51,Winners!$D$4:$L$34)))","v":""},{"$f":"IF($J$2<>Players!$B$4,\"\",IF(SUMIF(Winners!$B$4:$J$34,$C51,Winners!$D$4:$L$34)=0,\"\",SUMIF(Winners!$B$4:$J$34,$C51,Winners!$D$4:$L$34)))","v":""},null,null,0]
["T19","50",null,{"$f":"IF($D$2<>Players!$B$4,\"\",IF(SUMIF(Winners!$B$4:$J$34,$C52,Winners!$D$4:$L$34)=0,\"\",SUMIF(Winners!$B$4:$J$34,$C52,Winners!$D$4:$L$34)))","v":""},{"$f":"IF($E$2<>Players!$B$4,\"\",IF(SUMIF(Winners!$B$4:$J$34,$C52,Winners!$D$4:$L$34)=0,\"\",SUMIF(Winners!$B$4:$J$34,$C52,Winners!$D$4:$L$34)))","v":""},{"$f":"IF($F$2<>Players!$B$4,\"\",IF(SUMIF(Winners!$B$4:$J$34,$C52,Winners!$D$4:$L$34)=0,\"\",SUMIF(Winners!$B$4:$J$34,$C52,Winners!$D$4:$L$34)))","v":""},{"$f":"IF($G$2<>Players!$B$4,\"\",IF(SUMIF(Winners!$B$4:$J$34,$C52,Winners!$D$4:$L$34)=0,\"\",SUMIF(Winners!$B$4:$J$34,$C52,Winners!$D$4:$L$34)))","v":""},{"$f":"IF($H$2<>Players!$B$4,\"\",IF(SUMIF(Winners!$B$4:$J$34,$C52,Winners!$D$4:$L$34)=0,\"\",SUMIF(Winners!$B$4:$J$34,$C52,Winners!$D$4:$L$34)))","v":""},{"$f":"IF($I$2<>Players!$B$4,\"\",IF(SUMIF(Winners!$B$4:$J$34,$C52,Winners!$D$4:$L$34)=0,\"\",SUMIF(Winners!$B$4:$J$34,$C52,Winners!$D$4:$L$34)))","v":""},{"$f":"IF($J$2<>Players!$B$4,\"\",IF(SUMIF(Winners!$B$4:$J$34,$C52,Winners!$D$4:$L$34)=0,\"\",SUMIF(Winners!$B$4:$J$34,$C52,Winners!$D$4:$L$34)))","v":""},null,null,0]
["T19","51",null,{"$f":"IF($D$2<>Players!$B$4,\"\",IF(SUMIF(Winners!$B$4:$J$34,$C53,Winners!$D$4:$L$34)=0,\"\",SUMIF(Winners!$B$4:$J$34,$C53,Winners!$D$4:$L$34)))","v":""},{"$f":"IF($E$2<>Players!$B$4,\"\",IF(SUMIF(Winners!$B$4:$J$34,$C53,Winners!$D$4:$L$34)=0,\"\",SUMIF(Winners!$B$4:$J$34,$C53,Winners!$D$4:$L$34)))","v":""},{"$f":"IF($F$2<>Players!$B$4,\"\",IF(SUMIF(Winners!$B$4:$J$34,$C53,Winners!$D$4:$L$34)=0,\"\",SUMIF(Winners!$B$4:$J$34,$C53,Winners!$D$4:$L$34)))","v":""},{"$f":"IF($G$2<>Players!$B$4,\"\",IF(SUMIF(Winners!$B$4:$J$34,$C53,Winners!$D$4:$L$34)=0,\"\",SUMIF(Winners!$B$4:$J$34,$C53,Winners!$D$4:$L$34)))","v":""},{"$f":"IF($H$2<>Players!$B$4,\"\",IF(SUMIF(Winners!$B$4:$J$34,$C53,Winners!$D$4:$L$34)=0,\"\",SUMIF(Winners!$B$4:$J$34,$C53,Winners!$D$4:$L$34)))","v":""},{"$f":"IF($I$2<>Players!$B$4,\"\",IF(SUMIF(Winners!$B$4:$J$34,$C53,Winners!$D$4:$L$34)=0,\"\",SUMIF(Winners!$B$4:$J$34,$C53,Winners!$D$4:$L$34)))","v":""},{"$f":"IF($J$2<>Players!$B$4,\"\",IF(SUMIF(Winners!$B$4:$J$34,$C53,Winners!$D$4:$L$34)=0,\"\",SUMIF(Winners!$B$4:$J$34,$C53,Winners!$D$4:$L$34)))","v":""},null,null,0]
["T19","52",null,{"$f":"IF($D$2<>Players!$B$4,\"\",IF(SUMIF(Winners!$B$4:$J$34,$C54,Winners!$D$4:$L$34)=0,\"\",SUMIF(Winners!$B$4:$J$34,$C54,Winners!$D$4:$L$34)))","v":""},{"$f":"IF($E$2<>Players!$B$4,\"\",IF(SUMIF(Winners!$B$4:$J$34,$C54,Winners!$D$4:$L$34)=0,\"\",SUMIF(Winners!$B$4:$J$34,$C54,Winners!$D$4:$L$34)))","v":""},{"$f":"IF($F$2<>Players!$B$4,\"\",IF(SUMIF(Winners!$B$4:$J$34,$C54,Winners!$D$4:$L$34)=0,\"\",SUMIF(Winners!$B$4:$J$34,$C54,Winners!$D$4:$L$34)))","v":""},{"$f":"IF($G$2<>Players!$B$4,\"\",IF(SUMIF(Winners!$B$4:$J$34,$C54,Winners!$D$4:$L$34)=0,\"\",SUMIF(Winners!$B$4:$J$34,$C54,Winners!$D$4:$L$34)))","v":""},{"$f":"IF($H$2<>Players!$B$4,\"\",IF(SUMIF(Winners!$B$4:$J$34,$C54,Winners!$D$4:$L$34)=0,\"\",SUMIF(Winners!$B$4:$J$34,$C54,Winners!$D$4:$L$34)))","v":""},{"$f":"IF($I$2<>Players!$B$4,\"\",IF(SUMIF(Winners!$B$4:$J$34,$C54,Winners!$D$4:$L$34)=0,\"\",SUMIF(Winners!$B$4:$J$34,$C54,Winners!$D$4:$L$34)))","v":""},{"$f":"IF($J$2<>Players!$B$4,\"\",IF(SUMIF(Winners!$B$4:$J$34,$C54,Winners!$D$4:$L$34)=0,\"\",SUMIF(Winners!$B$4:$J$34,$C54,Winners!$D$4:$L$34)))","v":""},null,null,0]
["T19","53",null,{"$f":"IF($D$2<>Players!$B$4,\"\",IF(SUMIF(Winners!$B$4:$J$34,$C55,Winners!$D$4:$L$34)=0,\"\",SUMIF(Winners!$B$4:$J$34,$C55,Winners!$D$4:$L$34)))","v":""},{"$f":"IF($E$2<>Players!$B$4,\"\",IF(SUMIF(Winners!$B$4:$J$34,$C55,Winners!$D$4:$L$34)=0,\"\",SUMIF(Winners!$B$4:$J$34,$C55,Winners!$D$4:$L$34)))","v":""},{"$f":"IF($F$2<>Players!$B$4,\"\",IF(SUMIF(Winners!$B$4:$J$34,$C55,Winners!$D$4:$L$34)=0,\"\",SUMIF(Winners!$B$4:$J$34,$C55,Winners!$D$4:$L$34)))","v":""},{"$f":"IF($G$2<>Players!$B$4,\"\",IF(SUMIF(Winners!$B$4:$J$34,$C55,Winners!$D$4:$L$34)=0,\"\",SUMIF(Winners!$B$4:$J$34,$C55,Winners!$D$4:$L$34)))","v":""},{"$f":"IF($H$2<>Players!$B$4,\"\",IF(SUMIF(Winners!$B$4:$J$34,$C55,Winners!$D$4:$L$34)=0,\"\",SUMIF(Winners!$B$4:$J$34,$C55,Winners!$D$4:$L$34)))","v":""},{"$f":"IF($I$2<>Players!$B$4,\"\",IF(SUMIF(Winners!$B$4:$J$34,$C55,Winners!$D$4:$L$34)=0,\"\",SUMIF(Winners!$B$4:$J$34,$C55,Winners!$D$4:$L$34)))","v":""},{"$f":"IF($J$2<>Players!$B$4,\"\",IF(SUMIF(Winners!$B$4:$J$34,$C55,Winners!$D$4:$L$34)=0,\"\",SUMIF(Winners!$B$4:$J$34,$C55,Winners!$D$4:$L$34)))","v":""},null,null,0]
["T19","54",null,{"$f":"IF($D$2<>Players!$B$4,\"\",IF(SUMIF(Winners!$B$4:$J$34,$C56,Winners!$D$4:$L$34)=0,\"\",SUMIF(Winners!$B$4:$J$34,$C56,Winners!$D$4:$L$34)))","v":""},{"$f":"IF($E$2<>Players!$B$4,\"\",IF(SUMIF(Winners!$B$4:$J$34,$C56,Winners!$D$4:$L$34)=0,\"\",SUMIF(Winners!$B$4:$J$34,$C56,Winners!$D$4:$L$34)))","v":""},{"$f":"IF($F$2<>Players!$B$4,\"\",IF(SUMIF(Winners!$B$4:$J$34,$C56,Winners!$D$4:$L$34)=0,\"\",SUMIF(Winners!$B$4:$J$34,$C56,Winners!$D$4:$L$34)))","v":""},{"$f":"IF($G$2<>Players!$B$4,\"\",IF(SUMIF(Winners!$B$4:$J$34,$C56,Winners!$D$4:$L$34)=0,\"\",SUMIF(Winners!$B$4:$J$34,$C56,Winners!$D$4:$L$34)))","v":""},{"$f":"IF($H$2<>Players!$B$4,\"\",IF(SUMIF(Winners!$B$4:$J$34,$C56,Winners!$D$4:$L$34)=0,\"\",SUMIF(Winners!$B$4:$J$34,$C56,Winners!$D$4:$L$34)))","v":""},{"$f":"IF($I$2<>Players!$B$4,\"\",IF(SUMIF(Winners!$B$4:$J$34,$C56,Winners!$D$4:$L$34)=0,\"\",SUMIF(Winners!$B$4:$J$34,$C56,Winners!$D$4:$L$34)))","v":""},{"$f":"IF($J$2<>Players!$B$4,\"\",IF(SUMIF(Winners!$B$4:$J$34,$C56,Winners!$D$4:$L$34)=0,\"\",SUMIF(Winners!$B$4:$J$34,$C56,Winners!$D$4:$L$34)))","v":""},null,null,0]
["T19","55",null,{"$f":"IF($D$2<>Players!$B$4,\"\",IF(SUMIF(Winners!$B$4:$J$34,$C57,Winners!$D$4:$L$34)=0,\"\",SUMIF(Winners!$B$4:$J$34,$C57,Winners!$D$4:$L$34)))","v":""},{"$f":"IF($E$2<>Players!$B$4,\"\",IF(SUMIF(Winners!$B$4:$J$34,$C57,Winners!$D$4:$L$34)=0,\"\",SUMIF(Winners!$B$4:$J$34,$C57,Winners!$D$4:$L$34)))","v":""},{"$f":"IF($F$2<>Players!$B$4,\"\",IF(SUMIF(Winners!$B$4:$J$34,$C57,Winners!$D$4:$L$34)=0,\"\",SUMIF(Winners!$B$4:$J$34,$C57,Winners!$D$4:$L$34)))","v":""},{"$f":"IF($G$2<>Players!$B$4,\"\",IF(SUMIF(Winners!$B$4:$J$34,$C57,Winners!$D$4:$L$34)=0,\"\",SUMIF(Winners!$B$4:$J$34,$C57,Winners!$D$4:$L$34)))","v":""},{"$f":"IF($H$2<>Players!$B$4,\"\",IF(SUMIF(Winners!$B$4:$J$34,$C57,Winners!$D$4:$L$34)=0,\"\",SUMIF(Winners!$B$4:$J$34,$C57,Winners!$D$4:$L$34)))","v":""},{"$f":"IF($I$2<>Players!$B$4,\"\",IF(SUMIF(Winners!$B$4:$J$34,$C57,Winners!$D$4:$L$34)=0,\"\",SUMIF(Winners!$B$4:$J$34,$C57,Winners!$D$4:$L$34)))","v":""},{"$f":"IF($J$2<>Players!$B$4,\"\",IF(SUMIF(Winners!$B$4:$J$34,$C57,Winners!$D$4:$L$34)=0,\"\",SUMIF(Winners!$B$4:$J$34,$C57,Winners!$D$4:$L$34)))","v":""},null,null,0]
["T19","56",null,{"$f":"IF($D$2<>Players!$B$4,\"\",IF(SUMIF(Winners!$B$4:$J$34,$C58,Winners!$D$4:$L$34)=0,\"\",SUMIF(Winners!$B$4:$J$34,$C58,Winners!$D$4:$L$34)))","v":""},{"$f":"IF($E$2<>Players!$B$4,\"\",IF(SUMIF(Winners!$B$4:$J$34,$C58,Winners!$D$4:$L$34)=0,\"\",SUMIF(Winners!$B$4:$J$34,$C58,Winners!$D$4:$L$34)))","v":""},{"$f":"IF($F$2<>Players!$B$4,\"\",IF(SUMIF(Winners!$B$4:$J$34,$C58,Winners!$D$4:$L$34)=0,\"\",SUMIF(Winners!$B$4:$J$34,$C58,Winners!$D$4:$L$34)))","v":""},{"$f":"IF($G$2<>Players!$B$4,\"\",IF(SUMIF(Winners!$B$4:$J$34,$C58,Winners!$D$4:$L$34)=0,\"\",SUMIF(Winners!$B$4:$J$34,$C58,Winners!$D$4:$L$34)))","v":""},{"$f":"IF($H$2<>Players!$B$4,\"\",IF(SUMIF(Winners!$B$4:$J$34,$C58,Winners!$D$4:$L$34)=0,\"\",SUMIF(Winners!$B$4:$J$34,$C58,Winners!$D$4:$L$34)))","v":""},{"$f":"IF($I$2<>Players!$B$4,\"\",IF(SUMIF(Winners!$B$4:$J$34,$C58,Winners!$D$4:$L$34)=0,\"\",SUMIF(Winners!$B$4:$J$34,$C58,Winners!$D$4:$L$34)))","v":""},{"$f":"IF($J$2<>Players!$B$4,\"\",IF(SUMIF(Winners!$B$4:$J$34,$C58,Winners!$D$4:$L$34)=0,\"\",SUMIF(Winners!$B$4:$J$34,$C58,Winners!$D$4:$L$34)))","v":""},null,null,0]
["T19","57",null,{"$f":"IF($D$2<>Players!$B$4,\"\",IF(SUMIF(Winners!$B$4:$J$34,$C59,Winners!$D$4:$L$34)=0,\"\",SUMIF(Winners!$B$4:$J$34,$C59,Winners!$D$4:$L$34)))","v":""},{"$f":"IF($E$2<>Players!$B$4,\"\",IF(SUMIF(Winners!$B$4:$J$34,$C59,Winners!$D$4:$L$34)=0,\"\",SUMIF(Winners!$B$4:$J$34,$C59,Winners!$D$4:$L$34)))","v":""},{"$f":"IF($F$2<>Players!$B$4,\"\",IF(SUMIF(Winners!$B$4:$J$34,$C59,Winners!$D$4:$L$34)=0,\"\",SUMIF(Winners!$B$4:$J$34,$C59,Winners!$D$4:$L$34)))","v":""},{"$f":"IF($G$2<>Players!$B$4,\"\",IF(SUMIF(Winners!$B$4:$J$34,$C59,Winners!$D$4:$L$34)=0,\"\",SUMIF(Winners!$B$4:$J$34,$C59,Winners!$D$4:$L$34)))","v":""},{"$f":"IF($H$2<>Players!$B$4,\"\",IF(SUMIF(Winners!$B$4:$J$34,$C59,Winners!$D$4:$L$34)=0,\"\",SUMIF(Winners!$B$4:$J$34,$C59,Winners!$D$4:$L$34)))","v":""},{"$f":"IF($I$2<>Players!$B$4,\"\",IF(SUMIF(Winners!$B$4:$J$34,$C59,Winners!$D$4:$L$34)=0,\"\",SUMIF(Winners!$B$4:$J$34,$C59,Winners!$D$4:$L$34)))","v":""},{"$f":"IF($J$2<>Players!$B$4,\"\",IF(SUMIF(Winners!$B$4:$J$34,$C59,Winners!$D$4:$L$34)=0,\"\",SUMIF(Winners!$B$4:$J$34,$C59,Winners!$D$4:$L$34)))","v":""},null,null,0]
["T19","58",null,{"$f":"IF($D$2<>Players!$B$4,\"\",IF(SUMIF(Winners!$B$4:$J$34,$C60,Winners!$D$4:$L$34)=0,\"\",SUMIF(Winners!$B$4:$J$34,$C60,Winners!$D$4:$L$34)))","v":""},{"$f":"IF($E$2<>Players!$B$4,\"\",IF(SUMIF(Winners!$B$4:$J$34,$C60,Winners!$D$4:$L$34)=0,\"\",SUMIF(Winners!$B$4:$J$34,$C60,Winners!$D$4:$L$34)))","v":""},{"$f":"IF($F$2<>Players!$B$4,\"\",IF(SUMIF(Winners!$B$4:$J$34,$C60,Winners!$D$4:$L$34)=0,\"\",SUMIF(Winners!$B$4:$J$34,$C60,Winners!$D$4:$L$34)))","v":""},{"$f":"IF($G$2<>Players!$B$4,\"\",IF(SUMIF(Winners!$B$4:$J$34,$C60,Winners!$D$4:$L$34)=0,\"\",SUMIF(Winners!$B$4:$J$34,$C60,Winners!$D$4:$L$34)))","v":""},{"$f":"IF($H$2<>Players!$B$4,\"\",IF(SUMIF(Winners!$B$4:$J$34,$C60,Winners!$D$4:$L$34)=0,\"\",SUMIF(Winners!$B$4:$J$34,$C60,Winners!$D$4:$L$34)))","v":""},{"$f":"IF($I$2<>Players!$B$4,\"\",IF(SUMIF(Winners!$B$4:$J$34,$C60,Winners!$D$4:$L$34)=0,\"\",SUMIF(Winners!$B$4:$J$34,$C60,Winners!$D$4:$L$34)))","v":""},{"$f":"IF($J$2<>Players!$B$4,\"\",IF(SUMIF(Winners!$B$4:$J$34,$C60,Winners!$D$4:$L$34)=0,\"\",SUMIF(Winners!$B$4:$J$34,$C60,Winners!$D$4:$L$34)))","v":""},null,null,0]
["T19","59",null,{"$f":"IF($D$2<>Players!$B$4,\"\",IF(SUMIF(Winners!$B$4:$J$34,$C61,Winners!$D$4:$L$34)=0,\"\",SUMIF(Winners!$B$4:$J$34,$C61,Winners!$D$4:$L$34)))","v":""},{"$f":"IF($E$2<>Players!$B$4,\"\",IF(SUMIF(Winners!$B$4:$J$34,$C61,Winners!$D$4:$L$34)=0,\"\",SUMIF(Winners!$B$4:$J$34,$C61,Winners!$D$4:$L$34)))","v":""},{"$f":"IF($F$2<>Players!$B$4,\"\",IF(SUMIF(Winners!$B$4:$J$34,$C61,Winners!$D$4:$L$34)=0,\"\",SUMIF(Winners!$B$4:$J$34,$C61,Winners!$D$4:$L$34)))","v":""},{"$f":"IF($G$2<>Players!$B$4,\"\",IF(SUMIF(Winners!$B$4:$J$34,$C61,Winners!$D$4:$L$34)=0,\"\",SUMIF(Winners!$B$4:$J$34,$C61,Winners!$D$4:$L$34)))","v":""},{"$f":"IF($H$2<>Players!$B$4,\"\",IF(SUMIF(Winners!$B$4:$J$34,$C61,Winners!$D$4:$L$34)=0,\"\",SUMIF(Winners!$B$4:$J$34,$C61,Winners!$D$4:$L$34)))","v":""},{"$f":"IF($I$2<>Players!$B$4,\"\",IF(SUMIF(Winners!$B$4:$J$34,$C61,Winners!$D$4:$L$34)=0,\"\",SUMIF(Winners!$B$4:$J$34,$C61,Winners!$D$4:$L$34)))","v":""},{"$f":"IF($J$2<>Players!$B$4,\"\",IF(SUMIF(Winners!$B$4:$J$34,$C61,Winners!$D$4:$L$34)=0,\"\",SUMIF(Winners!$B$4:$J$34,$C61,Winners!$D$4:$L$34)))","v":""},null,null,0]
["T19","60",null,{"$f":"IF($D$2<>Players!$B$4,\"\",IF(SUMIF(Winners!$B$4:$J$34,$C62,Winners!$D$4:$L$34)=0,\"\",SUMIF(Winners!$B$4:$J$34,$C62,Winners!$D$4:$L$34)))","v":""},{"$f":"IF($E$2<>Players!$B$4,\"\",IF(SUMIF(Winners!$B$4:$J$34,$C62,Winners!$D$4:$L$34)=0,\"\",SUMIF(Winners!$B$4:$J$34,$C62,Winners!$D$4:$L$34)))","v":""},{"$f":"IF($F$2<>Players!$B$4,\"\",IF(SUMIF(Winners!$B$4:$J$34,$C62,Winners!$D$4:$L$34)=0,\"\",SUMIF(Winners!$B$4:$J$34,$C62,Winners!$D$4:$L$34)))","v":""},{"$f":"IF($G$2<>Players!$B$4,\"\",IF(SUMIF(Winners!$B$4:$J$34,$C62,Winners!$D$4:$L$34)=0,\"\",SUMIF(Winners!$B$4:$J$34,$C62,Winners!$D$4:$L$34)))","v":""},{"$f":"IF($H$2<>Players!$B$4,\"\",IF(SUMIF(Winners!$B$4:$J$34,$C62,Winners!$D$4:$L$34)=0,\"\",SUMIF(Winners!$B$4:$J$34,$C62,Winners!$D$4:$L$34)))","v":""},{"$f":"IF($I$2<>Players!$B$4,\"\",IF(SUMIF(Winners!$B$4:$J$34,$C62,Winners!$D$4:$L$34)=0,\"\",SUMIF(Winners!$B$4:$J$34,$C62,Winners!$D$4:$L$34)))","v":""},{"$f":"IF($J$2<>Players!$B$4,\"\",IF(SUMIF(Winners!$B$4:$J$34,$C62,Winners!$D$4:$L$34)=0,\"\",SUMIF(Winners!$B$4:$J$34,$C62,Winners!$D$4:$L$34)))","v":""},null,null,0]
["T19","61",null,{"$f":"IF($D$2<>Players!$B$4,\"\",IF(SUMIF(Winners!$B$4:$J$34,$C63,Winners!$D$4:$L$34)=0,\"\",SUMIF(Winners!$B$4:$J$34,$C63,Winners!$D$4:$L$34)))","v":""},{"$f":"IF($E$2<>Players!$B$4,\"\",IF(SUMIF(Winners!$B$4:$J$34,$C63,Winners!$D$4:$L$34)=0,\"\",SUMIF(Winners!$B$4:$J$34,$C63,Winners!$D$4:$L$34)))","v":""},{"$f":"IF($F$2<>Players!$B$4,\"\",IF(SUMIF(Winners!$B$4:$J$34,$C63,Winners!$D$4:$L$34)=0,\"\",SUMIF(Winners!$B$4:$J$34,$C63,Winners!$D$4:$L$34)))","v":""},{"$f":"IF($G$2<>Players!$B$4,\"\",IF(SUMIF(Winners!$B$4:$J$34,$C63,Winners!$D$4:$L$34)=0,\"\",SUMIF(Winners!$B$4:$J$34,$C63,Winners!$D$4:$L$34)))","v":""},{"$f":"IF($H$2<>Players!$B$4,\"\",IF(SUMIF(Winners!$B$4:$J$34,$C63,Winners!$D$4:$L$34)=0,\"\",SUMIF(Winners!$B$4:$J$34,$C63,Winners!$D$4:$L$34)))","v":""},{"$f":"IF($I$2<>Players!$B$4,\"\",IF(SUMIF(Winners!$B$4:$J$34,$C63,Winners!$D$4:$L$34)=0,\"\",SUMIF(Winners!$B$4:$J$34,$C63,Winners!$D$4:$L$34)))","v":""},{"$f":"IF($J$2<>Players!$B$4,\"\",IF(SUMIF(Winners!$B$4:$J$34,$C63,Winners!$D$4:$L$34)=0,\"\",SUMIF(Winners!$B$4:$J$34,$C63,Winners!$D$4:$L$34)))","v":""},null,null,0]
["T19","62",null,{"$f":"IF($D$2<>Players!$B$4,\"\",IF(SUMIF(Winners!$B$4:$J$34,$C64,Winners!$D$4:$L$34)=0,\"\",SUMIF(Winners!$B$4:$J$34,$C64,Winners!$D$4:$L$34)))","v":""},{"$f":"IF($E$2<>Players!$B$4,\"\",IF(SUMIF(Winners!$B$4:$J$34,$C64,Winners!$D$4:$L$34)=0,\"\",SUMIF(Winners!$B$4:$J$34,$C64,Winners!$D$4:$L$34)))","v":""},{"$f":"IF($F$2<>Players!$B$4,\"\",IF(SUMIF(Winners!$B$4:$J$34,$C64,Winners!$D$4:$L$34)=0,\"\",SUMIF(Winners!$B$4:$J$34,$C64,Winners!$D$4:$L$34)))","v":""},{"$f":"IF($G$2<>Players!$B$4,\"\",IF(SUMIF(Winners!$B$4:$J$34,$C64,Winners!$D$4:$L$34)=0,\"\",SUMIF(Winners!$B$4:$J$34,$C64,Winners!$D$4:$L$34)))","v":""},{"$f":"IF($H$2<>Players!$B$4,\"\",IF(SUMIF(Winners!$B$4:$J$34,$C64,Winners!$D$4:$L$34)=0,\"\",SUMIF(Winners!$B$4:$J$34,$C64,Winners!$D$4:$L$34)))","v":""},{"$f":"IF($I$2<>Players!$B$4,\"\",IF(SUMIF(Winners!$B$4:$J$34,$C64,Winners!$D$4:$L$34)=0,\"\",SUMIF(Winners!$B$4:$J$34,$C64,Winners!$D$4:$L$34)))","v":""},{"$f":"IF($J$2<>Players!$B$4,\"\",IF(SUMIF(Winners!$B$4:$J$34,$C64,Winners!$D$4:$L$34)=0,\"\",SUMIF(Winners!$B$4:$J$34,$C64,Winners!$D$4:$L$34)))","v":""},null,null,0]
["T19","63",null,{"$f":"IF($D$2<>Players!$B$4,\"\",IF(SUMIF(Winners!$B$4:$J$34,$C65,Winners!$D$4:$L$34)=0,\"\",SUMIF(Winners!$B$4:$J$34,$C65,Winners!$D$4:$L$34)))","v":""},{"$f":"IF($E$2<>Players!$B$4,\"\",IF(SUMIF(Winners!$B$4:$J$34,$C65,Winners!$D$4:$L$34)=0,\"\",SUMIF(Winners!$B$4:$J$34,$C65,Winners!$D$4:$L$34)))","v":""},{"$f":"IF($F$2<>Players!$B$4,\"\",IF(SUMIF(Winners!$B$4:$J$34,$C65,Winners!$D$4:$L$34)=0,\"\",SUMIF(Winners!$B$4:$J$34,$C65,Winners!$D$4:$L$34)))","v":""},{"$f":"IF($G$2<>Players!$B$4,\"\",IF(SUMIF(Winners!$B$4:$J$34,$C65,Winners!$D$4:$L$34)=0,\"\",SUMIF(Winners!$B$4:$J$34,$C65,Winners!$D$4:$L$34)))","v":""},{"$f":"IF($H$2<>Players!$B$4,\"\",IF(SUMIF(Winners!$B$4:$J$34,$C65,Winners!$D$4:$L$34)=0,\"\",SUMIF(Winners!$B$4:$J$34,$C65,Winners!$D$4:$L$34)))","v":""},{"$f":"IF($I$2<>Players!$B$4,\"\",IF(SUMIF(Winners!$B$4:$J$34,$C65,Winners!$D$4:$L$34)=0,\"\",SUMIF(Winners!$B$4:$J$34,$C65,Winners!$D$4:$L$34)))","v":""},{"$f":"IF($J$2<>Players!$B$4,\"\",IF(SUMIF(Winners!$B$4:$J$34,$C65,Winners!$D$4:$L$34)=0,\"\",SUMIF(Winners!$B$4:$J$34,$C65,Winners!$D$4:$L$34)))","v":""},null,null,0]
["T19","64",null,{"$f":"IF($D$2<>Players!$B$4,\"\",IF(SUMIF(Winners!$B$4:$J$34,$C66,Winners!$D$4:$L$34)=0,\"\",SUMIF(Winners!$B$4:$J$34,$C66,Winners!$D$4:$L$34)))","v":""},{"$f":"IF($E$2<>Players!$B$4,\"\",IF(SUMIF(Winners!$B$4:$J$34,$C66,Winners!$D$4:$L$34)=0,\"\",SUMIF(Winners!$B$4:$J$34,$C66,Winners!$D$4:$L$34)))","v":""},{"$f":"IF($F$2<>Players!$B$4,\"\",IF(SUMIF(Winners!$B$4:$J$34,$C66,Winners!$D$4:$L$34)=0,\"\",SUMIF(Winners!$B$4:$J$34,$C66,Winners!$D$4:$L$34)))","v":""},{"$f":"IF($G$2<>Players!$B$4,\"\",IF(SUMIF(Winners!$B$4:$J$34,$C66,Winners!$D$4:$L$34)=0,\"\",SUMIF(Winners!$B$4:$J$34,$C66,Winners!$D$4:$L$34)))","v":""},{"$f":"IF($H$2<>Players!$B$4,\"\",IF(SUMIF(Winners!$B$4:$J$34,$C66,Winners!$D$4:$L$34)=0,\"\",SUMIF(Winners!$B$4:$J$34,$C66,Winners!$D$4:$L$34)))","v":""},{"$f":"IF($I$2<>Players!$B$4,\"\",IF(SUMIF(Winners!$B$4:$J$34,$C66,Winners!$D$4:$L$34)=0,\"\",SUMIF(Winners!$B$4:$J$34,$C66,Winners!$D$4:$L$34)))","v":""},{"$f":"IF($J$2<>Players!$B$4,\"\",IF(SUMIF(Winners!$B$4:$J$34,$C66,Winners!$D$4:$L$34)=0,\"\",SUMIF(Winners!$B$4:$J$34,$C66,Winners!$D$4:$L$34)))","v":""},null,null,0]
["T19","65",null,{"$f":"IF($D$2<>Players!$B$4,\"\",IF(SUMIF(Winners!$B$4:$J$34,$C67,Winners!$D$4:$L$34)=0,\"\",SUMIF(Winners!$B$4:$J$34,$C67,Winners!$D$4:$L$34)))","v":""},{"$f":"IF($E$2<>Players!$B$4,\"\",IF(SUMIF(Winners!$B$4:$J$34,$C67,Winners!$D$4:$L$34)=0,\"\",SUMIF(Winners!$B$4:$J$34,$C67,Winners!$D$4:$L$34)))","v":""},{"$f":"IF($F$2<>Players!$B$4,\"\",IF(SUMIF(Winners!$B$4:$J$34,$C67,Winners!$D$4:$L$34)=0,\"\",SUMIF(Winners!$B$4:$J$34,$C67,Winners!$D$4:$L$34)))","v":""},{"$f":"IF($G$2<>Players!$B$4,\"\",IF(SUMIF(Winners!$B$4:$J$34,$C67,Winners!$D$4:$L$34)=0,\"\",SUMIF(Winners!$B$4:$J$34,$C67,Winners!$D$4:$L$34)))","v":""},{"$f":"IF($H$2<>Players!$B$4,\"\",IF(SUMIF(Winners!$B$4:$J$34,$C67,Winners!$D$4:$L$34)=0,\"\",SUMIF(Winners!$B$4:$J$34,$C67,Winners!$D$4:$L$34)))","v":""},{"$f":"IF($I$2<>Players!$B$4,\"\",IF(SUMIF(Winners!$B$4:$J$34,$C67,Winners!$D$4:$L$34)=0,\"\",SUMIF(Winners!$B$4:$J$34,$C67,Winners!$D$4:$L$34)))","v":""},{"$f":"IF($J$2<>Players!$B$4,\"\",IF(SUMIF(Winners!$B$4:$J$34,$C67,Winners!$D$4:$L$34)=0,\"\",SUMIF(Winners!$B$4:$J$34,$C67,Winners!$D$4:$L$34)))","v":""},null,null,{"$f":"SUM($D67:$J67,$K67:$L67)","v":0}]
[{"$f":"IF($M68=$M67,$A67,IF($M68=$M69,\"T\"&$B68,$B68))","v":"T19"},"66",null,{"$f":"IF($D$2<>Players!$B$4,\"\",IF(SUMIF(Winners!$B$4:$J$34,$C68,Winners!$D$4:$L$34)=0,\"\",SUMIF(Winners!$B$4:$J$34,$C68,Winners!$D$4:$L$34)))","v":""},{"$f":"IF($E$2<>Players!$B$4,\"\",IF(SUMIF(Winners!$B$4:$J$34,$C68,Winners!$D$4:$L$34)=0,\"\",SUMIF(Winners!$B$4:$J$34,$C68,Winners!$D$4:$L$34)))","v":""},{"$f":"IF($F$2<>Players!$B$4,\"\",IF(SUMIF(Winners!$B$4:$J$34,$C68,Winners!$D$4:$L$34)=0,\"\",SUMIF(Winners!$B$4:$J$34,$C68,Winners!$D$4:$L$34)))","v":""},{"$f":"IF($G$2<>Players!$B$4,\"\",IF(SUMIF(Winners!$B$4:$J$34,$C68,Winners!$D$4:$L$34)=0,\"\",SUMIF(Winners!$B$4:$J$34,$C68,Winners!$D$4:$L$34)))","v":""},{"$f":"IF($H$2<>Players!$B$4,\"\",IF(SUMIF(Winners!$B$4:$J$34,$C68,Winners!$D$4:$L$34)=0,\"\",SUMIF(Winners!$B$4:$J$34,$C68,Winners!$D$4:$L$34)))","v":""},{"$f":"IF($I$2<>Players!$B$4,\"\",IF(SUMIF(Winners!$B$4:$J$34,$C68,Winners!$D$4:$L$34)=0,\"\",SUMIF(Winners!$B$4:$J$34,$C68,Winners!$D$4:$L$34)))","v":""},{"$f":"IF($J$2<>Players!$B$4,\"\",IF(SUMIF(Winners!$B$4:$J$34,$C68,Winners!$D$4:$L$34)=0,\"\",SUMIF(Winners!$B$4:$J$34,$C68,Winners!$D$4:$L$34)))","v":""},null,null,0]
["T19","67",null,{"$f":"IF($D$2<>Players!$B$4,\"\",IF(SUMIF(Winners!$B$4:$J$34,$C69,Winners!$D$4:$L$34)=0,\"\",SUMIF(Winners!$B$4:$J$34,$C69,Winners!$D$4:$L$34)))","v":""},{"$f":"IF($E$2<>Players!$B$4,\"\",IF(SUMIF(Winners!$B$4:$J$34,$C69,Winners!$D$4:$L$34)=0,\"\",SUMIF(Winners!$B$4:$J$34,$C69,Winners!$D$4:$L$34)))","v":""},{"$f":"IF($F$2<>Players!$B$4,\"\",IF(SUMIF(Winners!$B$4:$J$34,$C69,Winners!$D$4:$L$34)=0,\"\",SUMIF(Winners!$B$4:$J$34,$C69,Winners!$D$4:$L$34)))","v":""},{"$f":"IF($G$2<>Players!$B$4,\"\",IF(SUMIF(Winners!$B$4:$J$34,$C69,Winners!$D$4:$L$34)=0,\"\",SUMIF(Winners!$B$4:$J$34,$C69,Winners!$D$4:$L$34)))","v":""},{"$f":"IF($H$2<>Players!$B$4,\"\",IF(SUMIF(Winners!$B$4:$J$34,$C69,Winners!$D$4:$L$34)=0,\"\",SUMIF(Winners!$B$4:$J$34,$C69,Winners!$D$4:$L$34)))","v":""},{"$f":"IF($I$2<>Players!$B$4,\"\",IF(SUMIF(Winners!$B$4:$J$34,$C69,Winners!$D$4:$L$34)=0,\"\",SUMIF(Winners!$B$4:$J$34,$C69,Winners!$D$4:$L$34)))","v":""},{"$f":"IF($J$2<>Players!$B$4,\"\",IF(SUMIF(Winners!$B$4:$J$34,$C69,Winners!$D$4:$L$34)=0,\"\",SUMIF(Winners!$B$4:$J$34,$C69,Winners!$D$4:$L$34)))","v":""},null,null,0]
["T19","68",null,{"$f":"IF($D$2<>Players!$B$4,\"\",IF(SUMIF(Winners!$B$4:$J$34,$C70,Winners!$D$4:$L$34)=0,\"\",SUMIF(Winners!$B$4:$J$34,$C70,Winners!$D$4:$L$34)))","v":""},{"$f":"IF($E$2<>Players!$B$4,\"\",IF(SUMIF(Winners!$B$4:$J$34,$C70,Winners!$D$4:$L$34)=0,\"\",SUMIF(Winners!$B$4:$J$34,$C70,Winners!$D$4:$L$34)))","v":""},{"$f":"IF($F$2<>Players!$B$4,\"\",IF(SUMIF(Winners!$B$4:$J$34,$C70,Winners!$D$4:$L$34)=0,\"\",SUMIF(Winners!$B$4:$J$34,$C70,Winners!$D$4:$L$34)))","v":""},{"$f":"IF($G$2<>Players!$B$4,\"\",IF(SUMIF(Winners!$B$4:$J$34,$C70,Winners!$D$4:$L$34)=0,\"\",SUMIF(Winners!$B$4:$J$34,$C70,Winners!$D$4:$L$34)))","v":""},{"$f":"IF($H$2<>Players!$B$4,\"\",IF(SUMIF(Winners!$B$4:$J$34,$C70,Winners!$D$4:$L$34)=0,\"\",SUMIF(Winners!$B$4:$J$34,$C70,Winners!$D$4:$L$34)))","v":""},{"$f":"IF($I$2<>Players!$B$4,\"\",IF(SUMIF(Winners!$B$4:$J$34,$C70,Winners!$D$4:$L$34)=0,\"\",SUMIF(Winners!$B$4:$J$34,$C70,Winners!$D$4:$L$34)))","v":""},{"$f":"IF($J$2<>Players!$B$4,\"\",IF(SUMIF(Winners!$B$4:$J$34,$C70,Winners!$D$4:$L$34)=0,\"\",SUMIF(Winners!$B$4:$J$34,$C70,Winners!$D$4:$L$34)))","v":""},null,null,0]
["T19","69",null,{"$f":"IF($D$2<>Players!$B$4,\"\",IF(SUMIF(Winners!$B$4:$J$34,$C71,Winners!$D$4:$L$34)=0,\"\",SUMIF(Winners!$B$4:$J$34,$C71,Winners!$D$4:$L$34)))","v":""},{"$f":"IF($E$2<>Players!$B$4,\"\",IF(SUMIF(Winners!$B$4:$J$34,$C71,Winners!$D$4:$L$34)=0,\"\",SUMIF(Winners!$B$4:$J$34,$C71,Winners!$D$4:$L$34)))","v":""},{"$f":"IF($F$2<>Players!$B$4,\"\",IF(SUMIF(Winners!$B$4:$J$34,$C71,Winners!$D$4:$L$34)=0,\"\",SUMIF(Winners!$B$4:$J$34,$C71,Winners!$D$4:$L$34)))","v":""},{"$f":"IF($G$2<>Players!$B$4,\"\",IF(SUMIF(Winners!$B$4:$J$34,$C71,Winners!$D$4:$L$34)=0,\"\",SUMIF(Winners!$B$4:$J$34,$C71,Winners!$D$4:$L$34)))","v":""},{"$f":"IF($H$2<>Players!$B$4,\"\",IF(SUMIF(Winners!$B$4:$J$34,$C71,Winners!$D$4:$L$34)=0,\"\",SUMIF(Winners!$B$4:$J$34,$C71,Winners!$D$4:$L$34)))","v":""},{"$f":"IF($I$2<>Players!$B$4,\"\",IF(SUMIF(Winners!$B$4:$J$34,$C71,Winners!$D$4:$L$34)=0,\"\",SUMIF(Winners!$B$4:$J$34,$C71,Winners!$D$4:$L$34)))","v":""},{"$f":"IF($J$2<>Players!$B$4,\"\",IF(SUMIF(Winners!$B$4:$J$34,$C71,Winners!$D$4:$L$34)=0,\"\",SUMIF(Winners!$B$4:$J$34,$C71,Winners!$D$4:$L$34)))","v":""},null,null,0]
["T19","70",null,{"$f":"IF($D$2<>Players!$B$4,\"\",IF(SUMIF(Winners!$B$4:$J$34,$C72,Winners!$D$4:$L$34)=0,\"\",SUMIF(Winners!$B$4:$J$34,$C72,Winners!$D$4:$L$34)))","v":""},{"$f":"IF($E$2<>Players!$B$4,\"\",IF(SUMIF(Winners!$B$4:$J$34,$C72,Winners!$D$4:$L$34)=0,\"\",SUMIF(Winners!$B$4:$J$34,$C72,Winners!$D$4:$L$34)))","v":""},{"$f":"IF($F$2<>Players!$B$4,\"\",IF(SUMIF(Winners!$B$4:$J$34,$C72,Winners!$D$4:$L$34)=0,\"\",SUMIF(Winners!$B$4:$J$34,$C72,Winners!$D$4:$L$34)))","v":""},{"$f":"IF($G$2<>Players!$B$4,\"\",IF(SUMIF(Winners!$B$4:$J$34,$C72,Winners!$D$4:$L$34)=0,\"\",SUMIF(Winners!$B$4:$J$34,$C72,Winners!$D$4:$L$34)))","v":""},{"$f":"IF($H$2<>Players!$B$4,\"\",IF(SUMIF(Winners!$B$4:$J$34,$C72,Winners!$D$4:$L$34)=0,\"\",SUMIF(Winners!$B$4:$J$34,$C72,Winners!$D$4:$L$34)))","v":""},{"$f":"IF($I$2<>Players!$B$4,\"\",IF(SUMIF(Winners!$B$4:$J$34,$C72,Winners!$D$4:$L$34)=0,\"\",SUMIF(Winners!$B$4:$J$34,$C72,Winners!$D$4:$L$34)))","v":""},{"$f":"IF($J$2<>Players!$B$4,\"\",IF(SUMIF(Winners!$B$4:$J$34,$C72,Winners!$D$4:$L$34)=0,\"\",SUMIF(Winners!$B$4:$J$34,$C72,Winners!$D$4:$L$34)))","v":""},null,null,0]
["T19","71",null,{"$f":"IF($D$2<>Players!$B$4,\"\",IF(SUMIF(Winners!$B$4:$J$34,$C73,Winners!$D$4:$L$34)=0,\"\",SUMIF(Winners!$B$4:$J$34,$C73,Winners!$D$4:$L$34)))","v":""},{"$f":"IF($E$2<>Players!$B$4,\"\",IF(SUMIF(Winners!$B$4:$J$34,$C73,Winners!$D$4:$L$34)=0,\"\",SUMIF(Winners!$B$4:$J$34,$C73,Winners!$D$4:$L$34)))","v":""},{"$f":"IF($F$2<>Players!$B$4,\"\",IF(SUMIF(Winners!$B$4:$J$34,$C73,Winners!$D$4:$L$34)=0,\"\",SUMIF(Winners!$B$4:$J$34,$C73,Winners!$D$4:$L$34)))","v":""},{"$f":"IF($G$2<>Players!$B$4,\"\",IF(SUMIF(Winners!$B$4:$J$34,$C73,Winners!$D$4:$L$34)=0,\"\",SUMIF(Winners!$B$4:$J$34,$C73,Winners!$D$4:$L$34)))","v":""},{"$f":"IF($H$2<>Players!$B$4,\"\",IF(SUMIF(Winners!$B$4:$J$34,$C73,Winners!$D$4:$L$34)=0,\"\",SUMIF(Winners!$B$4:$J$34,$C73,Winners!$D$4:$L$34)))","v":""},{"$f":"IF($I$2<>Players!$B$4,\"\",IF(SUMIF(Winners!$B$4:$J$34,$C73,Winners!$D$4:$L$34)=0,\"\",SUMIF(Winners!$B$4:$J$34,$C73,Winners!$D$4:$L$34)))","v":""},{"$f":"IF($J$2<>Players!$B$4,\"\",IF(SUMIF(Winners!$B$4:$J$34,$C73,Winners!$D$4:$L$34)=0,\"\",SUMIF(Winners!$B$4:$J$34,$C73,Winners!$D$4:$L$34)))","v":""},null,null,0]
["T19","72",null,{"$f":"IF($D$2<>Players!$B$4,\"\",IF(SUMIF(Winners!$B$4:$J$34,$C74,Winners!$D$4:$L$34)=0,\"\",SUMIF(Winners!$B$4:$J$34,$C74,Winners!$D$4:$L$34)))","v":""},{"$f":"IF($E$2<>Players!$B$4,\"\",IF(SUMIF(Winners!$B$4:$J$34,$C74,Winners!$D$4:$L$34)=0,\"\",SUMIF(Winners!$B$4:$J$34,$C74,Winners!$D$4:$L$34)))","v":""},{"$f":"IF($F$2<>Players!$B$4,\"\",IF(SUMIF(Winners!$B$4:$J$34,$C74,Winners!$D$4:$L$34)=0,\"\",SUMIF(Winners!$B$4:$J$34,$C74,Winners!$D$4:$L$34)))","v":""},{"$f":"IF($G$2<>Players!$B$4,\"\",IF(SUMIF(Winners!$B$4:$J$34,$C74,Winners!$D$4:$L$34)=0,\"\",SUMIF(Winners!$B$4:$J$34,$C74,Winners!$D$4:$L$34)))","v":""},{"$f":"IF($H$2<>Players!$B$4,\"\",IF(SUMIF(Winners!$B$4:$J$34,$C74,Winners!$D$4:$L$34)=0,\"\",SUMIF(Winners!$B$4:$J$34,$C74,Winners!$D$4:$L$34)))","v":""},{"$f":"IF($I$2<>Players!$B$4,\"\",IF(SUMIF(Winners!$B$4:$J$34,$C74,Winners!$D$4:$L$34)=0,\"\",SUMIF(Winners!$B$4:$J$34,$C74,Winners!$D$4:$L$34)))","v":""},{"$f":"IF($J$2<>Players!$B$4,\"\",IF(SUMIF(Winners!$B$4:$J$34,$C74,Winners!$D$4:$L$34)=0,\"\",SUMIF(Winners!$B$4:$J$34,$C74,Winners!$D$4:$L$34)))","v":""},null,null,0]
["T19","73",null,{"$f":"IF($D$2<>Players!$B$4,\"\",IF(SUMIF(Winners!$B$4:$J$34,$C75,Winners!$D$4:$L$34)=0,\"\",SUMIF(Winners!$B$4:$J$34,$C75,Winners!$D$4:$L$34)))","v":""},{"$f":"IF($E$2<>Players!$B$4,\"\",IF(SUMIF(Winners!$B$4:$J$34,$C75,Winners!$D$4:$L$34)=0,\"\",SUMIF(Winners!$B$4:$J$34,$C75,Winners!$D$4:$L$34)))","v":""},{"$f":"IF($F$2<>Players!$B$4,\"\",IF(SUMIF(Winners!$B$4:$J$34,$C75,Winners!$D$4:$L$34)=0,\"\",SUMIF(Winners!$B$4:$J$34,$C75,Winners!$D$4:$L$34)))","v":""},{"$f":"IF($G$2<>Players!$B$4,\"\",IF(SUMIF(Winners!$B$4:$J$34,$C75,Winners!$D$4:$L$34)=0,\"\",SUMIF(Winners!$B$4:$J$34,$C75,Winners!$D$4:$L$34)))","v":""},{"$f":"IF($H$2<>Players!$B$4,\"\",IF(SUMIF(Winners!$B$4:$J$34,$C75,Winners!$D$4:$L$34)=0,\"\",SUMIF(Winners!$B$4:$J$34,$C75,Winners!$D$4:$L$34)))","v":""},{"$f":"IF($I$2<>Players!$B$4,\"\",IF(SUMIF(Winners!$B$4:$J$34,$C75,Winners!$D$4:$L$34)=0,\"\",SUMIF(Winners!$B$4:$J$34,$C75,Winners!$D$4:$L$34)))","v":""},{"$f":"IF($J$2<>Players!$B$4,\"\",IF(SUMIF(Winners!$B$4:$J$34,$C75,Winners!$D$4:$L$34)=0,\"\",SUMIF(Winners!$B$4:$J$34,$C75,Winners!$D$4:$L$34)))","v":""},null,null,0]
["T19","74",null,{"$f":"IF($D$2<>Players!$B$4,\"\",IF(SUMIF(Winners!$B$4:$J$34,$C76,Winners!$D$4:$L$34)=0,\"\",SUMIF(Winners!$B$4:$J$34,$C76,Winners!$D$4:$L$34)))","v":""},{"$f":"IF($E$2<>Players!$B$4,\"\",IF(SUMIF(Winners!$B$4:$J$34,$C76,Winners!$D$4:$L$34)=0,\"\",SUMIF(Winners!$B$4:$J$34,$C76,Winners!$D$4:$L$34)))","v":""},{"$f":"IF($F$2<>Players!$B$4,\"\",IF(SUMIF(Winners!$B$4:$J$34,$C76,Winners!$D$4:$L$34)=0,\"\",SUMIF(Winners!$B$4:$J$34,$C76,Winners!$D$4:$L$34)))","v":""},{"$f":"IF($G$2<>Players!$B$4,\"\",IF(SUMIF(Winners!$B$4:$J$34,$C76,Winners!$D$4:$L$34)=0,\"\",SUMIF(Winners!$B$4:$J$34,$C76,Winners!$D$4:$L$34)))","v":""},{"$f":"IF($H$2<>Players!$B$4,\"\",IF(SUMIF(Winners!$B$4:$J$34,$C76,Winners!$D$4:$L$34)=0,\"\",SUMIF(Winners!$B$4:$J$34,$C76,Winners!$D$4:$L$34)))","v":""},{"$f":"IF($I$2<>Players!$B$4,\"\",IF(SUMIF(Winners!$B$4:$J$34,$C76,Winners!$D$4:$L$34)=0,\"\",SUMIF(Winners!$B$4:$J$34,$C76,Winners!$D$4:$L$34)))","v":""},{"$f":"IF($J$2<>Players!$B$4,\"\",IF(SUMIF(Winners!$B$4:$J$34,$C76,Winners!$D$4:$L$34)=0,\"\",SUMIF(Winners!$B$4:$J$34,$C76,Winners!$D$4:$L$34)))","v":""},null,null,0]
["T19","75",null,{"$f":"IF($D$2<>Players!$B$4,\"\",IF(SUMIF(Winners!$B$4:$J$34,$C77,Winners!$D$4:$L$34)=0,\"\",SUMIF(Winners!$B$4:$J$34,$C77,Winners!$D$4:$L$34)))","v":""},{"$f":"IF($E$2<>Players!$B$4,\"\",IF(SUMIF(Winners!$B$4:$J$34,$C77,Winners!$D$4:$L$34)=0,\"\",SUMIF(Winners!$B$4:$J$34,$C77,Winners!$D$4:$L$34)))","v":""},{"$f":"IF($F$2<>Players!$B$4,\"\",IF(SUMIF(Winners!$B$4:$J$34,$C77,Winners!$D$4:$L$34)=0,\"\",SUMIF(Winners!$B$4:$J$34,$C77,Winners!$D$4:$L$34)))","v":""},{"$f":"IF($G$2<>Players!$B$4,\"\",IF(SUMIF(Winners!$B$4:$J$34,$C77,Winners!$D$4:$L$34)=0,\"\",SUMIF(Winners!$B$4:$J$34,$C77,Winners!$D$4:$L$34)))","v":""},{"$f":"IF($H$2<>Players!$B$4,\"\",IF(SUMIF(Winners!$B$4:$J$34,$C77,Winners!$D$4:$L$34)=0,\"\",SUMIF(Winners!$B$4:$J$34,$C77,Winners!$D$4:$L$34)))","v":""},{"$f":"IF($I$2<>Players!$B$4,\"\",IF(SUMIF(Winners!$B$4:$J$34,$C77,Winners!$D$4:$L$34)=0,\"\",SUMIF(Winners!$B$4:$J$34,$C77,Winners!$D$4:$L$34)))","v":""},{"$f":"IF($J$2<>Players!$B$4,\"\",IF(SUMIF(Winners!$B$4:$J$34,$C77,Winners!$D$4:$L$34)=0,\"\",SUMIF(Winners!$B$4:$J$34,$C77,Winners!$D$4:$L$34)))","v":""},null,null,0]
["Totals",null,null,{"$f":"SUM(D3:D77)","v":310},{"$f":"SUM(E3:E77)","v":345},275,270,0,0,0,0,0,1200]

{"sheet":"GOY","index":1,"n_rows":78,"n_cols":11,"rows_kept":78,"cut":false,"hidden":false,"merged":[[0,0,0,10]]}
["\"2018 Golfer of the Year\""]
["Position","No.","Player","2018-01-20","2018-03-18","2018-05-20","2018-07-22","2018-09-15","2018-09-16","2018-11-01","Points"]
[{"$f":"IF($K3=$K4,\"T\"&$B3,$B3)","v":"1"},"1","Lunghard, Rich",10,10,4,{"$f":"IF($G$2<>Players!$B$4,\"\",IF(ISERROR(VLOOKUP($C3,GOY,4,FALSE)),\"\",VLOOKUP($C3,GOY,4,FALSE)))","v":""},{"$f":"IF($H$2<>Players!$B$4,\"\",IF(ISERROR(VLOOKUP($C3,GOY,4,FALSE)),\"\",VLOOKUP($C3,GOY,4,FALSE)))","v":""},{"$f":"IF($I$2<>Players!$B$4,\"\",IF(ISERROR(VLOOKUP($C3,GOY,4,FALSE)),\"\",VLOOKUP($C3,GOY,4,FALSE)))","v":""},{"$f":"IF($J$2<>Players!$B$4,\"\",IF(ISERROR(VLOOKUP($C3,GOY,4,FALSE)),\"\",VLOOKUP($C3,GOY,4,FALSE)))","v":""},{"$f":"SUM($D3:$J3)","v":24}]
[{"$f":"IF($K4=$K3,$A3,IF($K4=$K5,\"T\"&$B4,$B4))","v":"2"},"2","Escobedo, Marco",7,3,7,{"$f":"IF($G$2<>Players!$B$4,\"\",IF(ISERROR(VLOOKUP($C4,GOY,4,FALSE)),\"\",VLOOKUP($C4,GOY,4,FALSE)))","v":""},{"$f":"IF($H$2<>Players!$B$4,\"\",IF(ISERROR(VLOOKUP($C4,GOY,4,FALSE)),\"\",VLOOKUP($C4,GOY,4,FALSE)))","v":""},{"$f":"IF($I$2<>Players!$B$4,\"\",IF(ISERROR(VLOOKUP($C4,GOY,4,FALSE)),\"\",VLOOKUP($C4,GOY,4,FALSE)))","v":""},{"$f":"IF($J$2<>Players!$B$4,\"\",IF(ISERROR(VLOOKUP($C4,GOY,4,FALSE)),\"\",VLOOKUP($C4,GOY,4,FALSE)))","v":""},{"$f":"SUM($D4:$J4)","v":17}]
["3","3","Graham, Travis","",7,4,{"$f":"IF($G$2<>Players!$B$4,\"\",IF(ISERROR(VLOOKUP($C5,GOY,4,FALSE)),\"\",VLOOKUP($C5,GOY,4,FALSE)))","v":""},{"$f":"IF($H$2<>Players!$B$4,\"\",IF(ISERROR(VLOOKUP($C5,GOY,4,FALSE)),\"\",VLOOKUP($C5,GOY,4,FALSE)))","v":""},{"$f":"IF($I$2<>Players!$B$4,\"\",IF(ISERROR(VLOOKUP($C5,GOY,4,FALSE)),\"\",VLOOKUP($C5,GOY,4,FALSE)))","v":""},{"$f":"IF($J$2<>Players!$B$4,\"\",IF(ISERROR(VLOOKUP($C5,GOY,4,FALSE)),\"\",VLOOKUP($C5,GOY,4,FALSE)))","v":""},{"$f":"SUM($D5:$J5)","v":11}]
["T4","4","Blodgett, Kevin","","",10,{"$f":"IF($G$2<>Players!$B$4,\"\",IF(ISERROR(VLOOKUP($C6,GOY,4,FALSE)),\"\",VLOOKUP($C6,GOY,4,FALSE)))","v":""},{"$f":"IF($H$2<>Players!$B$4,\"\",IF(ISERROR(VLOOKUP($C6,GOY,4,FALSE)),\"\",VLOOKUP($C6,GOY,4,FALSE)))","v":""},{"$f":"IF($I$2<>Players!$B$4,\"\",IF(ISERROR(VLOOKUP($C6,GOY,4,FALSE)),\"\",VLOOKUP($C6,GOY,4,FALSE)))","v":""},{"$f":"IF($J$2<>Players!$B$4,\"\",IF(ISERROR(VLOOKUP($C6,GOY,4,FALSE)),\"\",VLOOKUP($C6,GOY,4,FALSE)))","v":""},{"$f":"SUM($D6:$J6)","v":10}]
["T4","5","Jones, Gary","","","",{"$f":"IF($G$2<>Players!$B$4,\"\",IF(ISERROR(VLOOKUP($C7,GOY,4,FALSE)),\"\",VLOOKUP($C7,GOY,4,FALSE)))","v":10},{"$f":"IF($H$2<>Players!$B$4,\"\",IF(ISERROR(VLOOKUP($C7,GOY,4,FALSE)),\"\",VLOOKUP($C7,GOY,4,FALSE)))","v":""},{"$f":"IF($I$2<>Players!$B$4,\"\",IF(ISERROR(VLOOKUP($C7,GOY,4,FALSE)),\"\",VLOOKUP($C7,GOY,4,FALSE)))","v":""},{"$f":"IF($J$2<>Players!$B$4,\"\",IF(ISERROR(VLOOKUP($C7,GOY,4,FALSE)),\"\",VLOOKUP($C7,GOY,4,FALSE)))","v":""},{"$f":"SUM($D7:$J7)","v":10}]
["6","6","Escobedo, Hector",1.3333333333333333,5,0.33333333333333331,{"$f":"IF($G$2<>Players!$B$4,\"\",IF(ISERROR(VLOOKUP($C8,GOY,4,FALSE)),\"\",VLOOKUP($C8,GOY,4,FALSE)))","v":""},{"$f":"IF($H$2<>Players!$B$4,\"\",IF(ISERROR(VLOOKUP($C8,GOY,4,FALSE)),\"\",VLOOKUP($C8,GOY,4,FALSE)))","v":""},{"$f":"IF($I$2<>Players!$B$4,\"\",IF(ISERROR(VLOOKUP($C8,GOY,4,FALSE)),\"\",VLOOKUP($C8,GOY,4,FALSE)))","v":""},{"$f":"IF($J$2<>Players!$B$4,\"\",IF(ISERROR(VLOOKUP($C8,GOY,4,FALSE)),\"\",VLOOKUP($C8,GOY,4,FALSE)))","v":""},{"$f":"SUM($D8:$J8)","v":6.6666666666666661}]
["T7","7","Kozachenko, Jon","","","",{"$f":"IF($G$2<>Players!$B$4,\"\",IF(ISERROR(VLOOKUP($C9,GOY,4,FALSE)),\"\",VLOOKUP($C9,GOY,4,FALSE)))","v":6},{"$f":"IF($H$2<>Players!$B$4,\"\",IF(ISERROR(VLOOKUP($C9,GOY,4,FALSE)),\"\",VLOOKUP($C9,GOY,4,FALSE)))","v":""},{"$f":"IF($I$2<>Players!$B$4,\"\",IF(ISERROR(VLOOKUP($C9,GOY,4,FALSE)),\"\",VLOOKUP($C9,GOY,4,FALSE)))","v":""},{"$f":"IF($J$2<>Players!$B$4,\"\",IF(ISERROR(VLOOKUP($C9,GOY,4,FALSE)),\"\",VLOOKUP($C9,GOY,4,FALSE)))","v":""},{"$f":"SUM($D9:$J9)","v":6}]
["T7","8","Tenorio, Noe","","","",{"$f":"IF($G$2<>Players!$B$4,\"\",IF(ISERROR(VLOOKUP($C10,GOY,4,FALSE)),\"\",VLOOKUP($C10,GOY,4,FALSE)))","v":6},{"$f":"IF($H$2<>Players!$B$4,\"\",IF(ISERROR(VLOOKUP($C10,GOY,4,FALSE)),\"\",VLOOKUP($C10,GOY,4,FALSE)))","v":""},{"$f":"IF($I$2<>Players!$B$4,\"\",IF(ISERROR(VLOOKUP($C10,GOY,4,FALSE)),\"\",VLOOKUP($C10,GOY,4,FALSE)))","v":""},{"$f":"IF($J$2<>Players!$B$4,\"\",IF(ISERROR(VLOOKUP($C10,GOY,4,FALSE)),\"\",VLOOKUP($C10,GOY,4,FALSE)))","v":""},{"$f":"SUM($D10:$J10)","v":6}]
["9","9","Ornelas, Eddie",5,"","",{"$f":"IF($G$2<>Players!$B$4,\"\",IF(ISERROR(VLOOKUP($C11,GOY,4,FALSE)),\"\",VLOOKUP($C11,GOY,4,FALSE)))","v":""},{"$f":"IF($H$2<>Players!$B$4,\"\",IF(ISERROR(VLOOKUP($C11,GOY,4,FALSE)),\"\",VLOOKUP($C11,GOY,4,FALSE)))","v":""},{"$f":"IF($I$2<>Players!$B$4,\"\",IF(ISERROR(VLOOKUP($C11,GOY,4,FALSE)),\"\",VLOOKUP($C11,GOY,4,FALSE)))","v":""},{"$f":"IF($J$2<>Players!$B$4,\"\",IF(ISERROR(VLOOKUP($C11,GOY,4,FALSE)),\"\",VLOOKUP($C11,GOY,4,FALSE)))","v":""},{"$f":"SUM($D11:$J11)","v":5}]
["10","10","Havstad, Steve",1.3333333333333333,"",0.33333333333333331,{"$f":"IF($G$2<>Players!$B$4,\"\",IF(ISERROR(VLOOKUP($C12,GOY,4,FALSE)),\"\",VLOOKUP($C12,GOY,4,FALSE)))","v":2},{"$f":"IF($H$2<>Players!$B$4,\"\",IF(ISERROR(VLOOKUP($C12,GOY,4,FALSE)),\"\",VLOOKUP($C12,GOY,4,FALSE)))","v":""},{"$f":"IF($I$2<>Players!$B$4,\"\",IF(ISERROR(VLOOKUP($C12,GOY,4,FALSE)),\"\",VLOOKUP($C12,GOY,4,FALSE)))","v":""},{"$f":"IF($J$2<>Players!$B$4,\"\",IF(ISERROR(VLOOKUP($C12,GOY,4,FALSE)),\"\",VLOOKUP($C12,GOY,4,FALSE)))","v":""},{"$f":"SUM($D12:$J12)","v":3.6666666666666665}]
["11","11","Matthews, Keith","","","",{"$f":"IF($G$2<>Players!$B$4,\"\",IF(ISERROR(VLOOKUP($C13,GOY,4,FALSE)),\"\",VLOOKUP($C13,GOY,4,FALSE)))","v":2},{"$f":"IF($H$2<>Players!$B$4,\"\",IF(ISERROR(VLOOKUP($C13,GOY,4,FALSE)),\"\",VLOOKUP($C13,GOY,4,FALSE)))","v":""},{"$f":"IF($I$2<>Players!$B$4,\"\",IF(ISERROR(VLOOKUP($C13,GOY,4,FALSE)),\"\",VLOOKUP($C13,GOY,4,FALSE)))","v":""},{"$f":"IF($J$2<>Players!$B$4,\"\",IF(ISERROR(VLOOKUP($C13,GOY,4,FALSE)),\"\",VLOOKUP($C13,GOY,4,FALSE)))","v":""},{"$f":"SUM($D13:$J13)","v":2}]
["12","12","Mariano, Joe",1.3333333333333333,0.5,"",{"$f":"IF($G$2<>Players!$B$4,\"\",IF(ISERROR(VLOOKUP($C14,GOY,4,FALSE)),\"\",VLOOKUP($C14,GOY,4,FALSE)))","v":""},{"$f":"IF($H$2<>Players!$B$4,\"\",IF(ISERROR(VLOOKUP($C14,GOY,4,FALSE)),\"\",VLOOKUP($C14,GOY,4,FALSE)))","v":""},{"$f":"IF($I$2<>Players!$B$4,\"\",IF(ISERROR(VLOOKUP($C14,GOY,4,FALSE)),\"\",VLOOKUP($C14,GOY,4,FALSE)))","v":""},{"$f":"IF($J$2<>Players!$B$4,\"\",IF(ISERROR(VLOOKUP($C14,GOY,4,FALSE)),\"\",VLOOKUP($C14,GOY,4,FALSE)))","v":""},{"$f":"SUM($D14:$J14)","v":1.8333333333333333}]
["13","13","Medina, Randy","",0.5,"",{"$f":"IF($G$2<>Players!$B$4,\"\",IF(ISERROR(VLOOKUP($C15,GOY,4,FALSE)),\"\",VLOOKUP($C15,GOY,4,FALSE)))","v":""},{"$f":"IF($H$2<>Players!$B$4,\"\",IF(ISERROR(VLOOKUP($C15,GOY,4,FALSE)),\"\",VLOOKUP($C15,GOY,4,FALSE)))","v":""},{"$f":"IF($I$2<>Players!$B$4,\"\",IF(ISERROR(VLOOKUP($C15,GOY,4,FALSE)),\"\",VLOOKUP($C15,GOY,4,FALSE)))","v":""},{"$f":"IF($J$2<>Players!$B$4,\"\",IF(ISERROR(VLOOKUP($C15,GOY,4,FALSE)),\"\",VLOOKUP($C15,GOY,4,FALSE)))","v":""},{"$f":"SUM($D15:$J15)","v":0.5}]
["14","14","Mikschl, Tom","","",0.33333333333333331,{"$f":"IF($G$2<>Players!$B$4,\"\",IF(ISERROR(VLOOKUP($C16,GOY,4,FALSE)),\"\",VLOOKUP($C16,GOY,4,FALSE)))","v":""},{"$f":"IF($H$2<>Players!$B$4,\"\",IF(ISERROR(VLOOKUP($C16,GOY,4,FALSE)),\"\",VLOOKUP($C16,GOY,4,FALSE)))","v":""},{"$f":"IF($I$2<>Players!$B$4,\"\",IF(ISERROR(VLOOKUP($C16,GOY,4,FALSE)),\"\",VLOOKUP($C16,GOY,4,FALSE)))","v":""},{"$f":"IF($J$2<>Players!$B$4,\"\",IF(ISERROR(VLOOKUP($C16,GOY,4,FALSE)),\"\",VLOOKUP($C16,GOY,4,FALSE)))","v":""},{"$f":"SUM($D16:$J16)","v":0.33333333333333331}]
["T15","15","Aldrian, Mark","","","",{"$f":"IF($G$2<>Players!$B$4,\"\",IF(ISERROR(VLOOKUP($C17,GOY,4,FALSE)),\"\",VLOOKUP($C17,GOY,4,FALSE)))","v":""},{"$f":"IF($H$2<>Players!$B$4,\"\",IF(ISERROR(VLOOKUP($C17,GOY,4,FALSE)),\"\",VLOOKUP($C17,GOY,4,FALSE)))","v":""},{"$f":"IF($I$2<>Players!$B$4,\"\",IF(ISERROR(VLOOKUP($C17,GOY,4,FALSE)),\"\",VLOOKUP($C17,GOY,4,FALSE)))","v":""},{"$f":"IF($J$2<>Players!$B$4,\"\",IF(ISERROR(VLOOKUP($C17,GOY,4,FALSE)),\"\",VLOOKUP($C17,GOY,4,FALSE)))","v":""},{"$f":"SUM($D17:$J17)","v":0}]
["T15","16","Bateson, Brad","","","",{"$f":"IF($G$2<>Players!$B$4,\"\",IF(ISERROR(VLOOKUP($C18,GOY,4,FALSE)),\"\",VLOOKUP($C18,GOY,4,FALSE)))","v":""},{"$f":"IF($H$2<>Players!$B$4,\"\",IF(ISERROR(VLOOKUP($C18,GOY,4,FALSE)),\"\",VLOOKUP($C18,GOY,4,FALSE)))","v":""},{"$f":"IF($I$2<>Players!$B$4,\"\",IF(ISERROR(VLOOKUP($C18,GOY,4,FALSE)),\"\",VLOOKUP($C18,GOY,4,FALSE)))","v":""},{"$f":"IF($J$2<>Players!$B$4,\"\",IF(ISERROR(VLOOKUP($C18,GOY,4,FALSE)),\"\",VLOOKUP($C18,GOY,4,FALSE)))","v":""},{"$f":"SUM($D18:$J18)","v":0}]
["T15","17","Deutsch, Paul","","","",{"$f":"IF($G$2<>Players!$B$4,\"\",IF(ISERROR(VLOOKUP($C19,GOY,4,FALSE)),\"\",VLOOKUP($C19,GOY,4,FALSE)))","v":""},{"$f":"IF($H$2<>Players!$B$4,\"\",IF(ISERROR(VLOOKUP($C19,GOY,4,FALSE)),\"\",VLOOKUP($C19,GOY,4,FALSE)))","v":""},{"$f":"IF($I$2<>Players!$B$4,\"\",IF(ISERROR(VLOOKUP($C19,GOY,4,FALSE)),\"\",VLOOKUP($C19,GOY,4,FALSE)))","v":""},{"$f":"IF($J$2<>Players!$B$4,\"\",IF(ISERROR(VLOOKUP($C19,GOY,4,FALSE)),\"\",VLOOKUP($C19,GOY,4,FALSE)))","v":""},{"$f":"SUM($D19:$J19)","v":0}]
["T15","18","Doden, Jeff","","","",{"$f":"IF($G$2<>Players!$B$4,\"\",IF(ISERROR(VLOOKUP($C20,GOY,4,FALSE)),\"\",VLOOKUP($C20,GOY,4,FALSE)))","v":""},{"$f":"IF($H$2<>Players!$B$4,\"\",IF(ISERROR(VLOOKUP($C20,GOY,4,FALSE)),\"\",VLOOKUP($C20,GOY,4,FALSE)))","v":""},{"$f":"IF($I$2<>Players!$B$4,\"\",IF(ISERROR(VLOOKUP($C20,GOY,4,FALSE)),\"\",VLOOKUP($C20,GOY,4,FALSE)))","v":""},{"$f":"IF($J$2<>Players!$B$4,\"\",IF(ISERROR(VLOOKUP($C20,GOY,4,FALSE)),\"\",VLOOKUP($C20,GOY,4,FALSE)))","v":""},{"$f":"SUM($D20:$J20)","v":0}]
["T15","19","Forstot, Joshua","","","",{"$f":"IF($G$2<>Players!$B$4,\"\",IF(ISERROR(VLOOKUP($C21,GOY,4,FALSE)),\"\",VLOOKUP($C21,GOY,4,FALSE)))","v":""},{"$f":"IF($H$2<>Players!$B$4,\"\",IF(ISERROR(VLOOKUP($C21,GOY,4,FALSE)),\"\",VLOOKUP($C21,GOY,4,FALSE)))","v":""},{"$f":"IF($I$2<>Players!$B$4,\"\",IF(ISERROR(VLOOKUP($C21,GOY,4,FALSE)),\"\",VLOOKUP($C21,GOY,4,FALSE)))","v":""},{"$f":"IF($J$2<>Players!$B$4,\"\",IF(ISERROR(VLOOKUP($C21,GOY,4,FALSE)),\"\",VLOOKUP($C21,GOY,4,FALSE)))","v":""},{"$f":"SUM($D21:$J21)","v":0}]
["T15","20","Hammond, Rob","","","",{"$f":"IF($G$2<>Players!$B$4,\"\",IF(ISERROR(VLOOKUP($C22,GOY,4,FALSE)),\"\",VLOOKUP($C22,GOY,4,FALSE)))","v":""},{"$f":"IF($H$2<>Players!$B$4,\"\",IF(ISERROR(VLOOKUP($C22,GOY,4,FALSE)),\"\",VLOOKUP($C22,GOY,4,FALSE)))","v":""},{"$f":"IF($I$2<>Players!$B$4,\"\",IF(ISERROR(VLOOKUP($C22,GOY,4,FALSE)),\"\",VLOOKUP($C22,GOY,4,FALSE)))","v":""},{"$f":"IF($J$2<>Players!$B$4,\"\",IF(ISERROR(VLOOKUP($C22,GOY,4,FALSE)),\"\",VLOOKUP($C22,GOY,4,FALSE)))","v":""},{"$f":"SUM($D22:$J22)","v":0}]
["T15","21","Hart, Dave","","","",{"$f":"IF($G$2<>Players!$B$4,\"\",IF(ISERROR(VLOOKUP($C23,GOY,4,FALSE)),\"\",VLOOKUP($C23,GOY,4,FALSE)))","v":""},{"$f":"IF($H$2<>Players!$B$4,\"\",IF(ISERROR(VLOOKUP($C23,GOY,4,FALSE)),\"\",VLOOKUP($C23,GOY,4,FALSE)))","v":""},{"$f":"IF($I$2<>Players!$B$4,\"\",IF(ISERROR(VLOOKUP($C23,GOY,4,FALSE)),\"\",VLOOKUP($C23,GOY,4,FALSE)))","v":""},{"$f":"IF($J$2<>Players!$B$4,\"\",IF(ISERROR(VLOOKUP($C23,GOY,4,FALSE)),\"\",VLOOKUP($C23,GOY,4,FALSE)))","v":""},{"$f":"SUM($D23:$J23)","v":0}]
["T15","22","Havstad, Peter","","","",{"$f":"IF($G$2<>Players!$B$4,\"\",IF(ISERROR(VLOOKUP($C24,GOY,4,FALSE)),\"\",VLOOKUP($C24,GOY,4,FALSE)))","v":""},{"$f":"IF($H$2<>Players!$B$4,\"\",IF(ISERROR(VLOOKUP($C24,GOY,4,FALSE)),\"\",VLOOKUP($C24,GOY,4,FALSE)))","v":""},{"$f":"IF($I$2<>Players!$B$4,\"\",IF(ISERROR(VLOOKUP($C24,GOY,4,FALSE)),\"\",VLOOKUP($C24,GOY,4,FALSE)))","v":""},{"$f":"IF($J$2<>Players!$B$4,\"\",IF(ISERROR(VLOOKUP($C24,GOY,4,FALSE)),\"\",VLOOKUP($C24,GOY,4,FALSE)))","v":""},{"$f":"SUM($D24:$J24)","v":0}]
["T15","23","Holzrichter, Geoff","","","",{"$f":"IF($G$2<>Players!$B$4,\"\",IF(ISERROR(VLOOKUP($C25,GOY,4,FALSE)),\"\",VLOOKUP($C25,GOY,4,FALSE)))","v":""},{"$f":"IF($H$2<>Players!$B$4,\"\",IF(ISERROR(VLOOKUP($C25,GOY,4,FALSE)),\"\",VLOOKUP($C25,GOY,4,FALSE)))","v":""},{"$f":"IF($I$2<>Players!$B$4,\"\",IF(ISERROR(VLOOKUP($C25,GOY,4,FALSE)),\"\",VLOOKUP($C25,GOY,4,FALSE)))","v":""},{"$f":"IF($J$2<>Players!$B$4,\"\",IF(ISERROR(VLOOKUP($C25,GOY,4,FALSE)),\"\",VLOOKUP($C25,GOY,4,FALSE)))","v":""},{"$f":"SUM($D25:$J25)","v":0}]
["T15","24","Johnson, Carl","","","",{"$f":"IF($G$2<>Players!$B$4,\"\",IF(ISERROR(VLOOKUP($C26,GOY,4,FALSE)),\"\",VLOOKUP($C26,GOY,4,FALSE)))","v":""},{"$f":"IF($H$2<>Players!$B$4,\"\",IF(ISERROR(VLOOKUP($C26,GOY,4,FALSE)),\"\",VLOOKUP($C26,GOY,4,FALSE)))","v":""},{"$f":"IF($I$2<>Players!$B$4,\"\",IF(ISERROR(VLOOKUP($C26,GOY,4,FALSE)),\"\",VLOOKUP($C26,GOY,4,FALSE)))","v":""},{"$f":"IF($J$2<>Players!$B$4,\"\",IF(ISERROR(VLOOKUP($C26,GOY,4,FALSE)),\"\",VLOOKUP($C26,GOY,4,FALSE)))","v":""},{"$f":"SUM($D26:$J26)","v":0}]
["T15","25","Lujan, Fil","","","",{"$f":"IF($G$2<>Players!$B$4,\"\",IF(ISERROR(VLOOKUP($C27,GOY,4,FALSE)),\"\",VLOOKUP($C27,GOY,4,FALSE)))","v":""},{"$f":"IF($H$2<>Players!$B$4,\"\",IF(ISERROR(VLOOKUP($C27,GOY,4,FALSE)),\"\",VLOOKUP($C27,GOY,4,FALSE)))","v":""},{"$f":"IF($I$2<>Players!$B$4,\"\",IF(ISERROR(VLOOKUP($C27,GOY,4,FALSE)),\"\",VLOOKUP($C27,GOY,4,FALSE)))","v":""},{"$f":"IF($J$2<>Players!$B$4,\"\",IF(ISERROR(VLOOKUP($C27,GOY,4,FALSE)),\"\",VLOOKUP($C27,GOY,4,FALSE)))","v":""},{"$f":"SUM($D27:$J27)","v":0}]
["T15","26","Montgomery, Andy","","","",{"$f":"IF($G$2<>Players!$B$4,\"\",IF(ISERROR(VLOOKUP($C28,GOY,4,FALSE)),\"\",VLOOKUP($C28,GOY,4,FALSE)))","v":""},{"$f":"IF($H$2<>Players!$B$4,\"\",IF(ISERROR(VLOOKUP($C28,GOY,4,FALSE)),\"\",VLOOKUP($C28,GOY,4,FALSE)))","v":""},{"$f":"IF($I$2<>Players!$B$4,\"\",IF(ISERROR(VLOOKUP($C28,GOY,4,FALSE)),\"\",VLOOKUP($C28,GOY,4,FALSE)))","v":""},{"$f":"IF($J$2<>Players!$B$4,\"\",IF(ISERROR(VLOOKUP($C28,GOY,4,FALSE)),\"\",VLOOKUP($C28,GOY,4,FALSE)))","v":""},{"$f":"SUM($D28:$J28)","v":0}]
["T15","27","Nagel, Rich","","","",{"$f":"IF($G$2<>Players!$B$4,\"\",IF(ISERROR(VLOOKUP($C29,GOY,4,FALSE)),\"\",VLOOKUP($C29,GOY,4,FALSE)))","v":""},{"$f":"IF($H$2<>Players!$B$4,\"\",IF(ISERROR(VLOOKUP($C29,GOY,4,FALSE)),\"\",VLOOKUP($C29,GOY,4,FALSE)))","v":""},{"$f":"IF($I$2<>Players!$B$4,\"\",IF(ISERROR(VLOOKUP($C29,GOY,4,FALSE)),\"\",VLOOKUP($C29,GOY,4,FALSE)))","v":""},{"$f":"IF($J$2<>Players!$B$4,\"\",IF(ISERROR(VLOOKUP($C29,GOY,4,FALSE)),\"\",VLOOKUP($C29,GOY,4,FALSE)))","v":""},{"$f":"SUM($D29:$J29)","v":0}]
["T15","28","Poyar, Bob","","","",{"$f":"IF($G$2<>Players!$B$4,\"\",IF(ISERROR(VLOOKUP($C30,GOY,4,FALSE)),\"\",VLOOKUP($C30,GOY,4,FALSE)))","v":""},{"$f":"IF($H$2<>Players!$B$4,\"\",IF(ISERROR(VLOOKUP($C30,GOY,4,FALSE)),\"\",VLOOKUP($C30,GOY,4,FALSE)))","v":""},{"$f":"IF($I$2<>Players!$B$4,\"\",IF(ISERROR(VLOOKUP($C30,GOY,4,FALSE)),\"\",VLOOKUP($C30,GOY,4,FALSE)))","v":""},{"$f":"IF($J$2<>Players!$B$4,\"\",IF(ISERROR(VLOOKUP($C30,GOY,4,FALSE)),\"\",VLOOKUP($C30,GOY,4,FALSE)))","v":""},{"$f":"SUM($D30:$J30)","v":0}]
["T15","29","Rojes, Ray","","","",{"$f":"IF($G$2<>Players!$B$4,\"\",IF(ISERROR(VLOOKUP($C31,GOY,4,FALSE)),\"\",VLOOKUP($C31,GOY,4,FALSE)))","v":""},{"$f":"IF($H$2<>Players!$B$4,\"\",IF(ISERROR(VLOOKUP($C31,GOY,4,FALSE)),\"\",VLOOKUP($C31,GOY,4,FALSE)))","v":""},{"$f":"IF($I$2<>Players!$B$4,\"\",IF(ISERROR(VLOOKUP($C31,GOY,4,FALSE)),\"\",VLOOKUP($C31,GOY,4,FALSE)))","v":""},{"$f":"IF($J$2<>Players!$B$4,\"\",IF(ISERROR(VLOOKUP($C31,GOY,4,FALSE)),\"\",VLOOKUP($C31,GOY,4,FALSE)))","v":""},{"$f":"SUM($D31:$J31)","v":0}]
["T15","30","Salinas, Frank","","","",{"$f":"IF($G$2<>Players!$B$4,\"\",IF(ISERROR(VLOOKUP($C32,GOY,4,FALSE)),\"\",VLOOKUP($C32,GOY,4,FALSE)))","v":""},{"$f":"IF($H$2<>Players!$B$4,\"\",IF(ISERROR(VLOOKUP($C32,GOY,4,FALSE)),\"\",VLOOKUP($C32,GOY,4,FALSE)))","v":""},{"$f":"IF($I$2<>Players!$B$4,\"\",IF(ISERROR(VLOOKUP($C32,GOY,4,FALSE)),\"\",VLOOKUP($C32,GOY,4,FALSE)))","v":""},{"$f":"IF($J$2<>Players!$B$4,\"\",IF(ISERROR(VLOOKUP($C32,GOY,4,FALSE)),\"\",VLOOKUP($C32,GOY,4,FALSE)))","v":""},{"$f":"SUM($D32:$J32)","v":0}]
["T15","31","Thompson, Dan","","","",{"$f":"IF($G$2<>Players!$B$4,\"\",IF(ISERROR(VLOOKUP($C33,GOY,4,FALSE)),\"\",VLOOKUP($C33,GOY,4,FALSE)))","v":""},{"$f":"IF($H$2<>Players!$B$4,\"\",IF(ISERROR(VLOOKUP($C33,GOY,4,FALSE)),\"\",VLOOKUP($C33,GOY,4,FALSE)))","v":""},{"$f":"IF($I$2<>Players!$B$4,\"\",IF(ISERROR(VLOOKUP($C33,GOY,4,FALSE)),\"\",VLOOKUP($C33,GOY,4,FALSE)))","v":""},{"$f":"IF($J$2<>Players!$B$4,\"\",IF(ISERROR(VLOOKUP($C33,GOY,4,FALSE)),\"\",VLOOKUP($C33,GOY,4,FALSE)))","v":""},{"$f":"SUM($D33:$J33)","v":0}]
["T15","32",null,{"$f":"IF($D$2<>Players!$B$4,\"\",IF(ISERROR(VLOOKUP($C34,GOY,4,FALSE)),\"\",VLOOKUP($C34,GOY,4,FALSE)))","v":""},{"$f":"IF($E$2<>Players!$B$4,\"\",IF(ISERROR(VLOOKUP($C34,GOY,4,FALSE)),\"\",VLOOKUP($C34,GOY,4,FALSE)))","v":""},{"$f":"IF($F$2<>Players!$B$4,\"\",IF(ISERROR(VLOOKUP($C34,GOY,4,FALSE)),\"\",VLOOKUP($C34,GOY,4,FALSE)))","v":""},{"$f":"IF($G$2<>Players!$B$4,\"\",IF(ISERROR(VLOOKUP($C34,GOY,4,FALSE)),\"\",VLOOKUP($C34,GOY,4,FALSE)))","v":""},{"$f":"IF($H$2<>Players!$B$4,\"\",IF(ISERROR(VLOOKUP($C34,GOY,4,FALSE)),\"\",VLOOKUP($C34,GOY,4,FALSE)))","v":""},{"$f":"IF($I$2<>Players!$B$4,\"\",IF(ISERROR(VLOOKUP($C34,GOY,4,FALSE)),\"\",VLOOKUP($C34,GOY,4,FALSE)))","v":""},{"$f":"IF($J$2<>Players!$B$4,\"\",IF(ISERROR(VLOOKUP($C34,GOY,4,FALSE)),\"\",VLOOKUP($C34,GOY,4,FALSE)))","v":""},{"$f":"SUM($D34:$J34)","v":0}]
["T15","33",null,{"$f":"IF($D$2<>Players!$B$4,\"\",IF(ISERROR(VLOOKUP($C35,GOY,4,FALSE)),\"\",VLOOKUP($C35,GOY,4,FALSE)))","v":""},{"$f":"IF($E$2<>Players!$B$4,\"\",IF(ISERROR(VLOOKUP($C35,GOY,4,FALSE)),\"\",VLOOKUP($C35,GOY,4,FALSE)))","v":""},{"$f":"IF($F$2<>Players!$B$4,\"\",IF(ISERROR(VLOOKUP($C35,GOY,4,FALSE)),\"\",VLOOKUP($C35,GOY,4,FALSE)))","v":""},{"$f":"IF($G$2<>Players!$B$4,\"\",IF(ISERROR(VLOOKUP($C35,GOY,4,FALSE)),\"\",VLOOKUP($C35,GOY,4,FALSE)))","v":""},{"$f":"IF($H$2<>Players!$B$4,\"\",IF(ISERROR(VLOOKUP($C35,GOY,4,FALSE)),\"\",VLOOKUP($C35,GOY,4,FALSE)))","v":""},{"$f":"IF($I$2<>Players!$B$4,\"\",IF(ISERROR(VLOOKUP($C35,GOY,4,FALSE)),\"\",VLOOKUP($C35,GOY,4,FALSE)))","v":""},{"$f":"IF($J$2<>Players!$B$4,\"\",IF(ISERROR(VLOOKUP($C35,GOY,4,FALSE)),\"\",VLOOKUP($C35,GOY,4,FALSE)))","v":""},{"$f":"SUM($D35:$J35)","v":0}]
["T15","34",null,{"$f":"IF($D$2<>Players!$B$4,\"\",IF(ISERROR(VLOOKUP($C36,GOY,4,FALSE)),\"\",VLOOKUP($C36,GOY,4,FALSE)))","v":""},{"$f":"IF($E$2<>Players!$B$4,\"\",IF(ISERROR(VLOOKUP($C36,GOY,4,FALSE)),\"\",VLOOKUP($C36,GOY,4,FALSE)))","v":""},{"$f":"IF($F$2<>Players!$B$4,\"\",IF(ISERROR(VLOOKUP($C36,GOY,4,FALSE)),\"\",VLOOKUP($C36,GOY,4,FALSE)))","v":""},{"$f":"IF($G$2<>Players!$B$4,\"\",IF(ISERROR(VLOOKUP($C36,GOY,4,FALSE)),\"\",VLOOKUP($C36,GOY,4,FALSE)))","v":""},{"$f":"IF($H$2<>Players!$B$4,\"\",IF(ISERROR(VLOOKUP($C36,GOY,4,FALSE)),\"\",VLOOKUP($C36,GOY,4,FALSE)))","v":""},{"$f":"IF($I$2<>Players!$B$4,\"\",IF(ISERROR(VLOOKUP($C36,GOY,4,FALSE)),\"\",VLOOKUP($C36,GOY,4,FALSE)))","v":""},{"$f":"IF($J$2<>Players!$B$4,\"\",IF(ISERROR(VLOOKUP($C36,GOY,4,FALSE)),\"\",VLOOKUP($C36,GOY,4,FALSE)))","v":""},{"$f":"SUM($D36:$J36)","v":0}]
["T15","35",null,{"$f":"IF($D$2<>Players!$B$4,\"\",IF(ISERROR(VLOOKUP($C37,GOY,4,FALSE)),\"\",VLOOKUP($C37,GOY,4,FALSE)))","v":""},{"$f":"IF($E$2<>Players!$B$4,\"\",IF(ISERROR(VLOOKUP($C37,GOY,4,FALSE)),\"\",VLOOKUP($C37,GOY,4,FALSE)))","v":""},{"$f":"IF($F$2<>Players!$B$4,\"\",IF(ISERROR(VLOOKUP($C37,GOY,4,FALSE)),\"\",VLOOKUP($C37,GOY,4,FALSE)))","v":""},{"$f":"IF($G$2<>Players!$B$4,\"\",IF(ISERROR(VLOOKUP($C37,GOY,4,FALSE)),\"\",VLOOKUP($C37,GOY,4,FALSE)))","v":""},{"$f":"IF($H$2<>Players!$B$4,\"\",IF(ISERROR(VLOOKUP($C37,GOY,4,FALSE)),\"\",VLOOKUP($C37,GOY,4,FALSE)))","v":""},{"$f":"IF($I$2<>Players!$B$4,\"\",IF(ISERROR(VLOOKUP($C37,GOY,4,FALSE)),\"\",VLOOKUP($C37,GOY,4,FALSE)))","v":""},{"$f":"IF($J$2<>Players!$B$4,\"\",IF(ISERROR(VLOOKUP($C37,GOY,4,FALSE)),\"\",VLOOKUP($C37,GOY,4,FALSE)))","v":""},{"$f":"SUM($D37:$J37)","v":0}]
["T15","36",null,{"$f":"IF($D$2<>Players!$B$4,\"\",IF(ISERROR(VLOOKUP($C38,GOY,4,FALSE)),\"\",VLOOKUP($C38,GOY,4,FALSE)))","v":""},{"$f":"IF($E$2<>Players!$B$4,\"\",IF(ISERROR(VLOOKUP($C38,GOY,4,FALSE)),\"\",VLOOKUP($C38,GOY,4,FALSE)))","v":""},{"$f":"IF($F$2<>Players!$B$4,\"\",IF(ISERROR(VLOOKUP($C38,GOY,4,FALSE)),\"\",VLOOKUP($C38,GOY,4,FALSE)))","v":""},{"$f":"IF($G$2<>Players!$B$4,\"\",IF(ISERROR(VLOOKUP($C38,GOY,4,FALSE)),\"\",VLOOKUP($C38,GOY,4,FALSE)))","v":""},{"$f":"IF($H$2<>Players!$B$4,\"\",IF(ISERROR(VLOOKUP($C38,GOY,4,FALSE)),\"\",VLOOKUP($C38,GOY,4,FALSE)))","v":""},{"$f":"IF($I$2<>Players!$B$4,\"\",IF(ISERROR(VLOOKUP($C38,GOY,4,FALSE)),\"\",VLOOKUP($C38,GOY,4,FALSE)))","v":""},{"$f":"IF($J$2<>Players!$B$4,\"\",IF(ISERROR(VLOOKUP($C38,GOY,4,FALSE)),\"\",VLOOKUP($C38,GOY,4,FALSE)))","v":""},{"$f":"SUM($D38:$J38)","v":0}]
["T15","37",null,{"$f":"IF($D$2<>Players!$B$4,\"\",IF(ISERROR(VLOOKUP($C39,GOY,4,FALSE)),\"\",VLOOKUP($C39,GOY,4,FALSE)))","v":""},{"$f":"IF($E$2<>Players!$B$4,\"\",IF(ISERROR(VLOOKUP($C39,GOY,4,FALSE)),\"\",VLOOKUP($C39,GOY,4,FALSE)))","v":""},{"$f":"IF($F$2<>Players!$B$4,\"\",IF(ISERROR(VLOOKUP($C39,GOY,4,FALSE)),\"\",VLOOKUP($C39,GOY,4,FALSE)))","v":""},{"$f":"IF($G$2<>Players!$B$4,\"\",IF(ISERROR(VLOOKUP($C39,GOY,4,FALSE)),\"\",VLOOKUP($C39,GOY,4,FALSE)))","v":""},{"$f":"IF($H$2<>Players!$B$4,\"\",IF(ISERROR(VLOOKUP($C39,GOY,4,FALSE)),\"\",VLOOKUP($C39,GOY,4,FALSE)))","v":""},{"$f":"IF($I$2<>Players!$B$4,\"\",IF(ISERROR(VLOOKUP($C39,GOY,4,FALSE)),\"\",VLOOKUP($C39,GOY,4,FALSE)))","v":""},{"$f":"IF($J$2<>Players!$B$4,\"\",IF(ISERROR(VLOOKUP($C39,GOY,4,FALSE)),\"\",VLOOKUP($C39,GOY,4,FALSE)))","v":""},{"$f":"SUM($D39:$J39)","v":0}]
["T15","38",null,{"$f":"IF($D$2<>Players!$B$4,\"\",IF(ISERROR(VLOOKUP($C40,GOY,4,FALSE)),\"\",VLOOKUP($C40,GOY,4,FALSE)))","v":""},{"$f":"IF($E$2<>Players!$B$4,\"\",IF(ISERROR(VLOOKUP($C40,GOY,4,FALSE)),\"\",VLOOKUP($C40,GOY,4,FALSE)))","v":""},{"$f":"IF($F$2<>Players!$B$4,\"\",IF(ISERROR(VLOOKUP($C40,GOY,4,FALSE)),\"\",VLOOKUP($C40,GOY,4,FALSE)))","v":""},{"$f":"IF($G$2<>Players!$B$4,\"\",IF(ISERROR(VLOOKUP($C40,GOY,4,FALSE)),\"\",VLOOKUP($C40,GOY,4,FALSE)))","v":""},{"$f":"IF($H$2<>Players!$B$4,\"\",IF(ISERROR(VLOOKUP($C40,GOY,4,FALSE)),\"\",VLOOKUP($C40,GOY,4,FALSE)))","v":""},{"$f":"IF($I$2<>Players!$B$4,\"\",IF(ISERROR(VLOOKUP($C40,GOY,4,FALSE)),\"\",VLOOKUP($C40,GOY,4,FALSE)))","v":""},{"$f":"IF($J$2<>Players!$B$4,\"\",IF(ISERROR(VLOOKUP($C40,GOY,4,FALSE)),\"\",VLOOKUP($C40,GOY,4,FALSE)))","v":""},{"$f":"SUM($D40:$J40)","v":0}]
["T15","39",null,{"$f":"IF($D$2<>Players!$B$4,\"\",IF(ISERROR(VLOOKUP($C41,GOY,4,FALSE)),\"\",VLOOKUP($C41,GOY,4,FALSE)))","v":""},{"$f":"IF($E$2<>Players!$B$4,\"\",IF(ISERROR(VLOOKUP($C41,GOY,4,FALSE)),\"\",VLOOKUP($C41,GOY,4,FALSE)))","v":""},{"$f":"IF($F$2<>Players!$B$4,\"\",IF(ISERROR(VLOOKUP($C41,GOY,4,FALSE)),\"\",VLOOKUP($C41,GOY,4,FALSE)))","v":""},{"$f":"IF($G$2<>Players!$B$4,\"\",IF(ISERROR(VLOOKUP($C41,GOY,4,FALSE)),\"\",VLOOKUP($C41,GOY,4,FALSE)))","v":""},{"$f":"IF($H$2<>Players!$B$4,\"\",IF(ISERROR(VLOOKUP($C41,GOY,4,FALSE)),\"\",VLOOKUP($C41,GOY,4,FALSE)))","v":""},{"$f":"IF($I$2<>Players!$B$4,\"\",IF(ISERROR(VLOOKUP($C41,GOY,4,FALSE)),\"\",VLOOKUP($C41,GOY,4,FALSE)))","v":""},{"$f":"IF($J$2<>Players!$B$4,\"\",IF(ISERROR(VLOOKUP($C41,GOY,4,FALSE)),\"\",VLOOKUP($C41,GOY,4,FALSE)))","v":""},{"$f":"SUM($D41:$J41)","v":0}]
["T15","40",null,{"$f":"IF($D$2<>Players!$B$4,\"\",IF(ISERROR(VLOOKUP($C42,GOY,4,FALSE)),\"\",VLOOKUP($C42,GOY,4,FALSE)))","v":""},{"$f":"IF($E$2<>Players!$B$4,\"\",IF(ISERROR(VLOOKUP($C42,GOY,4,FALSE)),\"\",VLOOKUP($C42,GOY,4,FALSE)))","v":""},{"$f":"IF($F$2<>Players!$B$4,\"\",IF(ISERROR(VLOOKUP($C42,GOY,4,FALSE)),\"\",VLOOKUP($C42,GOY,4,FALSE)))","v":""},{"$f":"IF($G$2<>Players!$B$4,\"\",IF(ISERROR(VLOOKUP($C42,GOY,4,FALSE)),\"\",VLOOKUP($C42,GOY,4,FALSE)))","v":""},{"$f":"IF($H$2<>Players!$B$4,\"\",IF(ISERROR(VLOOKUP($C42,GOY,4,FALSE)),\"\",VLOOKUP($C42,GOY,4,FALSE)))","v":""},{"$f":"IF($I$2<>Players!$B$4,\"\",IF(ISERROR(VLOOKUP($C42,GOY,4,FALSE)),\"\",VLOOKUP($C42,GOY,4,FALSE)))","v":""},{"$f":"IF($J$2<>Players!$B$4,\"\",IF(ISERROR(VLOOKUP($C42,GOY,4,FALSE)),\"\",VLOOKUP($C42,GOY,4,FALSE)))","v":""},{"$f":"SUM($D42:$J42)","v":0}]
["T15","41",null,{"$f":"IF($D$2<>Players!$B$4,\"\",IF(ISERROR(VLOOKUP($C43,GOY,4,FALSE)),\"\",VLOOKUP($C43,GOY,4,FALSE)))","v":""},{"$f":"IF($E$2<>Players!$B$4,\"\",IF(ISERROR(VLOOKUP($C43,GOY,4,FALSE)),\"\",VLOOKUP($C43,GOY,4,FALSE)))","v":""},{"$f":"IF($F$2<>Players!$B$4,\"\",IF(ISERROR(VLOOKUP($C43,GOY,4,FALSE)),\"\",VLOOKUP($C43,GOY,4,FALSE)))","v":""},{"$f":"IF($G$2<>Players!$B$4,\"\",IF(ISERROR(VLOOKUP($C43,GOY,4,FALSE)),\"\",VLOOKUP($C43,GOY,4,FALSE)))","v":""},{"$f":"IF($H$2<>Players!$B$4,\"\",IF(ISERROR(VLOOKUP($C43,GOY,4,FALSE)),\"\",VLOOKUP($C43,GOY,4,FALSE)))","v":""},{"$f":"IF($I$2<>Players!$B$4,\"\",IF(ISERROR(VLOOKUP($C43,GOY,4,FALSE)),\"\",VLOOKUP($C43,GOY,4,FALSE)))","v":""},{"$f":"IF($J$2<>Players!$B$4,\"\",IF(ISERROR(VLOOKUP($C43,GOY,4,FALSE)),\"\",VLOOKUP($C43,GOY,4,FALSE)))","v":""},{"$f":"SUM($D43:$J43)","v":0}]
["T15","42",null,{"$f":"IF($D$2<>Players!$B$4,\"\",IF(ISERROR(VLOOKUP($C44,GOY,4,FALSE)),\"\",VLOOKUP($C44,GOY,4,FALSE)))","v":""},{"$f":"IF($E$2<>Players!$B$4,\"\",IF(ISERROR(VLOOKUP($C44,GOY,4,FALSE)),\"\",VLOOKUP($C44,GOY,4,FALSE)))","v":""},{"$f":"IF($F$2<>Players!$B$4,\"\",IF(ISERROR(VLOOKUP($C44,GOY,4,FALSE)),\"\",VLOOKUP($C44,GOY,4,FALSE)))","v":""},{"$f":"IF($G$2<>Players!$B$4,\"\",IF(ISERROR(VLOOKUP($C44,GOY,4,FALSE)),\"\",VLOOKUP($C44,GOY,4,FALSE)))","v":""},{"$f":"IF($H$2<>Players!$B$4,\"\",IF(ISERROR(VLOOKUP($C44,GOY,4,FALSE)),\"\",VLOOKUP($C44,GOY,4,FALSE)))","v":""},{"$f":"IF($I$2<>Players!$B$4,\"\",IF(ISERROR(VLOOKUP($C44,GOY,4,FALSE)),\"\",VLOOKUP($C44,GOY,4,FALSE)))","v":""},{"$f":"IF($J$2<>Players!$B$4,\"\",IF(ISERROR(VLOOKUP($C44,GOY,4,FALSE)),\"\",VLOOKUP($C44,GOY,4,FALSE)))","v":""},{"$f":"SUM($D44:$J44)","v":0}]
["T15","43",null,{"$f":"IF($D$2<>Players!$B$4,\"\",IF(ISERROR(VLOOKUP($C45,GOY,4,FALSE)),\"\",VLOOKUP($C45,GOY,4,FALSE)))","v":""},{"$f":"IF($E$2<>Players!$B$4,\"\",IF(ISERROR(VLOOKUP($C45,GOY,4,FALSE)),\"\",VLOOKUP($C45,GOY,4,FALSE)))","v":""},{"$f":"IF($F$2<>Players!$B$4,\"\",IF(ISERROR(VLOOKUP($C45,GOY,4,FALSE)),\"\",VLOOKUP($C45,GOY,4,FALSE)))","v":""},{"$f":"IF($G$2<>Players!$B$4,\"\",IF(ISERROR(VLOOKUP($C45,GOY,4,FALSE)),\"\",VLOOKUP($C45,GOY,4,FALSE)))","v":""},{"$f":"IF($H$2<>Players!$B$4,\"\",IF(ISERROR(VLOOKUP($C45,GOY,4,FALSE)),\"\",VLOOKUP($C45,GOY,4,FALSE)))","v":""},{"$f":"IF($I$2<>Players!$B$4,\"\",IF(ISERROR(VLOOKUP($C45,GOY,4,FALSE)),\"\",VLOOKUP($C45,GOY,4,FALSE)))","v":""},{"$f":"IF($J$2<>Players!$B$4,\"\",IF(ISERROR(VLOOKUP($C45,GOY,4,FALSE)),\"\",VLOOKUP($C45,GOY,4,FALSE)))","v":""},{"$f":"SUM($D45:$J45)","v":0}]
["T15","44",null,{"$f":"IF($D$2<>Players!$B$4,\"\",IF(ISERROR(VLOOKUP($C46,GOY,4,FALSE)),\"\",VLOOKUP($C46,GOY,4,FALSE)))","v":""},{"$f":"IF($E$2<>Players!$B$4,\"\",IF(ISERROR(VLOOKUP($C46,GOY,4,FALSE)),\"\",VLOOKUP($C46,GOY,4,FALSE)))","v":""},{"$f":"IF($F$2<>Players!$B$4,\"\",IF(ISERROR(VLOOKUP($C46,GOY,4,FALSE)),\"\",VLOOKUP($C46,GOY,4,FALSE)))","v":""},{"$f":"IF($G$2<>Players!$B$4,\"\",IF(ISERROR(VLOOKUP($C46,GOY,4,FALSE)),\"\",VLOOKUP($C46,GOY,4,FALSE)))","v":""},{"$f":"IF($H$2<>Players!$B$4,\"\",IF(ISERROR(VLOOKUP($C46,GOY,4,FALSE)),\"\",VLOOKUP($C46,GOY,4,FALSE)))","v":""},{"$f":"IF($I$2<>Players!$B$4,\"\",IF(ISERROR(VLOOKUP($C46,GOY,4,FALSE)),\"\",VLOOKUP($C46,GOY,4,FALSE)))","v":""},{"$f":"IF($J$2<>Players!$B$4,\"\",IF(ISERROR(VLOOKUP($C46,GOY,4,FALSE)),\"\",VLOOKUP($C46,GOY,4,FALSE)))","v":""},{"$f":"SUM($D46:$J46)","v":0}]
["T15","45",null,{"$f":"IF($D$2<>Players!$B$4,\"\",IF(ISERROR(VLOOKUP($C47,GOY,4,FALSE)),\"\",VLOOKUP($C47,GOY,4,FALSE)))","v":""},{"$f":"IF($E$2<>Players!$B$4,\"\",IF(ISERROR(VLOOKUP($C47,GOY,4,FALSE)),\"\",VLOOKUP($C47,GOY,4,FALSE)))","v":""},{"$f":"IF($F$2<>Players!$B$4,\"\",IF(ISERROR(VLOOKUP($C47,GOY,4,FALSE)),\"\",VLOOKUP($C47,GOY,4,FALSE)))","v":""},{"$f":"IF($G$2<>Players!$B$4,\"\",IF(ISERROR(VLOOKUP($C47,GOY,4,FALSE)),\"\",VLOOKUP($C47,GOY,4,FALSE)))","v":""},{"$f":"IF($H$2<>Players!$B$4,\"\",IF(ISERROR(VLOOKUP($C47,GOY,4,FALSE)),\"\",VLOOKUP($C47,GOY,4,FALSE)))","v":""},{"$f":"IF($I$2<>Players!$B$4,\"\",IF(ISERROR(VLOOKUP($C47,GOY,4,FALSE)),\"\",VLOOKUP($C47,GOY,4,FALSE)))","v":""},{"$f":"IF($J$2<>Players!$B$4,\"\",IF(ISERROR(VLOOKUP($C47,GOY,4,FALSE)),\"\",VLOOKUP($C47,GOY,4,FALSE)))","v":""},{"$f":"SUM($D47:$J47)","v":0}]
["T15","46",null,{"$f":"IF($D$2<>Players!$B$4,\"\",IF(ISERROR(VLOOKUP($C48,GOY,4,FALSE)),\"\",VLOOKUP($C48,GOY,4,FALSE)))","v":""},{"$f":"IF($E$2<>Players!$B$4,\"\",IF(ISERROR(VLOOKUP($C48,GOY,4,FALSE)),\"\",VLOOKUP($C48,GOY,4,FALSE)))","v":""},{"$f":"IF($F$2<>Players!$B$4,\"\",IF(ISERROR(VLOOKUP($C48,GOY,4,FALSE)),\"\",VLOOKUP($C48,GOY,4,FALSE)))","v":""},{"$f":"IF($G$2<>Players!$B$4,\"\",IF(ISERROR(VLOOKUP($C48,GOY,4,FALSE)),\"\",VLOOKUP($C48,GOY,4,FALSE)))","v":""},{"$f":"IF($H$2<>Players!$B$4,\"\",IF(ISERROR(VLOOKUP($C48,GOY,4,FALSE)),\"\",VLOOKUP($C48,GOY,4,FALSE)))","v":""},{"$f":"IF($I$2<>Players!$B$4,\"\",IF(ISERROR(VLOOKUP($C48,GOY,4,FALSE)),\"\",VLOOKUP($C48,GOY,4,FALSE)))","v":""},{"$f":"IF($J$2<>Players!$B$4,\"\",IF(ISERROR(VLOOKUP($C48,GOY,4,FALSE)),\"\",VLOOKUP($C48,GOY,4,FALSE)))","v":""},{"$f":"SUM($D48:$J48)","v":0}]
["T15","47",null,{"$f":"IF($D$2<>Players!$B$4,\"\",IF(ISERROR(VLOOKUP($C49,GOY,4,FALSE)),\"\",VLOOKUP($C49,GOY,4,FALSE)))","v":""},{"$f":"IF($E$2<>Players!$B$4,\"\",IF(ISERROR(VLOOKUP($C49,GOY,4,FALSE)),\"\",VLOOKUP($C49,GOY,4,FALSE)))","v":""},{"$f":"IF($F$2<>Players!$B$4,\"\",IF(ISERROR(VLOOKUP($C49,GOY,4,FALSE)),\"\",VLOOKUP($C49,GOY,4,FALSE)))","v":""},{"$f":"IF($G$2<>Players!$B$4,\"\",IF(ISERROR(VLOOKUP($C49,GOY,4,FALSE)),\"\",VLOOKUP($C49,GOY,4,FALSE)))","v":""},{"$f":"IF($H$2<>Players!$B$4,\"\",IF(ISERROR(VLOOKUP($C49,GOY,4,FALSE)),\"\",VLOOKUP($C49,GOY,4,FALSE)))","v":""},{"$f":"IF($I$2<>Players!$B$4,\"\",IF(ISERROR(VLOOKUP($C49,GOY,4,FALSE)),\"\",VLOOKUP($C49,GOY,4,FALSE)))","v":""},{"$f":"IF($J$2<>Players!$B$4,\"\",IF(ISERROR(VLOOKUP($C49,GOY,4,FALSE)),\"\",VLOOKUP($C49,GOY,4,FALSE)))","v":""},{"$f":"SUM($D49:$J49)","v":0}]
["T15","48",null,{"$f":"IF($D$2<>Players!$B$4,\"\",IF(ISERROR(VLOOKUP($C50,GOY,4,FALSE)),\"\",VLOOKUP($C50,GOY,4,FALSE)))","v":""},{"$f":"IF($E$2<>Players!$B$4,\"\",IF(ISERROR(VLOOKUP($C50,GOY,4,FALSE)),\"\",VLOOKUP($C50,GOY,4,FALSE)))","v":""},{"$f":"IF($F$2<>Players!$B$4,\"\",IF(ISERROR(VLOOKUP($C50,GOY,4,FALSE)),\"\",VLOOKUP($C50,GOY,4,FALSE)))","v":""},{"$f":"IF($G$2<>Players!$B$4,\"\",IF(ISERROR(VLOOKUP($C50,GOY,4,FALSE)),\"\",VLOOKUP($C50,GOY,4,FALSE)))","v":""},{"$f":"IF($H$2<>Players!$B$4,\"\",IF(ISERROR(VLOOKUP($C50,GOY,4,FALSE)),\"\",VLOOKUP($C50,GOY,4,FALSE)))","v":""},{"$f":"IF($I$2<>Players!$B$4,\"\",IF(ISERROR(VLOOKUP($C50,GOY,4,FALSE)),\"\",VLOOKUP($C50,GOY,4,FALSE)))","v":""},{"$f":"IF($J$2<>Players!$B$4,\"\",IF(ISERROR(VLOOKUP($C50,GOY,4,FALSE)),\"\",VLOOKUP($C50,GOY,4,FALSE)))","v":""},{"$f":"SUM($D50:$J50)","v":0}]
["T15","49",null,{"$f":"IF($D$2<>Players!$B$4,\"\",IF(ISERROR(VLOOKUP($C51,GOY,4,FALSE)),\"\",VLOOKUP($C51,GOY,4,FALSE)))","v":""},{"$f":"IF($E$2<>Players!$B$4,\"\",IF(ISERROR(VLOOKUP($C51,GOY,4,FALSE)),\"\",VLOOKUP($C51,GOY,4,FALSE)))","v":""},{"$f":"IF($F$2<>Players!$B$4,\"\",IF(ISERROR(VLOOKUP($C51,GOY,4,FALSE)),\"\",VLOOKUP($C51,GOY,4,FALSE)))","v":""},{"$f":"IF($G$2<>Players!$B$4,\"\",IF(ISERROR(VLOOKUP($C51,GOY,4,FALSE)),\"\",VLOOKUP($C51,GOY,4,FALSE)))","v":""},{"$f":"IF($H$2<>Players!$B$4,\"\",IF(ISERROR(VLOOKUP($C51,GOY,4,FALSE)),\"\",VLOOKUP($C51,GOY,4,FALSE)))","v":""},{"$f":"IF($I$2<>Players!$B$4,\"\",IF(ISERROR(VLOOKUP($C51,GOY,4,FALSE)),\"\",VLOOKUP($C51,GOY,4,FALSE)))","v":""},{"$f":"IF($J$2<>Players!$B$4,\"\",IF(ISERROR(VLOOKUP($C51,GOY,4,FALSE)),\"\",VLOOKUP($C51,GOY,4,FALSE)))","v":""},{"$f":"SUM($D51:$J51)","v":0}]
["T15","50",null,{"$f":"IF($D$2<>Players!$B$4,\"\",IF(ISERROR(VLOOKUP($C52,GOY,4,FALSE)),\"\",VLOOKUP($C52,GOY,4,FALSE)))","v":""},{"$f":"IF($E$2<>Players!$B$4,\"\",IF(ISERROR(VLOOKUP($C52,GOY,4,FALSE)),\"\",VLOOKUP($C52,GOY,4,FALSE)))","v":""},{"$f":"IF($F$2<>Players!$B$4,\"\",IF(ISERROR(VLOOKUP($C52,GOY,4,FALSE)),\"\",VLOOKUP($C52,GOY,4,FALSE)))","v":""},{"$f":"IF($G$2<>Players!$B$4,\"\",IF(ISERROR(VLOOKUP($C52,GOY,4,FALSE)),\"\",VLOOKUP($C52,GOY,4,FALSE)))","v":""},{"$f":"IF($H$2<>Players!$B$4,\"\",IF(ISERROR(VLOOKUP($C52,GOY,4,FALSE)),\"\",VLOOKUP($C52,GOY,4,FALSE)))","v":""},{"$f":"IF($I$2<>Players!$B$4,\"\",IF(ISERROR(VLOOKUP($C52,GOY,4,FALSE)),\"\",VLOOKUP($C52,GOY,4,FALSE)))","v":""},{"$f":"IF($J$2<>Players!$B$4,\"\",IF(ISERROR(VLOOKUP($C52,GOY,4,FALSE)),\"\",VLOOKUP($C52,GOY,4,FALSE)))","v":""},{"$f":"SUM($D52:$J52)","v":0}]
["T15","51",null,{"$f":"IF($D$2<>Players!$B$4,\"\",IF(ISERROR(VLOOKUP($C53,GOY,4,FALSE)),\"\",VLOOKUP($C53,GOY,4,FALSE)))","v":""},{"$f":"IF($E$2<>Players!$B$4,\"\",IF(ISERROR(VLOOKUP($C53,GOY,4,FALSE)),\"\",VLOOKUP($C53,GOY,4,FALSE)))","v":""},{"$f":"IF($F$2<>Players!$B$4,\"\",IF(ISERROR(VLOOKUP($C53,GOY,4,FALSE)),\"\",VLOOKUP($C53,GOY,4,FALSE)))","v":""},{"$f":"IF($G$2<>Players!$B$4,\"\",IF(ISERROR(VLOOKUP($C53,GOY,4,FALSE)),\"\",VLOOKUP($C53,GOY,4,FALSE)))","v":""},{"$f":"IF($H$2<>Players!$B$4,\"\",IF(ISERROR(VLOOKUP($C53,GOY,4,FALSE)),\"\",VLOOKUP($C53,GOY,4,FALSE)))","v":""},{"$f":"IF($I$2<>Players!$B$4,\"\",IF(ISERROR(VLOOKUP($C53,GOY,4,FALSE)),\"\",VLOOKUP($C53,GOY,4,FALSE)))","v":""},{"$f":"IF($J$2<>Players!$B$4,\"\",IF(ISERROR(VLOOKUP($C53,GOY,4,FALSE)),\"\",VLOOKUP($C53,GOY,4,FALSE)))","v":""},{"$f":"SUM($D53:$J53)","v":0}]
["T15","52",null,{"$f":"IF($D$2<>Players!$B$4,\"\",IF(ISERROR(VLOOKUP($C54,GOY,4,FALSE)),\"\",VLOOKUP($C54,GOY,4,FALSE)))","v":""},{"$f":"IF($E$2<>Players!$B$4,\"\",IF(ISERROR(VLOOKUP($C54,GOY,4,FALSE)),\"\",VLOOKUP($C54,GOY,4,FALSE)))","v":""},{"$f":"IF($F$2<>Players!$B$4,\"\",IF(ISERROR(VLOOKUP($C54,GOY,4,FALSE)),\"\",VLOOKUP($C54,GOY,4,FALSE)))","v":""},{"$f":"IF($G$2<>Players!$B$4,\"\",IF(ISERROR(VLOOKUP($C54,GOY,4,FALSE)),\"\",VLOOKUP($C54,GOY,4,FALSE)))","v":""},{"$f":"IF($H$2<>Players!$B$4,\"\",IF(ISERROR(VLOOKUP($C54,GOY,4,FALSE)),\"\",VLOOKUP($C54,GOY,4,FALSE)))","v":""},{"$f":"IF($I$2<>Players!$B$4,\"\",IF(ISERROR(VLOOKUP($C54,GOY,4,FALSE)),\"\",VLOOKUP($C54,GOY,4,FALSE)))","v":""},{"$f":"IF($J$2<>Players!$B$4,\"\",IF(ISERROR(VLOOKUP($C54,GOY,4,FALSE)),\"\",VLOOKUP($C54,GOY,4,FALSE)))","v":""},{"$f":"SUM($D54:$J54)","v":0}]
["T15","53",null,{"$f":"IF($D$2<>Players!$B$4,\"\",IF(ISERROR(VLOOKUP($C55,GOY,4,FALSE)),\"\",VLOOKUP($C55,GOY,4,FALSE)))","v":""},{"$f":"IF($E$2<>Players!$B$4,\"\",IF(ISERROR(VLOOKUP($C55,GOY,4,FALSE)),\"\",VLOOKUP($C55,GOY,4,FALSE)))","v":""},{"$f":"IF($F$2<>Players!$B$4,\"\",IF(ISERROR(VLOOKUP($C55,GOY,4,FALSE)),\"\",VLOOKUP($C55,GOY,4,FALSE)))","v":""},{"$f":"IF($G$2<>Players!$B$4,\"\",IF(ISERROR(VLOOKUP($C55,GOY,4,FALSE)),\"\",VLOOKUP($C55,GOY,4,FALSE)))","v":""},{"$f":"IF($H$2<>Players!$B$4,\"\",IF(ISERROR(VLOOKUP($C55,GOY,4,FALSE)),\"\",VLOOKUP($C55,GOY,4,FALSE)))","v":""},{"$f":"IF($I$2<>Players!$B$4,\"\",IF(ISERROR(VLOOKUP($C55,GOY,4,FALSE)),\"\",VLOOKUP($C55,GOY,4,FALSE)))","v":""},{"$f":"IF($J$2<>Players!$B$4,\"\",IF(ISERROR(VLOOKUP($C55,GOY,4,FALSE)),\"\",VLOOKUP($C55,GOY,4,FALSE)))","v":""},{"$f":"SUM($D55:$J55)","v":0}]
["T15","54",null,{"$f":"IF($D$2<>Players!$B$4,\"\",IF(ISERROR(VLOOKUP($C56,GOY,4,FALSE)),\"\",VLOOKUP($C56,GOY,4,FALSE)))","v":""},{"$f":"IF($E$2<>Players!$B$4,\"\",IF(ISERROR(VLOOKUP($C56,GOY,4,FALSE)),\"\",VLOOKUP($C56,GOY,4,FALSE)))","v":""},{"$f":"IF($F$2<>Players!$B$4,\"\",IF(ISERROR(VLOOKUP($C56,GOY,4,FALSE)),\"\",VLOOKUP($C56,GOY,4,FALSE)))","v":""},{"$f":"IF($G$2<>Players!$B$4,\"\",IF(ISERROR(VLOOKUP($C56,GOY,4,FALSE)),\"\",VLOOKUP($C56,GOY,4,FALSE)))","v":""},{"$f":"IF($H$2<>Players!$B$4,\"\",IF(ISERROR(VLOOKUP($C56,GOY,4,FALSE)),\"\",VLOOKUP($C56,GOY,4,FALSE)))","v":""},{"$f":"IF($I$2<>Players!$B$4,\"\",IF(ISERROR(VLOOKUP($C56,GOY,4,FALSE)),\"\",VLOOKUP($C56,GOY,4,FALSE)))","v":""},{"$f":"IF($J$2<>Players!$B$4,\"\",IF(ISERROR(VLOOKUP($C56,GOY,4,FALSE)),\"\",VLOOKUP($C56,GOY,4,FALSE)))","v":""},{"$f":"SUM($D56:$J56)","v":0}]
["T15","55",null,{"$f":"IF($D$2<>Players!$B$4,\"\",IF(ISERROR(VLOOKUP($C57,GOY,4,FALSE)),\"\",VLOOKUP($C57,GOY,4,FALSE)))","v":""},{"$f":"IF($E$2<>Players!$B$4,\"\",IF(ISERROR(VLOOKUP($C57,GOY,4,FALSE)),\"\",VLOOKUP($C57,GOY,4,FALSE)))","v":""},{"$f":"IF($F$2<>Players!$B$4,\"\",IF(ISERROR(VLOOKUP($C57,GOY,4,FALSE)),\"\",VLOOKUP($C57,GOY,4,FALSE)))","v":""},{"$f":"IF($G$2<>Players!$B$4,\"\",IF(ISERROR(VLOOKUP($C57,GOY,4,FALSE)),\"\",VLOOKUP($C57,GOY,4,FALSE)))","v":""},{"$f":"IF($H$2<>Players!$B$4,\"\",IF(ISERROR(VLOOKUP($C57,GOY,4,FALSE)),\"\",VLOOKUP($C57,GOY,4,FALSE)))","v":""},{"$f":"IF($I$2<>Players!$B$4,\"\",IF(ISERROR(VLOOKUP($C57,GOY,4,FALSE)),\"\",VLOOKUP($C57,GOY,4,FALSE)))","v":""},{"$f":"IF($J$2<>Players!$B$4,\"\",IF(ISERROR(VLOOKUP($C57,GOY,4,FALSE)),\"\",VLOOKUP($C57,GOY,4,FALSE)))","v":""},{"$f":"SUM($D57:$J57)","v":0}]
["T15","56",null,{"$f":"IF($D$2<>Players!$B$4,\"\",IF(ISERROR(VLOOKUP($C58,GOY,4,FALSE)),\"\",VLOOKUP($C58,GOY,4,FALSE)))","v":""},{"$f":"IF($E$2<>Players!$B$4,\"\",IF(ISERROR(VLOOKUP($C58,GOY,4,FALSE)),\"\",VLOOKUP($C58,GOY,4,FALSE)))","v":""},{"$f":"IF($F$2<>Players!$B$4,\"\",IF(ISERROR(VLOOKUP($C58,GOY,4,FALSE)),\"\",VLOOKUP($C58,GOY,4,FALSE)))","v":""},{"$f":"IF($G$2<>Players!$B$4,\"\",IF(ISERROR(VLOOKUP($C58,GOY,4,FALSE)),\"\",VLOOKUP($C58,GOY,4,FALSE)))","v":""},{"$f":"IF($H$2<>Players!$B$4,\"\",IF(ISERROR(VLOOKUP($C58,GOY,4,FALSE)),\"\",VLOOKUP($C58,GOY,4,FALSE)))","v":""},{"$f":"IF($I$2<>Players!$B$4,\"\",IF(ISERROR(VLOOKUP($C58,GOY,4,FALSE)),\"\",VLOOKUP($C58,GOY,4,FALSE)))","v":""},{"$f":"IF($J$2<>Players!$B$4,\"\",IF(ISERROR(VLOOKUP($C58,GOY,4,FALSE)),\"\",VLOOKUP($C58,GOY,4,FALSE)))","v":""},{"$f":"SUM($D58:$J58)","v":0}]
["T15","57",null,{"$f":"IF($D$2<>Players!$B$4,\"\",IF(ISERROR(VLOOKUP($C59,GOY,4,FALSE)),\"\",VLOOKUP($C59,GOY,4,FALSE)))","v":""},{"$f":"IF($E$2<>Players!$B$4,\"\",IF(ISERROR(VLOOKUP($C59,GOY,4,FALSE)),\"\",VLOOKUP($C59,GOY,4,FALSE)))","v":""},{"$f":"IF($F$2<>Players!$B$4,\"\",IF(ISERROR(VLOOKUP($C59,GOY,4,FALSE)),\"\",VLOOKUP($C59,GOY,4,FALSE)))","v":""},{"$f":"IF($G$2<>Players!$B$4,\"\",IF(ISERROR(VLOOKUP($C59,GOY,4,FALSE)),\"\",VLOOKUP($C59,GOY,4,FALSE)))","v":""},{"$f":"IF($H$2<>Players!$B$4,\"\",IF(ISERROR(VLOOKUP($C59,GOY,4,FALSE)),\"\",VLOOKUP($C59,GOY,4,FALSE)))","v":""},{"$f":"IF($I$2<>Players!$B$4,\"\",IF(ISERROR(VLOOKUP($C59,GOY,4,FALSE)),\"\",VLOOKUP($C59,GOY,4,FALSE)))","v":""},{"$f":"IF($J$2<>Players!$B$4,\"\",IF(ISERROR(VLOOKUP($C59,GOY,4,FALSE)),\"\",VLOOKUP($C59,GOY,4,FALSE)))","v":""},{"$f":"SUM($D59:$J59)","v":0}]
["T15","58",null,{"$f":"IF($D$2<>Players!$B$4,\"\",IF(ISERROR(VLOOKUP($C60,GOY,4,FALSE)),\"\",VLOOKUP($C60,GOY,4,FALSE)))","v":""},{"$f":"IF($E$2<>Players!$B$4,\"\",IF(ISERROR(VLOOKUP($C60,GOY,4,FALSE)),\"\",VLOOKUP($C60,GOY,4,FALSE)))","v":""},{"$f":"IF($F$2<>Players!$B$4,\"\",IF(ISERROR(VLOOKUP($C60,GOY,4,FALSE)),\"\",VLOOKUP($C60,GOY,4,FALSE)))","v":""},{"$f":"IF($G$2<>Players!$B$4,\"\",IF(ISERROR(VLOOKUP($C60,GOY,4,FALSE)),\"\",VLOOKUP($C60,GOY,4,FALSE)))","v":""},{"$f":"IF($H$2<>Players!$B$4,\"\",IF(ISERROR(VLOOKUP($C60,GOY,4,FALSE)),\"\",VLOOKUP($C60,GOY,4,FALSE)))","v":""},{"$f":"IF($I$2<>Players!$B$4,\"\",IF(ISERROR(VLOOKUP($C60,GOY,4,FALSE)),\"\",VLOOKUP($C60,GOY,4,FALSE)))","v":""},{"$f":"IF($J$2<>Players!$B$4,\"\",IF(ISERROR(VLOOKUP($C60,GOY,4,FALSE)),\"\",VLOOKUP($C60,GOY,4,FALSE)))","v":""},{"$f":"SUM($D60:$J60)","v":0}]
["T15","59",null,{"$f":"IF($D$2<>Players!$B$4,\"\",IF(ISERROR(VLOOKUP($C61,GOY,4,FALSE)),\"\",VLOOKUP($C61,GOY,4,FALSE)))","v":""},{"$f":"IF($E$2<>Players!$B$4,\"\",IF(ISERROR(VLOOKUP($C61,GOY,4,FALSE)),\"\",VLOOKUP($C61,GOY,4,FALSE)))","v":""},{"$f":"IF($F$2<>Players!$B$4,\"\",IF(ISERROR(VLOOKUP($C61,GOY,4,FALSE)),\"\",VLOOKUP($C61,GOY,4,FALSE)))","v":""},{"$f":"IF($G$2<>Players!$B$4,\"\",IF(ISERROR(VLOOKUP($C61,GOY,4,FALSE)),\"\",VLOOKUP($C61,GOY,4,FALSE)))","v":""},{"$f":"IF($H$2<>Players!$B$4,\"\",IF(ISERROR(VLOOKUP($C61,GOY,4,FALSE)),\"\",VLOOKUP($C61,GOY,4,FALSE)))","v":""},{"$f":"IF($I$2<>Players!$B$4,\"\",IF(ISERROR(VLOOKUP($C61,GOY,4,FALSE)),\"\",VLOOKUP($C61,GOY,4,FALSE)))","v":""},{"$f":"IF($J$2<>Players!$B$4,\"\",IF(ISERROR(VLOOKUP($C61,GOY,4,FALSE)),\"\",VLOOKUP($C61,GOY,4,FALSE)))","v":""},{"$f":"SUM($D61:$J61)","v":0}]
["T15","60",null,{"$f":"IF($D$2<>Players!$B$4,\"\",IF(ISERROR(VLOOKUP($C62,GOY,4,FALSE)),\"\",VLOOKUP($C62,GOY,4,FALSE)))","v":""},{"$f":"IF($E$2<>Players!$B$4,\"\",IF(ISERROR(VLOOKUP($C62,GOY,4,FALSE)),\"\",VLOOKUP($C62,GOY,4,FALSE)))","v":""},{"$f":"IF($F$2<>Players!$B$4,\"\",IF(ISERROR(VLOOKUP($C62,GOY,4,FALSE)),\"\",VLOOKUP($C62,GOY,4,FALSE)))","v":""},{"$f":"IF($G$2<>Players!$B$4,\"\",IF(ISERROR(VLOOKUP($C62,GOY,4,FALSE)),\"\",VLOOKUP($C62,GOY,4,FALSE)))","v":""},{"$f":"IF($H$2<>Players!$B$4,\"\",IF(ISERROR(VLOOKUP($C62,GOY,4,FALSE)),\"\",VLOOKUP($C62,GOY,4,FALSE)))","v":""},{"$f":"IF($I$2<>Players!$B$4,\"\",IF(ISERROR(VLOOKUP($C62,GOY,4,FALSE)),\"\",VLOOKUP($C62,GOY,4,FALSE)))","v":""},{"$f":"IF($J$2<>Players!$B$4,\"\",IF(ISERROR(VLOOKUP($C62,GOY,4,FALSE)),\"\",VLOOKUP($C62,GOY,4,FALSE)))","v":""},{"$f":"SUM($D62:$J62)","v":0}]
["T15","61",null,{"$f":"IF($D$2<>Players!$B$4,\"\",IF(ISERROR(VLOOKUP($C63,GOY,4,FALSE)),\"\",VLOOKUP($C63,GOY,4,FALSE)))","v":""},{"$f":"IF($E$2<>Players!$B$4,\"\",IF(ISERROR(VLOOKUP($C63,GOY,4,FALSE)),\"\",VLOOKUP($C63,GOY,4,FALSE)))","v":""},{"$f":"IF($F$2<>Players!$B$4,\"\",IF(ISERROR(VLOOKUP($C63,GOY,4,FALSE)),\"\",VLOOKUP($C63,GOY,4,FALSE)))","v":""},{"$f":"IF($G$2<>Players!$B$4,\"\",IF(ISERROR(VLOOKUP($C63,GOY,4,FALSE)),\"\",VLOOKUP($C63,GOY,4,FALSE)))","v":""},{"$f":"IF($H$2<>Players!$B$4,\"\",IF(ISERROR(VLOOKUP($C63,GOY,4,FALSE)),\"\",VLOOKUP($C63,GOY,4,FALSE)))","v":""},{"$f":"IF($I$2<>Players!$B$4,\"\",IF(ISERROR(VLOOKUP($C63,GOY,4,FALSE)),\"\",VLOOKUP($C63,GOY,4,FALSE)))","v":""},{"$f":"IF($J$2<>Players!$B$4,\"\",IF(ISERROR(VLOOKUP($C63,GOY,4,FALSE)),\"\",VLOOKUP($C63,GOY,4,FALSE)))","v":""},{"$f":"SUM($D63:$J63)","v":0}]
["T15","62",null,{"$f":"IF($D$2<>Players!$B$4,\"\",IF(ISERROR(VLOOKUP($C64,GOY,4,FALSE)),\"\",VLOOKUP($C64,GOY,4,FALSE)))","v":""},{"$f":"IF($E$2<>Players!$B$4,\"\",IF(ISERROR(VLOOKUP($C64,GOY,4,FALSE)),\"\",VLOOKUP($C64,GOY,4,FALSE)))","v":""},{"$f":"IF($F$2<>Players!$B$4,\"\",IF(ISERROR(VLOOKUP($C64,GOY,4,FALSE)),\"\",VLOOKUP($C64,GOY,4,FALSE)))","v":""},{"$f":"IF($G$2<>Players!$B$4,\"\",IF(ISERROR(VLOOKUP($C64,GOY,4,FALSE)),\"\",VLOOKUP($C64,GOY,4,FALSE)))","v":""},{"$f":"IF($H$2<>Players!$B$4,\"\",IF(ISERROR(VLOOKUP($C64,GOY,4,FALSE)),\"\",VLOOKUP($C64,GOY,4,FALSE)))","v":""},{"$f":"IF($I$2<>Players!$B$4,\"\",IF(ISERROR(VLOOKUP($C64,GOY,4,FALSE)),\"\",VLOOKUP($C64,GOY,4,FALSE)))","v":""},{"$f":"IF($J$2<>Players!$B$4,\"\",IF(ISERROR(VLOOKUP($C64,GOY,4,FALSE)),\"\",VLOOKUP($C64,GOY,4,FALSE)))","v":""},{"$f":"SUM($D64:$J64)","v":0}]
["T15","63",null,{"$f":"IF($D$2<>Players!$B$4,\"\",IF(ISERROR(VLOOKUP($C65,GOY,4,FALSE)),\"\",VLOOKUP($C65,GOY,4,FALSE)))","v":""},{"$f":"IF($E$2<>Players!$B$4,\"\",IF(ISERROR(VLOOKUP($C65,GOY,4,FALSE)),\"\",VLOOKUP($C65,GOY,4,FALSE)))","v":""},{"$f":"IF($F$2<>Players!$B$4,\"\",IF(ISERROR(VLOOKUP($C65,GOY,4,FALSE)),\"\",VLOOKUP($C65,GOY,4,FALSE)))","v":""},{"$f":"IF($G$2<>Players!$B$4,\"\",IF(ISERROR(VLOOKUP($C65,GOY,4,FALSE)),\"\",VLOOKUP($C65,GOY,4,FALSE)))","v":""},{"$f":"IF($H$2<>Players!$B$4,\"\",IF(ISERROR(VLOOKUP($C65,GOY,4,FALSE)),\"\",VLOOKUP($C65,GOY,4,FALSE)))","v":""},{"$f":"IF($I$2<>Players!$B$4,\"\",IF(ISERROR(VLOOKUP($C65,GOY,4,FALSE)),\"\",VLOOKUP($C65,GOY,4,FALSE)))","v":""},{"$f":"IF($J$2<>Players!$B$4,\"\",IF(ISERROR(VLOOKUP($C65,GOY,4,FALSE)),\"\",VLOOKUP($C65,GOY,4,FALSE)))","v":""},{"$f":"SUM($D65:$J65)","v":0}]
["T15","64",null,{"$f":"IF($D$2<>Players!$B$4,\"\",IF(ISERROR(VLOOKUP($C66,GOY,4,FALSE)),\"\",VLOOKUP($C66,GOY,4,FALSE)))","v":""},{"$f":"IF($E$2<>Players!$B$4,\"\",IF(ISERROR(VLOOKUP($C66,GOY,4,FALSE)),\"\",VLOOKUP($C66,GOY,4,FALSE)))","v":""},{"$f":"IF($F$2<>Players!$B$4,\"\",IF(ISERROR(VLOOKUP($C66,GOY,4,FALSE)),\"\",VLOOKUP($C66,GOY,4,FALSE)))","v":""},{"$f":"IF($G$2<>Players!$B$4,\"\",IF(ISERROR(VLOOKUP($C66,GOY,4,FALSE)),\"\",VLOOKUP($C66,GOY,4,FALSE)))","v":""},{"$f":"IF($H$2<>Players!$B$4,\"\",IF(ISERROR(VLOOKUP($C66,GOY,4,FALSE)),\"\",VLOOKUP($C66,GOY,4,FALSE)))","v":""},{"$f":"IF($I$2<>Players!$B$4,\"\",IF(ISERROR(VLOOKUP($C66,GOY,4,FALSE)),\"\",VLOOKUP($C66,GOY,4,FALSE)))","v":""},{"$f":"IF($J$2<>Players!$B$4,\"\",IF(ISERROR(VLOOKUP($C66,GOY,4,FALSE)),\"\",VLOOKUP($C66,GOY,4,FALSE)))","v":""},{"$f":"SUM($D66:$J66)","v":0}]
["T15","65",null,{"$f":"IF($D$2<>Players!$B$4,\"\",IF(ISERROR(VLOOKUP($C67,GOY,4,FALSE)),\"\",VLOOKUP($C67,GOY,4,FALSE)))","v":""},{"$f":"IF($E$2<>Players!$B$4,\"\",IF(ISERROR(VLOOKUP($C67,GOY,4,FALSE)),\"\",VLOOKUP($C67,GOY,4,FALSE)))","v":""},{"$f":"IF($F$2<>Players!$B$4,\"\",IF(ISERROR(VLOOKUP($C67,GOY,4,FALSE)),\"\",VLOOKUP($C67,GOY,4,FALSE)))","v":""},{"$f":"IF($G$2<>Players!$B$4,\"\",IF(ISERROR(VLOOKUP($C67,GOY,4,FALSE)),\"\",VLOOKUP($C67,GOY,4,FALSE)))","v":""},{"$f":"IF($H$2<>Players!$B$4,\"\",IF(ISERROR(VLOOKUP($C67,GOY,4,FALSE)),\"\",VLOOKUP($C67,GOY,4,FALSE)))","v":""},{"$f":"IF($I$2<>Players!$B$4,\"\",IF(ISERROR(VLOOKUP($C67,GOY,4,FALSE)),\"\",VLOOKUP($C67,GOY,4,FALSE)))","v":""},{"$f":"IF($J$2<>Players!$B$4,\"\",IF(ISERROR(VLOOKUP($C67,GOY,4,FALSE)),\"\",VLOOKUP($C67,GOY,4,FALSE)))","v":""},{"$f":"SUM($D67:$J67)","v":0}]
[{"$f":"IF($K68=$K67,$A67,IF($K68=$K69,\"T\"&$B68,$B68))","v":"T15"},"66",null,{"$f":"IF($D$2<>Players!$B$4,\"\",IF(ISERROR(VLOOKUP($C68,GOY,4,FALSE)),\"\",VLOOKUP($C68,GOY,4,FALSE)))","v":""},{"$f":"IF($E$2<>Players!$B$4,\"\",IF(ISERROR(VLOOKUP($C68,GOY,4,FALSE)),\"\",VLOOKUP($C68,GOY,4,FALSE)))","v":""},{"$f":"IF($F$2<>Players!$B$4,\"\",IF(ISERROR(VLOOKUP($C68,GOY,4,FALSE)),\"\",VLOOKUP($C68,GOY,4,FALSE)))","v":""},{"$f":"IF($G$2<>Players!$B$4,\"\",IF(ISERROR(VLOOKUP($C68,GOY,4,FALSE)),\"\",VLOOKUP($C68,GOY,4,FALSE)))","v":""},{"$f":"IF($H$2<>Players!$B$4,\"\",IF(ISERROR(VLOOKUP($C68,GOY,4,FALSE)),\"\",VLOOKUP($C68,GOY,4,FALSE)))","v":""},{"$f":"IF($I$2<>Players!$B$4,\"\",IF(ISERROR(VLOOKUP($C68,GOY,4,FALSE)),\"\",VLOOKUP($C68,GOY,4,FALSE)))","v":""},{"$f":"IF($J$2<>Players!$B$4,\"\",IF(ISERROR(VLOOKUP($C68,GOY,4,FALSE)),\"\",VLOOKUP($C68,GOY,4,FALSE)))","v":""},{"$f":"SUM($D68:$J68)","v":0}]
["T15","67",null,{"$f":"IF($D$2<>Players!$B$4,\"\",IF(ISERROR(VLOOKUP($C69,GOY,4,FALSE)),\"\",VLOOKUP($C69,GOY,4,FALSE)))","v":""},{"$f":"IF($E$2<>Players!$B$4,\"\",IF(ISERROR(VLOOKUP($C69,GOY,4,FALSE)),\"\",VLOOKUP($C69,GOY,4,FALSE)))","v":""},{"$f":"IF($F$2<>Players!$B$4,\"\",IF(ISERROR(VLOOKUP($C69,GOY,4,FALSE)),\"\",VLOOKUP($C69,GOY,4,FALSE)))","v":""},{"$f":"IF($G$2<>Players!$B$4,\"\",IF(ISERROR(VLOOKUP($C69,GOY,4,FALSE)),\"\",VLOOKUP($C69,GOY,4,FALSE)))","v":""},{"$f":"IF($H$2<>Players!$B$4,\"\",IF(ISERROR(VLOOKUP($C69,GOY,4,FALSE)),\"\",VLOOKUP($C69,GOY,4,FALSE)))","v":""},{"$f":"IF($I$2<>Players!$B$4,\"\",IF(ISERROR(VLOOKUP($C69,GOY,4,FALSE)),\"\",VLOOKUP($C69,GOY,4,FALSE)))","v":""},{"$f":"IF($J$2<>Players!$B$4,\"\",IF(ISERROR(VLOOKUP($C69,GOY,4,FALSE)),\"\",VLOOKUP($C69,GOY,4,FALSE)))","v":""},{"$f":"SUM($D69:$J69)","v":0}]
["T15","68",null,{"$f":"IF($D$2<>Players!$B$4,\"\",IF(ISERROR(VLOOKUP($C70,GOY,4,FALSE)),\"\",VLOOKUP($C70,GOY,4,FALSE)))","v":""},{"$f":"IF($E$2<>Players!$B$4,\"\",IF(ISERROR(VLOOKUP($C70,GOY,4,FALSE)),\"\",VLOOKUP($C70,GOY,4,FALSE)))","v":""},{"$f":"IF($F$2<>Players!$B$4,\"\",IF(ISERROR(VLOOKUP($C70,GOY,4,FALSE)),\"\",VLOOKUP($C70,GOY,4,FALSE)))","v":""},{"$f":"IF($G$2<>Players!$B$4,\"\",IF(ISERROR(VLOOKUP($C70,GOY,4,FALSE)),\"\",VLOOKUP($C70,GOY,4,FALSE)))","v":""},{"$f":"IF($H$2<>Players!$B$4,\"\",IF(ISERROR(VLOOKUP($C70,GOY,4,FALSE)),\"\",VLOOKUP($C70,GOY,4,FALSE)))","v":""},{"$f":"IF($I$2<>Players!$B$4,\"\",IF(ISERROR(VLOOKUP($C70,GOY,4,FALSE)),\"\",VLOOKUP($C70,GOY,4,FALSE)))","v":""},{"$f":"IF($J$2<>Players!$B$4,\"\",IF(ISERROR(VLOOKUP($C70,GOY,4,FALSE)),\"\",VLOOKUP($C70,GOY,4,FALSE)))","v":""},{"$f":"SUM($D70:$J70)","v":0}]
["T15","69",null,{"$f":"IF($D$2<>Players!$B$4,\"\",IF(ISERROR(VLOOKUP($C71,GOY,4,FALSE)),\"\",VLOOKUP($C71,GOY,4,FALSE)))","v":""},{"$f":"IF($E$2<>Players!$B$4,\"\",IF(ISERROR(VLOOKUP($C71,GOY,4,FALSE)),\"\",VLOOKUP($C71,GOY,4,FALSE)))","v":""},{"$f":"IF($F$2<>Players!$B$4,\"\",IF(ISERROR(VLOOKUP($C71,GOY,4,FALSE)),\"\",VLOOKUP($C71,GOY,4,FALSE)))","v":""},{"$f":"IF($G$2<>Players!$B$4,\"\",IF(ISERROR(VLOOKUP($C71,GOY,4,FALSE)),\"\",VLOOKUP($C71,GOY,4,FALSE)))","v":""},{"$f":"IF($H$2<>Players!$B$4,\"\",IF(ISERROR(VLOOKUP($C71,GOY,4,FALSE)),\"\",VLOOKUP($C71,GOY,4,FALSE)))","v":""},{"$f":"IF($I$2<>Players!$B$4,\"\",IF(ISERROR(VLOOKUP($C71,GOY,4,FALSE)),\"\",VLOOKUP($C71,GOY,4,FALSE)))","v":""},{"$f":"IF($J$2<>Players!$B$4,\"\",IF(ISERROR(VLOOKUP($C71,GOY,4,FALSE)),\"\",VLOOKUP($C71,GOY,4,FALSE)))","v":""},{"$f":"SUM($D71:$J71)","v":0}]
["T15","70",null,{"$f":"IF($D$2<>Players!$B$4,\"\",IF(ISERROR(VLOOKUP($C72,GOY,4,FALSE)),\"\",VLOOKUP($C72,GOY,4,FALSE)))","v":""},{"$f":"IF($E$2<>Players!$B$4,\"\",IF(ISERROR(VLOOKUP($C72,GOY,4,FALSE)),\"\",VLOOKUP($C72,GOY,4,FALSE)))","v":""},{"$f":"IF($F$2<>Players!$B$4,\"\",IF(ISERROR(VLOOKUP($C72,GOY,4,FALSE)),\"\",VLOOKUP($C72,GOY,4,FALSE)))","v":""},{"$f":"IF($G$2<>Players!$B$4,\"\",IF(ISERROR(VLOOKUP($C72,GOY,4,FALSE)),\"\",VLOOKUP($C72,GOY,4,FALSE)))","v":""},{"$f":"IF($H$2<>Players!$B$4,\"\",IF(ISERROR(VLOOKUP($C72,GOY,4,FALSE)),\"\",VLOOKUP($C72,GOY,4,FALSE)))","v":""},{"$f":"IF($I$2<>Players!$B$4,\"\",IF(ISERROR(VLOOKUP($C72,GOY,4,FALSE)),\"\",VLOOKUP($C72,GOY,4,FALSE)))","v":""},{"$f":"IF($J$2<>Players!$B$4,\"\",IF(ISERROR(VLOOKUP($C72,GOY,4,FALSE)),\"\",VLOOKUP($C72,GOY,4,FALSE)))","v":""},{"$f":"SUM($D72:$J72)","v":0}]
["T15","71",null,{"$f":"IF($D$2<>Players!$B$4,\"\",IF(ISERROR(VLOOKUP($C73,GOY,4,FALSE)),\"\",VLOOKUP($C73,GOY,4,FALSE)))","v":""},{"$f":"IF($E$2<>Players!$B$4,\"\",IF(ISERROR(VLOOKUP($C73,GOY,4,FALSE)),\"\",VLOOKUP($C73,GOY,4,FALSE)))","v":""},{"$f":"IF($F$2<>Players!$B$4,\"\",IF(ISERROR(VLOOKUP($C73,GOY,4,FALSE)),\"\",VLOOKUP($C73,GOY,4,FALSE)))","v":""},{"$f":"IF($G$2<>Players!$B$4,\"\",IF(ISERROR(VLOOKUP($C73,GOY,4,FALSE)),\"\",VLOOKUP($C73,GOY,4,FALSE)))","v":""},{"$f":"IF($H$2<>Players!$B$4,\"\",IF(ISERROR(VLOOKUP($C73,GOY,4,FALSE)),\"\",VLOOKUP($C73,GOY,4,FALSE)))","v":""},{"$f":"IF($I$2<>Players!$B$4,\"\",IF(ISERROR(VLOOKUP($C73,GOY,4,FALSE)),\"\",VLOOKUP($C73,GOY,4,FALSE)))","v":""},{"$f":"IF($J$2<>Players!$B$4,\"\",IF(ISERROR(VLOOKUP($C73,GOY,4,FALSE)),\"\",VLOOKUP($C73,GOY,4,FALSE)))","v":""},{"$f":"SUM($D73:$J73)","v":0}]
["T15","72",null,{"$f":"IF($D$2<>Players!$B$4,\"\",IF(ISERROR(VLOOKUP($C74,GOY,4,FALSE)),\"\",VLOOKUP($C74,GOY,4,FALSE)))","v":""},{"$f":"IF($E$2<>Players!$B$4,\"\",IF(ISERROR(VLOOKUP($C74,GOY,4,FALSE)),\"\",VLOOKUP($C74,GOY,4,FALSE)))","v":""},{"$f":"IF($F$2<>Players!$B$4,\"\",IF(ISERROR(VLOOKUP($C74,GOY,4,FALSE)),\"\",VLOOKUP($C74,GOY,4,FALSE)))","v":""},{"$f":"IF($G$2<>Players!$B$4,\"\",IF(ISERROR(VLOOKUP($C74,GOY,4,FALSE)),\"\",VLOOKUP($C74,GOY,4,FALSE)))","v":""},{"$f":"IF($H$2<>Players!$B$4,\"\",IF(ISERROR(VLOOKUP($C74,GOY,4,FALSE)),\"\",VLOOKUP($C74,GOY,4,FALSE)))","v":""},{"$f":"IF($I$2<>Players!$B$4,\"\",IF(ISERROR(VLOOKUP($C74,GOY,4,FALSE)),\"\",VLOOKUP($C74,GOY,4,FALSE)))","v":""},{"$f":"IF($J$2<>Players!$B$4,\"\",IF(ISERROR(VLOOKUP($C74,GOY,4,FALSE)),\"\",VLOOKUP($C74,GOY,4,FALSE)))","v":""},{"$f":"SUM($D74:$J74)","v":0}]
["T15","73",null,{"$f":"IF($D$2<>Players!$B$4,\"\",IF(ISERROR(VLOOKUP($C75,GOY,4,FALSE)),\"\",VLOOKUP($C75,GOY,4,FALSE)))","v":""},{"$f":"IF($E$2<>Players!$B$4,\"\",IF(ISERROR(VLOOKUP($C75,GOY,4,FALSE)),\"\",VLOOKUP($C75,GOY,4,FALSE)))","v":""},{"$f":"IF($F$2<>Players!$B$4,\"\",IF(ISERROR(VLOOKUP($C75,GOY,4,FALSE)),\"\",VLOOKUP($C75,GOY,4,FALSE)))","v":""},{"$f":"IF($G$2<>Players!$B$4,\"\",IF(ISERROR(VLOOKUP($C75,GOY,4,FALSE)),\"\",VLOOKUP($C75,GOY,4,FALSE)))","v":""},{"$f":"IF($H$2<>Players!$B$4,\"\",IF(ISERROR(VLOOKUP($C75,GOY,4,FALSE)),\"\",VLOOKUP($C75,GOY,4,FALSE)))","v":""},{"$f":"IF($I$2<>Players!$B$4,\"\",IF(ISERROR(VLOOKUP($C75,GOY,4,FALSE)),\"\",VLOOKUP($C75,GOY,4,FALSE)))","v":""},{"$f":"IF($J$2<>Players!$B$4,\"\",IF(ISERROR(VLOOKUP($C75,GOY,4,FALSE)),\"\",VLOOKUP($C75,GOY,4,FALSE)))","v":""},{"$f":"SUM($D75:$J75)","v":0}]
["T15","74",null,{"$f":"IF($D$2<>Players!$B$4,\"\",IF(ISERROR(VLOOKUP($C76,GOY,4,FALSE)),\"\",VLOOKUP($C76,GOY,4,FALSE)))","v":""},{"$f":"IF($E$2<>Players!$B$4,\"\",IF(ISERROR(VLOOKUP($C76,GOY,4,FALSE)),\"\",VLOOKUP($C76,GOY,4,FALSE)))","v":""},{"$f":"IF($F$2<>Players!$B$4,\"\",IF(ISERROR(VLOOKUP($C76,GOY,4,FALSE)),\"\",VLOOKUP($C76,GOY,4,FALSE)))","v":""},{"$f":"IF($G$2<>Players!$B$4,\"\",IF(ISERROR(VLOOKUP($C76,GOY,4,FALSE)),\"\",VLOOKUP($C76,GOY,4,FALSE)))","v":""},{"$f":"IF($H$2<>Players!$B$4,\"\",IF(ISERROR(VLOOKUP($C76,GOY,4,FALSE)),\"\",VLOOKUP($C76,GOY,4,FALSE)))","v":""},{"$f":"IF($I$2<>Players!$B$4,\"\",IF(ISERROR(VLOOKUP($C76,GOY,4,FALSE)),\"\",VLOOKUP($C76,GOY,4,FALSE)))","v":""},{"$f":"IF($J$2<>Players!$B$4,\"\",IF(ISERROR(VLOOKUP($C76,GOY,4,FALSE)),\"\",VLOOKUP($C76,GOY,4,FALSE)))","v":""},{"$f":"SUM($D76:$J76)","v":0}]
["T15","75",null,{"$f":"IF($D$2<>Players!$B$4,\"\",IF(ISERROR(VLOOKUP($C77,GOY,4,FALSE)),\"\",VLOOKUP($C77,GOY,4,FALSE)))","v":""},{"$f":"IF($E$2<>Players!$B$4,\"\",IF(ISERROR(VLOOKUP($C77,GOY,4,FALSE)),\"\",VLOOKUP($C77,GOY,4,FALSE)))","v":""},{"$f":"IF($F$2<>Players!$B$4,\"\",IF(ISERROR(VLOOKUP($C77,GOY,4,FALSE)),\"\",VLOOKUP($C77,GOY,4,FALSE)))","v":""},{"$f":"IF($G$2<>Players!$B$4,\"\",IF(ISERROR(VLOOKUP($C77,GOY,4,FALSE)),\"\",VLOOKUP($C77,GOY,4,FALSE)))","v":""},{"$f":"IF($H$2<>Players!$B$4,\"\",IF(ISERROR(VLOOKUP($C77,GOY,4,FALSE)),\"\",VLOOKUP($C77,GOY,4,FALSE)))","v":""},{"$f":"IF($I$2<>Players!$B$4,\"\",IF(ISERROR(VLOOKUP($C77,GOY,4,FALSE)),\"\",VLOOKUP($C77,GOY,4,FALSE)))","v":""},{"$f":"IF($J$2<>Players!$B$4,\"\",IF(ISERROR(VLOOKUP($C77,GOY,4,FALSE)),\"\",VLOOKUP($C77,GOY,4,FALSE)))","v":""},{"$f":"SUM($D77:$J77)","v":0}]
[null,null,null,{"$f":"SUM(D3:D77)","v":25.999999999999996},{"$f":"SUM(E3:E77)","v":26},25.999999999999996,26,0,0,0]

{"sheet":"Match Play","index":2,"n_rows":39,"n_cols":14,"rows_kept":39,"cut":false,"hidden":false,"merged":[[2,10,3,10],[22,0,23,0],[22,1,22,3],[2,6,3,6],[22,9,23,9],[2,7,3,7],[2,8,3,8],[2,0,3,0],[2,1,2,3],[2,4,3,4],[2,5,3,5],[0,0,0,13],[1,0,1,13],[21,0,21,13],[22,12,23,12],[22,4,23,4],[22,5,23,5],[22,6,23,6],[22,7,23,7],[22,11,23,11],[22,8,23,8],[2,13,3,13],[22,13,23,13],[2,9,3,9],[2,12,3,12],[22,10,23,10],[2,11,3,11]]}
["\"2018 Match Play Championship\""]
["\"A\" Flight"]
["Player","Record",null,null,"2018-01-20","2018-03-18","2018-05-20","2018-07-22","2018-09-15","2018-09-16","Current Points","Matches Left","Possible Points","Tiebreaker (GOY Points)"]
[null,"W","L","T"]
["Escobedo, Hector",{"$f":"COUNTIF(E5:J5,\"W\")","v":2},{"$f":"COUNTIF(E5:J5,\"L\")","v":1},{"$f":"COUNTIF(E5:J5,\"T\")","v":1},"T","W","W",{"$f":"IF($H$3<>Players!$B$4,\"\",IF(ISERROR(VLOOKUP($A5,Results,3,FALSE)),\"\",IF(VLOOKUP($A5,Results,3,FALSE)=\"\",\"\",IF(VLOOKUP($A5,Results,3,FALSE)=\"-\",\"\",IF(VLOOKUP($A5,Results,3,FALSE)=\"lost\",\"L\",IF(VLOOKUP($A5,Results,3,FALSE)=\"AS\",\"T\",\"W\"))))))","v":"L"},{"$f":"IF($I$3<>Players!$B$4,\"\",IF(ISERROR(VLOOKUP($A5,Results,3,FALSE)),\"\",IF(VLOOKUP($A5,Results,3,FALSE)=\"\",\"\",IF(VLOOKUP($A5,Results,3,FALSE)=\"-\",\"\",IF(VLOOKUP($A5,Results,3,FALSE)=\"lost\",\"L\",IF(VLOOKUP($A5,Results,3,FALSE)=\"AS\",\"T\",\"W\"))))))","v":""},{"$f":"IF($J$3<>Players!$B$4,\"\",IF(ISERROR(VLOOKUP($A5,Results,3,FALSE)),\"\",IF(VLOOKUP($A5,Results,3,FALSE)=\"\",\"\",IF(VLOOKUP($A5,Results,3,FALSE)=\"-\",\"\",IF(VLOOKUP($A5,Results,3,FALSE)=\"lost\",\"L\",IF(VLOOKUP($A5,Results,3,FALSE)=\"AS\",\"T\",\"W\"))))))","v":""},{"$f":"(B5*2)+(C5*0)+(D5*1)","v":5},{"$f":"MIN(4-SUM(B5:D5),COUNTIF($E$3:$J$3,\">\"&TODAY()))","v":0},{"$f":"K5+(L5*2)","v":5},{"$f":"VLOOKUP($A5,MatchPlayTB,9,FALSE)","v":6.6666666666666661}]
["Graham, Travis",{"$f":"COUNTIF(E6:J6,\"W\")","v":2},{"$f":"COUNTIF(E6:J6,\"L\")","v":0},{"$f":"COUNTIF(E6:J6,\"T\")","v":0},"","W","W",{"$f":"IF($H$3<>Players!$B$4,\"\",IF(ISERROR(VLOOKUP($A6,Results,3,FALSE)),\"\",IF(VLOOKUP($A6,Results,3,FALSE)=\"\",\"\",IF(VLOOKUP($A6,Results,3,FALSE)=\"-\",\"\",IF(VLOOKUP($A6,Results,3,FALSE)=\"lost\",\"L\",IF(VLOOKUP($A6,Results,3,FALSE)=\"AS\",\"T\",\"W\"))))))","v":""},{"$f":"IF($I$3<>Players!$B$4,\"\",IF(ISERROR(VLOOKUP($A6,Results,3,FALSE)),\"\",IF(VLOOKUP($A6,Results,3,FALSE)=\"\",\"\",IF(VLOOKUP($A6,Results,3,FALSE)=\"-\",\"\",IF(VLOOKUP($A6,Results,3,FALSE)=\"lost\",\"L\",IF(VLOOKUP($A6,Results,3,FALSE)=\"AS\",\"T\",\"W\"))))))","v":""},{"$f":"IF($J$3<>Players!$B$4,\"\",IF(ISERROR(VLOOKUP($A6,Results,3,FALSE)),\"\",IF(VLOOKUP($A6,Results,3,FALSE)=\"\",\"\",IF(VLOOKUP($A6,Results,3,FALSE)=\"-\",\"\",IF(VLOOKUP($A6,Results,3,FALSE)=\"lost\",\"L\",IF(VLOOKUP($A6,Results,3,FALSE)=\"AS\",\"T\",\"W\"))))))","v":""},{"$f":"(B6*2)+(C6*0)+(D6*1)","v":4},{"$f":"MIN(4-SUM(B6:D6),COUNTIF($E$3:$J$3,\">\"&TODAY()))","v":2},{"$f":"K6+(L6*2)","v":8},{"$f":"VLOOKUP($A6,MatchPlayTB,9,FALSE)","v":11}]
["Jones, Gary",{"$f":"COUNTIF(E7:J7,\"W\")","v":1},{"$f":"COUNTIF(E7:J7,\"L\")","v":0},{"$f":"COUNTIF(E7:J7,\"T\")","v":1},"","T","",{"$f":"IF($H$3<>Players!$B$4,\"\",IF(ISERROR(VLOOKUP($A7,Results,3,FALSE)),\"\",IF(VLOOKUP($A7,Results,3,FALSE)=\"\",\"\",IF(VLOOKUP($A7,Results,3,FALSE)=\"-\",\"\",IF(VLOOKUP($A7,Results,3,FALSE)=\"lost\",\"L\",IF(VLOOKUP($A7,Results,3,FALSE)=\"AS\",\"T\",\"W\"))))))","v":"W"},{"$f":"IF($I$3<>Players!$B$4,\"\",IF(ISERROR(VLOOKUP($A7,Results,3,FALSE)),\"\",IF(VLOOKUP($A7,Results,3,FALSE)=\"\",\"\",IF(VLOOKUP($A7,Results,3,FALSE)=\"-\",\"\",IF(VLOOKUP($A7,Results,3,FALSE)=\"lost\",\"L\",IF(VLOOKUP($A7,Results,3,FALSE)=\"AS\",\"T\",\"W\"))))))","v":""},{"$f":"IF($J$3<>Players!$B$4,\"\",IF(ISERROR(VLOOKUP($A7,Results,3,FALSE)),\"\",IF(VLOOKUP($A7,Results,3,FALSE)=\"\",\"\",IF(VLOOKUP($A7,Results,3,FALSE)=\"-\",\"\",IF(VLOOKUP($A7,Results,3,FALSE)=\"lost\",\"L\",IF(VLOOKUP($A7,Results,3,FALSE)=\"AS\",\"T\",\"W\"))))))","v":""},{"$f":"(B7*2)+(C7*0)+(D7*1)","v":3},{"$f":"MIN(4-SUM(B7:D7),COUNTIF($E$3:$J$3,\">\"&TODAY()))","v":2},{"$f":"K7+(L7*2)","v":7},{"$f":"VLOOKUP($A7,MatchPlayTB,9,FALSE)","v":10}]
["Ornelas, Eddie",{"$f":"COUNTIF(E8:J8,\"W\")","v":1},{"$f":"COUNTIF(E8:J8,\"L\")","v":0},{"$f":"COUNTIF(E8:J8,\"T\")","v":1},"T","","",{"$f":"IF($H$3<>Players!$B$4,\"\",IF(ISERROR(VLOOKUP($A8,Results,3,FALSE)),\"\",IF(VLOOKUP($A8,Results,3,FALSE)=\"\",\"\",IF(VLOOKUP($A8,Results,3,FALSE)=\"-\",\"\",IF(VLOOKUP($A8,Results,3,FALSE)=\"lost\",\"L\",IF(VLOOKUP($A8,Results,3,FALSE)=\"AS\",\"T\",\"W\"))))))","v":"W"},{"$f":"IF($I$3<>Players!$B$4,\"\",IF(ISERROR(VLOOKUP($A8,Results,3,FALSE)),\"\",IF(VLOOKUP($A8,Results,3,FALSE)=\"\",\"\",IF(VLOOKUP($A8,Results,3,FALSE)=\"-\",\"\",IF(VLOOKUP($A8,Results,3,FALSE)=\"lost\",\"L\",IF(VLOOKUP($A8,Results,3,FALSE)=\"AS\",\"T\",\"W\"))))))","v":""},{"$f":"IF($J$3<>Players!$B$4,\"\",IF(ISERROR(VLOOKUP($A8,Results,3,FALSE)),\"\",IF(VLOOKUP($A8,Results,3,FALSE)=\"\",\"\",IF(VLOOKUP($A8,Results,3,FALSE)=\"-\",\"\",IF(VLOOKUP($A8,Results,3,FALSE)=\"lost\",\"L\",IF(VLOOKUP($A8,Results,3,FALSE)=\"AS\",\"T\",\"W\"))))))","v":""},{"$f":"(B8*2)+(C8*0)+(D8*1)","v":3},{"$f":"MIN(4-SUM(B8:D8),COUNTIF($E$3:$J$3,\">\"&TODAY()))","v":2},{"$f":"K8+(L8*2)","v":7},{"$f":"VLOOKUP($A8,MatchPlayTB,9,FALSE)","v":5}]
["Doden, Jeff",{"$f":"COUNTIF(E9:J9,\"W\")","v":1},{"$f":"COUNTIF(E9:J9,\"L\")","v":1},{"$f":"COUNTIF(E9:J9,\"T\")","v":1},"W","T","L",{"$f":"IF($H$3<>Players!$B$4,\"\",IF(ISERROR(VLOOKUP($A9,Results,3,FALSE)),\"\",IF(VLOOKUP($A9,Results,3,FALSE)=\"\",\"\",IF(VLOOKUP($A9,Results,3,FALSE)=\"-\",\"\",IF(VLOOKUP($A9,Results,3,FALSE)=\"lost\",\"L\",IF(VLOOKUP($A9,Results,3,FALSE)=\"AS\",\"T\",\"W\"))))))","v":""},{"$f":"IF($I$3<>Players!$B$4,\"\",IF(ISERROR(VLOOKUP($A9,Results,3,FALSE)),\"\",IF(VLOOKUP($A9,Results,3,FALSE)=\"\",\"\",IF(VLOOKUP($A9,Results,3,FALSE)=\"-\",\"\",IF(VLOOKUP($A9,Results,3,FALSE)=\"lost\",\"L\",IF(VLOOKUP($A9,Results,3,FALSE)=\"AS\",\"T\",\"W\"))))))","v":""},{"$f":"IF($J$3<>Players!$B$4,\"\",IF(ISERROR(VLOOKUP($A9,Results,3,FALSE)),\"\",IF(VLOOKUP($A9,Results,3,FALSE)=\"\",\"\",IF(VLOOKUP($A9,Results,3,FALSE)=\"-\",\"\",IF(VLOOKUP($A9,Results,3,FALSE)=\"lost\",\"L\",IF(VLOOKUP($A9,Results,3,FALSE)=\"AS\",\"T\",\"W\"))))))","v":""},{"$f":"(B9*2)+(C9*0)+(D9*1)","v":3},{"$f":"MIN(4-SUM(B9:D9),COUNTIF($E$3:$J$3,\">\"&TODAY()))","v":1},{"$f":"K9+(L9*2)","v":5},{"$f":"VLOOKUP($A9,MatchPlayTB,9,FALSE)","v":0}]
["Mariano, Joe",{"$f":"COUNTIF(E10:J10,\"W\")","v":1},{"$f":"COUNTIF(E10:J10,\"L\")","v":2},{"$f":"COUNTIF(E10:J10,\"T\")","v":0},"W","L","",{"$f":"IF($H$3<>Players!$B$4,\"\",IF(ISERROR(VLOOKUP($A10,Results,3,FALSE)),\"\",IF(VLOOKUP($A10,Results,3,FALSE)=\"\",\"\",IF(VLOOKUP($A10,Results,3,FALSE)=\"-\",\"\",IF(VLOOKUP($A10,Results,3,FALSE)=\"lost\",\"L\",IF(VLOOKUP($A10,Results,3,FALSE)=\"AS\",\"T\",\"W\"))))))","v":"L"},{"$f":"IF($I$3<>Players!$B$4,\"\",IF(ISERROR(VLOOKUP($A10,Results,3,FALSE)),\"\",IF(VLOOKUP($A10,Results,3,FALSE)=\"\",\"\",IF(VLOOKUP($A10,Results,3,FALSE)=\"-\",\"\",IF(VLOOKUP($A10,Results,3,FALSE)=\"lost\",\"L\",IF(VLOOKUP($A10,Results,3,FALSE)=\"AS\",\"T\",\"W\"))))))","v":""},{"$f":"IF($J$3<>Players!$B$4,\"\",IF(ISERROR(VLOOKUP($A10,Results,3,FALSE)),\"\",IF(VLOOKUP($A10,Results,3,FALSE)=\"\",\"\",IF(VLOOKUP($A10,Results,3,FALSE)=\"-\",\"\",IF(VLOOKUP($A10,Results,3,FALSE)=\"lost\",\"L\",IF(VLOOKUP($A10,Results,3,FALSE)=\"AS\",\"T\",\"W\"))))))","v":""},{"$f":"(B10*2)+(C10*0)+(D10*1)","v":2},{"$f":"MIN(4-SUM(B10:D10),COUNTIF($E$3:$J$3,\">\"&TODAY()))","v":1},{"$f":"K10+(L10*2)","v":4},{"$f":"VLOOKUP($A10,MatchPlayTB,9,FALSE)","v":1.8333333333333333}]
["Mikschl, Tom",{"$f":"COUNTIF(E11:J11,\"W\")","v":0},{"$f":"COUNTIF(E11:J11,\"L\")","v":1},{"$f":"COUNTIF(E11:J11,\"T\")","v":0},"","","L",{"$f":"IF($H$3<>Players!$B$4,\"\",IF(ISERROR(VLOOKUP($A11,Results,3,FALSE)),\"\",IF(VLOOKUP($A11,Results,3,FALSE)=\"\",\"\",IF(VLOOKUP($A11,Results,3,FALSE)=\"-\",\"\",IF(VLOOKUP($A11,Results,3,FALSE)=\"lost\",\"L\",IF(VLOOKUP($A11,Results,3,FALSE)=\"AS\",\"T\",\"W\"))))))","v":""},{"$f":"IF($I$3<>Players!$B$4,\"\",IF(ISERROR(VLOOKUP($A11,Results,3,FALSE)),\"\",IF(VLOOKUP($A11,Results,3,FALSE)=\"\",\"\",IF(VLOOKUP($A11,Results,3,FALSE)=\"-\",\"\",IF(VLOOKUP($A11,Results,3,FALSE)=\"lost\",\"L\",IF(VLOOKUP($A11,Results,3,FALSE)=\"AS\",\"T\",\"W\"))))))","v":""},{"$f":"IF($J$3<>Players!$B$4,\"\",IF(ISERROR(VLOOKUP($A11,Results,3,FALSE)),\"\",IF(VLOOKUP($A11,Results,3,FALSE)=\"\",\"\",IF(VLOOKUP($A11,Results,3,FALSE)=\"-\",\"\",IF(VLOOKUP($A11,Results,3,FALSE)=\"lost\",\"L\",IF(VLOOKUP($A11,Results,3,FALSE)=\"AS\",\"T\",\"W\"))))))","v":""},{"$f":"(B11*2)+(C11*0)+(D11*1)","v":0},{"$f":"MIN(4-SUM(B11:D11),COUNTIF($E$3:$J$3,\">\"&TODAY()))","v":2},{"$f":"K11+(L11*2)","v":4},{"$f":"VLOOKUP($A11,MatchPlayTB,9,FALSE)","v":0.33333333333333331}]
["Thompson, Dan",{"$f":"COUNTIF(E12:J12,\"W\")","v":0},{"$f":"COUNTIF(E12:J12,\"L\")","v":2},{"$f":"COUNTIF(E12:J12,\"T\")","v":0},"L","L","",{"$f":"IF($H$3<>Players!$B$4,\"\",IF(ISERROR(VLOOKUP($A12,Results,3,FALSE)),\"\",IF(VLOOKUP($A12,Results,3,FALSE)=\"\",\"\",IF(VLOOKUP($A12,Results,3,FALSE)=\"-\",\"\",IF(VLOOKUP($A12,Results,3,FALSE)=\"lost\",\"L\",IF(VLOOKUP($A12,Results,3,FALSE)=\"AS\",\"T\",\"W\"))))))","v":""},{"$f":"IF($I$3<>Players!$B$4,\"\",IF(ISERROR(VLOOKUP($A12,Results,3,FALSE)),\"\",IF(VLOOKUP($A12,Results,3,FALSE)=\"\",\"\",IF(VLOOKUP($A12,Results,3,FALSE)=\"-\",\"\",IF(VLOOKUP($A12,Results,3,FALSE)=\"lost\",\"L\",IF(VLOOKUP($A12,Results,3,FALSE)=\"AS\",\"T\",\"W\"))))))","v":""},{"$f":"IF($J$3<>Players!$B$4,\"\",IF(ISERROR(VLOOKUP($A12,Results,3,FALSE)),\"\",IF(VLOOKUP($A12,Results,3,FALSE)=\"\",\"\",IF(VLOOKUP($A12,Results,3,FALSE)=\"-\",\"\",IF(VLOOKUP($A12,Results,3,FALSE)=\"lost\",\"L\",IF(VLOOKUP($A12,Results,3,FALSE)=\"AS\",\"T\",\"W\"))))))","v":""},{"$f":"(B12*2)+(C12*0)+(D12*1)","v":0},{"$f":"MIN(4-SUM(B12:D12),COUNTIF($E$3:$J$3,\">\"&TODAY()))","v":2},{"$f":"K12+(L12*2)","v":4},{"$f":"VLOOKUP($A12,MatchPlayTB,9,FALSE)","v":0}]
[null,{"$f":"COUNTIF(E13:J13,\"W\")","v":0},{"$f":"COUNTIF(E13:J13,\"L\")","v":0},{"$f":"COUNTIF(E13:J13,\"T\")","v":0},{"$f":"IF($E$3<>Players!$B$4,\"\",IF(ISERROR(VLOOKUP($A13,Results,3,FALSE)),\"\",IF(VLOOKUP($A13,Results,3,FALSE)=\"\",\"\",IF(VLOOKUP($A13,Results,3,FALSE)=\"-\",\"\",IF(VLOOKUP($A13,Results,3,FALSE)=\"lost\",\"L\",IF(VLOOKUP($A13,Results,3,FALSE)=\"AS\",\"T\",\"W\"))))))","v":""},{"$f":"IF($F$3<>Players!$B$4,\"\",IF(ISERROR(VLOOKUP($A13,Results,3,FALSE)),\"\",IF(VLOOKUP($A13,Results,3,FALSE)=\"\",\"\",IF(VLOOKUP($A13,Results,3,FALSE)=\"-\",\"\",IF(VLOOKUP($A13,Results,3,FALSE)=\"lost\",\"L\",IF(VLOOKUP($A13,Results,3,FALSE)=\"AS\",\"T\",\"W\"))))))","v":""},{"$f":"IF($G$3<>Players!$B$4,\"\",IF(ISERROR(VLOOKUP($A13,Results,3,FALSE)),\"\",IF(VLOOKUP($A13,Results,3,FALSE)=\"\",\"\",IF(VLOOKUP($A13,Results,3,FALSE)=\"-\",\"\",IF(VLOOKUP($A13,Results,3,FALSE)=\"lost\",\"L\",IF(VLOOKUP($A13,Results,3,FALSE)=\"AS\",\"T\",\"W\"))))))","v":""},{"$f":"IF($H$3<>Players!$B$4,\"\",IF(ISERROR(VLOOKUP($A13,Results,3,FALSE)),\"\",IF(VLOOKUP($A13,Results,3,FALSE)=\"\",\"\",IF(VLOOKUP($A13,Results,3,FALSE)=\"-\",\"\",IF(VLOOKUP($A13,Results,3,FALSE)=\"lost\",\"L\",IF(VLOOKUP($A13,Results,3,FALSE)=\"AS\",\"T\",\"W\"))))))","v":""},{"$f":"IF($I$3<>Players!$B$4,\"\",IF(ISERROR(VLOOKUP($A13,Results,3,FALSE)),\"\",IF(VLOOKUP($A13,Results,3,FALSE)=\"\",\"\",IF(VLOOKUP($A13,Results,3,FALSE)=\"-\",\"\",IF(VLOOKUP($A13,Results,3,FALSE)=\"lost\",\"L\",IF(VLOOKUP($A13,Results,3,FALSE)=\"AS\",\"T\",\"W\"))))))","v":""},{"$f":"IF($J$3<>Players!$B$4,\"\",IF(ISERROR(VLOOKUP($A13,Results,3,FALSE)),\"\",IF(VLOOKUP($A13,Results,3,FALSE)=\"\",\"\",IF(VLOOKUP($A13,Results,3,FALSE)=\"-\",\"\",IF(VLOOKUP($A13,Results,3,FALSE)=\"lost\",\"L\",IF(VLOOKUP($A13,Results,3,FALSE)=\"AS\",\"T\",\"W\"))))))","v":""},{"$f":"(B13*2)+(C13*0)+(D13*1)","v":0},{"$f":"MIN(4-SUM(B13:D13),COUNTIF($E$3:$J$3,\">\"&TODAY()))","v":2},{"$f":"K13+(L13*2)","v":4},{"$f":"VLOOKUP($A13,MatchPlayTB,9,FALSE)","v":{"$error":"#N/A"}}]
[null,0,0,0,{"$f":"IF($E$3<>Players!$B$4,\"\",IF(ISERROR(VLOOKUP($A14,Results,3,FALSE)),\"\",IF(VLOOKUP($A14,Results,3,FALSE)=\"\",\"\",IF(VLOOKUP($A14,Results,3,FALSE)=\"-\",\"\",IF(VLOOKUP($A14,Results,3,FALSE)=\"lost\",\"L\",IF(VLOOKUP($A14,Results,3,FALSE)=\"AS\",\"T\",\"W\"))))))","v":""},{"$f":"IF($F$3<>Players!$B$4,\"\",IF(ISERROR(VLOOKUP($A14,Results,3,FALSE)),\"\",IF(VLOOKUP($A14,Results,3,FALSE)=\"\",\"\",IF(VLOOKUP($A14,Results,3,FALSE)=\"-\",\"\",IF(VLOOKUP($A14,Results,3,FALSE)=\"lost\",\"L\",IF(VLOOKUP($A14,Results,3,FALSE)=\"AS\",\"T\",\"W\"))))))","v":""},{"$f":"IF($G$3<>Players!$B$4,\"\",IF(ISERROR(VLOOKUP($A14,Results,3,FALSE)),\"\",IF(VLOOKUP($A14,Results,3,FALSE)=\"\",\"\",IF(VLOOKUP($A14,Results,3,FALSE)=\"-\",\"\",IF(VLOOKUP($A14,Results,3,FALSE)=\"lost\",\"L\",IF(VLOOKUP($A14,Results,3,FALSE)=\"AS\",\"T\",\"W\"))))))","v":""},{"$f":"IF($H$3<>Players!$B$4,\"\",IF(ISERROR(VLOOKUP($A14,Results,3,FALSE)),\"\",IF(VLOOKUP($A14,Results,3,FALSE)=\"\",\"\",IF(VLOOKUP($A14,Results,3,FALSE)=\"-\",\"\",IF(VLOOKUP($A14,Results,3,FALSE)=\"lost\",\"L\",IF(VLOOKUP($A14,Results,3,FALSE)=\"AS\",\"T\",\"W\"))))))","v":""},{"$f":"IF($I$3<>Players!$B$4,\"\",IF(ISERROR(VLOOKUP($A14,Results,3,FALSE)),\"\",IF(VLOOKUP($A14,Results,3,FALSE)=\"\",\"\",IF(VLOOKUP($A14,Results,3,FALSE)=\"-\",\"\",IF(VLOOKUP($A14,Results,3,FALSE)=\"lost\",\"L\",IF(VLOOKUP($A14,Results,3,FALSE)=\"AS\",\"T\",\"W\"))))))","v":""},{"$f":"IF($J$3<>Players!$B$4,\"\",IF(ISERROR(VLOOKUP($A14,Results,3,FALSE)),\"\",IF(VLOOKUP($A14,Results,3,FALSE)=\"\",\"\",IF(VLOOKUP($A14,Results,3,FALSE)=\"-\",\"\",IF(VLOOKUP($A14,Results,3,FALSE)=\"lost\",\"L\",IF(VLOOKUP($A14,Results,3,FALSE)=\"AS\",\"T\",\"W\"))))))","v":""},0,2,4,{"$error":"#N/A"}]
[null,{"$f":"COUNTIF(E15:J15,\"W\")","v":0},{"$f":"COUNTIF(E15:J15,\"L\")","v":0},{"$f":"COUNTIF(E15:J15,\"T\")","v":0},{"$f":"IF($E$3<>Players!$B$4,\"\",IF(ISERROR(VLOOKUP($A15,Results,3,FALSE)),\"\",IF(VLOOKUP($A15,Results,3,FALSE)=\"\",\"\",IF(VLOOKUP($A15,Results,3,FALSE)=\"-\",\"\",IF(VLOOKUP($A15,Results,3,FALSE)=\"lost\",\"L\",IF(VLOOKUP($A15,Results,3,FALSE)=\"AS\",\"T\",\"W\"))))))","v":""},{"$f":"IF($F$3<>Players!$B$4,\"\",IF(ISERROR(VLOOKUP($A15,Results,3,FALSE)),\"\",IF(VLOOKUP($A15,Results,3,FALSE)=\"\",\"\",IF(VLOOKUP($A15,Results,3,FALSE)=\"-\",\"\",IF(VLOOKUP($A15,Results,3,FALSE)=\"lost\",\"L\",IF(VLOOKUP($A15,Results,3,FALSE)=\"AS\",\"T\",\"W\"))))))","v":""},{"$f":"IF($G$3<>Players!$B$4,\"\",IF(ISERROR(VLOOKUP($A15,Results,3,FALSE)),\"\",IF(VLOOKUP($A15,Results,3,FALSE)=\"\",\"\",IF(VLOOKUP($A15,Results,3,FALSE)=\"-\",\"\",IF(VLOOKUP($A15,Results,3,FALSE)=\"lost\",\"L\",IF(VLOOKUP($A15,Results,3,FALSE)=\"AS\",\"T\",\"W\"))))))","v":""},{"$f":"IF($H$3<>Players!$B$4,\"\",IF(ISERROR(VLOOKUP($A15,Results,3,FALSE)),\"\",IF(VLOOKUP($A15,Results,3,FALSE)=\"\",\"\",IF(VLOOKUP($A15,Results,3,FALSE)=\"-\",\"\",IF(VLOOKUP($A15,Results,3,FALSE)=\"lost\",\"L\",IF(VLOOKUP($A15,Results,3,FALSE)=\"AS\",\"T\",\"W\"))))))","v":""},{"$f":"IF($I$3<>Players!$B$4,\"\",IF(ISERROR(VLOOKUP($A15,Results,3,FALSE)),\"\",IF(VLOOKUP($A15,Results,3,FALSE)=\"\",\"\",IF(VLOOKUP($A15,Results,3,FALSE)=\"-\",\"\",IF(VLOOKUP($A15,Results,3,FALSE)=\"lost\",\"L\",IF(VLOOKUP($A15,Results,3,FALSE)=\"AS\",\"T\",\"W\"))))))","v":""},{"$f":"IF($J$3<>Players!$B$4,\"\",IF(ISERROR(VLOOKUP($A15,Results,3,FALSE)),\"\",IF(VLOOKUP($A15,Results,3,FALSE)=\"\",\"\",IF(VLOOKUP($A15,Results,3,FALSE)=\"-\",\"\",IF(VLOOKUP($A15,Results,3,FALSE)=\"lost\",\"L\",IF(VLOOKUP($A15,Results,3,FALSE)=\"AS\",\"T\",\"W\"))))))","v":""},{"$f":"(B15*2)+(C15*0)+(D15*1)","v":0},{"$f":"MIN(4-SUM(B15:D15),COUNTIF($E$3:$J$3,\">\"&TODAY()))","v":2},{"$f":"K15+(L15*2)","v":4},{"$error":"#N/A"}]
[null,{"$f":"COUNTIF(E16:J16,\"W\")","v":0},{"$f":"COUNTIF(E16:J16,\"L\")","v":0},{"$f":"COUNTIF(E16:J16,\"T\")","v":0},{"$f":"IF($E$3<>Players!$B$4,\"\",IF(ISERROR(VLOOKUP($A16,Results,3,FALSE)),\"\",IF(VLOOKUP($A16,Results,3,FALSE)=\"\",\"\",IF(VLOOKUP($A16,Results,3,FALSE)=\"-\",\"\",IF(VLOOKUP($A16,Results,3,FALSE)=\"lost\",\"L\",IF(VLOOKUP($A16,Results,3,FALSE)=\"AS\",\"T\",\"W\"))))))","v":""},{"$f":"IF($F$3<>Players!$B$4,\"\",IF(ISERROR(VLOOKUP($A16,Results,3,FALSE)),\"\",IF(VLOOKUP($A16,Results,3,FALSE)=\"\",\"\",IF(VLOOKUP($A16,Results,3,FALSE)=\"-\",\"\",IF(VLOOKUP($A16,Results,3,FALSE)=\"lost\",\"L\",IF(VLOOKUP($A16,Results,3,FALSE)=\"AS\",\"T\",\"W\"))))))","v":""},{"$f":"IF($G$3<>Players!$B$4,\"\",IF(ISERROR(VLOOKUP($A16,Results,3,FALSE)),\"\",IF(VLOOKUP($A16,Results,3,FALSE)=\"\",\"\",IF(VLOOKUP($A16,Results,3,FALSE)=\"-\",\"\",IF(VLOOKUP($A16,Results,3,FALSE)=\"lost\",\"L\",IF(VLOOKUP($A16,Results,3,FALSE)=\"AS\",\"T\",\"W\"))))))","v":""},{"$f":"IF($H$3<>Players!$B$4,\"\",IF(ISERROR(VLOOKUP($A16,Results,3,FALSE)),\"\",IF(VLOOKUP($A16,Results,3,FALSE)=\"\",\"\",IF(VLOOKUP($A16,Results,3,FALSE)=\"-\",\"\",IF(VLOOKUP($A16,Results,3,FALSE)=\"lost\",\"L\",IF(VLOOKUP($A16,Results,3,FALSE)=\"AS\",\"T\",\"W\"))))))","v":""},{"$f":"IF($I$3<>Players!$B$4,\"\",IF(ISERROR(VLOOKUP($A16,Results,3,FALSE)),\"\",IF(VLOOKUP($A16,Results,3,FALSE)=\"\",\"\",IF(VLOOKUP($A16,Results,3,FALSE)=\"-\",\"\",IF(VLOOKUP($A16,Results,3,FALSE)=\"lost\",\"L\",IF(VLOOKUP($A16,Results,3,FALSE)=\"AS\",\"T\",\"W\"))))))","v":""},{"$f":"IF($J$3<>Players!$B$4,\"\",IF(ISERROR(VLOOKUP($A16,Results,3,FALSE)),\"\",IF(VLOOKUP($A16,Results,3,FALSE)=\"\",\"\",IF(VLOOKUP($A16,Results,3,FALSE)=\"-\",\"\",IF(VLOOKUP($A16,Results,3,FALSE)=\"lost\",\"L\",IF(VLOOKUP($A16,Results,3,FALSE)=\"AS\",\"T\",\"W\"))))))","v":""},{"$f":"(B16*2)+(C16*0)+(D16*1)","v":0},{"$f":"MIN(4-SUM(B16:D16),COUNTIF($E$3:$J$3,\">\"&TODAY()))","v":2},{"$f":"K16+(L16*2)","v":4},{"$error":"#N/A"}]
[null,{"$f":"COUNTIF(E17:J17,\"W\")","v":0},{"$f":"COUNTIF(E17:J17,\"L\")","v":0},{"$f":"COUNTIF(E17:J17,\"T\")","v":0},{"$f":"IF($E$3<>Players!$B$4,\"\",IF(ISERROR(VLOOKUP($A17,Results,3,FALSE)),\"\",IF(VLOOKUP($A17,Results,3,FALSE)=\"\",\"\",IF(VLOOKUP($A17,Results,3,FALSE)=\"-\",\"\",IF(VLOOKUP($A17,Results,3,FALSE)=\"lost\",\"L\",IF(VLOOKUP($A17,Results,3,FALSE)=\"AS\",\"T\",\"W\"))))))","v":""},{"$f":"IF($F$3<>Players!$B$4,\"\",IF(ISERROR(VLOOKUP($A17,Results,3,FALSE)),\"\",IF(VLOOKUP($A17,Results,3,FALSE)=\"\",\"\",IF(VLOOKUP($A17,Results,3,FALSE)=\"-\",\"\",IF(VLOOKUP($A17,Results,3,FALSE)=\"lost\",\"L\",IF(VLOOKUP($A17,Results,3,FALSE)=\"AS\",\"T\",\"W\"))))))","v":""},{"$f":"IF($G$3<>Players!$B$4,\"\",IF(ISERROR(VLOOKUP($A17,Results,3,FALSE)),\"\",IF(VLOOKUP($A17,Results,3,FALSE)=\"\",\"\",IF(VLOOKUP($A17,Results,3,FALSE)=\"-\",\"\",IF(VLOOKUP($A17,Results,3,FALSE)=\"lost\",\"L\",IF(VLOOKUP($A17,Results,3,FALSE)=\"AS\",\"T\",\"W\"))))))","v":""},{"$f":"IF($H$3<>Players!$B$4,\"\",IF(ISERROR(VLOOKUP($A17,Results,3,FALSE)),\"\",IF(VLOOKUP($A17,Results,3,FALSE)=\"\",\"\",IF(VLOOKUP($A17,Results,3,FALSE)=\"-\",\"\",IF(VLOOKUP($A17,Results,3,FALSE)=\"lost\",\"L\",IF(VLOOKUP($A17,Results,3,FALSE)=\"AS\",\"T\",\"W\"))))))","v":""},{"$f":"IF($I$3<>Players!$B$4,\"\",IF(ISERROR(VLOOKUP($A17,Results,3,FALSE)),\"\",IF(VLOOKUP($A17,Results,3,FALSE)=\"\",\"\",IF(VLOOKUP($A17,Results,3,FALSE)=\"-\",\"\",IF(VLOOKUP($A17,Results,3,FALSE)=\"lost\",\"L\",IF(VLOOKUP($A17,Results,3,FALSE)=\"AS\",\"T\",\"W\"))))))","v":""},{"$f":"IF($J$3<>Players!$B$4,\"\",IF(ISERROR(VLOOKUP($A17,Results,3,FALSE)),\"\",IF(VLOOKUP($A17,Results,3,FALSE)=\"\",\"\",IF(VLOOKUP($A17,Results,3,FALSE)=\"-\",\"\",IF(VLOOKUP($A17,Results,3,FALSE)=\"lost\",\"L\",IF(VLOOKUP($A17,Results,3,FALSE)=\"AS\",\"T\",\"W\"))))))","v":""},{"$f":"(B17*2)+(C17*0)+(D17*1)","v":0},{"$f":"MIN(4-SUM(B17:D17),COUNTIF($E$3:$J$3,\">\"&TODAY()))","v":2},{"$f":"K17+(L17*2)","v":4},{"$error":"#N/A"}]
[null,{"$f":"COUNTIF(E18:J18,\"W\")","v":0},{"$f":"COUNTIF(E18:J18,\"L\")","v":0},{"$f":"COUNTIF(E18:J18,\"T\")","v":0},{"$f":"IF($E$3<>Players!$B$4,\"\",IF(ISERROR(VLOOKUP($A18,Results,3,FALSE)),\"\",IF(VLOOKUP($A18,Results,3,FALSE)=\"\",\"\",IF(VLOOKUP($A18,Results,3,FALSE)=\"-\",\"\",IF(VLOOKUP($A18,Results,3,FALSE)=\"lost\",\"L\",IF(VLOOKUP($A18,Results,3,FALSE)=\"AS\",\"T\",\"W\"))))))","v":""},{"$f":"IF($F$3<>Players!$B$4,\"\",IF(ISERROR(VLOOKUP($A18,Results,3,FALSE)),\"\",IF(VLOOKUP($A18,Results,3,FALSE)=\"\",\"\",IF(VLOOKUP($A18,Results,3,FALSE)=\"-\",\"\",IF(VLOOKUP($A18,Results,3,FALSE)=\"lost\",\"L\",IF(VLOOKUP($A18,Results,3,FALSE)=\"AS\",\"T\",\"W\"))))))","v":""},{"$f":"IF($G$3<>Players!$B$4,\"\",IF(ISERROR(VLOOKUP($A18,Results,3,FALSE)),\"\",IF(VLOOKUP($A18,Results,3,FALSE)=\"\",\"\",IF(VLOOKUP($A18,Results,3,FALSE)=\"-\",\"\",IF(VLOOKUP($A18,Results,3,FALSE)=\"lost\",\"L\",IF(VLOOKUP($A18,Results,3,FALSE)=\"AS\",\"T\",\"W\"))))))","v":""},{"$f":"IF($H$3<>Players!$B$4,\"\",IF(ISERROR(VLOOKUP($A18,Results,3,FALSE)),\"\",IF(VLOOKUP($A18,Results,3,FALSE)=\"\",\"\",IF(VLOOKUP($A18,Results,3,FALSE)=\"-\",\"\",IF(VLOOKUP($A18,Results,3,FALSE)=\"lost\",\"L\",IF(VLOOKUP($A18,Results,3,FALSE)=\"AS\",\"T\",\"W\"))))))","v":""},{"$f":"IF($I$3<>Players!$B$4,\"\",IF(ISERROR(VLOOKUP($A18,Results,3,FALSE)),\"\",IF(VLOOKUP($A18,Results,3,FALSE)=\"\",\"\",IF(VLOOKUP($A18,Results,3,FALSE)=\"-\",\"\",IF(VLOOKUP($A18,Results,3,FALSE)=\"lost\",\"L\",IF(VLOOKUP($A18,Results,3,FALSE)=\"AS\",\"T\",\"W\"))))))","v":""},{"$f":"IF($J$3<>Players!$B$4,\"\",IF(ISERROR(VLOOKUP($A18,Results,3,FALSE)),\"\",IF(VLOOKUP($A18,Results,3,FALSE)=\"\",\"\",IF(VLOOKUP($A18,Results,3,FALSE)=\"-\",\"\",IF(VLOOKUP($A18,Results,3,FALSE)=\"lost\",\"L\",IF(VLOOKUP($A18,Results,3,FALSE)=\"AS\",\"T\",\"W\"))))))","v":""},{"$f":"(B18*2)+(C18*0)+(D18*1)","v":0},{"$f":"MIN(4-SUM(B18:D18),COUNTIF($E$3:$J$3,\">\"&TODAY()))","v":2},{"$f":"K18+(L18*2)","v":4},{"$error":"#N/A"}]
[null,{"$f":"COUNTIF(E19:J19,\"W\")","v":0},{"$f":"COUNTIF(E19:J19,\"L\")","v":0},{"$f":"COUNTIF(E19:J19,\"T\")","v":0},{"$f":"IF($E$3<>Players!$B$4,\"\",IF(ISERROR(VLOOKUP($A19,Results,3,FALSE)),\"\",IF(VLOOKUP($A19,Results,3,FALSE)=\"\",\"\",IF(VLOOKUP($A19,Results,3,FALSE)=\"-\",\"\",IF(VLOOKUP($A19,Results,3,FALSE)=\"lost\",\"L\",IF(VLOOKUP($A19,Results,3,FALSE)=\"AS\",\"T\",\"W\"))))))","v":""},{"$f":"IF($F$3<>Players!$B$4,\"\",IF(ISERROR(VLOOKUP($A19,Results,3,FALSE)),\"\",IF(VLOOKUP($A19,Results,3,FALSE)=\"\",\"\",IF(VLOOKUP($A19,Results,3,FALSE)=\"-\",\"\",IF(VLOOKUP($A19,Results,3,FALSE)=\"lost\",\"L\",IF(VLOOKUP($A19,Results,3,FALSE)=\"AS\",\"T\",\"W\"))))))","v":""},{"$f":"IF($G$3<>Players!$B$4,\"\",IF(ISERROR(VLOOKUP($A19,Results,3,FALSE)),\"\",IF(VLOOKUP($A19,Results,3,FALSE)=\"\",\"\",IF(VLOOKUP($A19,Results,3,FALSE)=\"-\",\"\",IF(VLOOKUP($A19,Results,3,FALSE)=\"lost\",\"L\",IF(VLOOKUP($A19,Results,3,FALSE)=\"AS\",\"T\",\"W\"))))))","v":""},{"$f":"IF($H$3<>Players!$B$4,\"\",IF(ISERROR(VLOOKUP($A19,Results,3,FALSE)),\"\",IF(VLOOKUP($A19,Results,3,FALSE)=\"\",\"\",IF(VLOOKUP($A19,Results,3,FALSE)=\"-\",\"\",IF(VLOOKUP($A19,Results,3,FALSE)=\"lost\",\"L\",IF(VLOOKUP($A19,Results,3,FALSE)=\"AS\",\"T\",\"W\"))))))","v":""},{"$f":"IF($I$3<>Players!$B$4,\"\",IF(ISERROR(VLOOKUP($A19,Results,3,FALSE)),\"\",IF(VLOOKUP($A19,Results,3,FALSE)=\"\",\"\",IF(VLOOKUP($A19,Results,3,FALSE)=\"-\",\"\",IF(VLOOKUP($A19,Results,3,FALSE)=\"lost\",\"L\",IF(VLOOKUP($A19,Results,3,FALSE)=\"AS\",\"T\",\"W\"))))))","v":""},{"$f":"IF($J$3<>Players!$B$4,\"\",IF(ISERROR(VLOOKUP($A19,Results,3,FALSE)),\"\",IF(VLOOKUP($A19,Results,3,FALSE)=\"\",\"\",IF(VLOOKUP($A19,Results,3,FALSE)=\"-\",\"\",IF(VLOOKUP($A19,Results,3,FALSE)=\"lost\",\"L\",IF(VLOOKUP($A19,Results,3,FALSE)=\"AS\",\"T\",\"W\"))))))","v":""},{"$f":"(B19*2)+(C19*0)+(D19*1)","v":0},{"$f":"MIN(4-SUM(B19:D19),COUNTIF($E$3:$J$3,\">\"&TODAY()))","v":2},{"$f":"K19+(L19*2)","v":4},{"$error":"#N/A"}]
[]
[]
["\"B\" Flight"]
["Player","Record",null,null,"2018-01-20","2018-03-18","2018-05-20","2018-07-22","2018-09-15","2018-09-16","Current Points","Matches Left","Possible Points","Tiebreaker (GOY Points)"]
[null,"W","L","T"]
["Escobedo, Marco",{"$f":"COUNTIF(E25:J25,\"W\")","v":2},{"$f":"COUNTIF(E25:J25,\"L\")","v":1},{"$f":"COUNTIF(E25:J25,\"T\")","v":0},"W","L","W",{"$f":"IF($H$3<>Players!$B$4,\"\",IF(ISERROR(VLOOKUP($A25,Results,3,FALSE)),\"\",IF(VLOOKUP($A25,Results,3,FALSE)=\"\",\"\",IF(VLOOKUP($A25,Results,3,FALSE)=\"-\",\"\",IF(VLOOKUP($A25,Results,3,FALSE)=\"lost\",\"L\",IF(VLOOKUP($A25,Results,3,FALSE)=\"AS\",\"T\",\"W\"))))))","v":""},{"$f":"IF($I$3<>Players!$B$4,\"\",IF(ISERROR(VLOOKUP($A25,Results,3,FALSE)),\"\",IF(VLOOKUP($A25,Results,3,FALSE)=\"\",\"\",IF(VLOOKUP($A25,Results,3,FALSE)=\"-\",\"\",IF(VLOOKUP($A25,Results,3,FALSE)=\"lost\",\"L\",IF(VLOOKUP($A25,Results,3,FALSE)=\"AS\",\"T\",\"W\"))))))","v":""},{"$f":"IF($J$3<>Players!$B$4,\"\",IF(ISERROR(VLOOKUP($A25,Results,3,FALSE)),\"\",IF(VLOOKUP($A25,Results,3,FALSE)=\"\",\"\",IF(VLOOKUP($A25,Results,3,FALSE)=\"-\",\"\",IF(VLOOKUP($A25,Results,3,FALSE)=\"lost\",\"L\",IF(VLOOKUP($A25,Results,3,FALSE)=\"AS\",\"T\",\"W\"))))))","v":""},{"$f":"(B25*2)+(C25*0)+(D25*1)","v":4},{"$f":"MIN(4-SUM(B25:D25),COUNTIF($E$23:$J$23,\">\"&TODAY()))","v":1},{"$f":"K25+(L25*2)","v":6},{"$f":"VLOOKUP($A25,MatchPlayTB,9,FALSE)","v":17}]
["Havstad, Steve",{"$f":"COUNTIF(E26:J26,\"W\")","v":2},{"$f":"COUNTIF(E26:J26,\"L\")","v":1},{"$f":"COUNTIF(E26:J26,\"T\")","v":0},"W","L","W",{"$f":"IF($H$3<>Players!$B$4,\"\",IF(ISERROR(VLOOKUP($A26,Results,3,FALSE)),\"\",IF(VLOOKUP($A26,Results,3,FALSE)=\"\",\"\",IF(VLOOKUP($A26,Results,3,FALSE)=\"-\",\"\",IF(VLOOKUP($A26,Results,3,FALSE)=\"lost\",\"L\",IF(VLOOKUP($A26,Results,3,FALSE)=\"AS\",\"T\",\"W\"))))))","v":""},{"$f":"IF($I$3<>Players!$B$4,\"\",IF(ISERROR(VLOOKUP($A26,Results,3,FALSE)),\"\",IF(VLOOKUP($A26,Results,3,FALSE)=\"\",\"\",IF(VLOOKUP($A26,Results,3,FALSE)=\"-\",\"\",IF(VLOOKUP($A26,Results,3,FALSE)=\"lost\",\"L\",IF(VLOOKUP($A26,Results,3,FALSE)=\"AS\",\"T\",\"W\"))))))","v":""},{"$f":"IF($J$3<>Players!$B$4,\"\",IF(ISERROR(VLOOKUP($A26,Results,3,FALSE)),\"\",IF(VLOOKUP($A26,Results,3,FALSE)=\"\",\"\",IF(VLOOKUP($A26,Results,3,FALSE)=\"-\",\"\",IF(VLOOKUP($A26,Results,3,FALSE)=\"lost\",\"L\",IF(VLOOKUP($A26,Results,3,FALSE)=\"AS\",\"T\",\"W\"))))))","v":""},{"$f":"(B26*2)+(C26*0)+(D26*1)","v":4},{"$f":"MIN(4-SUM(B26:D26),COUNTIF($E$23:$J$23,\">\"&TODAY()))","v":1},{"$f":"K26+(L26*2)","v":6},{"$f":"VLOOKUP($A26,MatchPlayTB,9,FALSE)","v":3.6666666666666665}]
["Kozachenko, Jon",{"$f":"COUNTIF(E27:J27,\"W\")","v":1},{"$f":"COUNTIF(E27:J27,\"L\")","v":1},{"$f":"COUNTIF(E27:J27,\"T\")","v":1},null,"W","L",{"$f":"IF($H$3<>Players!$B$4,\"\",IF(ISERROR(VLOOKUP($A27,Results,3,FALSE)),\"\",IF(VLOOKUP($A27,Results,3,FALSE)=\"\",\"\",IF(VLOOKUP($A27,Results,3,FALSE)=\"-\",\"\",IF(VLOOKUP($A27,Results,3,FALSE)=\"lost\",\"L\",IF(VLOOKUP($A27,Results,3,FALSE)=\"AS\",\"T\",\"W\"))))))","v":"T"},{"$f":"IF($I$3<>Players!$B$4,\"\",IF(ISERROR(VLOOKUP($A27,Results,3,FALSE)),\"\",IF(VLOOKUP($A27,Results,3,FALSE)=\"\",\"\",IF(VLOOKUP($A27,Results,3,FALSE)=\"-\",\"\",IF(VLOOKUP($A27,Results,3,FALSE)=\"lost\",\"L\",IF(VLOOKUP($A27,Results,3,FALSE)=\"AS\",\"T\",\"W\"))))))","v":""},{"$f":"IF($J$3<>Players!$B$4,\"\",IF(ISERROR(VLOOKUP($A27,Results,3,FALSE)),\"\",IF(VLOOKUP($A27,Results,3,FALSE)=\"\",\"\",IF(VLOOKUP($A27,Results,3,FALSE)=\"-\",\"\",IF(VLOOKUP($A27,Results,3,FALSE)=\"lost\",\"L\",IF(VLOOKUP($A27,Results,3,FALSE)=\"AS\",\"T\",\"W\"))))))","v":""},{"$f":"(B27*2)+(C27*0)+(D27*1)","v":3},{"$f":"MIN(4-SUM(B27:D27),COUNTIF($E$23:$J$23,\">\"&TODAY()))","v":1},{"$f":"K27+(L27*2)","v":5},{"$f":"VLOOKUP($A27,MatchPlayTB,9,FALSE)","v":6}]
["Matthews, Keith",{"$f":"COUNTIF(E28:J28,\"W\")","v":1},{"$f":"COUNTIF(E28:J28,\"L\")","v":2},{"$f":"COUNTIF(E28:J28,\"T\")","v":1},"L","W","L",{"$f":"IF($H$3<>Players!$B$4,\"\",IF(ISERROR(VLOOKUP($A28,Results,3,FALSE)),\"\",IF(VLOOKUP($A28,Results,3,FALSE)=\"\",\"\",IF(VLOOKUP($A28,Results,3,FALSE)=\"-\",\"\",IF(VLOOKUP($A28,Results,3,FALSE)=\"lost\",\"L\",IF(VLOOKUP($A28,Results,3,FALSE)=\"AS\",\"T\",\"W\"))))))","v":"T"},{"$f":"IF($I$3<>Players!$B$4,\"\",IF(ISERROR(VLOOKUP($A28,Results,3,FALSE)),\"\",IF(VLOOKUP($A28,Results,3,FALSE)=\"\",\"\",IF(VLOOKUP($A28,Results,3,FALSE)=\"-\",\"\",IF(VLOOKUP($A28,Results,3,FALSE)=\"lost\",\"L\",IF(VLOOKUP($A28,Results,3,FALSE)=\"AS\",\"T\",\"W\"))))))","v":""},{"$f":"IF($J$3<>Players!$B$4,\"\",IF(ISERROR(VLOOKUP($A28,Results,3,FALSE)),\"\",IF(VLOOKUP($A28,Results,3,FALSE)=\"\",\"\",IF(VLOOKUP($A28,Results,3,FALSE)=\"-\",\"\",IF(VLOOKUP($A28,Results,3,FALSE)=\"lost\",\"L\",IF(VLOOKUP($A28,Results,3,FALSE)=\"AS\",\"T\",\"W\"))))))","v":""},{"$f":"(B28*2)+(C28*0)+(D28*1)","v":3},{"$f":"MIN(4-SUM(B28:D28),COUNTIF($E$23:$J$23,\">\"&TODAY()))","v":0},{"$f":"K28+(L28*2)","v":3},{"$f":"VLOOKUP($A28,MatchPlayTB,9,FALSE)","v":2}]
["Tenorio, Noe",{"$f":"COUNTIF(E29:J29,\"W\")","v":1},{"$f":"COUNTIF(E29:J29,\"L\")","v":2},{"$f":"COUNTIF(E29:J29,\"T\")","v":0},"L","W","L",{"$f":"IF($H$3<>Players!$B$4,\"\",IF(ISERROR(VLOOKUP($A29,Results,3,FALSE)),\"\",IF(VLOOKUP($A29,Results,3,FALSE)=\"\",\"\",IF(VLOOKUP($A29,Results,3,FALSE)=\"-\",\"\",IF(VLOOKUP($A29,Results,3,FALSE)=\"lost\",\"L\",IF(VLOOKUP($A29,Results,3,FALSE)=\"AS\",\"T\",\"W\"))))))","v":""},{"$f":"IF($I$3<>Players!$B$4,\"\",IF(ISERROR(VLOOKUP($A29,Results,3,FALSE)),\"\",IF(VLOOKUP($A29,Results,3,FALSE)=\"\",\"\",IF(VLOOKUP($A29,Results,3,FALSE)=\"-\",\"\",IF(VLOOKUP($A29,Results,3,FALSE)=\"lost\",\"L\",IF(VLOOKUP($A29,Results,3,FALSE)=\"AS\",\"T\",\"W\"))))))","v":""},{"$f":"IF($J$3<>Players!$B$4,\"\",IF(ISERROR(VLOOKUP($A29,Results,3,FALSE)),\"\",IF(VLOOKUP($A29,Results,3,FALSE)=\"\",\"\",IF(VLOOKUP($A29,Results,3,FALSE)=\"-\",\"\",IF(VLOOKUP($A29,Results,3,FALSE)=\"lost\",\"L\",IF(VLOOKUP($A29,Results,3,FALSE)=\"AS\",\"T\",\"W\"))))))","v":""},{"$f":"(B29*2)+(C29*0)+(D29*1)","v":2},{"$f":"MIN(4-SUM(B29:D29),COUNTIF($E$23:$J$23,\">\"&TODAY()))","v":1},{"$f":"K29+(L29*2)","v":4},{"$f":"VLOOKUP($A29,MatchPlayTB,9,FALSE)","v":6}]
["Aldrian, Mark",{"$f":"COUNTIF(E30:J30,\"W\")","v":0},{"$f":"COUNTIF(E30:J30,\"L\")","v":0},{"$f":"COUNTIF(E30:J30,\"T\")","v":0},"","","",{"$f":"IF($H$3<>Players!$B$4,\"\",IF(ISERROR(VLOOKUP($A30,Results,3,FALSE)),\"\",IF(VLOOKUP($A30,Results,3,FALSE)=\"\",\"\",IF(VLOOKUP($A30,Results,3,FALSE)=\"-\",\"\",IF(VLOOKUP($A30,Results,3,FALSE)=\"lost\",\"L\",IF(VLOOKUP($A30,Results,3,FALSE)=\"AS\",\"T\",\"W\"))))))","v":""},{"$f":"IF($I$3<>Players!$B$4,\"\",IF(ISERROR(VLOOKUP($A30,Results,3,FALSE)),\"\",IF(VLOOKUP($A30,Results,3,FALSE)=\"\",\"\",IF(VLOOKUP($A30,Results,3,FALSE)=\"-\",\"\",IF(VLOOKUP($A30,Results,3,FALSE)=\"lost\",\"L\",IF(VLOOKUP($A30,Results,3,FALSE)=\"AS\",\"T\",\"W\"))))))","v":""},{"$f":"IF($J$3<>Players!$B$4,\"\",IF(ISERROR(VLOOKUP($A30,Results,3,FALSE)),\"\",IF(VLOOKUP($A30,Results,3,FALSE)=\"\",\"\",IF(VLOOKUP($A30,Results,3,FALSE)=\"-\",\"\",IF(VLOOKUP($A30,Results,3,FALSE)=\"lost\",\"L\",IF(VLOOKUP($A30,Results,3,FALSE)=\"AS\",\"T\",\"W\"))))))","v":""},{"$f":"(B30*2)+(C30*0)+(D30*1)","v":0},{"$f":"MIN(4-SUM(B30:D30),COUNTIF($E$23:$J$23,\">\"&TODAY()))","v":2},{"$f":"K30+(L30*2)","v":4},{"$f":"VLOOKUP($A30,MatchPlayTB,9,FALSE)","v":0}]
["Lujan, Fil",{"$f":"COUNTIF(E31:J31,\"W\")","v":0},{"$f":"COUNTIF(E31:J31,\"L\")","v":0},{"$f":"COUNTIF(E31:J31,\"T\")","v":0},null,"","",{"$f":"IF($H$3<>Players!$B$4,\"\",IF(ISERROR(VLOOKUP($A31,Results,3,FALSE)),\"\",IF(VLOOKUP($A31,Results,3,FALSE)=\"\",\"\",IF(VLOOKUP($A31,Results,3,FALSE)=\"-\",\"\",IF(VLOOKUP($A31,Results,3,FALSE)=\"lost\",\"L\",IF(VLOOKUP($A31,Results,3,FALSE)=\"AS\",\"T\",\"W\"))))))","v":""},{"$f":"IF($I$3<>Players!$B$4,\"\",IF(ISERROR(VLOOKUP($A31,Results,3,FALSE)),\"\",IF(VLOOKUP($A31,Results,3,FALSE)=\"\",\"\",IF(VLOOKUP($A31,Results,3,FALSE)=\"-\",\"\",IF(VLOOKUP($A31,Results,3,FALSE)=\"lost\",\"L\",IF(VLOOKUP($A31,Results,3,FALSE)=\"AS\",\"T\",\"W\"))))))","v":""},{"$f":"IF($J$3<>Players!$B$4,\"\",IF(ISERROR(VLOOKUP($A31,Results,3,FALSE)),\"\",IF(VLOOKUP($A31,Results,3,FALSE)=\"\",\"\",IF(VLOOKUP($A31,Results,3,FALSE)=\"-\",\"\",IF(VLOOKUP($A31,Results,3,FALSE)=\"lost\",\"L\",IF(VLOOKUP($A31,Results,3,FALSE)=\"AS\",\"T\",\"W\"))))))","v":""},{"$f":"(B31*2)+(C31*0)+(D31*1)","v":0},{"$f":"MIN(4-SUM(B31:D31),COUNTIF($E$23:$J$23,\">\"&TODAY()))","v":2},{"$f":"K31+(L31*2)","v":4},{"$f":"VLOOKUP($A31,MatchPlayTB,9,FALSE)","v":0}]
[null,{"$f":"COUNTIF(E32:J32,\"W\")","v":0},{"$f":"COUNTIF(E32:J32,\"L\")","v":0},{"$f":"COUNTIF(E32:J32,\"T\")","v":0},{"$f":"IF($E$3<>Players!$B$4,\"\",IF(ISERROR(VLOOKUP($A32,Results,3,FALSE)),\"\",IF(VLOOKUP($A32,Results,3,FALSE)=\"\",\"\",IF(VLOOKUP($A32,Results,3,FALSE)=\"-\",\"\",IF(VLOOKUP($A32,Results,3,FALSE)=\"lost\",\"L\",IF(VLOOKUP($A32,Results,3,FALSE)=\"AS\",\"T\",\"W\"))))))","v":""},{"$f":"IF($F$3<>Players!$B$4,\"\",IF(ISERROR(VLOOKUP($A32,Results,3,FALSE)),\"\",IF(VLOOKUP($A32,Results,3,FALSE)=\"\",\"\",IF(VLOOKUP($A32,Results,3,FALSE)=\"-\",\"\",IF(VLOOKUP($A32,Results,3,FALSE)=\"lost\",\"L\",IF(VLOOKUP($A32,Results,3,FALSE)=\"AS\",\"T\",\"W\"))))))","v":""},{"$f":"IF($G$3<>Players!$B$4,\"\",IF(ISERROR(VLOOKUP($A32,Results,3,FALSE)),\"\",IF(VLOOKUP($A32,Results,3,FALSE)=\"\",\"\",IF(VLOOKUP($A32,Results,3,FALSE)=\"-\",\"\",IF(VLOOKUP($A32,Results,3,FALSE)=\"lost\",\"L\",IF(VLOOKUP($A32,Results,3,FALSE)=\"AS\",\"T\",\"W\"))))))","v":""},{"$f":"IF($H$3<>Players!$B$4,\"\",IF(ISERROR(VLOOKUP($A32,Results,3,FALSE)),\"\",IF(VLOOKUP($A32,Results,3,FALSE)=\"\",\"\",IF(VLOOKUP($A32,Results,3,FALSE)=\"-\",\"\",IF(VLOOKUP($A32,Results,3,FALSE)=\"lost\",\"L\",IF(VLOOKUP($A32,Results,3,FALSE)=\"AS\",\"T\",\"W\"))))))","v":""},{"$f":"IF($I$3<>Players!$B$4,\"\",IF(ISERROR(VLOOKUP($A32,Results,3,FALSE)),\"\",IF(VLOOKUP($A32,Results,3,FALSE)=\"\",\"\",IF(VLOOKUP($A32,Results,3,FALSE)=\"-\",\"\",IF(VLOOKUP($A32,Results,3,FALSE)=\"lost\",\"L\",IF(VLOOKUP($A32,Results,3,FALSE)=\"AS\",\"T\",\"W\"))))))","v":""},{"$f":"IF($J$3<>Players!$B$4,\"\",IF(ISERROR(VLOOKUP($A32,Results,3,FALSE)),\"\",IF(VLOOKUP($A32,Results,3,FALSE)=\"\",\"\",IF(VLOOKUP($A32,Results,3,FALSE)=\"-\",\"\",IF(VLOOKUP($A32,Results,3,FALSE)=\"lost\",\"L\",IF(VLOOKUP($A32,Results,3,FALSE)=\"AS\",\"T\",\"W\"))))))","v":""},{"$f":"(B32*2)+(C32*0)+(D32*1)","v":0},{"$f":"MIN(4-SUM(B32:D32),COUNTIF($E$23:$J$23,\">\"&TODAY()))","v":2},{"$f":"K32+(L32*2)","v":4},{"$f":"VLOOKUP($A32,MatchPlayTB,9,FALSE)","v":{"$error":"#N/A"}}]
[null,0,0,0,{"$f":"IF($E$3<>Players!$B$4,\"\",IF(ISERROR(VLOOKUP($A33,Results,3,FALSE)),\"\",IF(VLOOKUP($A33,Results,3,FALSE)=\"\",\"\",IF(VLOOKUP($A33,Results,3,FALSE)=\"-\",\"\",IF(VLOOKUP($A33,Results,3,FALSE)=\"lost\",\"L\",IF(VLOOKUP($A33,Results,3,FALSE)=\"AS\",\"T\",\"W\"))))))","v":""},{"$f":"IF($F$3<>Players!$B$4,\"\",IF(ISERROR(VLOOKUP($A33,Results,3,FALSE)),\"\",IF(VLOOKUP($A33,Results,3,FALSE)=\"\",\"\",IF(VLOOKUP($A33,Results,3,FALSE)=\"-\",\"\",IF(VLOOKUP($A33,Results,3,FALSE)=\"lost\",\"L\",IF(VLOOKUP($A33,Results,3,FALSE)=\"AS\",\"T\",\"W\"))))))","v":""},{"$f":"IF($G$3<>Players!$B$4,\"\",IF(ISERROR(VLOOKUP($A33,Results,3,FALSE)),\"\",IF(VLOOKUP($A33,Results,3,FALSE)=\"\",\"\",IF(VLOOKUP($A33,Results,3,FALSE)=\"-\",\"\",IF(VLOOKUP($A33,Results,3,FALSE)=\"lost\",\"L\",IF(VLOOKUP($A33,Results,3,FALSE)=\"AS\",\"T\",\"W\"))))))","v":""},{"$f":"IF($H$3<>Players!$B$4,\"\",IF(ISERROR(VLOOKUP($A33,Results,3,FALSE)),\"\",IF(VLOOKUP($A33,Results,3,FALSE)=\"\",\"\",IF(VLOOKUP($A33,Results,3,FALSE)=\"-\",\"\",IF(VLOOKUP($A33,Results,3,FALSE)=\"lost\",\"L\",IF(VLOOKUP($A33,Results,3,FALSE)=\"AS\",\"T\",\"W\"))))))","v":""},{"$f":"IF($I$3<>Players!$B$4,\"\",IF(ISERROR(VLOOKUP($A33,Results,3,FALSE)),\"\",IF(VLOOKUP($A33,Results,3,FALSE)=\"\",\"\",IF(VLOOKUP($A33,Results,3,FALSE)=\"-\",\"\",IF(VLOOKUP($A33,Results,3,FALSE)=\"lost\",\"L\",IF(VLOOKUP($A33,Results,3,FALSE)=\"AS\",\"T\",\"W\"))))))","v":""},{"$f":"IF($J$3<>Players!$B$4,\"\",IF(ISERROR(VLOOKUP($A33,Results,3,FALSE)),\"\",IF(VLOOKUP($A33,Results,3,FALSE)=\"\",\"\",IF(VLOOKUP($A33,Results,3,FALSE)=\"-\",\"\",IF(VLOOKUP($A33,Results,3,FALSE)=\"lost\",\"L\",IF(VLOOKUP($A33,Results,3,FALSE)=\"AS\",\"T\",\"W\"))))))","v":""},0,2,4,{"$error":"#N/A"}]
[null,0,0,0,{"$f":"IF($E$3<>Players!$B$4,\"\",IF(ISERROR(VLOOKUP($A34,Results,3,FALSE)),\"\",IF(VLOOKUP($A34,Results,3,FALSE)=\"\",\"\",IF(VLOOKUP($A34,Results,3,FALSE)=\"-\",\"\",IF(VLOOKUP($A34,Results,3,FALSE)=\"lost\",\"L\",IF(VLOOKUP($A34,Results,3,FALSE)=\"AS\",\"T\",\"W\"))))))","v":""},{"$f":"IF($F$3<>Players!$B$4,\"\",IF(ISERROR(VLOOKUP($A34,Results,3,FALSE)),\"\",IF(VLOOKUP($A34,Results,3,FALSE)=\"\",\"\",IF(VLOOKUP($A34,Results,3,FALSE)=\"-\",\"\",IF(VLOOKUP($A34,Results,3,FALSE)=\"lost\",\"L\",IF(VLOOKUP($A34,Results,3,FALSE)=\"AS\",\"T\",\"W\"))))))","v":""},{"$f":"IF($G$3<>Players!$B$4,\"\",IF(ISERROR(VLOOKUP($A34,Results,3,FALSE)),\"\",IF(VLOOKUP($A34,Results,3,FALSE)=\"\",\"\",IF(VLOOKUP($A34,Results,3,FALSE)=\"-\",\"\",IF(VLOOKUP($A34,Results,3,FALSE)=\"lost\",\"L\",IF(VLOOKUP($A34,Results,3,FALSE)=\"AS\",\"T\",\"W\"))))))","v":""},{"$f":"IF($H$3<>Players!$B$4,\"\",IF(ISERROR(VLOOKUP($A34,Results,3,FALSE)),\"\",IF(VLOOKUP($A34,Results,3,FALSE)=\"\",\"\",IF(VLOOKUP($A34,Results,3,FALSE)=\"-\",\"\",IF(VLOOKUP($A34,Results,3,FALSE)=\"lost\",\"L\",IF(VLOOKUP($A34,Results,3,FALSE)=\"AS\",\"T\",\"W\"))))))","v":""},{"$f":"IF($I$3<>Players!$B$4,\"\",IF(ISERROR(VLOOKUP($A34,Results,3,FALSE)),\"\",IF(VLOOKUP($A34,Results,3,FALSE)=\"\",\"\",IF(VLOOKUP($A34,Results,3,FALSE)=\"-\",\"\",IF(VLOOKUP($A34,Results,3,FALSE)=\"lost\",\"L\",IF(VLOOKUP($A34,Results,3,FALSE)=\"AS\",\"T\",\"W\"))))))","v":""},{"$f":"IF($J$3<>Players!$B$4,\"\",IF(ISERROR(VLOOKUP($A34,Results,3,FALSE)),\"\",IF(VLOOKUP($A34,Results,3,FALSE)=\"\",\"\",IF(VLOOKUP($A34,Results,3,FALSE)=\"-\",\"\",IF(VLOOKUP($A34,Results,3,FALSE)=\"lost\",\"L\",IF(VLOOKUP($A34,Results,3,FALSE)=\"AS\",\"T\",\"W\"))))))","v":""},0,2,4,{"$error":"#N/A"}]
[null,{"$f":"COUNTIF(E35:J35,\"W\")","v":0},{"$f":"COUNTIF(E35:J35,\"L\")","v":0},{"$f":"COUNTIF(E35:J35,\"T\")","v":0},{"$f":"IF($E$3<>Players!$B$4,\"\",IF(ISERROR(VLOOKUP($A35,Results,3,FALSE)),\"\",IF(VLOOKUP($A35,Results,3,FALSE)=\"\",\"\",IF(VLOOKUP($A35,Results,3,FALSE)=\"-\",\"\",IF(VLOOKUP($A35,Results,3,FALSE)=\"lost\",\"L\",IF(VLOOKUP($A35,Results,3,FALSE)=\"AS\",\"T\",\"W\"))))))","v":""},{"$f":"IF($F$3<>Players!$B$4,\"\",IF(ISERROR(VLOOKUP($A35,Results,3,FALSE)),\"\",IF(VLOOKUP($A35,Results,3,FALSE)=\"\",\"\",IF(VLOOKUP($A35,Results,3,FALSE)=\"-\",\"\",IF(VLOOKUP($A35,Results,3,FALSE)=\"lost\",\"L\",IF(VLOOKUP($A35,Results,3,FALSE)=\"AS\",\"T\",\"W\"))))))","v":""},{"$f":"IF($G$3<>Players!$B$4,\"\",IF(ISERROR(VLOOKUP($A35,Results,3,FALSE)),\"\",IF(VLOOKUP($A35,Results,3,FALSE)=\"\",\"\",IF(VLOOKUP($A35,Results,3,FALSE)=\"-\",\"\",IF(VLOOKUP($A35,Results,3,FALSE)=\"lost\",\"L\",IF(VLOOKUP($A35,Results,3,FALSE)=\"AS\",\"T\",\"W\"))))))","v":""},{"$f":"IF($H$3<>Players!$B$4,\"\",IF(ISERROR(VLOOKUP($A35,Results,3,FALSE)),\"\",IF(VLOOKUP($A35,Results,3,FALSE)=\"\",\"\",IF(VLOOKUP($A35,Results,3,FALSE)=\"-\",\"\",IF(VLOOKUP($A35,Results,3,FALSE)=\"lost\",\"L\",IF(VLOOKUP($A35,Results,3,FALSE)=\"AS\",\"T\",\"W\"))))))","v":""},{"$f":"IF($I$3<>Players!$B$4,\"\",IF(ISERROR(VLOOKUP($A35,Results,3,FALSE)),\"\",IF(VLOOKUP($A35,Results,3,FALSE)=\"\",\"\",IF(VLOOKUP($A35,Results,3,FALSE)=\"-\",\"\",IF(VLOOKUP($A35,Results,3,FALSE)=\"lost\",\"L\",IF(VLOOKUP($A35,Results,3,FALSE)=\"AS\",\"T\",\"W\"))))))","v":""},{"$f":"IF($J$3<>Players!$B$4,\"\",IF(ISERROR(VLOOKUP($A35,Results,3,FALSE)),\"\",IF(VLOOKUP($A35,Results,3,FALSE)=\"\",\"\",IF(VLOOKUP($A35,Results,3,FALSE)=\"-\",\"\",IF(VLOOKUP($A35,Results,3,FALSE)=\"lost\",\"L\",IF(VLOOKUP($A35,Results,3,FALSE)=\"AS\",\"T\",\"W\"))))))","v":""},{"$f":"(B35*2)+(C35*0)+(D35*1)","v":0},{"$f":"MIN(4-SUM(B35:D35),COUNTIF($E$23:$J$23,\">\"&TODAY()))","v":2},{"$f":"K35+(L35*2)","v":4},{"$error":"#N/A"}]
[null,{"$f":"COUNTIF(E36:J36,\"W\")","v":0},{"$f":"COUNTIF(E36:J36,\"L\")","v":0},{"$f":"COUNTIF(E36:J36,\"T\")","v":0},{"$f":"IF($E$3<>Players!$B$4,\"\",IF(ISERROR(VLOOKUP($A36,Results,3,FALSE)),\"\",IF(VLOOKUP($A36,Results,3,FALSE)=\"\",\"\",IF(VLOOKUP($A36,Results,3,FALSE)=\"-\",\"\",IF(VLOOKUP($A36,Results,3,FALSE)=\"lost\",\"L\",IF(VLOOKUP($A36,Results,3,FALSE)=\"AS\",\"T\",\"W\"))))))","v":""},{"$f":"IF($F$3<>Players!$B$4,\"\",IF(ISERROR(VLOOKUP($A36,Results,3,FALSE)),\"\",IF(VLOOKUP($A36,Results,3,FALSE)=\"\",\"\",IF(VLOOKUP($A36,Results,3,FALSE)=\"-\",\"\",IF(VLOOKUP($A36,Results,3,FALSE)=\"lost\",\"L\",IF(VLOOKUP($A36,Results,3,FALSE)=\"AS\",\"T\",\"W\"))))))","v":""},{"$f":"IF($G$3<>Players!$B$4,\"\",IF(ISERROR(VLOOKUP($A36,Results,3,FALSE)),\"\",IF(VLOOKUP($A36,Results,3,FALSE)=\"\",\"\",IF(VLOOKUP($A36,Results,3,FALSE)=\"-\",\"\",IF(VLOOKUP($A36,Results,3,FALSE)=\"lost\",\"L\",IF(VLOOKUP($A36,Results,3,FALSE)=\"AS\",\"T\",\"W\"))))))","v":""},{"$f":"IF($H$3<>Players!$B$4,\"\",IF(ISERROR(VLOOKUP($A36,Results,3,FALSE)),\"\",IF(VLOOKUP($A36,Results,3,FALSE)=\"\",\"\",IF(VLOOKUP($A36,Results,3,FALSE)=\"-\",\"\",IF(VLOOKUP($A36,Results,3,FALSE)=\"lost\",\"L\",IF(VLOOKUP($A36,Results,3,FALSE)=\"AS\",\"T\",\"W\"))))))","v":""},{"$f":"IF($I$3<>Players!$B$4,\"\",IF(ISERROR(VLOOKUP($A36,Results,3,FALSE)),\"\",IF(VLOOKUP($A36,Results,3,FALSE)=\"\",\"\",IF(VLOOKUP($A36,Results,3,FALSE)=\"-\",\"\",IF(VLOOKUP($A36,Results,3,FALSE)=\"lost\",\"L\",IF(VLOOKUP($A36,Results,3,FALSE)=\"AS\",\"T\",\"W\"))))))","v":""},{"$f":"IF($J$3<>Players!$B$4,\"\",IF(ISERROR(VLOOKUP($A36,Results,3,FALSE)),\"\",IF(VLOOKUP($A36,Results,3,FALSE)=\"\",\"\",IF(VLOOKUP($A36,Results,3,FALSE)=\"-\",\"\",IF(VLOOKUP($A36,Results,3,FALSE)=\"lost\",\"L\",IF(VLOOKUP($A36,Results,3,FALSE)=\"AS\",\"T\",\"W\"))))))","v":""},{"$f":"(B36*2)+(C36*0)+(D36*1)","v":0},{"$f":"MIN(4-SUM(B36:D36),COUNTIF($E$23:$J$23,\">\"&TODAY()))","v":2},{"$f":"K36+(L36*2)","v":4},{"$error":"#N/A"}]
[null,{"$f":"COUNTIF(E37:J37,\"W\")","v":0},{"$f":"COUNTIF(E37:J37,\"L\")","v":0},{"$f":"COUNTIF(E37:J37,\"T\")","v":0},{"$f":"IF($E$3<>Players!$B$4,\"\",IF(ISERROR(VLOOKUP($A37,Results,3,FALSE)),\"\",IF(VLOOKUP($A37,Results,3,FALSE)=\"\",\"\",IF(VLOOKUP($A37,Results,3,FALSE)=\"-\",\"\",IF(VLOOKUP($A37,Results,3,FALSE)=\"lost\",\"L\",IF(VLOOKUP($A37,Results,3,FALSE)=\"AS\",\"T\",\"W\"))))))","v":""},{"$f":"IF($F$3<>Players!$B$4,\"\",IF(ISERROR(VLOOKUP($A37,Results,3,FALSE)),\"\",IF(VLOOKUP($A37,Results,3,FALSE)=\"\",\"\",IF(VLOOKUP($A37,Results,3,FALSE)=\"-\",\"\",IF(VLOOKUP($A37,Results,3,FALSE)=\"lost\",\"L\",IF(VLOOKUP($A37,Results,3,FALSE)=\"AS\",\"T\",\"W\"))))))","v":""},{"$f":"IF($G$3<>Players!$B$4,\"\",IF(ISERROR(VLOOKUP($A37,Results,3,FALSE)),\"\",IF(VLOOKUP($A37,Results,3,FALSE)=\"\",\"\",IF(VLOOKUP($A37,Results,3,FALSE)=\"-\",\"\",IF(VLOOKUP($A37,Results,3,FALSE)=\"lost\",\"L\",IF(VLOOKUP($A37,Results,3,FALSE)=\"AS\",\"T\",\"W\"))))))","v":""},{"$f":"IF($H$3<>Players!$B$4,\"\",IF(ISERROR(VLOOKUP($A37,Results,3,FALSE)),\"\",IF(VLOOKUP($A37,Results,3,FALSE)=\"\",\"\",IF(VLOOKUP($A37,Results,3,FALSE)=\"-\",\"\",IF(VLOOKUP($A37,Results,3,FALSE)=\"lost\",\"L\",IF(VLOOKUP($A37,Results,3,FALSE)=\"AS\",\"T\",\"W\"))))))","v":""},{"$f":"IF($I$3<>Players!$B$4,\"\",IF(ISERROR(VLOOKUP($A37,Results,3,FALSE)),\"\",IF(VLOOKUP($A37,Results,3,FALSE)=\"\",\"\",IF(VLOOKUP($A37,Results,3,FALSE)=\"-\",\"\",IF(VLOOKUP($A37,Results,3,FALSE)=\"lost\",\"L\",IF(VLOOKUP($A37,Results,3,FALSE)=\"AS\",\"T\",\"W\"))))))","v":""},{"$f":"IF($J$3<>Players!$B$4,\"\",IF(ISERROR(VLOOKUP($A37,Results,3,FALSE)),\"\",IF(VLOOKUP($A37,Results,3,FALSE)=\"\",\"\",IF(VLOOKUP($A37,Results,3,FALSE)=\"-\",\"\",IF(VLOOKUP($A37,Results,3,FALSE)=\"lost\",\"L\",IF(VLOOKUP($A37,Results,3,FALSE)=\"AS\",\"T\",\"W\"))))))","v":""},{"$f":"(B37*2)+(C37*0)+(D37*1)","v":0},{"$f":"MIN(4-SUM(B37:D37),COUNTIF($E$23:$J$23,\">\"&TODAY()))","v":2},{"$f":"K37+(L37*2)","v":4},{"$error":"#N/A"}]
[null,{"$f":"COUNTIF(E38:J38,\"W\")","v":0},{"$f":"COUNTIF(E38:J38,\"L\")","v":0},{"$f":"COUNTIF(E38:J38,\"T\")","v":0},{"$f":"IF($E$3<>Players!$B$4,\"\",IF(ISERROR(VLOOKUP($A38,Results,3,FALSE)),\"\",IF(VLOOKUP($A38,Results,3,FALSE)=\"\",\"\",IF(VLOOKUP($A38,Results,3,FALSE)=\"-\",\"\",IF(VLOOKUP($A38,Results,3,FALSE)=\"lost\",\"L\",IF(VLOOKUP($A38,Results,3,FALSE)=\"AS\",\"T\",\"W\"))))))","v":""},{"$f":"IF($F$3<>Players!$B$4,\"\",IF(ISERROR(VLOOKUP($A38,Results,3,FALSE)),\"\",IF(VLOOKUP($A38,Results,3,FALSE)=\"\",\"\",IF(VLOOKUP($A38,Results,3,FALSE)=\"-\",\"\",IF(VLOOKUP($A38,Results,3,FALSE)=\"lost\",\"L\",IF(VLOOKUP($A38,Results,3,FALSE)=\"AS\",\"T\",\"W\"))))))","v":""},{"$f":"IF($G$3<>Players!$B$4,\"\",IF(ISERROR(VLOOKUP($A38,Results,3,FALSE)),\"\",IF(VLOOKUP($A38,Results,3,FALSE)=\"\",\"\",IF(VLOOKUP($A38,Results,3,FALSE)=\"-\",\"\",IF(VLOOKUP($A38,Results,3,FALSE)=\"lost\",\"L\",IF(VLOOKUP($A38,Results,3,FALSE)=\"AS\",\"T\",\"W\"))))))","v":""},{"$f":"IF($H$3<>Players!$B$4,\"\",IF(ISERROR(VLOOKUP($A38,Results,3,FALSE)),\"\",IF(VLOOKUP($A38,Results,3,FALSE)=\"\",\"\",IF(VLOOKUP($A38,Results,3,FALSE)=\"-\",\"\",IF(VLOOKUP($A38,Results,3,FALSE)=\"lost\",\"L\",IF(VLOOKUP($A38,Results,3,FALSE)=\"AS\",\"T\",\"W\"))))))","v":""},{"$f":"IF($I$3<>Players!$B$4,\"\",IF(ISERROR(VLOOKUP($A38,Results,3,FALSE)),\"\",IF(VLOOKUP($A38,Results,3,FALSE)=\"\",\"\",IF(VLOOKUP($A38,Results,3,FALSE)=\"-\",\"\",IF(VLOOKUP($A38,Results,3,FALSE)=\"lost\",\"L\",IF(VLOOKUP($A38,Results,3,FALSE)=\"AS\",\"T\",\"W\"))))))","v":""},{"$f":"IF($J$3<>Players!$B$4,\"\",IF(ISERROR(VLOOKUP($A38,Results,3,FALSE)),\"\",IF(VLOOKUP($A38,Results,3,FALSE)=\"\",\"\",IF(VLOOKUP($A38,Results,3,FALSE)=\"-\",\"\",IF(VLOOKUP($A38,Results,3,FALSE)=\"lost\",\"L\",IF(VLOOKUP($A38,Results,3,FALSE)=\"AS\",\"T\",\"W\"))))))","v":""},{"$f":"(B38*2)+(C38*0)+(D38*1)","v":0},{"$f":"MIN(4-SUM(B38:D38),COUNTIF($E$23:$J$23,\">\"&TODAY()))","v":2},{"$f":"K38+(L38*2)","v":4},{"$error":"#N/A"}]
[null,{"$f":"COUNTIF(E39:J39,\"W\")","v":0},{"$f":"COUNTIF(E39:J39,\"L\")","v":0},{"$f":"COUNTIF(E39:J39,\"T\")","v":0},{"$f":"IF($E$3<>Players!$B$4,\"\",IF(ISERROR(VLOOKUP($A39,Results,3,FALSE)),\"\",IF(VLOOKUP($A39,Results,3,FALSE)=\"\",\"\",IF(VLOOKUP($A39,Results,3,FALSE)=\"-\",\"\",IF(VLOOKUP($A39,Results,3,FALSE)=\"lost\",\"L\",IF(VLOOKUP($A39,Results,3,FALSE)=\"AS\",\"T\",\"W\"))))))","v":""},{"$f":"IF($F$3<>Players!$B$4,\"\",IF(ISERROR(VLOOKUP($A39,Results,3,FALSE)),\"\",IF(VLOOKUP($A39,Results,3,FALSE)=\"\",\"\",IF(VLOOKUP($A39,Results,3,FALSE)=\"-\",\"\",IF(VLOOKUP($A39,Results,3,FALSE)=\"lost\",\"L\",IF(VLOOKUP($A39,Results,3,FALSE)=\"AS\",\"T\",\"W\"))))))","v":""},{"$f":"IF($G$3<>Players!$B$4,\"\",IF(ISERROR(VLOOKUP($A39,Results,3,FALSE)),\"\",IF(VLOOKUP($A39,Results,3,FALSE)=\"\",\"\",IF(VLOOKUP($A39,Results,3,FALSE)=\"-\",\"\",IF(VLOOKUP($A39,Results,3,FALSE)=\"lost\",\"L\",IF(VLOOKUP($A39,Results,3,FALSE)=\"AS\",\"T\",\"W\"))))))","v":""},{"$f":"IF($H$3<>Players!$B$4,\"\",IF(ISERROR(VLOOKUP($A39,Results,3,FALSE)),\"\",IF(VLOOKUP($A39,Results,3,FALSE)=\"\",\"\",IF(VLOOKUP($A39,Results,3,FALSE)=\"-\",\"\",IF(VLOOKUP($A39,Results,3,FALSE)=\"lost\",\"L\",IF(VLOOKUP($A39,Results,3,FALSE)=\"AS\",\"T\",\"W\"))))))","v":""},{"$f":"IF($I$3<>Players!$B$4,\"\",IF(ISERROR(VLOOKUP($A39,Results,3,FALSE)),\"\",IF(VLOOKUP($A39,Results,3,FALSE)=\"\",\"\",IF(VLOOKUP($A39,Results,3,FALSE)=\"-\",\"\",IF(VLOOKUP($A39,Results,3,FALSE)=\"lost\",\"L\",IF(VLOOKUP($A39,Results,3,FALSE)=\"AS\",\"T\",\"W\"))))))","v":""},{"$f":"IF($J$3<>Players!$B$4,\"\",IF(ISERROR(VLOOKUP($A39,Results,3,FALSE)),\"\",IF(VLOOKUP($A39,Results,3,FALSE)=\"\",\"\",IF(VLOOKUP($A39,Results,3,FALSE)=\"-\",\"\",IF(VLOOKUP($A39,Results,3,FALSE)=\"lost\",\"L\",IF(VLOOKUP($A39,Results,3,FALSE)=\"AS\",\"T\",\"W\"))))))","v":""},{"$f":"(B39*2)+(C39*0)+(D39*1)","v":0},{"$f":"MIN(4-SUM(B39:D39),COUNTIF($E$23:$J$23,\">\"&TODAY()))","v":2},{"$f":"K39+(L39*2)","v":4},{"$error":"#N/A"}]

{"sheet":"Winners","index":3,"n_rows":166,"n_cols":59,"rows_kept":166,"cut":false,"hidden":false,"merged":[[25,9,25,10],[26,9,26,10],[0,2,0,6],[1,2,1,6],[0,0,1,1],[24,9,24,10],[0,7,0,11],[1,7,1,11],[27,9,27,10],[28,9,28,10],[29,9,29,10],[30,9,30,10],[33,9,33,10],[34,9,34,10],[31,9,31,10],[32,9,32,10],[35,9,35,10],[36,9,36,10],[37,9,37,10],[38,9,38,10],[43,9,43,10],[44,9,44,10],[45,9,45,10],[46,9,46,10],[39,9,39,10],[40,9,40,10],[41,9,41,10],[42,9,42,10],[51,9,51,10],[52,9,52,10],[53,9,53,10],[54,9,54,10],[47,9,47,10],[48,9,48,10],[49,9,49,10],[50,9,50,10],[59,9,59,10],[60,9,60,10],[61,9,61,10],[55,9,55,10],[56,9,56,10],[57,9,57,10],[58,9,58,10],[66,9,66,10],[67,9,67,10],[68,9,68,10],[69,9,69,10],[62,9,62,10],[63,9,63,10],[64,9,64,10],[65,9,65,10],[74,9,74,10],[75,9,75,10],[76,9,76,10],[77,9,77,10],[70,9,70,10],[71,9,71,10],[72,9,72,10],[73,9,73,10],[82,9,82,10],[83,9,83,10],[84,9,84,10],[85,9,85,10],[78,9,78,10],[79,9,79,10],[80,9,80,10],[81,9,81,10],[90,9,90,10],[91,9,91,10],[92,9,92,10],[93,9,93,10],[86,9,86,10],[87,9,87,10],[88,9,88,10],[89,9,89,10],[98,9,98,10],[99,9,99,10],[100,9,100,10],[101,9,101,10],[94,9,94,10],[95,9,95,10],[96,9,96,10],[97,9,97,10],[106,9,106,10],[107,9,107,10],[108,9,108,10],[102,9,102,10],[103,9,103,10],[104,9,104,10],[105,9,105,10]]}
[null,null,"HACK ATTACK GOLF CLUB",null,null,null,null,{"$f":"IF(Players!B1=\"\",\"\",Players!B1)","v":"Mile Square Golf Course (Players)"}]
[null,null,"Tournament Results",null,null,null,null,{"$f":"IF(Players!B4=\"\",\"\",Players!B4)","v":"2018-07-22"}]
["Place","Front","Score","Money","Place","Back","Score","Money","Place","Total","Score","Money"]
[{"$f":"IF(B4=\"\",\"\",IF(C4=C5,\"T1\",\"1\"))","v":"1"},{"$f":"IF(OR(G113=\"\",G113=\"-\"),\"\",F113)","v":"Jones, Gary"},{"$f":"IF(OR(G113=\"\",G113=\"-\"),\"\",G113)","v":32.5},{"$f":"IF(B4=\"\",\"\",IF(AND(A4=\"1\",A5=\"\"),0.3*Pots!$D$121/COUNT($C$4:$C$13),IF(A4=\"1\",0.2*Pots!$D$121,IF(A4=\"T1\",0.3*Pots!$D$121/COUNT($C$4:$C$13)))))","v":24},{"$f":"IF(F4=\"\",\"\",IF(G4=G5,\"T1\",\"1\"))","v":"1"},{"$f":"IF(OR(K113=\"\",K113=\"-\"),\"\",J113)","v":"Tenorio, Noe"},{"$f":"IF(OR(K113=\"\",K113=\"-\"),\"\",K113)","v":32.5},{"$f":"IF(F4=\"\",\"\",IF(AND(E4=\"1\",E5=\"\"),0.3*Pots!$D$121/COUNT($G$4:$G$13),IF(E4=\"1\",0.2*Pots!$D$121,IF(E4=\"T1\",0.3*Pots!$D$121/COUNT($G$4:$G$13)))))","v":24},{"$f":"IF(J4=\"\",\"\",IF(K4=K5,\"T1\",\"1\"))","v":"1"},{"$f":"IF(OR(O113=\"\",O113=\"-\"),\"\",N113)","v":"Jones, Gary"},{"$f":"IF(OR(O113=\"\",O113=\"-\"),\"\",O113)","v":66},{"$f":"IF(J4=\"\",\"\",IF(AND(I4=\"1\",I5=\"\"),0.4*Pots!$D$121/COUNT($K$4:$K$13),IF(I4=\"1\",0.25*Pots!$D$121,IF(I4=\"T1\",0.4*Pots!$D$121/COUNT($K$4:$K$13)))))","v":30}]
[{"$f":"IF(B5=\"\",\"\",IF(C5=C4,\"T1\",IF(AND(C5<>C4,C5=C6),\"T2\",\"2\")))","v":"2"},{"$f":"IF(OR(G114=\"\",G114=\"-\"),\"\",IF(G114<=SMALL($G$113:$G$122,2),F114,\"\"))","v":"Kozachenko, Jon"},{"$f":"IF(OR(G114=\"\",G114=\"-\"),\"\",IF(G114<=SMALL($G$113:$G$122,2),G114,\"\"))","v":33.5},{"$f":"IF(B5=\"\",\"\",IF(A5=\"T1\",0.3*Pots!$D$121/COUNT($C$4:$C$13),IF(A5=\"2\",0.1*Pots!$D$121,IF(A5=\"T2\",0.1*Pots!$D$121/(COUNT($C$4:$C$13)-1)))))","v":12},{"$f":"IF(F5=\"\",\"\",IF(G5=G4,\"T1\",IF(AND(G5<>G4,G5=G6),\"T2\",\"2\")))","v":"T2"},{"$f":"IF(OR(K114=\"\",K114=\"-\"),\"\",IF(K114<=SMALL($K$113:$K$122,2),J114,\"\"))","v":"Jones, Gary"},{"$f":"IF(OR(K114=\"\",K114=\"-\"),\"\",IF(K114<=SMALL($K$113:$K$122,2),K114,\"\"))","v":33.5},{"$f":"IF(F5=\"\",\"\",IF(E5=\"T1\",0.3*Pots!$D$121/COUNT($G$4:$G$13),IF(E5=\"2\",0.1*Pots!$D$121,IF(E5=\"T2\",0.1*Pots!$D$121/(COUNT($G$4:$G$13)-1)))))","v":6},{"$f":"IF(J5=\"\",\"\",IF(K5=K4,\"T1\",IF(AND(K5<>K4,K5=K6),\"T2\",\"2\")))","v":"T2"},{"$f":"IF(OR(O114=\"\",O114=\"-\"),\"\",IF(O114<=SMALL($O$113:$O$122,2),N114,\"\"))","v":"Tenorio, Noe"},{"$f":"IF(OR(O114=\"\",O114=\"-\"),\"\",IF(O114<=SMALL($O$113:$O$122,2),O114,\"\"))","v":69},{"$f":"IF(J5=\"\",\"\",IF(I5=\"T1\",0.4*Pots!$D$121/COUNT($K$4:$K$13),IF(I5=\"2\",0.15*Pots!$D$121,IF(I5=\"T2\",0.15*Pots!$D$121/(COUNT($K$4:$K$13)-1)))))","v":9}]
[{"$f":"IF(B6=\"\",\"\",IF(C6=$C$4,\"T1\",\"T2\"))","v":""},"","",{"$f":"IF(B6=\"\",\"\",IF(A6=\"T1\",0.3*Pots!$D$121/COUNT($C$4:$C$13),IF(A6=\"2\",0.1*Pots!$D$121,IF(A6=\"T2\",0.1*Pots!$D$121/(COUNT($C$4:$C$13)-1)))))","v":""},{"$f":"IF(F6=\"\",\"\",IF(G6=$G$4,\"T1\",\"T2\"))","v":"T2"},"Blodgett, Kevin",33.5,{"$f":"IF(F6=\"\",\"\",IF(E6=\"T1\",0.3*Pots!$D$121/COUNT($G$4:$G$13),IF(E6=\"2\",0.1*Pots!$D$121,IF(E6=\"T2\",0.1*Pots!$D$121/(COUNT($G$4:$G$13)-1)))))","v":6},{"$f":"IF(J6=\"\",\"\",IF(K6=$K$4,\"T1\",\"T2\"))","v":"T2"},"Kozachenko, Jon",69,{"$f":"IF(J6=\"\",\"\",IF(I6=\"T1\",0.4*Pots!$D$121/COUNT($K$4:$K$13),IF(I6=\"2\",0.15*Pots!$D$121,IF(I6=\"T2\",0.15*Pots!$D$121/(COUNT($K$4:$K$13)-1)))))","v":9}]
[{"$f":"IF(B7=\"\",\"\",IF(C7=$C$4,\"T1\",\"T2\"))","v":""},"","",{"$f":"IF(B7=\"\",\"\",IF(A7=\"T1\",0.3*Pots!$D$121/COUNT($C$4:$C$13),IF(A7=\"2\",0.1*Pots!$D$121,IF(A7=\"T2\",0.1*Pots!$D$121/(COUNT($C$4:$C$13)-1)))))","v":""},{"$f":"IF(F7=\"\",\"\",IF(G7=$G$4,\"T1\",\"T2\"))","v":""},"","",{"$f":"IF(F7=\"\",\"\",IF(E7=\"T1\",0.3*Pots!$D$121/COUNT($G$4:$G$13),IF(E7=\"2\",0.1*Pots!$D$121,IF(E7=\"T2\",0.1*Pots!$D$121/(COUNT($G$4:$G$13)-1)))))","v":""},{"$f":"IF(J7=\"\",\"\",IF(K7=$K$4,\"T1\",\"T2\"))","v":""},"","",{"$f":"IF(J7=\"\",\"\",IF(I7=\"T1\",0.4*Pots!$D$121/COUNT($K$4:$K$13),IF(I7=\"2\",0.15*Pots!$D$121,IF(I7=\"T2\",0.15*Pots!$D$121/(COUNT($K$4:$K$13)-1)))))","v":""}]
["","","",{"$f":"IF(B8=\"\",\"\",IF(A8=\"T1\",0.3*Pots!$D$121/COUNT($C$4:$C$13),IF(A8=\"2\",0.1*Pots!$D$121,IF(A8=\"T2\",0.1*Pots!$D$121/(COUNT($C$4:$C$13)-1)))))","v":""},"","","",{"$f":"IF(F8=\"\",\"\",IF(E8=\"T1\",0.3*Pots!$D$121/COUNT($G$4:$G$13),IF(E8=\"2\",0.1*Pots!$D$121,IF(E8=\"T2\",0.1*Pots!$D$121/(COUNT($G$4:$G$13)-1)))))","v":""},"","","",{"$f":"IF(J8=\"\",\"\",IF(I8=\"T1\",0.4*Pots!$D$121/COUNT($K$4:$K$13),IF(I8=\"2\",0.15*Pots!$D$121,IF(I8=\"T2\",0.15*Pots!$D$121/(COUNT($K$4:$K$13)-1)))))","v":""}]
["","","",{"$f":"IF(B9=\"\",\"\",IF(A9=\"T1\",0.3*Pots!$D$121/COUNT($C$4:$C$13),IF(A9=\"2\",0.1*Pots!$D$121,IF(A9=\"T2\",0.1*Pots!$D$121/(COUNT($C$4:$C$13)-1)))))","v":""},"","","",{"$f":"IF(F9=\"\",\"\",IF(E9=\"T1\",0.3*Pots!$D$121/COUNT($G$4:$G$13),IF(E9=\"2\",0.1*Pots!$D$121,IF(E9=\"T2\",0.1*Pots!$D$121/(COUNT($G$4:$G$13)-1)))))","v":""},"","","",{"$f":"IF(J9=\"\",\"\",IF(I9=\"T1\",0.4*Pots!$D$121/COUNT($K$4:$K$13),IF(I9=\"2\",0.15*Pots!$D$121,IF(I9=\"T2\",0.15*Pots!$D$121/(COUNT($K$4:$K$13)-1)))))","v":""}]
["","","",{"$f":"IF(B10=\"\",\"\",IF(A10=\"T1\",0.3*Pots!$D$121/COUNT($C$4:$C$13),IF(A10=\"2\",0.1*Pots!$D$121,IF(A10=\"T2\",0.1*Pots!$D$121/(COUNT($C$4:$C$13)-1)))))","v":""},"","","",{"$f":"IF(F10=\"\",\"\",IF(E10=\"T1\",0.3*Pots!$D$121/COUNT($G$4:$G$13),IF(E10=\"2\",0.1*Pots!$D$121,IF(E10=\"T2\",0.1*Pots!$D$121/(COUNT($G$4:$G$13)-1)))))","v":""},"","","",{"$f":"IF(J10=\"\",\"\",IF(I10=\"T1\",0.4*Pots!$D$121/COUNT($K$4:$K$13),IF(I10=\"2\",0.15*Pots!$D$121,IF(I10=\"T2\",0.15*Pots!$D$121/(COUNT($K$4:$K$13)-1)))))","v":""}]
["","","",{"$f":"IF(B11=\"\",\"\",IF(A11=\"T1\",0.3*Pots!$D$121/COUNT($C$4:$C$13),IF(A11=\"2\",0.1*Pots!$D$121,IF(A11=\"T2\",0.1*Pots!$D$121/(COUNT($C$4:$C$13)-1)))))","v":""},"","","",{"$f":"IF(F11=\"\",\"\",IF(E11=\"T1\",0.3*Pots!$D$121/COUNT($G$4:$G$13),IF(E11=\"2\",0.1*Pots!$D$121,IF(E11=\"T2\",0.1*Pots!$D$121/(COUNT($G$4:$G$13)-1)))))","v":""},"","","",{"$f":"IF(J11=\"\",\"\",IF(I11=\"T1\",0.4*Pots!$D$121/COUNT($K$4:$K$13),IF(I11=\"2\",0.15*Pots!$D$121,IF(I11=\"T2\",0.15*Pots!$D$121/(COUNT($K$4:$K$13)-1)))))","v":""}]
["","","",{"$f":"IF(B12=\"\",\"\",IF(A12=\"T1\",0.3*Pots!$D$121/COUNT($C$4:$C$13),IF(A12=\"2\",0.1*Pots!$D$121,IF(A12=\"T2\",0.1*Pots!$D$121/(COUNT($C$4:$C$13)-1)))))","v":""},"","","",{"$f":"IF(F12=\"\",\"\",IF(E12=\"T1\",0.3*Pots!$D$121/COUNT($G$4:$G$13),IF(E12=\"2\",0.1*Pots!$D$121,IF(E12=\"T2\",0.1*Pots!$D$121/(COUNT($G$4:$G$13)-1)))))","v":""},"","","",{"$f":"IF(J12=\"\",\"\",IF(I12=\"T1\",0.4*Pots!$D$121/COUNT($K$4:$K$13),IF(I12=\"2\",0.15*Pots!$D$121,IF(I12=\"T2\",0.15*Pots!$D$121/(COUNT($K$4:$K$13)-1)))))","v":""}]
["","","",{"$f":"IF(B13=\"\",\"\",IF(A13=\"T1\",0.3*Pots!$D$121/COUNT($C$4:$C$13),IF(A13=\"2\",0.1*Pots!$D$121,IF(A13=\"T2\",0.1*Pots!$D$121/(COUNT($C$4:$C$13)-1)))))","v":""},"","","",{"$f":"IF(F13=\"\",\"\",IF(E13=\"T1\",0.3*Pots!$D$121/COUNT($G$4:$G$13),IF(E13=\"2\",0.1*Pots!$D$121,IF(E13=\"T2\",0.1*Pots!$D$121/(COUNT($G$4:$G$13)-1)))))","v":""},"","","",{"$f":"IF(J13=\"\",\"\",IF(I13=\"T1\",0.4*Pots!$D$121/COUNT($K$4:$K$13),IF(I13=\"2\",0.15*Pots!$D$121,IF(I13=\"T2\",0.15*Pots!$D$121/(COUNT($K$4:$K$13)-1)))))","v":""}]
[]
[]
["Hole","A-Skins","Score","Money","Hole","B-Skins","Score","Money","Place","Putts","Total","Money",null,null,null,null,"Hole","Par","Par-3s"]
[{"$f":"IF(Players!$H$4=\"\",\"\",Players!$H$4)","v":1},{"$f":"IF($V$162=\"\",\"\",VLOOKUP($V$166,ASkins,2,FALSE))","v":""},{"$f":"IF($V$162=\"\",\"\",IF($V$164=$V$111-1,\"Birdie-\"&$V$164,IF($V$164=$V$111-2,\"Eagle-\"&$V$164,IF($V$164=$V$111-3,\"Double Eagle-\"&$V$164))))","v":""},{"$f":"IF($B17=\"\",\"\",Pots!$E$121/(18-COUNTBLANK($B$17:$B$34)))","v":""},{"$f":"IF(Players!$H$4=\"\",\"\",Players!$H$4)","v":1},{"$f":"IF($AP$162=\"\",\"\",VLOOKUP($AP$166,BSkins,2,FALSE))","v":""},{"$f":"IF($AP$162=\"\",\"\",IF($AP$164=$AP$111-1,\"Birdie-\"&$AP$164,IF($AP$164=$AP$111-2,\"Eagle-\"&$AP$164,IF($AP$164=$AP$111-3,\"Double Eagle-\"&$AP$164))))","v":""},{"$f":"IF($F17=\"\",\"\",Pots!$F$121/(18-COUNTBLANK($F$17:$F$34)))","v":""},{"$f":"IF(J17=\"\",\"\",IF(K17=K18,\"T1\",\"1\"))","v":"1"},{"$f":"IF(OR(C113=\"\",C113=\"-\"),\"\",B113)","v":"Escobedo, Hector"},{"$f":"IF(OR(C113=\"\",C113=\"-\"),\"\",C113)","v":28},{"$f":"IF($J17=\"\",\"\",Pots!$G$121/(9-COUNTBLANK($J$26:$J$34)+1)/(8-COUNTBLANK($J$17:$J$24)))","v":16},null,null,null,null,{"$f":"Players!$H4","v":1},{"$f":"Players!$H5","v":4},{"$f":"IF($R17=3,$Q17,\"\")","v":""}]
[{"$f":"IF(Players!$I$4=\"\",\"\",Players!$I$4)","v":2},{"$f":"IF($W$162=\"\",\"\",VLOOKUP($W$166,ASkins,2,FALSE))","v":""},{"$f":"IF($W$162=\"\",\"\",IF($W$164=$W$111-1,\"Birdie-\"&$W$164,IF($W$164=$W$111-2,\"Eagle-\"&$W$164,IF($W$164=$W$111-3,\"Double Eagle-\"&$W$164))))","v":""},{"$f":"IF($B18=\"\",\"\",Pots!$E$121/(18-COUNTBLANK($B$17:$B$34)))","v":""},{"$f":"IF(Players!$I$4=\"\",\"\",Players!$I$4)","v":2},{"$f":"IF($AQ$162=\"\",\"\",VLOOKUP($AQ$166,BSkins,2,FALSE))","v":""},{"$f":"IF($AQ$162=\"\",\"\",IF($AQ$164=$AQ$111-1,\"Birdie-\"&$AQ$164,IF($AQ$164=$AQ$111-2,\"Eagle-\"&$AQ$164,IF($AQ$164=$AQ$111-3,\"Double Eagle-\"&$AQ$164))))","v":""},{"$f":"IF($F18=\"\",\"\",Pots!$F$121/(18-COUNTBLANK($F$17:$F$34)))","v":""},{"$f":"IF(J18=\"\",\"\",IF(K18=$K$17,\"T1\",\"\"))","v":""},{"$f":"IF(OR(C114=\"\",C114=\"-\"),\"\",IF(C114=SMALL($C$113:$C$122,1),B114,\"\"))","v":""},{"$f":"IF(OR(C114=\"\",C114=\"-\"),\"\",IF(C114=SMALL($C$113:$C$122,1),C114,\"\"))","v":""},{"$f":"IF($J18=\"\",\"\",Pots!$G$121/(9-COUNTBLANK($J$26:$J$34)+1)/(8-COUNTBLANK($J$17:$J$24)))","v":""},null,null,null,null,{"$f":"Players!$I4","v":2},{"$f":"Players!$I5","v":4},{"$f":"IF($R18=3,$Q18,\"\")","v":""}]
[{"$f":"IF(Players!$J$4=\"\",\"\",Players!$J$4)","v":3},{"$f":"IF($X$162=\"\",\"\",VLOOKUP($X$166,ASkins,2,FALSE))","v":""},{"$f":"IF($X$162=\"\",\"\",IF($X$164=$X$111-1,\"Birdie-\"&$X$164,IF($X$164=$X$111-2,\"Eagle-\"&$X$164,IF($X$164=$X$111-3,\"Double Eagle-\"&$X$164))))","v":""},{"$f":"IF($B19=\"\",\"\",Pots!$E$121/(18-COUNTBLANK($B$17:$B$34)))","v":""},{"$f":"IF(Players!$J$4=\"\",\"\",Players!$J$4)","v":3},{"$f":"IF($AR$162=\"\",\"\",VLOOKUP($AR$166,BSkins,2,FALSE))","v":""},{"$f":"IF($AR$162=\"\",\"\",IF($AR$164=$AR$111-1,\"Birdie-\"&$AR$164,IF($AR$164=$AR$111-2,\"Eagle-\"&$AR$164,IF($AR$164=$AR$111-3,\"Double Eagle-\"&$AR$164))))","v":""},{"$f":"IF($F19=\"\",\"\",Pots!$F$121/(18-COUNTBLANK($F$17:$F$34)))","v":""},"","","",{"$f":"IF($J19=\"\",\"\",Pots!$G$121/(9-COUNTBLANK($J$26:$J$34)+1)/(8-COUNTBLANK($J$17:$J$24)))","v":""},null,null,null,null,{"$f":"Players!$J4","v":3},{"$f":"Players!$J5","v":4},""]
[{"$f":"IF(Players!$K$4=\"\",\"\",Players!$K$4)","v":4},{"$f":"IF($Y$162=\"\",\"\",VLOOKUP($Y$166,ASkins,2,FALSE))","v":"Jones, Gary"},{"$f":"IF($Y$162=\"\",\"\",IF($Y$164=$Y$111-1,\"Birdie-\"&$Y$164,IF($Y$164=$Y$111-2,\"Eagle-\"&$Y$164,IF($Y$164=$Y$111-3,\"Double Eagle-\"&$Y$164))))","v":"Birdie-2"},{"$f":"IF($B20=\"\",\"\",Pots!$E$121/(18-COUNTBLANK($B$17:$B$34)))","v":7.5},{"$f":"IF(Players!$K$4=\"\",\"\",Players!$K$4)","v":4},{"$f":"IF($AS$162=\"\",\"\",VLOOKUP($AS$166,BSkins,2,FALSE))","v":""},{"$f":"IF($AS$162=\"\",\"\",IF($AS$164=$AS$111-1,\"Birdie-\"&$AS$164,IF($AS$164=$AS$111-2,\"Eagle-\"&$AS$164,IF($AS$164=$AS$111-3,\"Double Eagle-\"&$AS$164))))","v":""},{"$f":"IF($F20=\"\",\"\",Pots!$F$121/(18-COUNTBLANK($F$17:$F$34)))","v":""},"","","",{"$f":"IF($J20=\"\",\"\",Pots!$G$121/(9-COUNTBLANK($J$26:$J$34)+1)/(8-COUNTBLANK($J$17:$J$24)))","v":""},null,null,null,null,{"$f":"Players!$K4","v":4},{"$f":"Players!$K5","v":3},4]
[{"$f":"IF(Players!$L$4=\"\",\"\",Players!$L$4)","v":5},{"$f":"IF($Z$162=\"\",\"\",VLOOKUP($Z$166,ASkins,2,FALSE))","v":""},{"$f":"IF($Z$162=\"\",\"\",IF($Z$164=$Z$111-1,\"Birdie-\"&$Z$164,IF($Z$164=$Z$111-2,\"Eagle-\"&$Z$164,IF($Z$164=$Z$111-3,\"Double Eagle-\"&$Z$164))))","v":""},{"$f":"IF($B21=\"\",\"\",Pots!$E$121/(18-COUNTBLANK($B$17:$B$34)))","v":""},{"$f":"IF(Players!$L$4=\"\",\"\",Players!$L$4)","v":5},{"$f":"IF($AT$162=\"\",\"\",VLOOKUP($AT$166,BSkins,2,FALSE))","v":""},{"$f":"IF($AT$162=\"\",\"\",IF($AT$164=$AT$111-1,\"Birdie-\"&$AT$164,IF($AT$164=$AT$111-2,\"Eagle-\"&$AT$164,IF($AT$164=$AT$111-3,\"Double Eagle-\"&$AT$164))))","v":""},{"$f":"IF($F21=\"\",\"\",Pots!$F$121/(18-COUNTBLANK($F$17:$F$34)))","v":""},"","","",{"$f":"IF($J21=\"\",\"\",Pots!$G$121/(9-COUNTBLANK($J$26:$J$34)+1)/(8-COUNTBLANK($J$17:$J$24)))","v":""},null,null,null,null,{"$f":"Players!$L4","v":5},{"$f":"Players!$L5","v":5},""]
[{"$f":"IF(Players!$M$4=\"\",\"\",Players!$M$4)","v":6},{"$f":"IF($AA$162=\"\",\"\",VLOOKUP($AA$166,ASkins,2,FALSE))","v":""},{"$f":"IF($AA$162=\"\",\"\",IF($AA$164=$AA$111-1,\"Birdie-\"&$AA$164,IF($AA$164=$AA$111-2,\"Eagle-\"&$AA$164,IF($AA$164=$AA$111-3,\"Double Eagle-\"&$AA$164))))","v":""},{"$f":"IF($B22=\"\",\"\",Pots!$E$121/(18-COUNTBLANK($B$17:$B$34)))","v":""},{"$f":"IF(Players!$M$4=\"\",\"\",Players!$M$4)","v":6},{"$f":"IF($AU$162=\"\",\"\",VLOOKUP($AU$166,BSkins,2,FALSE))","v":""},{"$f":"IF($AU$162=\"\",\"\",IF($AU$164=$AU$111-1,\"Birdie-\"&$AU$164,IF($AU$164=$AU$111-2,\"Eagle-\"&$AU$164,IF($AU$164=$AU$111-3,\"Double Eagle-\"&$AU$164))))","v":""},{"$f":"IF($F22=\"\",\"\",Pots!$F$121/(18-COUNTBLANK($F$17:$F$34)))","v":""},"","","",{"$f":"IF($J22=\"\",\"\",Pots!$G$121/(9-COUNTBLANK($J$26:$J$34)+1)/(8-COUNTBLANK($J$17:$J$24)))","v":""},null,null,null,null,{"$f":"Players!$M4","v":6},{"$f":"Players!$M5","v":3},6]
[{"$f":"IF(Players!$N$4=\"\",\"\",Players!$N$4)","v":7},{"$f":"IF($AB$162=\"\",\"\",VLOOKUP($AB$166,ASkins,2,FALSE))","v":""},{"$f":"IF($AB$162=\"\",\"\",IF($AB$164=$AB$111-1,\"Birdie-\"&$AB$164,IF($AB$164=$AB$111-2,\"Eagle-\"&$AB$164,IF($AB$164=$AB$111-3,\"Double Eagle-\"&$AB$164))))","v":""},{"$f":"IF($B23=\"\",\"\",Pots!$E$121/(18-COUNTBLANK($B$17:$B$34)))","v":""},{"$f":"IF(Players!$N$4=\"\",\"\",Players!$N$4)","v":7},{"$f":"IF($AV$162=\"\",\"\",VLOOKUP($AV$166,BSkins,2,FALSE))","v":""},{"$f":"IF($AV$162=\"\",\"\",IF($AV$164=$AV$111-1,\"Birdie-\"&$AV$164,IF($AV$164=$AV$111-2,\"Eagle-\"&$AV$164,IF($AV$164=$AV$111-3,\"Double Eagle-\"&$AV$164))))","v":""},{"$f":"IF($F23=\"\",\"\",Pots!$F$121/(18-COUNTBLANK($F$17:$F$34)))","v":""},"","","",{"$f":"IF($J23=\"\",\"\",Pots!$G$121/(9-COUNTBLANK($J$26:$J$34)+1)/(8-COUNTBLANK($J$17:$J$24)))","v":""},null,null,null,null,{"$f":"Players!$N4","v":7},{"$f":"Players!$N5","v":4},""]
[{"$f":"IF(Players!$O$4=\"\",\"\",Players!$O$4)","v":8},{"$f":"IF($AC$162=\"\",\"\",VLOOKUP($AC$166,ASkins,2,FALSE))","v":""},{"$f":"IF($AC$162=\"\",\"\",IF($AC$164=$AC$111-1,\"Birdie-\"&$AC$164,IF($AC$164=$AC$111-2,\"Eagle-\"&$AC$164,IF($AC$164=$AC$111-3,\"Double Eagle-\"&$AC$164))))","v":""},{"$f":"IF($B24=\"\",\"\",Pots!$E$121/(18-COUNTBLANK($B$17:$B$34)))","v":""},{"$f":"IF(Players!$O$4=\"\",\"\",Players!$O$4)","v":8},{"$f":"IF($AW$162=\"\",\"\",VLOOKUP($AW$166,BSkins,2,FALSE))","v":""},{"$f":"IF($AW$162=\"\",\"\",IF($AW$164=$AW$111-1,\"Birdie-\"&$AW$164,IF($AW$164=$AW$111-2,\"Eagle-\"&$AW$164,IF($AW$164=$AW$111-3,\"Double Eagle-\"&$AW$164))))","v":""},{"$f":"IF($F24=\"\",\"\",Pots!$F$121/(18-COUNTBLANK($F$17:$F$34)))","v":""},"","","",{"$f":"IF($J24=\"\",\"\",Pots!$G$121/(9-COUNTBLANK($J$26:$J$34)+1)/(8-COUNTBLANK($J$17:$J$24)))","v":""},null,null,null,null,{"$f":"Players!$O4","v":8},{"$f":"Players!$O5","v":4},""]
[{"$f":"IF(Players!$P$4=\"\",\"\",Players!$P$4)","v":9},{"$f":"IF($AD$162=\"\",\"\",VLOOKUP($AD$166,ASkins,2,FALSE))","v":"Jones, Gary"},{"$f":"IF($AD$162=\"\",\"\",IF($AD$164=$AD$111-1,\"Birdie-\"&$AD$164,IF($AD$164=$AD$111-2,\"Eagle-\"&$AD$164,IF($AD$164=$AD$111-3,\"Double Eagle-\"&$AD$164))))","v":"Birdie-4"},{"$f":"IF($B25=\"\",\"\",Pots!$E$121/(18-COUNTBLANK($B$17:$B$34)))","v":7.5},{"$f":"IF(Players!$P$4=\"\",\"\",Players!$P$4)","v":9},{"$f":"IF($AX$162=\"\",\"\",VLOOKUP($AX$166,BSkins,2,FALSE))","v":""},{"$f":"IF($AX$162=\"\",\"\",IF($AX$164=$AX$111-1,\"Birdie-\"&$AX$164,IF($AX$164=$AX$111-2,\"Eagle-\"&$AX$164,IF($AX$164=$AX$111-3,\"Double Eagle-\"&$AX$164))))","v":""},{"$f":"IF($F25=\"\",\"\",Pots!$F$121/(18-COUNTBLANK($F$17:$F$34)))","v":""},"Hole","CPs",null,"Money",null,null,null,null,{"$f":"Players!$P4","v":9},{"$f":"Players!$P5","v":5},""]
[{"$f":"IF(Players!$R$4=\"\",\"\",Players!$R$4)","v":10},{"$f":"IF($AE$162=\"\",\"\",VLOOKUP($AE$166,ASkins,2,FALSE))","v":"Christen, Lou"},{"$f":"IF($AE$162=\"\",\"\",IF($AE$164=$AE$111-1,\"Birdie-\"&$AE$164,IF($AE$164=$AE$111-2,\"Eagle-\"&$AE$164,IF($AE$164=$AE$111-3,\"Double Eagle-\"&$AE$164))))","v":"Birdie-3"},{"$f":"IF($B26=\"\",\"\",Pots!$E$121/(18-COUNTBLANK($B$17:$B$34)))","v":7.5},{"$f":"IF(Players!$R$4=\"\",\"\",Players!$R$4)","v":10},{"$f":"IF($AY$162=\"\",\"\",VLOOKUP($AY$166,BSkins,2,FALSE))","v":""},{"$f":"IF($AY$162=\"\",\"\",IF($AY$164=$AY$111-1,\"Birdie-\"&$AY$164,IF($AY$164=$AY$111-2,\"Eagle-\"&$AY$164,IF($AY$164=$AY$111-3,\"Double Eagle-\"&$AY$164))))","v":""},{"$f":"IF($F26=\"\",\"\",Pots!$F$121/(18-COUNTBLANK($F$17:$F$34)))","v":""},4,"Jones, Gary",null,{"$f":"IF($J26=\"\",\"\",Pots!$G$121/(9-COUNTBLANK($J$26:$J$34)+1))","v":16},null,null,null,null,{"$f":"Players!$R4","v":10},{"$f":"Players!$R5","v":4},""]
[{"$f":"IF(Players!$S$4=\"\",\"\",Players!$S$4)","v":11},{"$f":"IF($AF$162=\"\",\"\",VLOOKUP($AF$166,ASkins,2,FALSE))","v":""},{"$f":"IF($AF$162=\"\",\"\",IF($AF$164=$AF$111-1,\"Birdie-\"&$AF$164,IF($AF$164=$AF$111-2,\"Eagle-\"&$AF$164,IF($AF$164=$AF$111-3,\"Double Eagle-\"&$AF$164))))","v":""},{"$f":"IF($B27=\"\",\"\",Pots!$E$121/(18-COUNTBLANK($B$17:$B$34)))","v":""},{"$f":"IF(Players!$S$4=\"\",\"\",Players!$S$4)","v":11},{"$f":"IF($AZ$162=\"\",\"\",VLOOKUP($AZ$166,BSkins,2,FALSE))","v":""},{"$f":"IF($AZ$162=\"\",\"\",IF($AZ$164=$AZ$111-1,\"Birdie-\"&$AZ$164,IF($AZ$164=$AZ$111-2,\"Eagle-\"&$AZ$164,IF($AZ$164=$AZ$111-3,\"Double Eagle-\"&$AZ$164))))","v":""},{"$f":"IF($F27=\"\",\"\",Pots!$F$121/(18-COUNTBLANK($F$17:$F$34)))","v":""},6,"Christen, Lou",null,{"$f":"IF($J27=\"\",\"\",Pots!$G$121/(9-COUNTBLANK($J$26:$J$34)+1))","v":16},null,null,null,null,{"$f":"Players!$S4","v":11},{"$f":"Players!$S5","v":4},""]
[{"$f":"IF(Players!$T$4=\"\",\"\",Players!$T$4)","v":12},{"$f":"IF($AG$162=\"\",\"\",VLOOKUP($AG$166,ASkins,2,FALSE))","v":"Jones, Gary"},{"$f":"IF($AG$162=\"\",\"\",IF($AG$164=$AG$111-1,\"Birdie-\"&$AG$164,IF($AG$164=$AG$111-2,\"Eagle-\"&$AG$164,IF($AG$164=$AG$111-3,\"Double Eagle-\"&$AG$164))))","v":"Birdie-2"},{"$f":"IF($B28=\"\",\"\",Pots!$E$121/(18-COUNTBLANK($B$17:$B$34)))","v":7.5},{"$f":"IF(Players!$T$4=\"\",\"\",Players!$T$4)","v":12},{"$f":"IF($BA$162=\"\",\"\",VLOOKUP($BA$166,BSkins,2,FALSE))","v":"Tenorio, Noe"},{"$f":"IF($BA$162=\"\",\"\",IF($BA$164=$BA$111-1,\"Birdie-\"&$BA$164,IF($BA$164=$BA$111-2,\"Eagle-\"&$BA$164,IF($BA$164=$BA$111-3,\"Double Eagle-\"&$BA$164))))","v":"Birdie-2"},{"$f":"IF($F28=\"\",\"\",Pots!$F$121/(18-COUNTBLANK($F$17:$F$34)))","v":25},12,"Jones, Gary",null,{"$f":"IF($J28=\"\",\"\",Pots!$G$121/(9-COUNTBLANK($J$26:$J$34)+1))","v":16},null,null,null,null,{"$f":"Players!$T4","v":12},{"$f":"Players!$T5","v":3},12]
[{"$f":"IF(Players!$U$4=\"\",\"\",Players!$U$4)","v":13},{"$f":"IF($AH$162=\"\",\"\",VLOOKUP($AH$166,ASkins,2,FALSE))","v":""},{"$f":"IF($AH$162=\"\",\"\",IF($AH$164=$AH$111-1,\"Birdie-\"&$AH$164,IF($AH$164=$AH$111-2,\"Eagle-\"&$AH$164,IF($AH$164=$AH$111-3,\"Double Eagle-\"&$AH$164))))","v":""},{"$f":"IF($B29=\"\",\"\",Pots!$E$121/(18-COUNTBLANK($B$17:$B$34)))","v":""},{"$f":"IF(Players!$U$4=\"\",\"\",Players!$U$4)","v":13},{"$f":"IF($BB$162=\"\",\"\",VLOOKUP($BB$166,BSkins,2,FALSE))","v":""},{"$f":"IF($BB$162=\"\",\"\",IF($BB$164=$BB$111-1,\"Birdie-\"&$BB$164,IF($BB$164=$BB$111-2,\"Eagle-\"&$BB$164,IF($BB$164=$BB$111-3,\"Double Eagle-\"&$BB$164))))","v":""},{"$f":"IF($F29=\"\",\"\",Pots!$F$121/(18-COUNTBLANK($F$17:$F$34)))","v":""},16,"Christen, Lou",null,{"$f":"IF($J29=\"\",\"\",Pots!$G$121/(9-COUNTBLANK($J$26:$J$34)+1))","v":16},null,null,null,null,{"$f":"Players!$U4","v":13},{"$f":"Players!$U5","v":4},""]
[{"$f":"IF(Players!$V$4=\"\",\"\",Players!$V$4)","v":14},{"$f":"IF($AI$162=\"\",\"\",VLOOKUP($AI$166,ASkins,2,FALSE))","v":""},{"$f":"IF($AI$162=\"\",\"\",IF($AI$164=$AI$111-1,\"Birdie-\"&$AI$164,IF($AI$164=$AI$111-2,\"Eagle-\"&$AI$164,IF($AI$164=$AI$111-3,\"Double Eagle-\"&$AI$164))))","v":""},{"$f":"IF($B30=\"\",\"\",Pots!$E$121/(18-COUNTBLANK($B$17:$B$34)))","v":""},{"$f":"IF(Players!$V$4=\"\",\"\",Players!$V$4)","v":14},{"$f":"IF($BC$162=\"\",\"\",VLOOKUP($BC$166,BSkins,2,FALSE))","v":""},{"$f":"IF($BC$162=\"\",\"\",IF($BC$164=$BC$111-1,\"Birdie-\"&$BC$164,IF($BC$164=$BC$111-2,\"Eagle-\"&$BC$164,IF($BC$164=$BC$111-3,\"Double Eagle-\"&$BC$164))))","v":""},{"$f":"IF($F30=\"\",\"\",Pots!$F$121/(18-COUNTBLANK($F$17:$F$34)))","v":""},"",null,null,{"$f":"IF($J30=\"\",\"\",Pots!$G$121/(9-COUNTBLANK($J$26:$J$34)+1))","v":""},null,null,null,null,{"$f":"Players!$V4","v":14},{"$f":"Players!$V5","v":5},""]
[{"$f":"IF(Players!$W$4=\"\",\"\",Players!$W$4)","v":15},{"$f":"IF($AJ$162=\"\",\"\",VLOOKUP($AJ$166,ASkins,2,FALSE))","v":""},{"$f":"IF($AJ$162=\"\",\"\",IF($AJ$164=$AJ$111-1,\"Birdie-\"&$AJ$164,IF($AJ$164=$AJ$111-2,\"Eagle-\"&$AJ$164,IF($AJ$164=$AJ$111-3,\"Double Eagle-\"&$AJ$164))))","v":""},{"$f":"IF($B31=\"\",\"\",Pots!$E$121/(18-COUNTBLANK($B$17:$B$34)))","v":""},{"$f":"IF(Players!$W$4=\"\",\"\",Players!$W$4)","v":15},{"$f":"IF($BD$162=\"\",\"\",VLOOKUP($BD$166,BSkins,2,FALSE))","v":""},{"$f":"IF($BD$162=\"\",\"\",IF($BD$164=$BD$111-1,\"Birdie-\"&$BD$164,IF($BD$164=$BD$111-2,\"Eagle-\"&$BD$164,IF($BD$164=$BD$111-3,\"Double Eagle-\"&$BD$164))))","v":""},{"$f":"IF($F31=\"\",\"\",Pots!$F$121/(18-COUNTBLANK($F$17:$F$34)))","v":""},"",null,null,{"$f":"IF($J31=\"\",\"\",Pots!$G$121/(9-COUNTBLANK($J$26:$J$34)+1))","v":""},null,null,null,null,{"$f":"Players!$W4","v":15},{"$f":"Players!$W5","v":4},""]
[{"$f":"IF(Players!$X$4=\"\",\"\",Players!$X$4)","v":16},{"$f":"IF($AK$162=\"\",\"\",VLOOKUP($AK$166,ASkins,2,FALSE))","v":"Jones, Gary"},{"$f":"IF($AK$162=\"\",\"\",IF($AK$164=$AK$111-1,\"Birdie-\"&$AK$164,IF($AK$164=$AK$111-2,\"Eagle-\"&$AK$164,IF($AK$164=$AK$111-3,\"Double Eagle-\"&$AK$164))))","v":"Birdie-2"},{"$f":"IF($B32=\"\",\"\",Pots!$E$121/(18-COUNTBLANK($B$17:$B$34)))","v":7.5},{"$f":"IF(Players!$X$4=\"\",\"\",Players!$X$4)","v":16},{"$f":"IF($BE$162=\"\",\"\",VLOOKUP($BE$166,BSkins,2,FALSE))","v":""},{"$f":"IF($BE$162=\"\",\"\",IF($BE$164=$BE$111-1,\"Birdie-\"&$BE$164,IF($BE$164=$BE$111-2,\"Eagle-\"&$BE$164,IF($BE$164=$BE$111-3,\"Double Eagle-\"&$BE$164))))","v":""},{"$f":"IF($F32=\"\",\"\",Pots!$F$121/(18-COUNTBLANK($F$17:$F$34)))","v":""},"",null,null,{"$f":"IF($J32=\"\",\"\",Pots!$G$121/(9-COUNTBLANK($J$26:$J$34)+1))","v":""},null,null,null,null,{"$f":"Players!$X4","v":16},{"$f":"Players!$X5","v":3},16]
[{"$f":"IF(Players!$Y$4=\"\",\"\",Players!$Y$4)","v":17},{"$f":"IF($AL$162=\"\",\"\",VLOOKUP($AL$166,ASkins,2,FALSE))","v":"Jones, Gary"},{"$f":"IF($AL$162=\"\",\"\",IF($AL$164=$AL$111-1,\"Birdie-\"&$AL$164,IF($AL$164=$AL$111-2,\"Eagle-\"&$AL$164,IF($AL$164=$AL$111-3,\"Double Eagle-\"&$AL$164))))","v":"Birdie-4"},{"$f":"IF($B33=\"\",\"\",Pots!$E$121/(18-COUNTBLANK($B$17:$B$34)))","v":7.5},{"$f":"IF(Players!$Y$4=\"\",\"\",Players!$Y$4)","v":17},{"$f":"IF($BF$162=\"\",\"\",VLOOKUP($BF$166,BSkins,2,FALSE))","v":""},{"$f":"IF($BF$162=\"\",\"\",IF($BF$164=$BF$111-1,\"Birdie-\"&$BF$164,IF($BF$164=$BF$111-2,\"Eagle-\"&$BF$164,IF($BF$164=$BF$111-3,\"Double Eagle-\"&$BF$164))))","v":""},{"$f":"IF($F33=\"\",\"\",Pots!$F$121/(18-COUNTBLANK($F$17:$F$34)))","v":""},"",null,null,{"$f":"IF($J33=\"\",\"\",Pots!$G$121/(9-COUNTBLANK($J$26:$J$34)+1))","v":""},null,null,null,null,{"$f":"Players!$Y4","v":17},{"$f":"Players!$Y5","v":5},""]
[{"$f":"IF(Players!$Z$4=\"\",\"\",Players!$Z$4)","v":18},{"$f":"IF($AM$162=\"\",\"\",VLOOKUP($AM$166,ASkins,2,FALSE))","v":""},{"$f":"IF($AM$162=\"\",\"\",IF($AM$164=$AM$111-1,\"Birdie-\"&$AM$164,IF($AM$164=$AM$111-2,\"Eagle-\"&$AM$164,IF($AM$164=$AM$111-3,\"Double Eagle-\"&$AM$164))))","v":""},{"$f":"IF($B34=\"\",\"\",Pots!$E$121/(18-COUNTBLANK($B$17:$B$34)))","v":""},{"$f":"IF(Players!$Z$4=\"\",\"\",Players!$Z$4)","v":18},{"$f":"IF($BG$162=\"\",\"\",VLOOKUP($BG$166,BSkins,2,FALSE))","v":""},{"$f":"IF($BG$162=\"\",\"\",IF($BG$164=$BG$111-1,\"Birdie-\"&$BG$164,IF($BG$164=$BG$111-2,\"Eagle-\"&$BG$164,IF($BG$164=$BG$111-3,\"Double Eagle-\"&$BG$164))))","v":""},{"$f":"IF($F34=\"\",\"\",Pots!$F$121/(18-COUNTBLANK($F$17:$F$34)))","v":""},"",null,null,{"$f":"IF($J34=\"\",\"\",Pots!$G$121/(9-COUNTBLANK($J$26:$J$34)+1))","v":""},null,null,null,null,{"$f":"Players!$Z4","v":18},{"$f":"Players!$Z5","v":4},""]
[null,null,null,null,null,null,null,null,null,{"$f":"Members!B2","v":"Aldrian, Mark"},{"$f":"Members!#REF!","v":{"$error":"#REF!"}}]
[null,null,null,null,null,null,null,null,null,{"$f":"Members!B3","v":"Bateson, Brad"},{"$f":"Members!#REF!","v":{"$error":"#REF!"}}]
[null,null,null,null,null,null,null,null,null,{"$f":"Members!B4","v":"Blodgett, Kevin"},{"$f":"Members!#REF!","v":{"$error":"#REF!"}}]
[null,null,null,null,null,null,null,null,null,{"$f":"Members!B5","v":"Deutsch, Paul"},{"$f":"Members!#REF!","v":{"$error":"#REF!"}}]
[null,null,null,null,null,null,null,null,null,{"$f":"Members!B6","v":"Doden, Jeff"},{"$f":"Members!#REF!","v":{"$error":"#REF!"}}]
[null,null,null,null,null,null,null,null,null,{"$f":"Members!B7","v":"Escobedo, Hector"},{"$f":"Members!#REF!","v":{"$error":"#REF!"}}]
[null,null,null,null,null,null,null,null,null,{"$f":"Members!B8","v":"Escobedo, Marco"},{"$f":"Members!#REF!","v":{"$error":"#REF!"}}]
[null,null,null,null,null,null,null,null,null,{"$f":"Members!B9","v":"Forstot, Joshua"},{"$f":"Members!#REF!","v":{"$error":"#REF!"}}]
[null,null,null,null,null,null,null,null,null,{"$f":"Members!B10","v":"Graham, Travis"},{"$f":"Members!#REF!","v":{"$error":"#REF!"}}]
[null,null,null,null,null,null,null,null,null,{"$f":"Members!B11","v":"Hammond, Rob"},{"$f":"Members!#REF!","v":{"$error":"#REF!"}}]
[null,null,null,null,null,null,null,null,null,{"$f":"Members!B12","v":"Hart, Dave"},{"$f":"Members!#REF!","v":{"$error":"#REF!"}}]
[null,null,null,null,null,null,null,null,null,{"$f":"Members!B13","v":"Havstad, Peter"},{"$f":"Members!#REF!","v":{"$error":"#REF!"}}]
[null,null,null,null,null,null,null,null,null,{"$f":"Members!B14","v":"Havstad, Steve"},{"$f":"Members!#REF!","v":{"$error":"#REF!"}}]
[null,null,null,null,null,null,null,null,null,{"$f":"Members!B15","v":"Holzrichter, Geoff"},{"$f":"Members!#REF!","v":{"$error":"#REF!"}}]
[null,null,null,null,null,null,null,null,null,{"$f":"Members!B16","v":"Johnson, Carl"},{"$f":"Members!#REF!","v":{"$error":"#REF!"}}]
[null,null,null,null,null,null,null,null,null,{"$f":"Members!B17","v":"Jones, Gary"},{"$f":"Members!#REF!","v":{"$error":"#REF!"}}]
[null,null,null,null,null,null,null,null,null,{"$f":"Members!B18","v":"Kozachenko, Jon"},{"$f":"Members!#REF!","v":{"$error":"#REF!"}}]
[null,null,null,null,null,null,null,null,null,{"$f":"Members!B19","v":"Lujan, Fil"},{"$f":"Members!#REF!","v":{"$error":"#REF!"}}]
[null,null,null,null,null,null,null,null,null,{"$f":"Members!B20","v":"Lunghard, Rich"},{"$f":"Members!#REF!","v":{"$error":"#REF!"}}]
[null,null,null,null,null,null,null,null,null,{"$f":"Members!B21","v":"Mariano, Joe"},{"$f":"Members!#REF!","v":{"$error":"#REF!"}}]
[null,null,null,null,null,null,null,null,null,{"$f":"Members!B22","v":"Matthews, Keith"},{"$f":"Members!#REF!","v":{"$error":"#REF!"}}]
[null,null,null,null,null,null,null,null,null,{"$f":"Members!B23","v":"Medina, Randy"},{"$f":"Members!#REF!","v":{"$error":"#REF!"}}]
[null,null,null,null,null,null,null,null,null,{"$f":"Members!B24","v":"Mikschl, Tom"},{"$f":"Members!#REF!","v":{"$error":"#REF!"}}]
[null,null,null,null,null,null,null,null,null,{"$f":"Members!B25","v":"Montgomery, Andy"},{"$f":"Members!#REF!","v":{"$error":"#REF!"}}]
[null,null,null,null,null,null,null,null,null,{"$f":"Members!B26","v":"Nagel, Rich"},{"$f":"Members!#REF!","v":{"$error":"#REF!"}}]
[null,null,null,null,null,null,null,null,null,{"$f":"Members!B27","v":"Ornelas, Eddie"},{"$f":"Members!#REF!","v":{"$error":"#REF!"}}]
[null,null,null,null,null,null,null,null,null,{"$f":"Members!B28","v":"Poyar, Bob"},{"$f":"Members!#REF!","v":{"$error":"#REF!"}}]
[null,null,null,null,null,null,null,null,null,{"$f":"Members!B29","v":"Rojes, Ray"},{"$f":"Members!#REF!","v":{"$error":"#REF!"}}]
[null,null,null,null,null,null,null,null,null,{"$f":"Members!B30","v":"Salinas, Frank"},{"$f":"Members!#REF!","v":{"$error":"#REF!"}}]
[null,null,null,null,null,null,null,null,null,{"$f":"Members!B31","v":"Tenorio, Noe"},{"$f":"Members!#REF!","v":{"$error":"#REF!"}}]
[null,null,null,null,null,null,null,null,null,{"$f":"Members!B32","v":"Thompson, Dan"},{"$f":"Members!#REF!","v":{"$error":"#REF!"}}]
[null,null,null,null,null,null,null,null,null,{"$f":"Members!B33","v":0},{"$f":"Members!#REF!","v":{"$error":"#REF!"}}]
[null,null,null,null,null,null,null,null,null,{"$f":"Members!B34","v":"Christen, Lou"},{"$f":"Members!#REF!","v":{"$error":"#REF!"}}]
[null,null,null,null,null,null,null,null,null,{"$f":"Members!B35","v":"Iinuma, Shiro"},{"$f":"Members!#REF!","v":{"$error":"#REF!"}}]
[null,null,null,null,null,null,null,null,null,{"$f":"Members!B36","v":"Ikeda, Blaine"},{"$f":"Members!#REF!","v":{"$error":"#REF!"}}]
[null,null,null,null,null,null,null,null,null,{"$f":"Members!B37","v":"Endo, Johnny"},{"$f":"Members!#REF!","v":{"$error":"#REF!"}}]
[null,null,null,null,null,null,null,null,null,{"$f":"Members!B38","v":0},{"$f":"Members!#REF!","v":{"$error":"#REF!"}}]
[null,null,null,null,null,null,null,null,null,{"$f":"Members!B39","v":0},{"$f":"Members!#REF!","v":{"$error":"#REF!"}}]
[null,null,null,null,null,null,null,null,null,{"$f":"Members!B40","v":0},{"$f":"Members!#REF!","v":{"$error":"#REF!"}}]
[null,null,null,null,null,null,null,null,null,{"$f":"Members!B41","v":0},{"$f":"Members!#REF!","v":{"$error":"#REF!"}}]
[null,null,null,null,null,null,null,null,null,{"$f":"Members!B42","v":0},{"$f":"Members!#REF!","v":{"$error":"#REF!"}}]
[null,null,null,null,null,null,null,null,null,{"$f":"Members!B43","v":0},{"$f":"Members!#REF!","v":{"$error":"#REF!"}}]
[null,null,null,null,null,null,null,null,null,{"$f":"Members!B44","v":0},{"$f":"Members!#REF!","v":{"$error":"#REF!"}}]
[null,null,null,null,null,null,null,null,null,{"$f":"Members!B45","v":0},{"$f":"Members!#REF!","v":{"$error":"#REF!"}}]
[null,null,null,null,null,null,null,null,null,{"$f":"Members!B46","v":0},{"$f":"Members!#REF!","v":{"$error":"#REF!"}}]
[null,null,null,null,null,null,null,null,null,{"$f":"Members!B47","v":0},{"$f":"Members!#REF!","v":{"$error":"#REF!"}}]
[null,null,null,null,null,null,null,null,null,{"$f":"Members!B48","v":0},{"$f":"Members!#REF!","v":{"$error":"#REF!"}}]
[null,null,null,null,null,null,null,null,null,{"$f":"Members!B49","v":0},{"$f":"Members!#REF!","v":{"$error":"#REF!"}}]
[null,null,null,null,null,null,null,null,null,{"$f":"Members!B50","v":0},{"$f":"Members!#REF!","v":{"$error":"#REF!"}}]
[null,null,null,null,null,null,null,null,null,{"$f":"Members!B51","v":0},{"$f":"Members!#REF!","v":{"$error":"#REF!"}}]
[null,null,null,null,null,null,null,null,null,{"$f":"Members!B52","v":0},{"$f":"Members!#REF!","v":{"$error":"#REF!"}}]
[null,null,null,null,null,null,null,null,null,{"$f":"Members!B53","v":0},{"$f":"Members!#REF!","v":{"$error":"#REF!"}}]
[null,null,null,null,null,null,null,null,null,{"$f":"Members!B54","v":0},{"$f":"Members!#REF!","v":{"$error":"#REF!"}}]
[null,null,null,null,null,null,null,null,null,{"$f":"Members!B55","v":0},{"$f":"Members!#REF!","v":{"$error":"#REF!"}}]
[null,null,null,null,null,null,null,null,null,{"$f":"Members!B56","v":0},{"$f":"Members!#REF!","v":{"$error":"#REF!"}}]
[null,null,null,null,null,null,null,null,null,{"$f":"Members!B57","v":0},{"$f":"Members!#REF!","v":{"$error":"#REF!"}}]
[null,null,null,null,null,null,null,null,null,{"$f":"Members!B58","v":0},{"$f":"Members!#REF!","v":{"$error":"#REF!"}}]
[null,null,null,null,null,null,null,null,null,{"$f":"Members!B59","v":0},{"$f":"Members!#REF!","v":{"$error":"#REF!"}}]
[null,null,null,null,null,null,null,null,null,{"$f":"Members!B60","v":0},{"$f":"Members!#REF!","v":{"$error":"#REF!"}}]
[null,null,null,null,null,null,null,null,null,{"$f":"Members!B61","v":0},{"$f":"Members!#REF!","v":{"$error":"#REF!"}}]
[null,null,null,null,null,null,null,null,null,{"$f":"Members!B62","v":0},{"$f":"Members!#REF!","v":{"$error":"#REF!"}}]
[null,null,null,null,null,null,null,null,null,{"$f":"Members!B63","v":0},{"$f":"Members!#REF!","v":{"$error":"#REF!"}}]
[null,null,null,null,null,null,null,null,null,{"$f":"Members!B64","v":0},{"$f":"Members!#REF!","v":{"$error":"#REF!"}}]
[null,null,null,null,null,null,null,null,null,{"$f":"Members!B65","v":0},{"$f":"Members!#REF!","v":{"$error":"#REF!"}}]
[null,null,null,null,null,null,null,null,null,{"$f":"Members!B66","v":0},{"$f":"Members!#REF!","v":{"$error":"#REF!"}}]
[null,null,null,null,null,null,null,null,null,{"$f":"Members!B67","v":0},{"$f":"Members!#REF!","v":{"$error":"#REF!"}}]
[null,null,null,null,null,null,null,null,null,{"$f":"Members!B68","v":0},{"$f":"Members!#REF!","v":{"$error":"#REF!"}}]
[null,null,null,null,null,null,null,null,null,{"$f":"Members!B69","v":0},{"$f":"Members!#REF!","v":{"$error":"#REF!"}}]
[null,null,null,null,null,null,null,null,null,{"$f":"Members!B70","v":0},{"$f":"Members!#REF!","v":{"$error":"#REF!"}}]
[null,null,null,null,null,null,null,null,null,{"$f":"Members!B71","v":0},{"$f":"Members!#REF!","v":{"$error":"#REF!"}}]
[null,null,null,null,null,null,null,null,null,{"$f":"Members!B72","v":0},{"$f":"Members!#REF!","v":{"$error":"#REF!"}}]
[null,null,null,null,null,null,null,null,null,{"$f":"Members!B73","v":0},{"$f":"Members!#REF!","v":{"$error":"#REF!"}}]
[null,null,null,null,null,null,null,null,null,{"$f":"Members!B74","v":0},{"$f":"Members!#REF!","v":{"$error":"#REF!"}}]
[null,null,null,null,null,null,null,null,null,{"$f":"Members!B75","v":0},{"$f":"Members!#REF!","v":{"$error":"#REF!"}}]
[null,null,null,null,null,null,null,null,null,{"$f":"Members!B76","v":0},{"$f":"Members!#REF!","v":{"$error":"#REF!"}}]
[null,null,null,null,null,null,null,null,null,null,null,null,null,null,null,null,null,null,null,null,null,{"$f":"Players!$H$4","v":1},{"$f":"Players!$I$4","v":2},{"$f":"Players!$J$4","v":3},{"$f":"Players!$K$4","v":4},{"$f":"Players!$L$4","v":5},{"$f":"Players!$M$4","v":6},{"$f":"Players!$N$4","v":7},{"$f":"Players!$O$4","v":8},{"$f":"Players!$P$4","v":9},{"$f":"Players!$R$4","v":10},{"$f":"Players!$S$4","v":11},{"$f":"Players!$T$4","v":12},{"$f":"Players!$U$4","v":13},{"$f":"Players!$V$4","v":14},{"$f":"Players!$W$4","v":15},{"$f":"Players!$X$4","v":16},{"$f":"Players!$Y$4","v":17},{"$f":"Players!$Z$4","v":18},null,null,{"$f":"Players!$H$4","v":1},{"$f":"Players!$I$4","v":2},{"$f":"Players!$J$4","v":3},{"$f":"Players!$K$4","v":4},{"$f":"Players!$L$4","v":5},{"$f":"Players!$M$4","v":6},{"$f":"Players!$N$4","v":7},{"$f":"Players!$O$4","v":8},{"$f":"Players!$P$4","v":9},{"$f":"Players!$R$4","v":10},{"$f":"Players!$S$4","v":11},{"$f":"Players!$T$4","v":12},{"$f":"Players!$U$4","v":13},{"$f":"Players!$V$4","v":14},{"$f":"Players!$W$4","v":15},{"$f":"Players!$X$4","v":16},{"$f":"Players!$Y$4","v":17},{"$f":"Players!$Z$4","v":18}]
[null,null,null,null,null,null,null,null,null,null,null,null,null,null,null,null,null,null,null,null,"A-Skins",{"$f":"Players!$H$5","v":4},{"$f":"Players!$I$5","v":4},{"$f":"Players!$J$5","v":4},{"$f":"Players!$K$5","v":3},{"$f":"Players!$L$5","v":5},{"$f":"Players!$M$5","v":3},{"$f":"Players!$N$5","v":4},{"$f":"Players!$O$5","v":4},{"$f":"Players!$P$5","v":5},{"$f":"Players!$R$5","v":4},{"$f":"Players!$S$5","v":4},{"$f":"Players!$T$5","v":3},{"$f":"Players!$U$5","v":4},{"$f":"Players!$V$5","v":5},{"$f":"Players!$W$5","v":4},{"$f":"Players!$X$5","v":3},{"$f":"Players!$Y$5","v":5},{"$f":"Players!$Z$5","v":4},null,"B-Skins",{"$f":"Players!$H$5","v":4},{"$f":"Players!$I$5","v":4},{"$f":"Players!$J$5","v":4},{"$f":"Players!$K$5","v":3},{"$f":"Players!$L$5","v":5},{"$f":"Players!$M$5","v":3},{"$f":"Players!$N$5","v":4},{"$f":"Players!$O$5","v":4},{"$f":"Players!$P$5","v":5},{"$f":"Players!$R$5","v":4},{"$f":"Players!$S$5","v":4},{"$f":"Players!$T$5","v":3},{"$f":"Players!$U$5","v":4},{"$f":"Players!$V$5","v":5},{"$f":"Players!$W$5","v":4},{"$f":"Players!$X$5","v":3},{"$f":"Players!$Y$5","v":5},{"$f":"Players!$Z$5","v":4}]
["No.","Putts","Total",null,"No.","Front","Score",null,"No.","Back","Score",null,"No.","Total","Score",null,null,null,null,1,"Jones, Gary","","","",2,"","","","",4,"","",2,"","","",2,4,"",1,"Blodgett, Kevin","","","","","","","","","","","","","","","","","",""]
[1,"Escobedo, Hector",28,null,1,"Jones, Gary",32.5,null,1,"Tenorio, Noe",32.5,null,1,"Jones, Gary",66,null,null,null,null,2,"Escobedo, Hector","","","","","","","","","","","","","","","","","","",2,"Tenorio, Noe","","","","","","","","","","","",2,"","","","","",""]
[2,"Havstad, Steve",29,null,2,"Kozachenko, Jon",33.5,null,2,"Jones, Gary",33.5,null,2,"Tenorio, Noe",69,null,null,null,null,3,"Mariano, Joe","","","","","","","","","","","","","","","","","","",3,"Deutsch, Paul","","","","","","","","","","","","","","","","","",""]
[3,"Deutsch, Paul",29,null,3,"Havstad, Steve",34,null,3,"Blodgett, Kevin",33.5,null,3,"Kozachenko, Jon",69,null,null,null,null,4,"Ornelas, Eddie","","","","","","","","","","","","","","","","","","",4,"Lunghard, Rich","","","","","","","","","","","","","","","","","",""]
[4,"Jones, Gary",31,null,4,"Holzrichter, Geoff",34,null,4,"Matthews, Keith",34,null,4,"Matthews, Keith",72,null,null,null,null,5,"Kozachenko, Jon","","","","","","","","","","","","","","","","","","",5,"Holzrichter, Geoff","","","","","","","","","","","","","","","","","",""]
[5,"Tenorio, Noe",32,null,5,"Escobedo, Hector",35.5,null,5,"Kozachenko, Jon",35.5,null,5,"Christen, Lou",72,null,null,null,null,6,"Matthews, Keith","","","","","","","","","","","","","","","","","","",6,"","","","","","","","","","","","","","","","","","",""]
[6,"Holzrichter, Geoff",32,null,6,"Christen, Lou",35.5,null,6,"Christen, Lou",36.5,null,6,"Havstad, Steve",72,null,null,null,null,7,"Christen, Lou","","","","","","","","","",3,"","","","","","","","",7,"","","","","","","","","","","","","","","","","","",""]
[7,"Kozachenko, Jon",33,null,7,"Lunghard, Rich",35.5,null,7,"Ornelas, Eddie",37,null,7,"Lunghard, Rich",74,null,null,null,null,8,"Havstad, Steve","","","","","","","","","","","","","","","","","","",8,"","","","","","","","","","","","","","","","","","",""]
[8,"Christen, Lou",33,null,8,"Tenorio, Noe",36.5,null,8,"Havstad, Steve",38,null,8,"Holzrichter, Geoff",74,null,null,null,null,9,"Blodgett, Kevin","","","","","","","","","","","","","","","","","","",9,"","","","","","","","","","","","","","","","","","",""]
[9,"Ornelas, Eddie",34,null,9,"Ornelas, Eddie",38,null,9,"Lunghard, Rich",38.5,null,9,"Blodgett, Kevin",75,null,null,null,null,10,"","","","","","","","","","","","","","","","","","","",10,"","","","","","","","","","","","","","","","","","",""]
[10,"Lunghard, Rich",34,null,10,"Matthews, Keith",38,null,10,"Escobedo, Hector",39.5,null,10,"Ornelas, Eddie",75,null,null,null,null,11,"","","","","","","","","","","","","","","","","","","",11,"","","","","","","","","","","","","","","","","","",""]
[null,null,null,null,null,null,null,null,null,null,null,null,null,null,null,null,null,null,null,12,"","","","","","","","","","","","","","","","","","","",12,"","","","","","","","","","","","","","","","","","",""]
[null,null,null,null,null,null,null,null,null,null,null,null,"Place","Total","Total","GOY Score","GOY Pts.","Ties","No.",13,"","","","","","","","","","","","","","","","","","","",13,"","","","","","","","","","","","","","","","","","",""]
[null,null,null,null,null,null,null,null,null,null,null,null,{"$f":"IF($N125=\"\",\"\",IF($P125=$P126,\"T1\",\"1\"))","v":"1"},"Jones, Gary",66,{"$f":"IF($N125=\"\",\"\",IF(VLOOKUP($N125,Members,5,FALSE)=\"X\",$O125,\"NGOY\"))","v":66},{"$f":"IF($N125=\"\",\"\",IF($M125=\"1\",10,IF($S125=2,(10+7)/2,IF($S125=3,(10+7+5)/3,IF($S125=4,(10+7+5+3)/4,(10+7+5+3+1)/$S125)))))","v":10},"T1",{"$f":"IF($N$125=\"\",\"\",COUNTIF($M$125:$M$134,\"T1\"))","v":0},14,"","","","","","","","","","","","","","","","","","","",14,"","","","","","","","","","","","","","","","","","",""]
[null,null,null,null,null,null,null,null,null,null,null,null,{"$f":"IF($N126=\"\",\"\",IF($P126=$P125,\"T1\",IF($P126=$P127,\"T2\",\"2\")))","v":"T2"},"Tenorio, Noe",69,{"$f":"IF($N126=\"\",\"\",IF(VLOOKUP($N126,Members,5,FALSE)=\"X\",$O126,\"NGOY\"))","v":69},{"$f":"IF($N126=\"\",\"\",IF($M126=\"T1\",$Q$125,IF($M126=\"2\",7,IF($S126=2,(7+5)/2,IF($S126=3,(7+5+3)/3,(7+5+3+1)/$S126)))))","v":6},"T2",{"$f":"IF($N$125=\"\",\"\",COUNTIF($M$125:$M$134,\"T2\"))","v":2},15,"","","","","","","","","","","","","","","","","","","",15,"","","","","","","","","","","","","","","","","","",""]
[null,null,null,null,null,null,null,null,null,null,null,null,{"$f":"IF($N127=\"\",\"\",IF($P127=$P125,\"T1\",IF($P127=$P126,\"T2\",IF($P127=$P128,\"T3\",\"3\"))))","v":"T2"},"Kozachenko, Jon",69,{"$f":"IF($N127=\"\",\"\",IF(VLOOKUP($N127,Members,5,FALSE)=\"X\",$O127,\"NGOY\"))","v":69},{"$f":"IF($N127=\"\",\"\",IF($M127=\"T1\",$Q$125,IF($M127=\"T2\",$Q$126,IF($M127=\"3\",5,IF($S127=2,(5+3)/2,(5+3+1)/$S127)))))","v":6},"T3",{"$f":"IF($N$125=\"\",\"\",COUNTIF($M$125:$M$134,\"T3\"))","v":0},16,"","","","","","","","","","","","","","","","","","","",16,"","","","","","","","","","","","","","","","","","",""]
[null,null,null,null,null,null,null,null,null,null,null,null,{"$f":"IF($N128=\"\",\"\",IF($P128=$P125,\"T1\",IF($P128=$P126,\"T2\",IF($P128=$P127,\"T3\",IF($P128=$P129,\"T4\",\"4\")))))","v":"T4"},"Matthews, Keith",72,{"$f":"IF($N128=\"\",\"\",IF(VLOOKUP($N128,Members,5,FALSE)=\"X\",$O128,\"NGOY\"))","v":72},{"$f":"IF($N128=\"\",\"\",IF($M128=\"T1\",$Q$125,IF($M128=\"T2\",$Q$126,IF($M128=\"T3\",$Q$127,IF($M128=\"4\",3,(3+1)/$S128)))))","v":2},"T4",{"$f":"IF($N$125=\"\",\"\",COUNTIF($M$125:$M$134,\"T4\"))","v":2},17,"","","","","","","","","","","","","","","","","","","",17,"","","","","","","","","","","","","","","","","","",""]
[null,null,null,null,null,null,null,null,null,null,null,null,{"$f":"IF($N129=\"\",\"\",IF($P129=$P125,\"T1\",IF($P129=$P126,\"T2\",IF($P129=$P127,\"T3\",IF($P129=$P128,\"T4\",IF($P129=$P130,\"T5\",\"5\"))))))","v":"T4"},"Havstad, Steve",72,{"$f":"IF($N129=\"\",\"\",IF(VLOOKUP($N129,Members,5,FALSE)=\"X\",$O129,\"NGOY\"))","v":72},{"$f":"IF($N129=\"\",\"\",IF($M129=\"T1\",$Q$125,IF($M129=\"T2\",$Q$126,IF($M129=\"T3\",$Q$127,IF($M129=\"T4\",$Q$128,IF($M129=\"5\",1,1/$S129))))))","v":2},"T5",{"$f":"IF($N$125=\"\",\"\",COUNTIF($M$125:$M$134,\"T5\"))","v":0},18,"","","","","","","","","","","","","","","","","","","",18,"","","","","","","","","","","","","","","","","","",""]
[null,null,null,null,null,null,null,null,null,null,null,null,{"$f":"IF($N130=\"\",\"\",IF($P130=$P$125,\"T1\",IF($P130=$P$126,\"T2\",IF($P130=$P$127,\"T3\",IF($P130=$P$128,\"T4\",IF($P130=$P$129,\"T5\",\"\"))))))","v":""},"Lunghard, Rich",74,{"$f":"IF($N130=\"\",\"\",IF(VLOOKUP($N130,Members,5,FALSE)=\"X\",$O130,\"NGOY\"))","v":74},{"$f":"IF($N130=\"\",\"\",IF($M130=\"T1\",$Q$125,IF($M130=\"T2\",$Q$126,IF($M130=\"T3\",$Q$127,IF($M130=\"T4\",$Q$128,IF($M130=\"T5\",$Q$129,\"\"))))))","v":""},null,null,19,"","","","","","","","","","","","","","","","","","","",19,"","","","","","","","","","","","","","","","","","",""]
[null,null,null,null,null,null,null,null,null,null,null,null,{"$f":"IF($N131=\"\",\"\",IF($P131=$P$125,\"T1\",IF($P131=$P$126,\"T2\",IF($P131=$P$127,\"T3\",IF($P131=$P$128,\"T4\",IF($P131=$P$129,\"T5\",\"\"))))))","v":""},"Holzrichter, Geoff",74,{"$f":"IF($N131=\"\",\"\",IF(VLOOKUP($N131,Members,5,FALSE)=\"X\",$O131,\"NGOY\"))","v":74},{"$f":"IF($N131=\"\",\"\",IF($M131=\"T1\",$Q$125,IF($M131=\"T2\",$Q$126,IF($M131=\"T3\",$Q$127,IF($M131=\"T4\",$Q$128,IF($M131=\"T5\",$Q$129,\"\"))))))","v":""},null,null,20,"","","","","","","","","","","","","","","","","","","",20,"","","","","","","","","","","","","","","","","","",""]
[null,null,null,null,null,null,null,null,null,null,null,null,{"$f":"IF($N132=\"\",\"\",IF($P132=$P$125,\"T1\",IF($P132=$P$126,\"T2\",IF($P132=$P$127,\"T3\",IF($P132=$P$128,\"T4\",IF($P132=$P$129,\"T5\",\"\"))))))","v":""},"Blodgett, Kevin",75,{"$f":"IF($N132=\"\",\"\",IF(VLOOKUP($N132,Members,5,FALSE)=\"X\",$O132,\"NGOY\"))","v":75},{"$f":"IF($N132=\"\",\"\",IF($M132=\"T1\",$Q$125,IF($M132=\"T2\",$Q$126,IF($M132=\"T3\",$Q$127,IF($M132=\"T4\",$Q$128,IF($M132=\"T5\",$Q$129,\"\"))))))","v":""},null,null,21,"","","","","","","","","","","","","","","","","","","",21,"","","","","","","","","","","","","","","","","","",""]
[null,null,null,null,null,null,null,null,null,null,null,null,{"$f":"IF($N133=\"\",\"\",IF($P133=$P$125,\"T1\",IF($P133=$P$126,\"T2\",IF($P133=$P$127,\"T3\",IF($P133=$P$128,\"T4\",IF($P133=$P$129,\"T5\",\"\"))))))","v":""},"Ornelas, Eddie",75,{"$f":"IF($N133=\"\",\"\",IF(VLOOKUP($N133,Members,5,FALSE)=\"X\",$O133,\"NGOY\"))","v":75},{"$f":"IF($N133=\"\",\"\",IF($M133=\"T1\",$Q$125,IF($M133=\"T2\",$Q$126,IF($M133=\"T3\",$Q$127,IF($M133=\"T4\",$Q$128,IF($M133=\"T5\",$Q$129,\"\"))))))","v":""},null,null,22,"","","","","","","","","","","","","","","","","","","",22,"","","","","","","","","","","","","","","","","","",""]
[null,null,null,null,null,null,null,null,null,null,null,null,{"$f":"IF($N134=\"\",\"\",IF($P134=$P$125,\"T1\",IF($P134=$P$126,\"T2\",IF($P134=$P$127,\"T3\",IF($P134=$P$128,\"T4\",IF($P134=$P$129,\"T5\",\"\"))))))","v":""},"Christen, Lou",72,{"$f":"IF($N134=\"\",\"\",IF(VLOOKUP($N134,Members,5,FALSE)=\"X\",$O134,\"NGOY\"))","v":"NGOY"},{"$f":"IF($N134=\"\",\"\",IF($M134=\"T1\",$Q$125,IF($M134=\"T2\",$Q$126,IF($M134=\"T3\",$Q$127,IF($M134=\"T4\",$Q$128,IF($M134=\"T5\",$Q$129,\"\"))))))","v":""},null,null,23,"","","","","","","","","","","","","","","","","","","",23,"","","","","","","","","","","","","","","","","","",""]
[null,null,null,null,null,null,null,null,null,null,null,null,null,null,null,null,null,null,null,24,"","","","","","","","","","","","","","","","","","","",24,"","","","","","","","","","","","","","","","","","",""]
[null,null,null,null,null,null,null,null,null,null,null,null,null,null,null,null,null,null,null,25,"","","","","","","","","","","","","","","","","","","",25,"","","","","","","","","","","","","","","","","","",""]
[null,null,null,null,null,null,null,null,null,null,null,null,null,null,null,null,null,null,null,26,"","","","","","","","","","","","","","","","","","","",26,"","","","","","","","","","","","","","","","","","",""]
[null,null,null,null,null,null,null,null,null,null,null,null,null,null,null,null,null,null,null,27,"","","","","","","","","","","","","","","","","","","",27,"","","","","","","","","","","","","","","","","","",""]
[null,null,null,null,null,null,null,null,null,null,null,null,null,null,null,null,null,null,null,28,"","","","","","","","","","","","","","","","","","","",28,"","","","","","","","","","","","","","","","","","",""]
[null,null,null,null,null,null,null,null,null,null,null,null,null,null,null,null,null,null,null,29,"","","","","","","","","","","","","","","","","","","",29,"","","","","","","","","","","","","","","","","","",""]
[null,null,null,null,null,null,null,null,null,null,null,null,null,null,null,null,null,null,null,30,"","","","","","","","","","","","","","","","","","","",30,"","","","","","","","","","","","","","","","","","",""]
[null,null,null,null,null,null,null,null,null,null,null,null,null,null,null,null,null,null,null,31,"","","","","","","","","","","","","","","","","","","",31,"","","","","","","","","","","","","","","","","","",""]
[null,null,null,null,null,null,null,null,null,null,null,null,null,null,null,null,null,null,null,32,"","","","","","","","","","","","","","","","","","","",32,"","","","","","","","","","","","","","","","","","",""]
[null,null,null,null,null,null,null,null,null,null,null,null,null,null,null,null,null,null,null,33,"","","","","","","","","","","","","","","","","","","",33,"","","","","","","","","","","","","","","","","","",""]
[null,null,null,null,null,null,null,null,null,null,null,null,null,null,null,null,null,null,null,34,"","","","","","","","","","","","","","","","","","","",34,"","","","","","","","","","","","","","","","","","",""]
[null,null,null,null,null,null,null,null,null,null,null,null,null,null,null,null,null,null,null,35,"","","","","","","","","","","","","","","","","","","",35,"","","","","","","","","","","","","","","","","","",""]
[null,null,null,null,null,null,null,null,null,null,null,null,null,null,null,null,null,null,null,36,"","","","","","","","","","","","","","","","","","","",36,"","","","","","","","","","","","","","","","","","",""]
[null,null,null,null,null,null,null,null,null,null,null,null,null,null,null,null,null,null,null,37,"","","","","","","","","","","","","","","","","","","",37,"","","","","","","","","","","","","","","","","","",""]
[null,null,null,null,null,null,null,null,null,null,null,null,null,null,null,null,null,null,null,38,"","","","","","","","","","","","","","","","","","","",38,"","","","","","","","","","","","","","","","","","",""]
[null,null,null,null,null,null,null,null,null,null,null,null,null,null,null,null,null,null,null,39,"","","","","","","","","","","","","","","","","","","",39,"","","","","","","","","","","","","","","","","","",""]
[null,null,null,null,null,null,null,null,null,null,null,null,null,null,null,null,null,null,null,40,"","","","","","","","","","","","","","","","","","","",40,"","","","","","","","","","","","","","","","","","",""]
[null,null,null,null,null,null,null,null,null,null,null,null,null,null,null,null,null,null,null,41,"","","","","","","","","","","","","","","","","","","",41,"","","","","","","","","","","","","","","","","","",""]
[null,null,null,null,null,null,null,null,null,null,null,null,null,null,null,null,null,null,null,42,"","","","","","","","","","","","","","","","","","","",42,"","","","","","","","","","","","","","","","","","",""]
[null,null,null,null,null,null,null,null,null,null,null,null,null,null,null,null,null,null,null,43,"","","","","","","","","","","","","","","","","","","",43,"","","","","","","","","","","","","","","","","","",""]
[null,null,null,null,null,null,null,null,null,null,null,null,null,null,null,null,null,null,null,44,"","","","","","","","","","","","","","","","","","","",44,"","","","","","","","","","","","","","","","","","",""]
[null,null,null,null,null,null,null,null,null,null,null,null,null,null,null,null,null,null,null,45,"","","","","","","","","","","","","","","","","","","",45,"","","","","","","","","","","","","","","","","","",""]
[null,null,null,null,null,null,null,null,null,null,null,null,null,null,null,null,null,null,null,46,"","","","","","","","","","","","","","","","","","","",46,"","","","","","","","","","","","","","","","","","",""]
[null,null,null,null,null,null,null,null,null,null,null,null,null,null,null,null,null,null,null,47,"","","","","","","","","","","","","","","","","","","",47,"","","","","","","","","","","","","","","","","","",""]
[null,null,null,null,null,null,null,null,null,null,null,null,null,null,null,null,null,null,null,48,"","","","","","","","","","","","","","","","","","","",48,"","","","","","","","","","","","","","","","","","",""]
[null,null,null,null,null,null,null,null,null,null,null,null,null,null,null,null,null,null,null,49,"","","","","","","","","","","","","","","","","","","",49,"","","","","","","","","","","","","","","","","","",""]
[null,null,null,null,null,null,null,null,null,null,null,null,null,null,null,null,null,null,null,50,"","","","","","","","","","","","","","","","","","","",50,"","","","","","","","","","","","","","","","","","",""]
[null,null,null,null,null,null,null,null,null,null,null,null,null,null,null,null,null,null,null,null,"SKINS (S)","","","","S","","","","","S","S","","S","","","","S","S","",null,"SKINS (S)","","","","","","","","","","","","S","","","","","",""]
[]
[null,null,null,null,null,null,null,null,null,null,null,null,null,null,null,null,null,null,null,null,"Score",{"$f":"IF(V162=\"S\",MIN(V112:V161),\"\")","v":""},"","",2,"","","","",4,3,"",2,"","","",2,4,"",null,"Score",{"$f":"IF(AP162=\"S\",MIN(AP112:AP161),\"\")","v":""},"","","","","","","","","","",2,"","","","","",""]
[]
[null,null,null,null,null,null,null,null,null,null,null,null,null,null,null,null,null,null,null,null,"Position (array)",{"$f":"IF(V162=\"S\",MATCH(V164,V112:V161,0),\"\")","v":""},"","",1,"","","","",1,7,"",1,"","","",1,1,"",null,"Position (array)",{"$f":"IF(AP162=\"S\",MATCH(AP164,AP112:AP161,0),\"\")","v":""},"","","","","","","","","","",2,"","","","","",""]

{"sheet":"Results (Low Net)","index":4,"n_rows":55,"n_cols":30,"rows_kept":55,"cut":false,"hidden":false,"merged":[[2,28,2,29],[0,0,1,3],[0,4,0,16],[0,17,0,29],[1,4,1,16],[1,17,1,29],[2,2,4,2],[2,3,4,3],[2,4,4,4],[2,0,4,1],[2,5,4,5],[2,6,2,16],[2,17,2,27]]}
[null,null,null,null,"HACK ATTACK GOLF CLUB",null,null,null,null,null,null,null,null,null,null,null,null,{"$f":"IF(Players!B1=\"\",\"\",Players!B1)","v":"Mile Square Golf Course (Players)"}]
[null,null,null,null,"Tournament Results",null,null,null,null,null,null,null,null,null,null,null,null,{"$f":"IF(Players!B4=\"\",\"\",Players!B4)","v":"2018-07-22"}]
["Place",null,"Player","Tour. Hdcp.","Match Play","Putts","Front Side (Hole No. / Par)",null,null,null,null,null,null,null,null,null,null,"Back Side (Hole No. / Par)",null,null,null,null,null,null,null,null,null,null,"Total"]
[null,null,null,null,null,null,{"$f":"IF(Players!H4=\"\",\"\",Players!H4)","v":1},{"$f":"IF(Players!I4=\"\",\"\",Players!I4)","v":2},{"$f":"IF(Players!J4=\"\",\"\",Players!J4)","v":3},{"$f":"IF(Players!K4=\"\",\"\",Players!K4)","v":4},{"$f":"IF(Players!L4=\"\",\"\",Players!L4)","v":5},{"$f":"IF(Players!M4=\"\",\"\",Players!M4)","v":6},{"$f":"IF(Players!N4=\"\",\"\",Players!N4)","v":7},{"$f":"IF(Players!O4=\"\",\"\",Players!O4)","v":8},{"$f":"IF(Players!P4=\"\",\"\",Players!P4)","v":9},"Gross","Net",{"$f":"IF(Players!R4=\"\",\"\",Players!R4)","v":10},{"$f":"IF(Players!S4=\"\",\"\",Players!S4)","v":11},{"$f":"IF(Players!T4=\"\",\"\",Players!T4)","v":12},{"$f":"IF(Players!U4=\"\",\"\",Players!U4)","v":13},{"$f":"IF(Players!V4=\"\",\"\",Players!V4)","v":14},{"$f":"IF(Players!W4=\"\",\"\",Players!W4)","v":15},{"$f":"IF(Players!X4=\"\",\"\",Players!X4)","v":16},{"$f":"IF(Players!Y4=\"\",\"\",Players!Y4)","v":17},{"$f":"IF(Players!Z4=\"\",\"\",Players!Z4)","v":18},"Gross","Net","Gross","Net"]
[null,null,null,null,null,null,{"$f":"IF(Players!H5=\"\",\"\",Players!H5)","v":4},{"$f":"IF(Players!I5=\"\",\"\",Players!I5)","v":4},{"$f":"IF(Players!J5=\"\",\"\",Players!J5)","v":4},{"$f":"IF(Players!K5=\"\",\"\",Players!K5)","v":3},{"$f":"IF(Players!L5=\"\",\"\",Players!L5)","v":5},{"$f":"IF(Players!M5=\"\",\"\",Players!M5)","v":3},{"$f":"IF(Players!N5=\"\",\"\",Players!N5)","v":4},{"$f":"IF(Players!O5=\"\",\"\",Players!O5)","v":4},{"$f":"IF(Players!P5=\"\",\"\",Players!P5)","v":5},{"$f":"IF(Players!Q5=\"\",\"\",Players!Q5)","v":36},"-",{"$f":"IF(Players!R5=\"\",\"\",Players!R5)","v":4},{"$f":"IF(Players!S5=\"\",\"\",Players!S5)","v":4},{"$f":"IF(Players!T5=\"\",\"\",Players!T5)","v":3},{"$f":"IF(Players!U5=\"\",\"\",Players!U5)","v":4},{"$f":"IF(Players!V5=\"\",\"\",Players!V5)","v":5},{"$f":"IF(Players!W5=\"\",\"\",Players!W5)","v":4},{"$f":"IF(Players!X5=\"\",\"\",Players!X5)","v":3},{"$f":"IF(Players!Y5=\"\",\"\",Players!Y5)","v":5},{"$f":"IF(Players!Z5=\"\",\"\",Players!Z5)","v":4},{"$f":"IF(Players!AA5=\"\",\"\",Players!AA5)","v":36},"-",{"$f":"IF(Players!AB5=\"\",\"\",Players!AB5)","v":72},"-"]
[{"$f":"IF(OR($AD6=\"\",$AD6=\"-\"),\"\",IF($AD6=$AD7,\"T\"&$B6,$B6))","v":1},1,"Jones, Gary",{"$f":"IF($C6=\"\",\"\",VLOOKUP($C6,Scores,4,FALSE))","v":13},{"$f":"IF($C6=\"\",\"\",IF(VLOOKUP($C6,Scores,5,FALSE)=\"\",\"-\",VLOOKUP($C6,Matches,25,FALSE)))","v":"3 and 1"},{"$f":"IF($C6=\"\",\"\",IF(VLOOKUP($C6,Scores,6,FALSE)=\"\",\"\",VLOOKUP($C6,Scores,6,FALSE)))","v":31},{"$f":"IF($C6=\"\",\"\",IF(VLOOKUP($C6,Scores,7,FALSE)=\"\",\"\",VLOOKUP($C6,Scores,7,FALSE)))","v":5},{"$f":"IF($C6=\"\",\"\",IF(VLOOKUP($C6,Scores,8,FALSE)=\"\",\"\",VLOOKUP($C6,Scores,8,FALSE)))","v":4},{"$f":"IF($C6=\"\",\"\",IF(VLOOKUP($C6,Scores,9,FALSE)=\"\",\"\",VLOOKUP($C6,Scores,9,FALSE)))","v":5},{"$f":"IF($C6=\"\",\"\",IF(VLOOKUP($C6,Scores,10,FALSE)=\"\",\"\",VLOOKUP($C6,Scores,10,FALSE)))","v":2},{"$f":"IF($C6=\"\",\"\",IF(VLOOKUP($C6,Scores,11,FALSE)=\"\",\"\",VLOOKUP($C6,Scores,11,FALSE)))","v":5},{"$f":"IF($C6=\"\",\"\",IF(VLOOKUP($C6,Scores,12,FALSE)=\"\",\"\",VLOOKUP($C6,Scores,12,FALSE)))","v":4},{"$f":"IF($C6=\"\",\"\",IF(VLOOKUP($C6,Scores,13,FALSE)=\"\",\"\",VLOOKUP($C6,Scores,13,FALSE)))","v":5},{"$f":"IF($C6=\"\",\"\",IF(VLOOKUP($C6,Scores,14,FALSE)=\"\",\"\",VLOOKUP($C6,Scores,14,FALSE)))","v":5},{"$f":"IF($C6=\"\",\"\",IF(VLOOKUP($C6,Scores,15,FALSE)=\"\",\"\",VLOOKUP($C6,Scores,15,FALSE)))","v":4},{"$f":"IF($O6=\"\",\"\",SUM($G6:$O6))","v":39},{"$f":"IF($D6=\"-\",\"-\",IF($P6=\"\",\"\",$P6-($D6/2)))","v":32.5},{"$f":"IF($C6=\"\",\"\",IF(VLOOKUP($C6,Scores,17,FALSE)=\"\",\"\",VLOOKUP($C6,Scores,17,FALSE)))","v":5},{"$f":"IF($C6=\"\",\"\",IF(VLOOKUP($C6,Scores,18,FALSE)=\"\",\"\",VLOOKUP($C6,Scores,18,FALSE)))","v":6},{"$f":"IF($C6=\"\",\"\",IF(VLOOKUP($C6,Scores,19,FALSE)=\"\",\"\",VLOOKUP($C6,Scores,19,FALSE)))","v":2},{"$f":"IF($C6=\"\",\"\",IF(VLOOKUP($C6,Scores,20,FALSE)=\"\",\"\",VLOOKUP($C6,Scores,20,FALSE)))","v":5},{"$f":"IF($C6=\"\",\"\",IF(VLOOKUP($C6,Scores,21,FALSE)=\"\",\"\",VLOOKUP($C6,Scores,21,FALSE)))","v":5},{"$f":"IF($C6=\"\",\"\",IF(VLOOKUP($C6,Scores,22,FALSE)=\"\",\"\",VLOOKUP($C6,Scores,22,FALSE)))","v":5},{"$f":"IF($C6=\"\",\"\",IF(VLOOKUP($C6,Scores,23,FALSE)=\"\",\"\",VLOOKUP($C6,Scores,23,FALSE)))","v":2},{"$f":"IF($C6=\"\",\"\",IF(VLOOKUP($C6,Scores,24,FALSE)=\"\",\"\",VLOOKUP($C6,Scores,24,FALSE)))","v":4},{"$f":"IF($C6=\"\",\"\",IF(VLOOKUP($C6,Scores,25,FALSE)=\"\",\"\",VLOOKUP($C6,Scores,25,FALSE)))","v":6},{"$f":"IF($Z6=\"\",\"\",SUM($R6:$Z6))","v":40},{"$f":"IF($D6=\"-\",\"-\",IF($AA6=\"\",\"\",$AA6-($D6/2)))","v":33.5},{"$f":"IF(OR($P6=\"\",$AA6=\"\"),\"\",SUM($P6,$AA6))","v":79},{"$f":"IF($D6=\"-\",\"-\",IF(OR($Q6=\"\",$AB6=\"\"),\"\",SUM($Q6,$AB6)))","v":66}]
[{"$f":"IF(OR($AD7=\"\",$AD7=\"-\"),\"\",IF($AD7=$AD6,$A6,IF($AD7=$AD8,\"T\"&$B7,$B7)))","v":"T2"},2,"Tenorio, Noe",{"$f":"IF($C7=\"\",\"\",VLOOKUP($C7,Scores,4,FALSE))","v":17},{"$f":"IF($C7=\"\",\"\",IF(VLOOKUP($C7,Scores,5,FALSE)=\"\",\"-\",VLOOKUP($C7,Matches,25,FALSE)))","v":"-"},{"$f":"IF($C7=\"\",\"\",IF(VLOOKUP($C7,Scores,6,FALSE)=\"\",\"\",VLOOKUP($C7,Scores,6,FALSE)))","v":32},{"$f":"IF($C7=\"\",\"\",IF(VLOOKUP($C7,Scores,7,FALSE)=\"\",\"\",VLOOKUP($C7,Scores,7,FALSE)))","v":4},{"$f":"IF($C7=\"\",\"\",IF(VLOOKUP($C7,Scores,8,FALSE)=\"\",\"\",VLOOKUP($C7,Scores,8,FALSE)))","v":5},{"$f":"IF($C7=\"\",\"\",IF(VLOOKUP($C7,Scores,9,FALSE)=\"\",\"\",VLOOKUP($C7,Scores,9,FALSE)))","v":4},{"$f":"IF($C7=\"\",\"\",IF(VLOOKUP($C7,Scores,10,FALSE)=\"\",\"\",VLOOKUP($C7,Scores,10,FALSE)))","v":5},{"$f":"IF($C7=\"\",\"\",IF(VLOOKUP($C7,Scores,11,FALSE)=\"\",\"\",VLOOKUP($C7,Scores,11,FALSE)))","v":7},{"$f":"IF($C7=\"\",\"\",IF(VLOOKUP($C7,Scores,12,FALSE)=\"\",\"\",VLOOKUP($C7,Scores,12,FALSE)))","v":4},{"$f":"IF($C7=\"\",\"\",IF(VLOOKUP($C7,Scores,13,FALSE)=\"\",\"\",VLOOKUP($C7,Scores,13,FALSE)))","v":4},{"$f":"IF($C7=\"\",\"\",IF(VLOOKUP($C7,Scores,14,FALSE)=\"\",\"\",VLOOKUP($C7,Scores,14,FALSE)))","v":5},{"$f":"IF($C7=\"\",\"\",IF(VLOOKUP($C7,Scores,15,FALSE)=\"\",\"\",VLOOKUP($C7,Scores,15,FALSE)))","v":7},{"$f":"IF($O7=\"\",\"\",SUM($G7:$O7))","v":45},{"$f":"IF($D7=\"-\",\"-\",IF($P7=\"\",\"\",$P7-($D7/2)))","v":36.5},{"$f":"IF($C7=\"\",\"\",IF(VLOOKUP($C7,Scores,17,FALSE)=\"\",\"\",VLOOKUP($C7,Scores,17,FALSE)))","v":5},{"$f":"IF($C7=\"\",\"\",IF(VLOOKUP($C7,Scores,18,FALSE)=\"\",\"\",VLOOKUP($C7,Scores,18,FALSE)))","v":4},{"$f":"IF($C7=\"\",\"\",IF(VLOOKUP($C7,Scores,19,FALSE)=\"\",\"\",VLOOKUP($C7,Scores,19,FALSE)))","v":2},{"$f":"IF($C7=\"\",\"\",IF(VLOOKUP($C7,Scores,20,FALSE)=\"\",\"\",VLOOKUP($C7,Scores,20,FALSE)))","v":5},{"$f":"IF($C7=\"\",\"\",IF(VLOOKUP($C7,Scores,21,FALSE)=\"\",\"\",VLOOKUP($C7,Scores,21,FALSE)))","v":7},{"$f":"IF($C7=\"\",\"\",IF(VLOOKUP($C7,Scores,22,FALSE)=\"\",\"\",VLOOKUP($C7,Scores,22,FALSE)))","v":6},{"$f":"IF($C7=\"\",\"\",IF(VLOOKUP($C7,Scores,23,FALSE)=\"\",\"\",VLOOKUP($C7,Scores,23,FALSE)))","v":3},{"$f":"IF($C7=\"\",\"\",IF(VLOOKUP($C7,Scores,24,FALSE)=\"\",\"\",VLOOKUP($C7,Scores,24,FALSE)))","v":5},{"$f":"IF($C7=\"\",\"\",IF(VLOOKUP($C7,Scores,25,FALSE)=\"\",\"\",VLOOKUP($C7,Scores,25,FALSE)))","v":4},{"$f":"IF($Z7=\"\",\"\",SUM($R7:$Z7))","v":41},{"$f":"IF($D7=\"-\",\"-\",IF($AA7=\"\",\"\",$AA7-($D7/2)))","v":32.5},{"$f":"IF(OR($P7=\"\",$AA7=\"\"),\"\",SUM($P7,$AA7))","v":86},{"$f":"IF($D7=\"-\",\"-\",IF(OR($Q7=\"\",$AB7=\"\"),\"\",SUM($Q7,$AB7)))","v":69}]
[{"$f":"IF(OR($AD8=\"\",$AD8=\"-\"),\"\",IF($AD8=$AD7,$A7,IF($AD8=$AD9,\"T\"&$B8,$B8)))","v":"T2"},3,"Kozachenko, Jon",{"$f":"IF($C8=\"\",\"\",VLOOKUP($C8,Scores,4,FALSE))","v":15},{"$f":"IF($C8=\"\",\"\",IF(VLOOKUP($C8,Scores,5,FALSE)=\"\",\"-\",VLOOKUP($C8,Matches,25,FALSE)))","v":"AS"},{"$f":"IF($C8=\"\",\"\",IF(VLOOKUP($C8,Scores,6,FALSE)=\"\",\"\",VLOOKUP($C8,Scores,6,FALSE)))","v":33},{"$f":"IF($C8=\"\",\"\",IF(VLOOKUP($C8,Scores,7,FALSE)=\"\",\"\",VLOOKUP($C8,Scores,7,FALSE)))","v":5},{"$f":"IF($C8=\"\",\"\",IF(VLOOKUP($C8,Scores,8,FALSE)=\"\",\"\",VLOOKUP($C8,Scores,8,FALSE)))","v":5},{"$f":"IF($C8=\"\",\"\",IF(VLOOKUP($C8,Scores,9,FALSE)=\"\",\"\",VLOOKUP($C8,Scores,9,FALSE)))","v":4},{"$f":"IF($C8=\"\",\"\",IF(VLOOKUP($C8,Scores,10,FALSE)=\"\",\"\",VLOOKUP($C8,Scores,10,FALSE)))","v":3},{"$f":"IF($C8=\"\",\"\",IF(VLOOKUP($C8,Scores,11,FALSE)=\"\",\"\",VLOOKUP($C8,Scores,11,FALSE)))","v":6},{"$f":"IF($C8=\"\",\"\",IF(VLOOKUP($C8,Scores,12,FALSE)=\"\",\"\",VLOOKUP($C8,Scores,12,FALSE)))","v":3},{"$f":"IF($C8=\"\",\"\",IF(VLOOKUP($C8,Scores,13,FALSE)=\"\",\"\",VLOOKUP($C8,Scores,13,FALSE)))","v":4},{"$f":"IF($C8=\"\",\"\",IF(VLOOKUP($C8,Scores,14,FALSE)=\"\",\"\",VLOOKUP($C8,Scores,14,FALSE)))","v":5},{"$f":"IF($C8=\"\",\"\",IF(VLOOKUP($C8,Scores,15,FALSE)=\"\",\"\",VLOOKUP($C8,Scores,15,FALSE)))","v":6},{"$f":"IF($O8=\"\",\"\",SUM($G8:$O8))","v":41},{"$f":"IF($D8=\"-\",\"-\",IF($P8=\"\",\"\",$P8-($D8/2)))","v":33.5},{"$f":"IF($C8=\"\",\"\",IF(VLOOKUP($C8,Scores,17,FALSE)=\"\",\"\",VLOOKUP($C8,Scores,17,FALSE)))","v":5},{"$f":"IF($C8=\"\",\"\",IF(VLOOKUP($C8,Scores,18,FALSE)=\"\",\"\",VLOOKUP($C8,Scores,18,FALSE)))","v":4},{"$f":"IF($C8=\"\",\"\",IF(VLOOKUP($C8,Scores,19,FALSE)=\"\",\"\",VLOOKUP($C8,Scores,19,FALSE)))","v":5},{"$f":"IF($C8=\"\",\"\",IF(VLOOKUP($C8,Scores,20,FALSE)=\"\",\"\",VLOOKUP($C8,Scores,20,FALSE)))","v":4},{"$f":"IF($C8=\"\",\"\",IF(VLOOKUP($C8,Scores,21,FALSE)=\"\",\"\",VLOOKUP($C8,Scores,21,FALSE)))","v":6},{"$f":"IF($C8=\"\",\"\",IF(VLOOKUP($C8,Scores,22,FALSE)=\"\",\"\",VLOOKUP($C8,Scores,22,FALSE)))","v":4},{"$f":"IF($C8=\"\",\"\",IF(VLOOKUP($C8,Scores,23,FALSE)=\"\",\"\",VLOOKUP($C8,Scores,23,FALSE)))","v":3},{"$f":"IF($C8=\"\",\"\",IF(VLOOKUP($C8,Scores,24,FALSE)=\"\",\"\",VLOOKUP($C8,Scores,24,FALSE)))","v":6},{"$f":"IF($C8=\"\",\"\",IF(VLOOKUP($C8,Scores,25,FALSE)=\"\",\"\",VLOOKUP($C8,Scores,25,FALSE)))","v":6},{"$f":"IF($Z8=\"\",\"\",SUM($R8:$Z8))","v":43},{"$f":"IF($D8=\"-\",\"-\",IF($AA8=\"\",\"\",$AA8-($D8/2)))","v":35.5},{"$f":"IF(OR($P8=\"\",$AA8=\"\"),\"\",SUM($P8,$AA8))","v":84},{"$f":"IF($D8=\"-\",\"-\",IF(OR($Q8=\"\",$AB8=\"\"),\"\",SUM($Q8,$AB8)))","v":69}]
["T4",4,"Matthews, Keith",{"$f":"IF($C9=\"\",\"\",VLOOKUP($C9,Scores,4,FALSE))","v":14},{"$f":"IF($C9=\"\",\"\",IF(VLOOKUP($C9,Scores,5,FALSE)=\"\",\"-\",VLOOKUP($C9,Matches,25,FALSE)))","v":"AS"},{"$f":"IF($C9=\"\",\"\",IF(VLOOKUP($C9,Scores,6,FALSE)=\"\",\"\",VLOOKUP($C9,Scores,6,FALSE)))","v":35},{"$f":"IF($C9=\"\",\"\",IF(VLOOKUP($C9,Scores,7,FALSE)=\"\",\"\",VLOOKUP($C9,Scores,7,FALSE)))","v":6},{"$f":"IF($C9=\"\",\"\",IF(VLOOKUP($C9,Scores,8,FALSE)=\"\",\"\",VLOOKUP($C9,Scores,8,FALSE)))","v":4},{"$f":"IF($C9=\"\",\"\",IF(VLOOKUP($C9,Scores,9,FALSE)=\"\",\"\",VLOOKUP($C9,Scores,9,FALSE)))","v":4},{"$f":"IF($C9=\"\",\"\",IF(VLOOKUP($C9,Scores,10,FALSE)=\"\",\"\",VLOOKUP($C9,Scores,10,FALSE)))","v":5},{"$f":"IF($C9=\"\",\"\",IF(VLOOKUP($C9,Scores,11,FALSE)=\"\",\"\",VLOOKUP($C9,Scores,11,FALSE)))","v":5},{"$f":"IF($C9=\"\",\"\",IF(VLOOKUP($C9,Scores,12,FALSE)=\"\",\"\",VLOOKUP($C9,Scores,12,FALSE)))","v":3},{"$f":"IF($C9=\"\",\"\",IF(VLOOKUP($C9,Scores,13,FALSE)=\"\",\"\",VLOOKUP($C9,Scores,13,FALSE)))","v":7},{"$f":"IF($C9=\"\",\"\",IF(VLOOKUP($C9,Scores,14,FALSE)=\"\",\"\",VLOOKUP($C9,Scores,14,FALSE)))","v":5},{"$f":"IF($C9=\"\",\"\",IF(VLOOKUP($C9,Scores,15,FALSE)=\"\",\"\",VLOOKUP($C9,Scores,15,FALSE)))","v":6},{"$f":"IF($O9=\"\",\"\",SUM($G9:$O9))","v":45},{"$f":"IF($D9=\"-\",\"-\",IF($P9=\"\",\"\",$P9-($D9/2)))","v":38},{"$f":"IF($C9=\"\",\"\",IF(VLOOKUP($C9,Scores,17,FALSE)=\"\",\"\",VLOOKUP($C9,Scores,17,FALSE)))","v":4},{"$f":"IF($C9=\"\",\"\",IF(VLOOKUP($C9,Scores,18,FALSE)=\"\",\"\",VLOOKUP($C9,Scores,18,FALSE)))","v":4},{"$f":"IF($C9=\"\",\"\",IF(VLOOKUP($C9,Scores,19,FALSE)=\"\",\"\",VLOOKUP($C9,Scores,19,FALSE)))","v":4},{"$f":"IF($C9=\"\",\"\",IF(VLOOKUP($C9,Scores,20,FALSE)=\"\",\"\",VLOOKUP($C9,Scores,20,FALSE)))","v":5},{"$f":"IF($C9=\"\",\"\",IF(VLOOKUP($C9,Scores,21,FALSE)=\"\",\"\",VLOOKUP($C9,Scores,21,FALSE)))","v":5},{"$f":"IF($C9=\"\",\"\",IF(VLOOKUP($C9,Scores,22,FALSE)=\"\",\"\",VLOOKUP($C9,Scores,22,FALSE)))","v":4},{"$f":"IF($C9=\"\",\"\",IF(VLOOKUP($C9,Scores,23,FALSE)=\"\",\"\",VLOOKUP($C9,Scores,23,FALSE)))","v":3},{"$f":"IF($C9=\"\",\"\",IF(VLOOKUP($C9,Scores,24,FALSE)=\"\",\"\",VLOOKUP($C9,Scores,24,FALSE)))","v":6},{"$f":"IF($C9=\"\",\"\",IF(VLOOKUP($C9,Scores,25,FALSE)=\"\",\"\",VLOOKUP($C9,Scores,25,FALSE)))","v":6},{"$f":"IF($Z9=\"\",\"\",SUM($R9:$Z9))","v":41},{"$f":"IF($D9=\"-\",\"-\",IF($AA9=\"\",\"\",$AA9-($D9/2)))","v":34},{"$f":"IF(OR($P9=\"\",$AA9=\"\"),\"\",SUM($P9,$AA9))","v":86},{"$f":"IF($D9=\"-\",\"-\",IF(OR($Q9=\"\",$AB9=\"\"),\"\",SUM($Q9,$AB9)))","v":72}]
["T4",5,"Christen, Lou",{"$f":"IF($C10=\"\",\"\",VLOOKUP($C10,Scores,4,FALSE))","v":7},{"$f":"IF($C10=\"\",\"\",IF(VLOOKUP($C10,Scores,5,FALSE)=\"\",\"-\",VLOOKUP($C10,Matches,25,FALSE)))","v":"-"},{"$f":"IF($C10=\"\",\"\",IF(VLOOKUP($C10,Scores,6,FALSE)=\"\",\"\",VLOOKUP($C10,Scores,6,FALSE)))","v":33},{"$f":"IF($C10=\"\",\"\",IF(VLOOKUP($C10,Scores,7,FALSE)=\"\",\"\",VLOOKUP($C10,Scores,7,FALSE)))","v":4},{"$f":"IF($C10=\"\",\"\",IF(VLOOKUP($C10,Scores,8,FALSE)=\"\",\"\",VLOOKUP($C10,Scores,8,FALSE)))","v":6},{"$f":"IF($C10=\"\",\"\",IF(VLOOKUP($C10,Scores,9,FALSE)=\"\",\"\",VLOOKUP($C10,Scores,9,FALSE)))","v":4},{"$f":"IF($C10=\"\",\"\",IF(VLOOKUP($C10,Scores,10,FALSE)=\"\",\"\",VLOOKUP($C10,Scores,10,FALSE)))","v":3},{"$f":"IF($C10=\"\",\"\",IF(VLOOKUP($C10,Scores,11,FALSE)=\"\",\"\",VLOOKUP($C10,Scores,11,FALSE)))","v":5},{"$f":"IF($C10=\"\",\"\",IF(VLOOKUP($C10,Scores,12,FALSE)=\"\",\"\",VLOOKUP($C10,Scores,12,FALSE)))","v":4},{"$f":"IF($C10=\"\",\"\",IF(VLOOKUP($C10,Scores,13,FALSE)=\"\",\"\",VLOOKUP($C10,Scores,13,FALSE)))","v":4},{"$f":"IF($C10=\"\",\"\",IF(VLOOKUP($C10,Scores,14,FALSE)=\"\",\"\",VLOOKUP($C10,Scores,14,FALSE)))","v":4},{"$f":"IF($C10=\"\",\"\",IF(VLOOKUP($C10,Scores,15,FALSE)=\"\",\"\",VLOOKUP($C10,Scores,15,FALSE)))","v":5},{"$f":"IF($O10=\"\",\"\",SUM($G10:$O10))","v":39},{"$f":"IF($D10=\"-\",\"-\",IF($P10=\"\",\"\",$P10-($D10/2)))","v":35.5},{"$f":"IF($C10=\"\",\"\",IF(VLOOKUP($C10,Scores,17,FALSE)=\"\",\"\",VLOOKUP($C10,Scores,17,FALSE)))","v":3},{"$f":"IF($C10=\"\",\"\",IF(VLOOKUP($C10,Scores,18,FALSE)=\"\",\"\",VLOOKUP($C10,Scores,18,FALSE)))","v":5},{"$f":"IF($C10=\"\",\"\",IF(VLOOKUP($C10,Scores,19,FALSE)=\"\",\"\",VLOOKUP($C10,Scores,19,FALSE)))","v":3},{"$f":"IF($C10=\"\",\"\",IF(VLOOKUP($C10,Scores,20,FALSE)=\"\",\"\",VLOOKUP($C10,Scores,20,FALSE)))","v":4},{"$f":"IF($C10=\"\",\"\",IF(VLOOKUP($C10,Scores,21,FALSE)=\"\",\"\",VLOOKUP($C10,Scores,21,FALSE)))","v":6},{"$f":"IF($C10=\"\",\"\",IF(VLOOKUP($C10,Scores,22,FALSE)=\"\",\"\",VLOOKUP($C10,Scores,22,FALSE)))","v":5},{"$f":"IF($C10=\"\",\"\",IF(VLOOKUP($C10,Scores,23,FALSE)=\"\",\"\",VLOOKUP($C10,Scores,23,FALSE)))","v":3},{"$f":"IF($C10=\"\",\"\",IF(VLOOKUP($C10,Scores,24,FALSE)=\"\",\"\",VLOOKUP($C10,Scores,24,FALSE)))","v":6},{"$f":"IF($C10=\"\",\"\",IF(VLOOKUP($C10,Scores,25,FALSE)=\"\",\"\",VLOOKUP($C10,Scores,25,FALSE)))","v":5},{"$f":"IF($Z10=\"\",\"\",SUM($R10:$Z10))","v":40},{"$f":"IF($D10=\"-\",\"-\",IF($AA10=\"\",\"\",$AA10-($D10/2)))","v":36.5},{"$f":"IF(OR($P10=\"\",$AA10=\"\"),\"\",SUM($P10,$AA10))","v":79},{"$f":"IF($D10=\"-\",\"-\",IF(OR($Q10=\"\",$AB10=\"\"),\"\",SUM($Q10,$AB10)))","v":72}]
["T4",6,"Havstad, Steve",{"$f":"IF($C11=\"\",\"\",VLOOKUP($C11,Scores,4,FALSE))","v":14},{"$f":"IF($C11=\"\",\"\",IF(VLOOKUP($C11,Scores,5,FALSE)=\"\",\"-\",VLOOKUP($C11,Matches,25,FALSE)))","v":"-"},{"$f":"IF($C11=\"\",\"\",IF(VLOOKUP($C11,Scores,6,FALSE)=\"\",\"\",VLOOKUP($C11,Scores,6,FALSE)))","v":29},{"$f":"IF($C11=\"\",\"\",IF(VLOOKUP($C11,Scores,7,FALSE)=\"\",\"\",VLOOKUP($C11,Scores,7,FALSE)))","v":4},{"$f":"IF($C11=\"\",\"\",IF(VLOOKUP($C11,Scores,8,FALSE)=\"\",\"\",VLOOKUP($C11,Scores,8,FALSE)))","v":5},{"$f":"IF($C11=\"\",\"\",IF(VLOOKUP($C11,Scores,9,FALSE)=\"\",\"\",VLOOKUP($C11,Scores,9,FALSE)))","v":5},{"$f":"IF($C11=\"\",\"\",IF(VLOOKUP($C11,Scores,10,FALSE)=\"\",\"\",VLOOKUP($C11,Scores,10,FALSE)))","v":3},{"$f":"IF($C11=\"\",\"\",IF(VLOOKUP($C11,Scores,11,FALSE)=\"\",\"\",VLOOKUP($C11,Scores,11,FALSE)))","v":5},{"$f":"IF($C11=\"\",\"\",IF(VLOOKUP($C11,Scores,12,FALSE)=\"\",\"\",VLOOKUP($C11,Scores,12,FALSE)))","v":4},{"$f":"IF($C11=\"\",\"\",IF(VLOOKUP($C11,Scores,13,FALSE)=\"\",\"\",VLOOKUP($C11,Scores,13,FALSE)))","v":5},{"$f":"IF($C11=\"\",\"\",IF(VLOOKUP($C11,Scores,14,FALSE)=\"\",\"\",VLOOKUP($C11,Scores,14,FALSE)))","v":5},{"$f":"IF($C11=\"\",\"\",IF(VLOOKUP($C11,Scores,15,FALSE)=\"\",\"\",VLOOKUP($C11,Scores,15,FALSE)))","v":5},{"$f":"IF($O11=\"\",\"\",SUM($G11:$O11))","v":41},{"$f":"IF($D11=\"-\",\"-\",IF($P11=\"\",\"\",$P11-($D11/2)))","v":34},{"$f":"IF($C11=\"\",\"\",IF(VLOOKUP($C11,Scores,17,FALSE)=\"\",\"\",VLOOKUP($C11,Scores,17,FALSE)))","v":5},{"$f":"IF($C11=\"\",\"\",IF(VLOOKUP($C11,Scores,18,FALSE)=\"\",\"\",VLOOKUP($C11,Scores,18,FALSE)))","v":4},{"$f":"IF($C11=\"\",\"\",IF(VLOOKUP($C11,Scores,19,FALSE)=\"\",\"\",VLOOKUP($C11,Scores,19,FALSE)))","v":3},{"$f":"IF($C11=\"\",\"\",IF(VLOOKUP($C11,Scores,20,FALSE)=\"\",\"\",VLOOKUP($C11,Scores,20,FALSE)))","v":7},{"$f":"IF($C11=\"\",\"\",IF(VLOOKUP($C11,Scores,21,FALSE)=\"\",\"\",VLOOKUP($C11,Scores,21,FALSE)))","v":5},{"$f":"IF($C11=\"\",\"\",IF(VLOOKUP($C11,Scores,22,FALSE)=\"\",\"\",VLOOKUP($C11,Scores,22,FALSE)))","v":5},{"$f":"IF($C11=\"\",\"\",IF(VLOOKUP($C11,Scores,23,FALSE)=\"\",\"\",VLOOKUP($C11,Scores,23,FALSE)))","v":4},{"$f":"IF($C11=\"\",\"\",IF(VLOOKUP($C11,Scores,24,FALSE)=\"\",\"\",VLOOKUP($C11,Scores,24,FALSE)))","v":6},{"$f":"IF($C11=\"\",\"\",IF(VLOOKUP($C11,Scores,25,FALSE)=\"\",\"\",VLOOKUP($C11,Scores,25,FALSE)))","v":6},{"$f":"IF($Z11=\"\",\"\",SUM($R11:$Z11))","v":45},{"$f":"IF($D11=\"-\",\"-\",IF($AA11=\"\",\"\",$AA11-($D11/2)))","v":38},{"$f":"IF(OR($P11=\"\",$AA11=\"\"),\"\",SUM($P11,$AA11))","v":86},{"$f":"IF($D11=\"-\",\"-\",IF(OR($Q11=\"\",$AB11=\"\"),\"\",SUM($Q11,$AB11)))","v":72}]
["T7",7,"Lunghard, Rich",{"$f":"IF($C12=\"\",\"\",VLOOKUP($C12,Scores,4,FALSE))","v":23},{"$f":"IF($C12=\"\",\"\",IF(VLOOKUP($C12,Scores,5,FALSE)=\"\",\"-\",VLOOKUP($C12,Matches,25,FALSE)))","v":"-"},{"$f":"IF($C12=\"\",\"\",IF(VLOOKUP($C12,Scores,6,FALSE)=\"\",\"\",VLOOKUP($C12,Scores,6,FALSE)))","v":34},{"$f":"IF($C12=\"\",\"\",IF(VLOOKUP($C12,Scores,7,FALSE)=\"\",\"\",VLOOKUP($C12,Scores,7,FALSE)))","v":6},{"$f":"IF($C12=\"\",\"\",IF(VLOOKUP($C12,Scores,8,FALSE)=\"\",\"\",VLOOKUP($C12,Scores,8,FALSE)))","v":6},{"$f":"IF($C12=\"\",\"\",IF(VLOOKUP($C12,Scores,9,FALSE)=\"\",\"\",VLOOKUP($C12,Scores,9,FALSE)))","v":4},{"$f":"IF($C12=\"\",\"\",IF(VLOOKUP($C12,Scores,10,FALSE)=\"\",\"\",VLOOKUP($C12,Scores,10,FALSE)))","v":4},{"$f":"IF($C12=\"\",\"\",IF(VLOOKUP($C12,Scores,11,FALSE)=\"\",\"\",VLOOKUP($C12,Scores,11,FALSE)))","v":6},{"$f":"IF($C12=\"\",\"\",IF(VLOOKUP($C12,Scores,12,FALSE)=\"\",\"\",VLOOKUP($C12,Scores,12,FALSE)))","v":4},{"$f":"IF($C12=\"\",\"\",IF(VLOOKUP($C12,Scores,13,FALSE)=\"\",\"\",VLOOKUP($C12,Scores,13,FALSE)))","v":4},{"$f":"IF($C12=\"\",\"\",IF(VLOOKUP($C12,Scores,14,FALSE)=\"\",\"\",VLOOKUP($C12,Scores,14,FALSE)))","v":7},{"$f":"IF($C12=\"\",\"\",IF(VLOOKUP($C12,Scores,15,FALSE)=\"\",\"\",VLOOKUP($C12,Scores,15,FALSE)))","v":6},{"$f":"IF($O12=\"\",\"\",SUM($G12:$O12))","v":47},{"$f":"IF($D12=\"-\",\"-\",IF($P12=\"\",\"\",$P12-($D12/2)))","v":35.5},{"$f":"IF($C12=\"\",\"\",IF(VLOOKUP($C12,Scores,17,FALSE)=\"\",\"\",VLOOKUP($C12,Scores,17,FALSE)))","v":6},{"$f":"IF($C12=\"\",\"\",IF(VLOOKUP($C12,Scores,18,FALSE)=\"\",\"\",VLOOKUP($C12,Scores,18,FALSE)))","v":6},{"$f":"IF($C12=\"\",\"\",IF(VLOOKUP($C12,Scores,19,FALSE)=\"\",\"\",VLOOKUP($C12,Scores,19,FALSE)))","v":3},{"$f":"IF($C12=\"\",\"\",IF(VLOOKUP($C12,Scores,20,FALSE)=\"\",\"\",VLOOKUP($C12,Scores,20,FALSE)))","v":6},{"$f":"IF($C12=\"\",\"\",IF(VLOOKUP($C12,Scores,21,FALSE)=\"\",\"\",VLOOKUP($C12,Scores,21,FALSE)))","v":6},{"$f":"IF($C12=\"\",\"\",IF(VLOOKUP($C12,Scores,22,FALSE)=\"\",\"\",VLOOKUP($C12,Scores,22,FALSE)))","v":6},{"$f":"IF($C12=\"\",\"\",IF(VLOOKUP($C12,Scores,23,FALSE)=\"\",\"\",VLOOKUP($C12,Scores,23,FALSE)))","v":4},{"$f":"IF($C12=\"\",\"\",IF(VLOOKUP($C12,Scores,24,FALSE)=\"\",\"\",VLOOKUP($C12,Scores,24,FALSE)))","v":7},{"$f":"IF($C12=\"\",\"\",IF(VLOOKUP($C12,Scores,25,FALSE)=\"\",\"\",VLOOKUP($C12,Scores,25,FALSE)))","v":6},{"$f":"IF($Z12=\"\",\"\",SUM($R12:$Z12))","v":50},{"$f":"IF($D12=\"-\",\"-\",IF($AA12=\"\",\"\",$AA12-($D12/2)))","v":38.5},{"$f":"IF(OR($P12=\"\",$AA12=\"\"),\"\",SUM($P12,$AA12))","v":97},{"$f":"IF($D12=\"-\",\"-\",IF(OR($Q12=\"\",$AB12=\"\"),\"\",SUM($Q12,$AB12)))","v":74}]
["T7",8,"Holzrichter, Geoff",{"$f":"IF($C13=\"\",\"\",VLOOKUP($C13,Scores,4,FALSE))","v":22},{"$f":"IF($C13=\"\",\"\",IF(VLOOKUP($C13,Scores,5,FALSE)=\"\",\"-\",VLOOKUP($C13,Matches,25,FALSE)))","v":"-"},{"$f":"IF($C13=\"\",\"\",IF(VLOOKUP($C13,Scores,6,FALSE)=\"\",\"\",VLOOKUP($C13,Scores,6,FALSE)))","v":32},{"$f":"IF($C13=\"\",\"\",IF(VLOOKUP($C13,Scores,7,FALSE)=\"\",\"\",VLOOKUP($C13,Scores,7,FALSE)))","v":4},{"$f":"IF($C13=\"\",\"\",IF(VLOOKUP($C13,Scores,8,FALSE)=\"\",\"\",VLOOKUP($C13,Scores,8,FALSE)))","v":5},{"$f":"IF($C13=\"\",\"\",IF(VLOOKUP($C13,Scores,9,FALSE)=\"\",\"\",VLOOKUP($C13,Scores,9,FALSE)))","v":7},{"$f":"IF($C13=\"\",\"\",IF(VLOOKUP($C13,Scores,10,FALSE)=\"\",\"\",VLOOKUP($C13,Scores,10,FALSE)))","v":4},{"$f":"IF($C13=\"\",\"\",IF(VLOOKUP($C13,Scores,11,FALSE)=\"\",\"\",VLOOKUP($C13,Scores,11,FALSE)))","v":5},{"$f":"IF($C13=\"\",\"\",IF(VLOOKUP($C13,Scores,12,FALSE)=\"\",\"\",VLOOKUP($C13,Scores,12,FALSE)))","v":5},{"$f":"IF($C13=\"\",\"\",IF(VLOOKUP($C13,Scores,13,FALSE)=\"\",\"\",VLOOKUP($C13,Scores,13,FALSE)))","v":5},{"$f":"IF($C13=\"\",\"\",IF(VLOOKUP($C13,Scores,14,FALSE)=\"\",\"\",VLOOKUP($C13,Scores,14,FALSE)))","v":5},{"$f":"IF($C13=\"\",\"\",IF(VLOOKUP($C13,Scores,15,FALSE)=\"\",\"\",VLOOKUP($C13,Scores,15,FALSE)))","v":5},{"$f":"IF($O13=\"\",\"\",SUM($G13:$O13))","v":45},{"$f":"IF($D13=\"-\",\"-\",IF($P13=\"\",\"\",$P13-($D13/2)))","v":34},{"$f":"IF($C13=\"\",\"\",IF(VLOOKUP($C13,Scores,17,FALSE)=\"\",\"\",VLOOKUP($C13,Scores,17,FALSE)))","v":4},{"$f":"IF($C13=\"\",\"\",IF(VLOOKUP($C13,Scores,18,FALSE)=\"\",\"\",VLOOKUP($C13,Scores,18,FALSE)))","v":5},{"$f":"IF($C13=\"\",\"\",IF(VLOOKUP($C13,Scores,19,FALSE)=\"\",\"\",VLOOKUP($C13,Scores,19,FALSE)))","v":5},{"$f":"IF($C13=\"\",\"\",IF(VLOOKUP($C13,Scores,20,FALSE)=\"\",\"\",VLOOKUP($C13,Scores,20,FALSE)))","v":4},{"$f":"IF($C13=\"\",\"\",IF(VLOOKUP($C13,Scores,21,FALSE)=\"\",\"\",VLOOKUP($C13,Scores,21,FALSE)))","v":7},{"$f":"IF($C13=\"\",\"\",IF(VLOOKUP($C13,Scores,22,FALSE)=\"\",\"\",VLOOKUP($C13,Scores,22,FALSE)))","v":6},{"$f":"IF($C13=\"\",\"\",IF(VLOOKUP($C13,Scores,23,FALSE)=\"\",\"\",VLOOKUP($C13,Scores,23,FALSE)))","v":4},{"$f":"IF($C13=\"\",\"\",IF(VLOOKUP($C13,Scores,24,FALSE)=\"\",\"\",VLOOKUP($C13,Scores,24,FALSE)))","v":10},{"$f":"IF($C13=\"\",\"\",IF(VLOOKUP($C13,Scores,25,FALSE)=\"\",\"\",VLOOKUP($C13,Scores,25,FALSE)))","v":6},{"$f":"IF($Z13=\"\",\"\",SUM($R13:$Z13))","v":51},{"$f":"IF($D13=\"-\",\"-\",IF($AA13=\"\",\"\",$AA13-($D13/2)))","v":40},{"$f":"IF(OR($P13=\"\",$AA13=\"\"),\"\",SUM($P13,$AA13))","v":96},{"$f":"IF($D13=\"-\",\"-\",IF(OR($Q13=\"\",$AB13=\"\"),\"\",SUM($Q13,$AB13)))","v":74}]
["T9",9,"Blodgett, Kevin",{"$f":"IF($C14=\"\",\"\",VLOOKUP($C14,Scores,4,FALSE))","v":27},{"$f":"IF($C14=\"\",\"\",IF(VLOOKUP($C14,Scores,5,FALSE)=\"\",\"-\",VLOOKUP($C14,Matches,25,FALSE)))","v":"-"},{"$f":"IF($C14=\"\",\"\",IF(VLOOKUP($C14,Scores,6,FALSE)=\"\",\"\",VLOOKUP($C14,Scores,6,FALSE)))","v":39},{"$f":"IF($C14=\"\",\"\",IF(VLOOKUP($C14,Scores,7,FALSE)=\"\",\"\",VLOOKUP($C14,Scores,7,FALSE)))","v":4},{"$f":"IF($C14=\"\",\"\",IF(VLOOKUP($C14,Scores,8,FALSE)=\"\",\"\",VLOOKUP($C14,Scores,8,FALSE)))","v":7},{"$f":"IF($C14=\"\",\"\",IF(VLOOKUP($C14,Scores,9,FALSE)=\"\",\"\",VLOOKUP($C14,Scores,9,FALSE)))","v":7},{"$f":"IF($C14=\"\",\"\",IF(VLOOKUP($C14,Scores,10,FALSE)=\"\",\"\",VLOOKUP($C14,Scores,10,FALSE)))","v":4},{"$f":"IF($C14=\"\",\"\",IF(VLOOKUP($C14,Scores,11,FALSE)=\"\",\"\",VLOOKUP($C14,Scores,11,FALSE)))","v":6},{"$f":"IF($C14=\"\",\"\",IF(VLOOKUP($C14,Scores,12,FALSE)=\"\",\"\",VLOOKUP($C14,Scores,12,FALSE)))","v":7},{"$f":"IF($C14=\"\",\"\",IF(VLOOKUP($C14,Scores,13,FALSE)=\"\",\"\",VLOOKUP($C14,Scores,13,FALSE)))","v":5},{"$f":"IF($C14=\"\",\"\",IF(VLOOKUP($C14,Scores,14,FALSE)=\"\",\"\",VLOOKUP($C14,Scores,14,FALSE)))","v":6},{"$f":"IF($C14=\"\",\"\",IF(VLOOKUP($C14,Scores,15,FALSE)=\"\",\"\",VLOOKUP($C14,Scores,15,FALSE)))","v":9},{"$f":"IF($O14=\"\",\"\",SUM($G14:$O14))","v":55},{"$f":"IF($D14=\"-\",\"-\",IF($P14=\"\",\"\",$P14-($D14/2)))","v":41.5},{"$f":"IF($C14=\"\",\"\",IF(VLOOKUP($C14,Scores,17,FALSE)=\"\",\"\",VLOOKUP($C14,Scores,17,FALSE)))","v":5},{"$f":"IF($C14=\"\",\"\",IF(VLOOKUP($C14,Scores,18,FALSE)=\"\",\"\",VLOOKUP($C14,Scores,18,FALSE)))","v":5},{"$f":"IF($C14=\"\",\"\",IF(VLOOKUP($C14,Scores,19,FALSE)=\"\",\"\",VLOOKUP($C14,Scores,19,FALSE)))","v":4},{"$f":"IF($C14=\"\",\"\",IF(VLOOKUP($C14,Scores,20,FALSE)=\"\",\"\",VLOOKUP($C14,Scores,20,FALSE)))","v":4},{"$f":"IF($C14=\"\",\"\",IF(VLOOKUP($C14,Scores,21,FALSE)=\"\",\"\",VLOOKUP($C14,Scores,21,FALSE)))","v":6},{"$f":"IF($C14=\"\",\"\",IF(VLOOKUP($C14,Scores,22,FALSE)=\"\",\"\",VLOOKUP($C14,Scores,22,FALSE)))","v":5},{"$f":"IF($C14=\"\",\"\",IF(VLOOKUP($C14,Scores,23,FALSE)=\"\",\"\",VLOOKUP($C14,Scores,23,FALSE)))","v":6},{"$f":"IF($C14=\"\",\"\",IF(VLOOKUP($C14,Scores,24,FALSE)=\"\",\"\",VLOOKUP($C14,Scores,24,FALSE)))","v":7},{"$f":"IF($C14=\"\",\"\",IF(VLOOKUP($C14,Scores,25,FALSE)=\"\",\"\",VLOOKUP($C14,Scores,25,FALSE)))","v":5},{"$f":"IF($Z14=\"\",\"\",SUM($R14:$Z14))","v":47},{"$f":"IF($D14=\"-\",\"-\",IF($AA14=\"\",\"\",$AA14-($D14/2)))","v":33.5},{"$f":"IF(OR($P14=\"\",$AA14=\"\"),\"\",SUM($P14,$AA14))","v":102},{"$f":"IF($D14=\"-\",\"-\",IF(OR($Q14=\"\",$AB14=\"\"),\"\",SUM($Q14,$AB14)))","v":75}]
["T9",10,"Ornelas, Eddie",{"$f":"IF($C15=\"\",\"\",VLOOKUP($C15,Scores,4,FALSE))","v":10},{"$f":"IF($C15=\"\",\"\",IF(VLOOKUP($C15,Scores,5,FALSE)=\"\",\"-\",VLOOKUP($C15,Matches,25,FALSE)))","v":"2 and 1"},{"$f":"IF($C15=\"\",\"\",IF(VLOOKUP($C15,Scores,6,FALSE)=\"\",\"\",VLOOKUP($C15,Scores,6,FALSE)))","v":34},{"$f":"IF($C15=\"\",\"\",IF(VLOOKUP($C15,Scores,7,FALSE)=\"\",\"\",VLOOKUP($C15,Scores,7,FALSE)))","v":4},{"$f":"IF($C15=\"\",\"\",IF(VLOOKUP($C15,Scores,8,FALSE)=\"\",\"\",VLOOKUP($C15,Scores,8,FALSE)))","v":5},{"$f":"IF($C15=\"\",\"\",IF(VLOOKUP($C15,Scores,9,FALSE)=\"\",\"\",VLOOKUP($C15,Scores,9,FALSE)))","v":6},{"$f":"IF($C15=\"\",\"\",IF(VLOOKUP($C15,Scores,10,FALSE)=\"\",\"\",VLOOKUP($C15,Scores,10,FALSE)))","v":4},{"$f":"IF($C15=\"\",\"\",IF(VLOOKUP($C15,Scores,11,FALSE)=\"\",\"\",VLOOKUP($C15,Scores,11,FALSE)))","v":5},{"$f":"IF($C15=\"\",\"\",IF(VLOOKUP($C15,Scores,12,FALSE)=\"\",\"\",VLOOKUP($C15,Scores,12,FALSE)))","v":4},{"$f":"IF($C15=\"\",\"\",IF(VLOOKUP($C15,Scores,13,FALSE)=\"\",\"\",VLOOKUP($C15,Scores,13,FALSE)))","v":4},{"$f":"IF($C15=\"\",\"\",IF(VLOOKUP($C15,Scores,14,FALSE)=\"\",\"\",VLOOKUP($C15,Scores,14,FALSE)))","v":6},{"$f":"IF($C15=\"\",\"\",IF(VLOOKUP($C15,Scores,15,FALSE)=\"\",\"\",VLOOKUP($C15,Scores,15,FALSE)))","v":5},{"$f":"IF($O15=\"\",\"\",SUM($G15:$O15))","v":43},{"$f":"IF($D15=\"-\",\"-\",IF($P15=\"\",\"\",$P15-($D15/2)))","v":38},{"$f":"IF($C15=\"\",\"\",IF(VLOOKUP($C15,Scores,17,FALSE)=\"\",\"\",VLOOKUP($C15,Scores,17,FALSE)))","v":4},{"$f":"IF($C15=\"\",\"\",IF(VLOOKUP($C15,Scores,18,FALSE)=\"\",\"\",VLOOKUP($C15,Scores,18,FALSE)))","v":4},{"$f":"IF($C15=\"\",\"\",IF(VLOOKUP($C15,Scores,19,FALSE)=\"\",\"\",VLOOKUP($C15,Scores,19,FALSE)))","v":3},{"$f":"IF($C15=\"\",\"\",IF(VLOOKUP($C15,Scores,20,FALSE)=\"\",\"\",VLOOKUP($C15,Scores,20,FALSE)))","v":4},{"$f":"IF($C15=\"\",\"\",IF(VLOOKUP($C15,Scores,21,FALSE)=\"\",\"\",VLOOKUP($C15,Scores,21,FALSE)))","v":6},{"$f":"IF($C15=\"\",\"\",IF(VLOOKUP($C15,Scores,22,FALSE)=\"\",\"\",VLOOKUP($C15,Scores,22,FALSE)))","v":6},{"$f":"IF($C15=\"\",\"\",IF(VLOOKUP($C15,Scores,23,FALSE)=\"\",\"\",VLOOKUP($C15,Scores,23,FALSE)))","v":5},{"$f":"IF($C15=\"\",\"\",IF(VLOOKUP($C15,Scores,24,FALSE)=\"\",\"\",VLOOKUP($C15,Scores,24,FALSE)))","v":6},{"$f":"IF($C15=\"\",\"\",IF(VLOOKUP($C15,Scores,25,FALSE)=\"\",\"\",VLOOKUP($C15,Scores,25,FALSE)))","v":4},{"$f":"IF($Z15=\"\",\"\",SUM($R15:$Z15))","v":42},{"$f":"IF($D15=\"-\",\"-\",IF($AA15=\"\",\"\",$AA15-($D15/2)))","v":37},{"$f":"IF(OR($P15=\"\",$AA15=\"\"),\"\",SUM($P15,$AA15))","v":85},{"$f":"IF($D15=\"-\",\"-\",IF(OR($Q15=\"\",$AB15=\"\"),\"\",SUM($Q15,$AB15)))","v":75}]
["T9",11,"Escobedo, Hector",{"$f":"IF($C16=\"\",\"\",VLOOKUP($C16,Scores,4,FALSE))","v":11},{"$f":"IF($C16=\"\",\"\",IF(VLOOKUP($C16,Scores,5,FALSE)=\"\",\"-\",VLOOKUP($C16,Matches,25,FALSE)))","v":"lost"},{"$f":"IF($C16=\"\",\"\",IF(VLOOKUP($C16,Scores,6,FALSE)=\"\",\"\",VLOOKUP($C16,Scores,6,FALSE)))","v":28},{"$f":"IF($C16=\"\",\"\",IF(VLOOKUP($C16,Scores,7,FALSE)=\"\",\"\",VLOOKUP($C16,Scores,7,FALSE)))","v":4},{"$f":"IF($C16=\"\",\"\",IF(VLOOKUP($C16,Scores,8,FALSE)=\"\",\"\",VLOOKUP($C16,Scores,8,FALSE)))","v":6},{"$f":"IF($C16=\"\",\"\",IF(VLOOKUP($C16,Scores,9,FALSE)=\"\",\"\",VLOOKUP($C16,Scores,9,FALSE)))","v":4},{"$f":"IF($C16=\"\",\"\",IF(VLOOKUP($C16,Scores,10,FALSE)=\"\",\"\",VLOOKUP($C16,Scores,10,FALSE)))","v":4},{"$f":"IF($C16=\"\",\"\",IF(VLOOKUP($C16,Scores,11,FALSE)=\"\",\"\",VLOOKUP($C16,Scores,11,FALSE)))","v":5},{"$f":"IF($C16=\"\",\"\",IF(VLOOKUP($C16,Scores,12,FALSE)=\"\",\"\",VLOOKUP($C16,Scores,12,FALSE)))","v":3},{"$f":"IF($C16=\"\",\"\",IF(VLOOKUP($C16,Scores,13,FALSE)=\"\",\"\",VLOOKUP($C16,Scores,13,FALSE)))","v":4},{"$f":"IF($C16=\"\",\"\",IF(VLOOKUP($C16,Scores,14,FALSE)=\"\",\"\",VLOOKUP($C16,Scores,14,FALSE)))","v":5},{"$f":"IF($C16=\"\",\"\",IF(VLOOKUP($C16,Scores,15,FALSE)=\"\",\"\",VLOOKUP($C16,Scores,15,FALSE)))","v":6},{"$f":"IF($O16=\"\",\"\",SUM($G16:$O16))","v":41},{"$f":"IF($D16=\"-\",\"-\",IF($P16=\"\",\"\",$P16-($D16/2)))","v":35.5},{"$f":"IF($C16=\"\",\"\",IF(VLOOKUP($C16,Scores,17,FALSE)=\"\",\"\",VLOOKUP($C16,Scores,17,FALSE)))","v":7},{"$f":"IF($C16=\"\",\"\",IF(VLOOKUP($C16,Scores,18,FALSE)=\"\",\"\",VLOOKUP($C16,Scores,18,FALSE)))","v":5},{"$f":"IF($C16=\"\",\"\",IF(VLOOKUP($C16,Scores,19,FALSE)=\"\",\"\",VLOOKUP($C16,Scores,19,FALSE)))","v":3},{"$f":"IF($C16=\"\",\"\",IF(VLOOKUP($C16,Scores,20,FALSE)=\"\",\"\",VLOOKUP($C16,Scores,20,FALSE)))","v":5},{"$f":"IF($C16=\"\",\"\",IF(VLOOKUP($C16,Scores,21,FALSE)=\"\",\"\",VLOOKUP($C16,Scores,21,FALSE)))","v":7},{"$f":"IF($C16=\"\",\"\",IF(VLOOKUP($C16,Scores,22,FALSE)=\"\",\"\",VLOOKUP($C16,Scores,22,FALSE)))","v":4},{"$f":"IF($C16=\"\",\"\",IF(VLOOKUP($C16,Scores,23,FALSE)=\"\",\"\",VLOOKUP($C16,Scores,23,FALSE)))","v":3},{"$f":"IF($C16=\"\",\"\",IF(VLOOKUP($C16,Scores,24,FALSE)=\"\",\"\",VLOOKUP($C16,Scores,24,FALSE)))","v":5},{"$f":"IF($C16=\"\",\"\",IF(VLOOKUP($C16,Scores,25,FALSE)=\"\",\"\",VLOOKUP($C16,Scores,25,FALSE)))","v":6},{"$f":"IF($Z16=\"\",\"\",SUM($R16:$Z16))","v":45},{"$f":"IF($D16=\"-\",\"-\",IF($AA16=\"\",\"\",$AA16-($D16/2)))","v":39.5},{"$f":"IF(OR($P16=\"\",$AA16=\"\"),\"\",SUM($P16,$AA16))","v":86},{"$f":"IF($D16=\"-\",\"-\",IF(OR($Q16=\"\",$AB16=\"\"),\"\",SUM($Q16,$AB16)))","v":75}]
[12,12,"Mariano, Joe",{"$f":"IF($C17=\"\",\"\",VLOOKUP($C17,Scores,4,FALSE))","v":13},{"$f":"IF($C17=\"\",\"\",IF(VLOOKUP($C17,Scores,5,FALSE)=\"\",\"-\",VLOOKUP($C17,Matches,25,FALSE)))","v":"lost"},{"$f":"IF($C17=\"\",\"\",IF(VLOOKUP($C17,Scores,6,FALSE)=\"\",\"\",VLOOKUP($C17,Scores,6,FALSE)))","v":37},{"$f":"IF($C17=\"\",\"\",IF(VLOOKUP($C17,Scores,7,FALSE)=\"\",\"\",VLOOKUP($C17,Scores,7,FALSE)))","v":7},{"$f":"IF($C17=\"\",\"\",IF(VLOOKUP($C17,Scores,8,FALSE)=\"\",\"\",VLOOKUP($C17,Scores,8,FALSE)))","v":4},{"$f":"IF($C17=\"\",\"\",IF(VLOOKUP($C17,Scores,9,FALSE)=\"\",\"\",VLOOKUP($C17,Scores,9,FALSE)))","v":5},{"$f":"IF($C17=\"\",\"\",IF(VLOOKUP($C17,Scores,10,FALSE)=\"\",\"\",VLOOKUP($C17,Scores,10,FALSE)))","v":3},{"$f":"IF($C17=\"\",\"\",IF(VLOOKUP($C17,Scores,11,FALSE)=\"\",\"\",VLOOKUP($C17,Scores,11,FALSE)))","v":5},{"$f":"IF($C17=\"\",\"\",IF(VLOOKUP($C17,Scores,12,FALSE)=\"\",\"\",VLOOKUP($C17,Scores,12,FALSE)))","v":5},{"$f":"IF($C17=\"\",\"\",IF(VLOOKUP($C17,Scores,13,FALSE)=\"\",\"\",VLOOKUP($C17,Scores,13,FALSE)))","v":6},{"$f":"IF($C17=\"\",\"\",IF(VLOOKUP($C17,Scores,14,FALSE)=\"\",\"\",VLOOKUP($C17,Scores,14,FALSE)))","v":5},{"$f":"IF($C17=\"\",\"\",IF(VLOOKUP($C17,Scores,15,FALSE)=\"\",\"\",VLOOKUP($C17,Scores,15,FALSE)))","v":6},{"$f":"IF($O17=\"\",\"\",SUM($G17:$O17))","v":46},{"$f":"IF($D17=\"-\",\"-\",IF($P17=\"\",\"\",$P17-($D17/2)))","v":39.5},{"$f":"IF($C17=\"\",\"\",IF(VLOOKUP($C17,Scores,17,FALSE)=\"\",\"\",VLOOKUP($C17,Scores,17,FALSE)))","v":5},{"$f":"IF($C17=\"\",\"\",IF(VLOOKUP($C17,Scores,18,FALSE)=\"\",\"\",VLOOKUP($C17,Scores,18,FALSE)))","v":6},{"$f":"IF($C17=\"\",\"\",IF(VLOOKUP($C17,Scores,19,FALSE)=\"\",\"\",VLOOKUP($C17,Scores,19,FALSE)))","v":5},{"$f":"IF($C17=\"\",\"\",IF(VLOOKUP($C17,Scores,20,FALSE)=\"\",\"\",VLOOKUP($C17,Scores,20,FALSE)))","v":4},{"$f":"IF($C17=\"\",\"\",IF(VLOOKUP($C17,Scores,21,FALSE)=\"\",\"\",VLOOKUP($C17,Scores,21,FALSE)))","v":7},{"$f":"IF($C17=\"\",\"\",IF(VLOOKUP($C17,Scores,22,FALSE)=\"\",\"\",VLOOKUP($C17,Scores,22,FALSE)))","v":5},{"$f":"IF($C17=\"\",\"\",IF(VLOOKUP($C17,Scores,23,FALSE)=\"\",\"\",VLOOKUP($C17,Scores,23,FALSE)))","v":3},{"$f":"IF($C17=\"\",\"\",IF(VLOOKUP($C17,Scores,24,FALSE)=\"\",\"\",VLOOKUP($C17,Scores,24,FALSE)))","v":6},{"$f":"IF($C17=\"\",\"\",IF(VLOOKUP($C17,Scores,25,FALSE)=\"\",\"\",VLOOKUP($C17,Scores,25,FALSE)))","v":6},{"$f":"IF($Z17=\"\",\"\",SUM($R17:$Z17))","v":47},{"$f":"IF($D17=\"-\",\"-\",IF($AA17=\"\",\"\",$AA17-($D17/2)))","v":40.5},{"$f":"IF(OR($P17=\"\",$AA17=\"\"),\"\",SUM($P17,$AA17))","v":93},{"$f":"IF($D17=\"-\",\"-\",IF(OR($Q17=\"\",$AB17=\"\"),\"\",SUM($Q17,$AB17)))","v":80}]
["",13,"",{"$f":"IF($C18=\"\",\"\",VLOOKUP($C18,Scores,4,FALSE))","v":""},{"$f":"IF($C18=\"\",\"\",IF(VLOOKUP($C18,Scores,5,FALSE)=\"\",\"-\",VLOOKUP($C18,Matches,25,FALSE)))","v":""},{"$f":"IF($C18=\"\",\"\",IF(VLOOKUP($C18,Scores,6,FALSE)=\"\",\"\",VLOOKUP($C18,Scores,6,FALSE)))","v":""},{"$f":"IF($C18=\"\",\"\",IF(VLOOKUP($C18,Scores,7,FALSE)=\"\",\"\",VLOOKUP($C18,Scores,7,FALSE)))","v":""},{"$f":"IF($C18=\"\",\"\",IF(VLOOKUP($C18,Scores,8,FALSE)=\"\",\"\",VLOOKUP($C18,Scores,8,FALSE)))","v":""},{"$f":"IF($C18=\"\",\"\",IF(VLOOKUP($C18,Scores,9,FALSE)=\"\",\"\",VLOOKUP($C18,Scores,9,FALSE)))","v":""},{"$f":"IF($C18=\"\",\"\",IF(VLOOKUP($C18,Scores,10,FALSE)=\"\",\"\",VLOOKUP($C18,Scores,10,FALSE)))","v":""},{"$f":"IF($C18=\"\",\"\",IF(VLOOKUP($C18,Scores,11,FALSE)=\"\",\"\",VLOOKUP($C18,Scores,11,FALSE)))","v":""},{"$f":"IF($C18=\"\",\"\",IF(VLOOKUP($C18,Scores,12,FALSE)=\"\",\"\",VLOOKUP($C18,Scores,12,FALSE)))","v":""},{"$f":"IF($C18=\"\",\"\",IF(VLOOKUP($C18,Scores,13,FALSE)=\"\",\"\",VLOOKUP($C18,Scores,13,FALSE)))","v":""},{"$f":"IF($C18=\"\",\"\",IF(VLOOKUP($C18,Scores,14,FALSE)=\"\",\"\",VLOOKUP($C18,Scores,14,FALSE)))","v":""},{"$f":"IF($C18=\"\",\"\",IF(VLOOKUP($C18,Scores,15,FALSE)=\"\",\"\",VLOOKUP($C18,Scores,15,FALSE)))","v":""},{"$f":"IF($O18=\"\",\"\",SUM($G18:$O18))","v":""},{"$f":"IF($D18=\"-\",\"-\",IF($P18=\"\",\"\",$P18-($D18/2)))","v":""},{"$f":"IF($C18=\"\",\"\",IF(VLOOKUP($C18,Scores,17,FALSE)=\"\",\"\",VLOOKUP($C18,Scores,17,FALSE)))","v":""},{"$f":"IF($C18=\"\",\"\",IF(VLOOKUP($C18,Scores,18,FALSE)=\"\",\"\",VLOOKUP($C18,Scores,18,FALSE)))","v":""},{"$f":"IF($C18=\"\",\"\",IF(VLOOKUP($C18,Scores,19,FALSE)=\"\",\"\",VLOOKUP($C18,Scores,19,FALSE)))","v":""},{"$f":"IF($C18=\"\",\"\",IF(VLOOKUP($C18,Scores,20,FALSE)=\"\",\"\",VLOOKUP($C18,Scores,20,FALSE)))","v":""},{"$f":"IF($C18=\"\",\"\",IF(VLOOKUP($C18,Scores,21,FALSE)=\"\",\"\",VLOOKUP($C18,Scores,21,FALSE)))","v":""},{"$f":"IF($C18=\"\",\"\",IF(VLOOKUP($C18,Scores,22,FALSE)=\"\",\"\",VLOOKUP($C18,Scores,22,FALSE)))","v":""},{"$f":"IF($C18=\"\",\"\",IF(VLOOKUP($C18,Scores,23,FALSE)=\"\",\"\",VLOOKUP($C18,Scores,23,FALSE)))","v":""},{"$f":"IF($C18=\"\",\"\",IF(VLOOKUP($C18,Scores,24,FALSE)=\"\",\"\",VLOOKUP($C18,Scores,24,FALSE)))","v":""},{"$f":"IF($C18=\"\",\"\",IF(VLOOKUP($C18,Scores,25,FALSE)=\"\",\"\",VLOOKUP($C18,Scores,25,FALSE)))","v":""},{"$f":"IF($Z18=\"\",\"\",SUM($R18:$Z18))","v":""},{"$f":"IF($D18=\"-\",\"-\",IF($AA18=\"\",\"\",$AA18-($D18/2)))","v":""},{"$f":"IF(OR($P18=\"\",$AA18=\"\"),\"\",SUM($P18,$AA18))","v":""},{"$f":"IF($D18=\"-\",\"-\",IF(OR($Q18=\"\",$AB18=\"\"),\"\",SUM($Q18,$AB18)))","v":""}]
["",14,"",{"$f":"IF($C19=\"\",\"\",VLOOKUP($C19,Scores,4,FALSE))","v":""},{"$f":"IF($C19=\"\",\"\",IF(VLOOKUP($C19,Scores,5,FALSE)=\"\",\"-\",VLOOKUP($C19,Matches,25,FALSE)))","v":""},{"$f":"IF($C19=\"\",\"\",IF(VLOOKUP($C19,Scores,6,FALSE)=\"\",\"\",VLOOKUP($C19,Scores,6,FALSE)))","v":""},{"$f":"IF($C19=\"\",\"\",IF(VLOOKUP($C19,Scores,7,FALSE)=\"\",\"\",VLOOKUP($C19,Scores,7,FALSE)))","v":""},{"$f":"IF($C19=\"\",\"\",IF(VLOOKUP($C19,Scores,8,FALSE)=\"\",\"\",VLOOKUP($C19,Scores,8,FALSE)))","v":""},{"$f":"IF($C19=\"\",\"\",IF(VLOOKUP($C19,Scores,9,FALSE)=\"\",\"\",VLOOKUP($C19,Scores,9,FALSE)))","v":""},{"$f":"IF($C19=\"\",\"\",IF(VLOOKUP($C19,Scores,10,FALSE)=\"\",\"\",VLOOKUP($C19,Scores,10,FALSE)))","v":""},{"$f":"IF($C19=\"\",\"\",IF(VLOOKUP($C19,Scores,11,FALSE)=\"\",\"\",VLOOKUP($C19,Scores,11,FALSE)))","v":""},{"$f":"IF($C19=\"\",\"\",IF(VLOOKUP($C19,Scores,12,FALSE)=\"\",\"\",VLOOKUP($C19,Scores,12,FALSE)))","v":""},{"$f":"IF($C19=\"\",\"\",IF(VLOOKUP($C19,Scores,13,FALSE)=\"\",\"\",VLOOKUP($C19,Scores,13,FALSE)))","v":""},{"$f":"IF($C19=\"\",\"\",IF(VLOOKUP($C19,Scores,14,FALSE)=\"\",\"\",VLOOKUP($C19,Scores,14,FALSE)))","v":""},{"$f":"IF($C19=\"\",\"\",IF(VLOOKUP($C19,Scores,15,FALSE)=\"\",\"\",VLOOKUP($C19,Scores,15,FALSE)))","v":""},{"$f":"IF($O19=\"\",\"\",SUM($G19:$O19))","v":""},{"$f":"IF($D19=\"-\",\"-\",IF($P19=\"\",\"\",$P19-($D19/2)))","v":""},{"$f":"IF($C19=\"\",\"\",IF(VLOOKUP($C19,Scores,17,FALSE)=\"\",\"\",VLOOKUP($C19,Scores,17,FALSE)))","v":""},{"$f":"IF($C19=\"\",\"\",IF(VLOOKUP($C19,Scores,18,FALSE)=\"\",\"\",VLOOKUP($C19,Scores,18,FALSE)))","v":""},{"$f":"IF($C19=\"\",\"\",IF(VLOOKUP($C19,Scores,19,FALSE)=\"\",\"\",VLOOKUP($C19,Scores,19,FALSE)))","v":""},{"$f":"IF($C19=\"\",\"\",IF(VLOOKUP($C19,Scores,20,FALSE)=\"\",\"\",VLOOKUP($C19,Scores,20,FALSE)))","v":""},{"$f":"IF($C19=\"\",\"\",IF(VLOOKUP($C19,Scores,21,FALSE)=\"\",\"\",VLOOKUP($C19,Scores,21,FALSE)))","v":""},{"$f":"IF($C19=\"\",\"\",IF(VLOOKUP($C19,Scores,22,FALSE)=\"\",\"\",VLOOKUP($C19,Scores,22,FALSE)))","v":""},{"$f":"IF($C19=\"\",\"\",IF(VLOOKUP($C19,Scores,23,FALSE)=\"\",\"\",VLOOKUP($C19,Scores,23,FALSE)))","v":""},{"$f":"IF($C19=\"\",\"\",IF(VLOOKUP($C19,Scores,24,FALSE)=\"\",\"\",VLOOKUP($C19,Scores,24,FALSE)))","v":""},{"$f":"IF($C19=\"\",\"\",IF(VLOOKUP($C19,Scores,25,FALSE)=\"\",\"\",VLOOKUP($C19,Scores,25,FALSE)))","v":""},{"$f":"IF($Z19=\"\",\"\",SUM($R19:$Z19))","v":""},{"$f":"IF($D19=\"-\",\"-\",IF($AA19=\"\",\"\",$AA19-($D19/2)))","v":""},{"$f":"IF(OR($P19=\"\",$AA19=\"\"),\"\",SUM($P19,$AA19))","v":""},{"$f":"IF($D19=\"-\",\"-\",IF(OR($Q19=\"\",$AB19=\"\"),\"\",SUM($Q19,$AB19)))","v":""}]
["",15,"",{"$f":"IF($C20=\"\",\"\",VLOOKUP($C20,Scores,4,FALSE))","v":""},{"$f":"IF($C20=\"\",\"\",IF(VLOOKUP($C20,Scores,5,FALSE)=\"\",\"-\",VLOOKUP($C20,Matches,25,FALSE)))","v":""},{"$f":"IF($C20=\"\",\"\",IF(VLOOKUP($C20,Scores,6,FALSE)=\"\",\"\",VLOOKUP($C20,Scores,6,FALSE)))","v":""},{"$f":"IF($C20=\"\",\"\",IF(VLOOKUP($C20,Scores,7,FALSE)=\"\",\"\",VLOOKUP($C20,Scores,7,FALSE)))","v":""},{"$f":"IF($C20=\"\",\"\",IF(VLOOKUP($C20,Scores,8,FALSE)=\"\",\"\",VLOOKUP($C20,Scores,8,FALSE)))","v":""},{"$f":"IF($C20=\"\",\"\",IF(VLOOKUP($C20,Scores,9,FALSE)=\"\",\"\",VLOOKUP($C20,Scores,9,FALSE)))","v":""},{"$f":"IF($C20=\"\",\"\",IF(VLOOKUP($C20,Scores,10,FALSE)=\"\",\"\",VLOOKUP($C20,Scores,10,FALSE)))","v":""},{"$f":"IF($C20=\"\",\"\",IF(VLOOKUP($C20,Scores,11,FALSE)=\"\",\"\",VLOOKUP($C20,Scores,11,FALSE)))","v":""},{"$f":"IF($C20=\"\",\"\",IF(VLOOKUP($C20,Scores,12,FALSE)=\"\",\"\",VLOOKUP($C20,Scores,12,FALSE)))","v":""},{"$f":"IF($C20=\"\",\"\",IF(VLOOKUP($C20,Scores,13,FALSE)=\"\",\"\",VLOOKUP($C20,Scores,13,FALSE)))","v":""},{"$f":"IF($C20=\"\",\"\",IF(VLOOKUP($C20,Scores,14,FALSE)=\"\",\"\",VLOOKUP($C20,Scores,14,FALSE)))","v":""},{"$f":"IF($C20=\"\",\"\",IF(VLOOKUP($C20,Scores,15,FALSE)=\"\",\"\",VLOOKUP($C20,Scores,15,FALSE)))","v":""},{"$f":"IF($O20=\"\",\"\",SUM($G20:$O20))","v":""},{"$f":"IF($D20=\"-\",\"-\",IF($P20=\"\",\"\",$P20-($D20/2)))","v":""},{"$f":"IF($C20=\"\",\"\",IF(VLOOKUP($C20,Scores,17,FALSE)=\"\",\"\",VLOOKUP($C20,Scores,17,FALSE)))","v":""},{"$f":"IF($C20=\"\",\"\",IF(VLOOKUP($C20,Scores,18,FALSE)=\"\",\"\",VLOOKUP($C20,Scores,18,FALSE)))","v":""},{"$f":"IF($C20=\"\",\"\",IF(VLOOKUP($C20,Scores,19,FALSE)=\"\",\"\",VLOOKUP($C20,Scores,19,FALSE)))","v":""},{"$f":"IF($C20=\"\",\"\",IF(VLOOKUP($C20,Scores,20,FALSE)=\"\",\"\",VLOOKUP($C20,Scores,20,FALSE)))","v":""},{"$f":"IF($C20=\"\",\"\",IF(VLOOKUP($C20,Scores,21,FALSE)=\"\",\"\",VLOOKUP($C20,Scores,21,FALSE)))","v":""},{"$f":"IF($C20=\"\",\"\",IF(VLOOKUP($C20,Scores,22,FALSE)=\"\",\"\",VLOOKUP($C20,Scores,22,FALSE)))","v":""},{"$f":"IF($C20=\"\",\"\",IF(VLOOKUP($C20,Scores,23,FALSE)=\"\",\"\",VLOOKUP($C20,Scores,23,FALSE)))","v":""},{"$f":"IF($C20=\"\",\"\",IF(VLOOKUP($C20,Scores,24,FALSE)=\"\",\"\",VLOOKUP($C20,Scores,24,FALSE)))","v":""},{"$f":"IF($C20=\"\",\"\",IF(VLOOKUP($C20,Scores,25,FALSE)=\"\",\"\",VLOOKUP($C20,Scores,25,FALSE)))","v":""},{"$f":"IF($Z20=\"\",\"\",SUM($R20:$Z20))","v":""},{"$f":"IF($D20=\"-\",\"-\",IF($AA20=\"\",\"\",$AA20-($D20/2)))","v":""},{"$f":"IF(OR($P20=\"\",$AA20=\"\"),\"\",SUM($P20,$AA20))","v":""},{"$f":"IF($D20=\"-\",\"-\",IF(OR($Q20=\"\",$AB20=\"\"),\"\",SUM($Q20,$AB20)))","v":""}]
["",16,"",{"$f":"IF($C21=\"\",\"\",VLOOKUP($C21,Scores,4,FALSE))","v":""},{"$f":"IF($C21=\"\",\"\",IF(VLOOKUP($C21,Scores,5,FALSE)=\"\",\"-\",VLOOKUP($C21,Matches,25,FALSE)))","v":""},{"$f":"IF($C21=\"\",\"\",IF(VLOOKUP($C21,Scores,6,FALSE)=\"\",\"\",VLOOKUP($C21,Scores,6,FALSE)))","v":""},{"$f":"IF($C21=\"\",\"\",IF(VLOOKUP($C21,Scores,7,FALSE)=\"\",\"\",VLOOKUP($C21,Scores,7,FALSE)))","v":""},{"$f":"IF($C21=\"\",\"\",IF(VLOOKUP($C21,Scores,8,FALSE)=\"\",\"\",VLOOKUP($C21,Scores,8,FALSE)))","v":""},{"$f":"IF($C21=\"\",\"\",IF(VLOOKUP($C21,Scores,9,FALSE)=\"\",\"\",VLOOKUP($C21,Scores,9,FALSE)))","v":""},{"$f":"IF($C21=\"\",\"\",IF(VLOOKUP($C21,Scores,10,FALSE)=\"\",\"\",VLOOKUP($C21,Scores,10,FALSE)))","v":""},{"$f":"IF($C21=\"\",\"\",IF(VLOOKUP($C21,Scores,11,FALSE)=\"\",\"\",VLOOKUP($C21,Scores,11,FALSE)))","v":""},{"$f":"IF($C21=\"\",\"\",IF(VLOOKUP($C21,Scores,12,FALSE)=\"\",\"\",VLOOKUP($C21,Scores,12,FALSE)))","v":""},{"$f":"IF($C21=\"\",\"\",IF(VLOOKUP($C21,Scores,13,FALSE)=\"\",\"\",VLOOKUP($C21,Scores,13,FALSE)))","v":""},{"$f":"IF($C21=\"\",\"\",IF(VLOOKUP($C21,Scores,14,FALSE)=\"\",\"\",VLOOKUP($C21,Scores,14,FALSE)))","v":""},{"$f":"IF($C21=\"\",\"\",IF(VLOOKUP($C21,Scores,15,FALSE)=\"\",\"\",VLOOKUP($C21,Scores,15,FALSE)))","v":""},{"$f":"IF($O21=\"\",\"\",SUM($G21:$O21))","v":""},{"$f":"IF($D21=\"-\",\"-\",IF($P21=\"\",\"\",$P21-($D21/2)))","v":""},{"$f":"IF($C21=\"\",\"\",IF(VLOOKUP($C21,Scores,17,FALSE)=\"\",\"\",VLOOKUP($C21,Scores,17,FALSE)))","v":""},{"$f":"IF($C21=\"\",\"\",IF(VLOOKUP($C21,Scores,18,FALSE)=\"\",\"\",VLOOKUP($C21,Scores,18,FALSE)))","v":""},{"$f":"IF($C21=\"\",\"\",IF(VLOOKUP($C21,Scores,19,FALSE)=\"\",\"\",VLOOKUP($C21,Scores,19,FALSE)))","v":""},{"$f":"IF($C21=\"\",\"\",IF(VLOOKUP($C21,Scores,20,FALSE)=\"\",\"\",VLOOKUP($C21,Scores,20,FALSE)))","v":""},{"$f":"IF($C21=\"\",\"\",IF(VLOOKUP($C21,Scores,21,FALSE)=\"\",\"\",VLOOKUP($C21,Scores,21,FALSE)))","v":""},{"$f":"IF($C21=\"\",\"\",IF(VLOOKUP($C21,Scores,22,FALSE)=\"\",\"\",VLOOKUP($C21,Scores,22,FALSE)))","v":""},{"$f":"IF($C21=\"\",\"\",IF(VLOOKUP($C21,Scores,23,FALSE)=\"\",\"\",VLOOKUP($C21,Scores,23,FALSE)))","v":""},{"$f":"IF($C21=\"\",\"\",IF(VLOOKUP($C21,Scores,24,FALSE)=\"\",\"\",VLOOKUP($C21,Scores,24,FALSE)))","v":""},{"$f":"IF($C21=\"\",\"\",IF(VLOOKUP($C21,Scores,25,FALSE)=\"\",\"\",VLOOKUP($C21,Scores,25,FALSE)))","v":""},{"$f":"IF($Z21=\"\",\"\",SUM($R21:$Z21))","v":""},{"$f":"IF($D21=\"-\",\"-\",IF($AA21=\"\",\"\",$AA21-($D21/2)))","v":""},{"$f":"IF(OR($P21=\"\",$AA21=\"\"),\"\",SUM($P21,$AA21))","v":""},{"$f":"IF($D21=\"-\",\"-\",IF(OR($Q21=\"\",$AB21=\"\"),\"\",SUM($Q21,$AB21)))","v":""}]
["",17,"",{"$f":"IF($C22=\"\",\"\",VLOOKUP($C22,Scores,4,FALSE))","v":""},{"$f":"IF($C22=\"\",\"\",IF(VLOOKUP($C22,Scores,5,FALSE)=\"\",\"-\",VLOOKUP($C22,Matches,25,FALSE)))","v":""},{"$f":"IF($C22=\"\",\"\",IF(VLOOKUP($C22,Scores,6,FALSE)=\"\",\"\",VLOOKUP($C22,Scores,6,FALSE)))","v":""},{"$f":"IF($C22=\"\",\"\",IF(VLOOKUP($C22,Scores,7,FALSE)=\"\",\"\",VLOOKUP($C22,Scores,7,FALSE)))","v":""},{"$f":"IF($C22=\"\",\"\",IF(VLOOKUP($C22,Scores,8,FALSE)=\"\",\"\",VLOOKUP($C22,Scores,8,FALSE)))","v":""},{"$f":"IF($C22=\"\",\"\",IF(VLOOKUP($C22,Scores,9,FALSE)=\"\",\"\",VLOOKUP($C22,Scores,9,FALSE)))","v":""},{"$f":"IF($C22=\"\",\"\",IF(VLOOKUP($C22,Scores,10,FALSE)=\"\",\"\",VLOOKUP($C22,Scores,10,FALSE)))","v":""},{"$f":"IF($C22=\"\",\"\",IF(VLOOKUP($C22,Scores,11,FALSE)=\"\",\"\",VLOOKUP($C22,Scores,11,FALSE)))","v":""},{"$f":"IF($C22=\"\",\"\",IF(VLOOKUP($C22,Scores,12,FALSE)=\"\",\"\",VLOOKUP($C22,Scores,12,FALSE)))","v":""},{"$f":"IF($C22=\"\",\"\",IF(VLOOKUP($C22,Scores,13,FALSE)=\"\",\"\",VLOOKUP($C22,Scores,13,FALSE)))","v":""},{"$f":"IF($C22=\"\",\"\",IF(VLOOKUP($C22,Scores,14,FALSE)=\"\",\"\",VLOOKUP($C22,Scores,14,FALSE)))","v":""},{"$f":"IF($C22=\"\",\"\",IF(VLOOKUP($C22,Scores,15,FALSE)=\"\",\"\",VLOOKUP($C22,Scores,15,FALSE)))","v":""},{"$f":"IF($O22=\"\",\"\",SUM($G22:$O22))","v":""},{"$f":"IF($D22=\"-\",\"-\",IF($P22=\"\",\"\",$P22-($D22/2)))","v":""},{"$f":"IF($C22=\"\",\"\",IF(VLOOKUP($C22,Scores,17,FALSE)=\"\",\"\",VLOOKUP($C22,Scores,17,FALSE)))","v":""},{"$f":"IF($C22=\"\",\"\",IF(VLOOKUP($C22,Scores,18,FALSE)=\"\",\"\",VLOOKUP($C22,Scores,18,FALSE)))","v":""},{"$f":"IF($C22=\"\",\"\",IF(VLOOKUP($C22,Scores,19,FALSE)=\"\",\"\",VLOOKUP($C22,Scores,19,FALSE)))","v":""},{"$f":"IF($C22=\"\",\"\",IF(VLOOKUP($C22,Scores,20,FALSE)=\"\",\"\",VLOOKUP($C22,Scores,20,FALSE)))","v":""},{"$f":"IF($C22=\"\",\"\",IF(VLOOKUP($C22,Scores,21,FALSE)=\"\",\"\",VLOOKUP($C22,Scores,21,FALSE)))","v":""},{"$f":"IF($C22=\"\",\"\",IF(VLOOKUP($C22,Scores,22,FALSE)=\"\",\"\",VLOOKUP($C22,Scores,22,FALSE)))","v":""},{"$f":"IF($C22=\"\",\"\",IF(VLOOKUP($C22,Scores,23,FALSE)=\"\",\"\",VLOOKUP($C22,Scores,23,FALSE)))","v":""},{"$f":"IF($C22=\"\",\"\",IF(VLOOKUP($C22,Scores,24,FALSE)=\"\",\"\",VLOOKUP($C22,Scores,24,FALSE)))","v":""},{"$f":"IF($C22=\"\",\"\",IF(VLOOKUP($C22,Scores,25,FALSE)=\"\",\"\",VLOOKUP($C22,Scores,25,FALSE)))","v":""},{"$f":"IF($Z22=\"\",\"\",SUM($R22:$Z22))","v":""},{"$f":"IF($D22=\"-\",\"-\",IF($AA22=\"\",\"\",$AA22-($D22/2)))","v":""},{"$f":"IF(OR($P22=\"\",$AA22=\"\"),\"\",SUM($P22,$AA22))","v":""},{"$f":"IF($D22=\"-\",\"-\",IF(OR($Q22=\"\",$AB22=\"\"),\"\",SUM($Q22,$AB22)))","v":""}]
["",18,"",{"$f":"IF($C23=\"\",\"\",VLOOKUP($C23,Scores,4,FALSE))","v":""},{"$f":"IF($C23=\"\",\"\",IF(VLOOKUP($C23,Scores,5,FALSE)=\"\",\"-\",VLOOKUP($C23,Matches,25,FALSE)))","v":""},{"$f":"IF($C23=\"\",\"\",IF(VLOOKUP($C23,Scores,6,FALSE)=\"\",\"\",VLOOKUP($C23,Scores,6,FALSE)))","v":""},{"$f":"IF($C23=\"\",\"\",IF(VLOOKUP($C23,Scores,7,FALSE)=\"\",\"\",VLOOKUP($C23,Scores,7,FALSE)))","v":""},{"$f":"IF($C23=\"\",\"\",IF(VLOOKUP($C23,Scores,8,FALSE)=\"\",\"\",VLOOKUP($C23,Scores,8,FALSE)))","v":""},{"$f":"IF($C23=\"\",\"\",IF(VLOOKUP($C23,Scores,9,FALSE)=\"\",\"\",VLOOKUP($C23,Scores,9,FALSE)))","v":""},{"$f":"IF($C23=\"\",\"\",IF(VLOOKUP($C23,Scores,10,FALSE)=\"\",\"\",VLOOKUP($C23,Scores,10,FALSE)))","v":""},{"$f":"IF($C23=\"\",\"\",IF(VLOOKUP($C23,Scores,11,FALSE)=\"\",\"\",VLOOKUP($C23,Scores,11,FALSE)))","v":""},{"$f":"IF($C23=\"\",\"\",IF(VLOOKUP($C23,Scores,12,FALSE)=\"\",\"\",VLOOKUP($C23,Scores,12,FALSE)))","v":""},{"$f":"IF($C23=\"\",\"\",IF(VLOOKUP($C23,Scores,13,FALSE)=\"\",\"\",VLOOKUP($C23,Scores,13,FALSE)))","v":""},{"$f":"IF($C23=\"\",\"\",IF(VLOOKUP($C23,Scores,14,FALSE)=\"\",\"\",VLOOKUP($C23,Scores,14,FALSE)))","v":""},{"$f":"IF($C23=\"\",\"\",IF(VLOOKUP($C23,Scores,15,FALSE)=\"\",\"\",VLOOKUP($C23,Scores,15,FALSE)))","v":""},{"$f":"IF($O23=\"\",\"\",SUM($G23:$O23))","v":""},{"$f":"IF($D23=\"-\",\"-\",IF($P23=\"\",\"\",$P23-($D23/2)))","v":""},{"$f":"IF($C23=\"\",\"\",IF(VLOOKUP($C23,Scores,17,FALSE)=\"\",\"\",VLOOKUP($C23,Scores,17,FALSE)))","v":""},{"$f":"IF($C23=\"\",\"\",IF(VLOOKUP($C23,Scores,18,FALSE)=\"\",\"\",VLOOKUP($C23,Scores,18,FALSE)))","v":""},{"$f":"IF($C23=\"\",\"\",IF(VLOOKUP($C23,Scores,19,FALSE)=\"\",\"\",VLOOKUP($C23,Scores,19,FALSE)))","v":""},{"$f":"IF($C23=\"\",\"\",IF(VLOOKUP($C23,Scores,20,FALSE)=\"\",\"\",VLOOKUP($C23,Scores,20,FALSE)))","v":""},{"$f":"IF($C23=\"\",\"\",IF(VLOOKUP($C23,Scores,21,FALSE)=\"\",\"\",VLOOKUP($C23,Scores,21,FALSE)))","v":""},{"$f":"IF($C23=\"\",\"\",IF(VLOOKUP($C23,Scores,22,FALSE)=\"\",\"\",VLOOKUP($C23,Scores,22,FALSE)))","v":""},{"$f":"IF($C23=\"\",\"\",IF(VLOOKUP($C23,Scores,23,FALSE)=\"\",\"\",VLOOKUP($C23,Scores,23,FALSE)))","v":""},{"$f":"IF($C23=\"\",\"\",IF(VLOOKUP($C23,Scores,24,FALSE)=\"\",\"\",VLOOKUP($C23,Scores,24,FALSE)))","v":""},{"$f":"IF($C23=\"\",\"\",IF(VLOOKUP($C23,Scores,25,FALSE)=\"\",\"\",VLOOKUP($C23,Scores,25,FALSE)))","v":""},{"$f":"IF($Z23=\"\",\"\",SUM($R23:$Z23))","v":""},{"$f":"IF($D23=\"-\",\"-\",IF($AA23=\"\",\"\",$AA23-($D23/2)))","v":""},{"$f":"IF(OR($P23=\"\",$AA23=\"\"),\"\",SUM($P23,$AA23))","v":""},{"$f":"IF($D23=\"-\",\"-\",IF(OR($Q23=\"\",$AB23=\"\"),\"\",SUM($Q23,$AB23)))","v":""}]
["",19,"",{"$f":"IF($C24=\"\",\"\",VLOOKUP($C24,Scores,4,FALSE))","v":""},{"$f":"IF($C24=\"\",\"\",IF(VLOOKUP($C24,Scores,5,FALSE)=\"\",\"-\",VLOOKUP($C24,Matches,25,FALSE)))","v":""},{"$f":"IF($C24=\"\",\"\",IF(VLOOKUP($C24,Scores,6,FALSE)=\"\",\"\",VLOOKUP($C24,Scores,6,FALSE)))","v":""},{"$f":"IF($C24=\"\",\"\",IF(VLOOKUP($C24,Scores,7,FALSE)=\"\",\"\",VLOOKUP($C24,Scores,7,FALSE)))","v":""},{"$f":"IF($C24=\"\",\"\",IF(VLOOKUP($C24,Scores,8,FALSE)=\"\",\"\",VLOOKUP($C24,Scores,8,FALSE)))","v":""},{"$f":"IF($C24=\"\",\"\",IF(VLOOKUP($C24,Scores,9,FALSE)=\"\",\"\",VLOOKUP($C24,Scores,9,FALSE)))","v":""},{"$f":"IF($C24=\"\",\"\",IF(VLOOKUP($C24,Scores,10,FALSE)=\"\",\"\",VLOOKUP($C24,Scores,10,FALSE)))","v":""},{"$f":"IF($C24=\"\",\"\",IF(VLOOKUP($C24,Scores,11,FALSE)=\"\",\"\",VLOOKUP($C24,Scores,11,FALSE)))","v":""},{"$f":"IF($C24=\"\",\"\",IF(VLOOKUP($C24,Scores,12,FALSE)=\"\",\"\",VLOOKUP($C24,Scores,12,FALSE)))","v":""},{"$f":"IF($C24=\"\",\"\",IF(VLOOKUP($C24,Scores,13,FALSE)=\"\",\"\",VLOOKUP($C24,Scores,13,FALSE)))","v":""},{"$f":"IF($C24=\"\",\"\",IF(VLOOKUP($C24,Scores,14,FALSE)=\"\",\"\",VLOOKUP($C24,Scores,14,FALSE)))","v":""},{"$f":"IF($C24=\"\",\"\",IF(VLOOKUP($C24,Scores,15,FALSE)=\"\",\"\",VLOOKUP($C24,Scores,15,FALSE)))","v":""},{"$f":"IF($O24=\"\",\"\",SUM($G24:$O24))","v":""},{"$f":"IF($D24=\"-\",\"-\",IF($P24=\"\",\"\",$P24-($D24/2)))","v":""},{"$f":"IF($C24=\"\",\"\",IF(VLOOKUP($C24,Scores,17,FALSE)=\"\",\"\",VLOOKUP($C24,Scores,17,FALSE)))","v":""},{"$f":"IF($C24=\"\",\"\",IF(VLOOKUP($C24,Scores,18,FALSE)=\"\",\"\",VLOOKUP($C24,Scores,18,FALSE)))","v":""},{"$f":"IF($C24=\"\",\"\",IF(VLOOKUP($C24,Scores,19,FALSE)=\"\",\"\",VLOOKUP($C24,Scores,19,FALSE)))","v":""},{"$f":"IF($C24=\"\",\"\",IF(VLOOKUP($C24,Scores,20,FALSE)=\"\",\"\",VLOOKUP($C24,Scores,20,FALSE)))","v":""},{"$f":"IF($C24=\"\",\"\",IF(VLOOKUP($C24,Scores,21,FALSE)=\"\",\"\",VLOOKUP($C24,Scores,21,FALSE)))","v":""},{"$f":"IF($C24=\"\",\"\",IF(VLOOKUP($C24,Scores,22,FALSE)=\"\",\"\",VLOOKUP($C24,Scores,22,FALSE)))","v":""},{"$f":"IF($C24=\"\",\"\",IF(VLOOKUP($C24,Scores,23,FALSE)=\"\",\"\",VLOOKUP($C24,Scores,23,FALSE)))","v":""},{"$f":"IF($C24=\"\",\"\",IF(VLOOKUP($C24,Scores,24,FALSE)=\"\",\"\",VLOOKUP($C24,Scores,24,FALSE)))","v":""},{"$f":"IF($C24=\"\",\"\",IF(VLOOKUP($C24,Scores,25,FALSE)=\"\",\"\",VLOOKUP($C24,Scores,25,FALSE)))","v":""},{"$f":"IF($Z24=\"\",\"\",SUM($R24:$Z24))","v":""},{"$f":"IF($D24=\"-\",\"-\",IF($AA24=\"\",\"\",$AA24-($D24/2)))","v":""},{"$f":"IF(OR($P24=\"\",$AA24=\"\"),\"\",SUM($P24,$AA24))","v":""},{"$f":"IF($D24=\"-\",\"-\",IF(OR($Q24=\"\",$AB24=\"\"),\"\",SUM($Q24,$AB24)))","v":""}]
["",20,"",{"$f":"IF($C25=\"\",\"\",VLOOKUP($C25,Scores,4,FALSE))","v":""},{"$f":"IF($C25=\"\",\"\",IF(VLOOKUP($C25,Scores,5,FALSE)=\"\",\"-\",VLOOKUP($C25,Matches,25,FALSE)))","v":""},{"$f":"IF($C25=\"\",\"\",IF(VLOOKUP($C25,Scores,6,FALSE)=\"\",\"\",VLOOKUP($C25,Scores,6,FALSE)))","v":""},{"$f":"IF($C25=\"\",\"\",IF(VLOOKUP($C25,Scores,7,FALSE)=\"\",\"\",VLOOKUP($C25,Scores,7,FALSE)))","v":""},{"$f":"IF($C25=\"\",\"\",IF(VLOOKUP($C25,Scores,8,FALSE)=\"\",\"\",VLOOKUP($C25,Scores,8,FALSE)))","v":""},{"$f":"IF($C25=\"\",\"\",IF(VLOOKUP($C25,Scores,9,FALSE)=\"\",\"\",VLOOKUP($C25,Scores,9,FALSE)))","v":""},{"$f":"IF($C25=\"\",\"\",IF(VLOOKUP($C25,Scores,10,FALSE)=\"\",\"\",VLOOKUP($C25,Scores,10,FALSE)))","v":""},{"$f":"IF($C25=\"\",\"\",IF(VLOOKUP($C25,Scores,11,FALSE)=\"\",\"\",VLOOKUP($C25,Scores,11,FALSE)))","v":""},{"$f":"IF($C25=\"\",\"\",IF(VLOOKUP($C25,Scores,12,FALSE)=\"\",\"\",VLOOKUP($C25,Scores,12,FALSE)))","v":""},{"$f":"IF($C25=\"\",\"\",IF(VLOOKUP($C25,Scores,13,FALSE)=\"\",\"\",VLOOKUP($C25,Scores,13,FALSE)))","v":""},{"$f":"IF($C25=\"\",\"\",IF(VLOOKUP($C25,Scores,14,FALSE)=\"\",\"\",VLOOKUP($C25,Scores,14,FALSE)))","v":""},{"$f":"IF($C25=\"\",\"\",IF(VLOOKUP($C25,Scores,15,FALSE)=\"\",\"\",VLOOKUP($C25,Scores,15,FALSE)))","v":""},{"$f":"IF($O25=\"\",\"\",SUM($G25:$O25))","v":""},{"$f":"IF($D25=\"-\",\"-\",IF($P25=\"\",\"\",$P25-($D25/2)))","v":""},{"$f":"IF($C25=\"\",\"\",IF(VLOOKUP($C25,Scores,17,FALSE)=\"\",\"\",VLOOKUP($C25,Scores,17,FALSE)))","v":""},{"$f":"IF($C25=\"\",\"\",IF(VLOOKUP($C25,Scores,18,FALSE)=\"\",\"\",VLOOKUP($C25,Scores,18,FALSE)))","v":""},{"$f":"IF($C25=\"\",\"\",IF(VLOOKUP($C25,Scores,19,FALSE)=\"\",\"\",VLOOKUP($C25,Scores,19,FALSE)))","v":""},{"$f":"IF($C25=\"\",\"\",IF(VLOOKUP($C25,Scores,20,FALSE)=\"\",\"\",VLOOKUP($C25,Scores,20,FALSE)))","v":""},{"$f":"IF($C25=\"\",\"\",IF(VLOOKUP($C25,Scores,21,FALSE)=\"\",\"\",VLOOKUP($C25,Scores,21,FALSE)))","v":""},{"$f":"IF($C25=\"\",\"\",IF(VLOOKUP($C25,Scores,22,FALSE)=\"\",\"\",VLOOKUP($C25,Scores,22,FALSE)))","v":""},{"$f":"IF($C25=\"\",\"\",IF(VLOOKUP($C25,Scores,23,FALSE)=\"\",\"\",VLOOKUP($C25,Scores,23,FALSE)))","v":""},{"$f":"IF($C25=\"\",\"\",IF(VLOOKUP($C25,Scores,24,FALSE)=\"\",\"\",VLOOKUP($C25,Scores,24,FALSE)))","v":""},{"$f":"IF($C25=\"\",\"\",IF(VLOOKUP($C25,Scores,25,FALSE)=\"\",\"\",VLOOKUP($C25,Scores,25,FALSE)))","v":""},{"$f":"IF($Z25=\"\",\"\",SUM($R25:$Z25))","v":""},{"$f":"IF($D25=\"-\",\"-\",IF($AA25=\"\",\"\",$AA25-($D25/2)))","v":""},{"$f":"IF(OR($P25=\"\",$AA25=\"\"),\"\",SUM($P25,$AA25))","v":""},{"$f":"IF($D25=\"-\",\"-\",IF(OR($Q25=\"\",$AB25=\"\"),\"\",SUM($Q25,$AB25)))","v":""}]
["",21,"",{"$f":"IF($C26=\"\",\"\",VLOOKUP($C26,Scores,4,FALSE))","v":""},{"$f":"IF($C26=\"\",\"\",IF(VLOOKUP($C26,Scores,5,FALSE)=\"\",\"-\",VLOOKUP($C26,Matches,25,FALSE)))","v":""},{"$f":"IF($C26=\"\",\"\",IF(VLOOKUP($C26,Scores,6,FALSE)=\"\",\"\",VLOOKUP($C26,Scores,6,FALSE)))","v":""},{"$f":"IF($C26=\"\",\"\",IF(VLOOKUP($C26,Scores,7,FALSE)=\"\",\"\",VLOOKUP($C26,Scores,7,FALSE)))","v":""},{"$f":"IF($C26=\"\",\"\",IF(VLOOKUP($C26,Scores,8,FALSE)=\"\",\"\",VLOOKUP($C26,Scores,8,FALSE)))","v":""},{"$f":"IF($C26=\"\",\"\",IF(VLOOKUP($C26,Scores,9,FALSE)=\"\",\"\",VLOOKUP($C26,Scores,9,FALSE)))","v":""},{"$f":"IF($C26=\"\",\"\",IF(VLOOKUP($C26,Scores,10,FALSE)=\"\",\"\",VLOOKUP($C26,Scores,10,FALSE)))","v":""},{"$f":"IF($C26=\"\",\"\",IF(VLOOKUP($C26,Scores,11,FALSE)=\"\",\"\",VLOOKUP($C26,Scores,11,FALSE)))","v":""},{"$f":"IF($C26=\"\",\"\",IF(VLOOKUP($C26,Scores,12,FALSE)=\"\",\"\",VLOOKUP($C26,Scores,12,FALSE)))","v":""},{"$f":"IF($C26=\"\",\"\",IF(VLOOKUP($C26,Scores,13,FALSE)=\"\",\"\",VLOOKUP($C26,Scores,13,FALSE)))","v":""},{"$f":"IF($C26=\"\",\"\",IF(VLOOKUP($C26,Scores,14,FALSE)=\"\",\"\",VLOOKUP($C26,Scores,14,FALSE)))","v":""},{"$f":"IF($C26=\"\",\"\",IF(VLOOKUP($C26,Scores,15,FALSE)=\"\",\"\",VLOOKUP($C26,Scores,15,FALSE)))","v":""},{"$f":"IF($O26=\"\",\"\",SUM($G26:$O26))","v":""},{"$f":"IF($D26=\"-\",\"-\",IF($P26=\"\",\"\",$P26-($D26/2)))","v":""},{"$f":"IF($C26=\"\",\"\",IF(VLOOKUP($C26,Scores,17,FALSE)=\"\",\"\",VLOOKUP($C26,Scores,17,FALSE)))","v":""},{"$f":"IF($C26=\"\",\"\",IF(VLOOKUP($C26,Scores,18,FALSE)=\"\",\"\",VLOOKUP($C26,Scores,18,FALSE)))","v":""},{"$f":"IF($C26=\"\",\"\",IF(VLOOKUP($C26,Scores,19,FALSE)=\"\",\"\",VLOOKUP($C26,Scores,19,FALSE)))","v":""},{"$f":"IF($C26=\"\",\"\",IF(VLOOKUP($C26,Scores,20,FALSE)=\"\",\"\",VLOOKUP($C26,Scores,20,FALSE)))","v":""},{"$f":"IF($C26=\"\",\"\",IF(VLOOKUP($C26,Scores,21,FALSE)=\"\",\"\",VLOOKUP($C26,Scores,21,FALSE)))","v":""},{"$f":"IF($C26=\"\",\"\",IF(VLOOKUP($C26,Scores,22,FALSE)=\"\",\"\",VLOOKUP($C26,Scores,22,FALSE)))","v":""},{"$f":"IF($C26=\"\",\"\",IF(VLOOKUP($C26,Scores,23,FALSE)=\"\",\"\",VLOOKUP($C26,Scores,23,FALSE)))","v":""},{"$f":"IF($C26=\"\",\"\",IF(VLOOKUP($C26,Scores,24,FALSE)=\"\",\"\",VLOOKUP($C26,Scores,24,FALSE)))","v":""},{"$f":"IF($C26=\"\",\"\",IF(VLOOKUP($C26,Scores,25,FALSE)=\"\",\"\",VLOOKUP($C26,Scores,25,FALSE)))","v":""},{"$f":"IF($Z26=\"\",\"\",SUM($R26:$Z26))","v":""},{"$f":"IF($D26=\"-\",\"-\",IF($AA26=\"\",\"\",$AA26-($D26/2)))","v":""},{"$f":"IF(OR($P26=\"\",$AA26=\"\"),\"\",SUM($P26,$AA26))","v":""},{"$f":"IF($D26=\"-\",\"-\",IF(OR($Q26=\"\",$AB26=\"\"),\"\",SUM($Q26,$AB26)))","v":""}]
["",22,"",{"$f":"IF($C27=\"\",\"\",VLOOKUP($C27,Scores,4,FALSE))","v":""},{"$f":"IF($C27=\"\",\"\",IF(VLOOKUP($C27,Scores,5,FALSE)=\"\",\"-\",VLOOKUP($C27,Matches,25,FALSE)))","v":""},{"$f":"IF($C27=\"\",\"\",IF(VLOOKUP($C27,Scores,6,FALSE)=\"\",\"\",VLOOKUP($C27,Scores,6,FALSE)))","v":""},{"$f":"IF($C27=\"\",\"\",IF(VLOOKUP($C27,Scores,7,FALSE)=\"\",\"\",VLOOKUP($C27,Scores,7,FALSE)))","v":""},{"$f":"IF($C27=\"\",\"\",IF(VLOOKUP($C27,Scores,8,FALSE)=\"\",\"\",VLOOKUP($C27,Scores,8,FALSE)))","v":""},{"$f":"IF($C27=\"\",\"\",IF(VLOOKUP($C27,Scores,9,FALSE)=\"\",\"\",VLOOKUP($C27,Scores,9,FALSE)))","v":""},{"$f":"IF($C27=\"\",\"\",IF(VLOOKUP($C27,Scores,10,FALSE)=\"\",\"\",VLOOKUP($C27,Scores,10,FALSE)))","v":""},{"$f":"IF($C27=\"\",\"\",IF(VLOOKUP($C27,Scores,11,FALSE)=\"\",\"\",VLOOKUP($C27,Scores,11,FALSE)))","v":""},{"$f":"IF($C27=\"\",\"\",IF(VLOOKUP($C27,Scores,12,FALSE)=\"\",\"\",VLOOKUP($C27,Scores,12,FALSE)))","v":""},{"$f":"IF($C27=\"\",\"\",IF(VLOOKUP($C27,Scores,13,FALSE)=\"\",\"\",VLOOKUP($C27,Scores,13,FALSE)))","v":""},{"$f":"IF($C27=\"\",\"\",IF(VLOOKUP($C27,Scores,14,FALSE)=\"\",\"\",VLOOKUP($C27,Scores,14,FALSE)))","v":""},{"$f":"IF($C27=\"\",\"\",IF(VLOOKUP($C27,Scores,15,FALSE)=\"\",\"\",VLOOKUP($C27,Scores,15,FALSE)))","v":""},{"$f":"IF($O27=\"\",\"\",SUM($G27:$O27))","v":""},{"$f":"IF($D27=\"-\",\"-\",IF($P27=\"\",\"\",$P27-($D27/2)))","v":""},{"$f":"IF($C27=\"\",\"\",IF(VLOOKUP($C27,Scores,17,FALSE)=\"\",\"\",VLOOKUP($C27,Scores,17,FALSE)))","v":""},{"$f":"IF($C27=\"\",\"\",IF(VLOOKUP($C27,Scores,18,FALSE)=\"\",\"\",VLOOKUP($C27,Scores,18,FALSE)))","v":""},{"$f":"IF($C27=\"\",\"\",IF(VLOOKUP($C27,Scores,19,FALSE)=\"\",\"\",VLOOKUP($C27,Scores,19,FALSE)))","v":""},{"$f":"IF($C27=\"\",\"\",IF(VLOOKUP($C27,Scores,20,FALSE)=\"\",\"\",VLOOKUP($C27,Scores,20,FALSE)))","v":""},{"$f":"IF($C27=\"\",\"\",IF(VLOOKUP($C27,Scores,21,FALSE)=\"\",\"\",VLOOKUP($C27,Scores,21,FALSE)))","v":""},{"$f":"IF($C27=\"\",\"\",IF(VLOOKUP($C27,Scores,22,FALSE)=\"\",\"\",VLOOKUP($C27,Scores,22,FALSE)))","v":""},{"$f":"IF($C27=\"\",\"\",IF(VLOOKUP($C27,Scores,23,FALSE)=\"\",\"\",VLOOKUP($C27,Scores,23,FALSE)))","v":""},{"$f":"IF($C27=\"\",\"\",IF(VLOOKUP($C27,Scores,24,FALSE)=\"\",\"\",VLOOKUP($C27,Scores,24,FALSE)))","v":""},{"$f":"IF($C27=\"\",\"\",IF(VLOOKUP($C27,Scores,25,FALSE)=\"\",\"\",VLOOKUP($C27,Scores,25,FALSE)))","v":""},{"$f":"IF($Z27=\"\",\"\",SUM($R27:$Z27))","v":""},{"$f":"IF($D27=\"-\",\"-\",IF($AA27=\"\",\"\",$AA27-($D27/2)))","v":""},{"$f":"IF(OR($P27=\"\",$AA27=\"\"),\"\",SUM($P27,$AA27))","v":""},{"$f":"IF($D27=\"-\",\"-\",IF(OR($Q27=\"\",$AB27=\"\"),\"\",SUM($Q27,$AB27)))","v":""}]
["",23,"",{"$f":"IF($C28=\"\",\"\",VLOOKUP($C28,Scores,4,FALSE))","v":""},{"$f":"IF($C28=\"\",\"\",IF(VLOOKUP($C28,Scores,5,FALSE)=\"\",\"-\",VLOOKUP($C28,Matches,25,FALSE)))","v":""},{"$f":"IF($C28=\"\",\"\",IF(VLOOKUP($C28,Scores,6,FALSE)=\"\",\"\",VLOOKUP($C28,Scores,6,FALSE)))","v":""},{"$f":"IF($C28=\"\",\"\",IF(VLOOKUP($C28,Scores,7,FALSE)=\"\",\"\",VLOOKUP($C28,Scores,7,FALSE)))","v":""},{"$f":"IF($C28=\"\",\"\",IF(VLOOKUP($C28,Scores,8,FALSE)=\"\",\"\",VLOOKUP($C28,Scores,8,FALSE)))","v":""},{"$f":"IF($C28=\"\",\"\",IF(VLOOKUP($C28,Scores,9,FALSE)=\"\",\"\",VLOOKUP($C28,Scores,9,FALSE)))","v":""},{"$f":"IF($C28=\"\",\"\",IF(VLOOKUP($C28,Scores,10,FALSE)=\"\",\"\",VLOOKUP($C28,Scores,10,FALSE)))","v":""},{"$f":"IF($C28=\"\",\"\",IF(VLOOKUP($C28,Scores,11,FALSE)=\"\",\"\",VLOOKUP($C28,Scores,11,FALSE)))","v":""},{"$f":"IF($C28=\"\",\"\",IF(VLOOKUP($C28,Scores,12,FALSE)=\"\",\"\",VLOOKUP($C28,Scores,12,FALSE)))","v":""},{"$f":"IF($C28=\"\",\"\",IF(VLOOKUP($C28,Scores,13,FALSE)=\"\",\"\",VLOOKUP($C28,Scores,13,FALSE)))","v":""},{"$f":"IF($C28=\"\",\"\",IF(VLOOKUP($C28,Scores,14,FALSE)=\"\",\"\",VLOOKUP($C28,Scores,14,FALSE)))","v":""},{"$f":"IF($C28=\"\",\"\",IF(VLOOKUP($C28,Scores,15,FALSE)=\"\",\"\",VLOOKUP($C28,Scores,15,FALSE)))","v":""},{"$f":"IF($O28=\"\",\"\",SUM($G28:$O28))","v":""},{"$f":"IF($D28=\"-\",\"-\",IF($P28=\"\",\"\",$P28-($D28/2)))","v":""},{"$f":"IF($C28=\"\",\"\",IF(VLOOKUP($C28,Scores,17,FALSE)=\"\",\"\",VLOOKUP($C28,Scores,17,FALSE)))","v":""},{"$f":"IF($C28=\"\",\"\",IF(VLOOKUP($C28,Scores,18,FALSE)=\"\",\"\",VLOOKUP($C28,Scores,18,FALSE)))","v":""},{"$f":"IF($C28=\"\",\"\",IF(VLOOKUP($C28,Scores,19,FALSE)=\"\",\"\",VLOOKUP($C28,Scores,19,FALSE)))","v":""},{"$f":"IF($C28=\"\",\"\",IF(VLOOKUP($C28,Scores,20,FALSE)=\"\",\"\",VLOOKUP($C28,Scores,20,FALSE)))","v":""},{"$f":"IF($C28=\"\",\"\",IF(VLOOKUP($C28,Scores,21,FALSE)=\"\",\"\",VLOOKUP($C28,Scores,21,FALSE)))","v":""},{"$f":"IF($C28=\"\",\"\",IF(VLOOKUP($C28,Scores,22,FALSE)=\"\",\"\",VLOOKUP($C28,Scores,22,FALSE)))","v":""},{"$f":"IF($C28=\"\",\"\",IF(VLOOKUP($C28,Scores,23,FALSE)=\"\",\"\",VLOOKUP($C28,Scores,23,FALSE)))","v":""},{"$f":"IF($C28=\"\",\"\",IF(VLOOKUP($C28,Scores,24,FALSE)=\"\",\"\",VLOOKUP($C28,Scores,24,FALSE)))","v":""},{"$f":"IF($C28=\"\",\"\",IF(VLOOKUP($C28,Scores,25,FALSE)=\"\",\"\",VLOOKUP($C28,Scores,25,FALSE)))","v":""},{"$f":"IF($Z28=\"\",\"\",SUM($R28:$Z28))","v":""},{"$f":"IF($D28=\"-\",\"-\",IF($AA28=\"\",\"\",$AA28-($D28/2)))","v":""},{"$f":"IF(OR($P28=\"\",$AA28=\"\"),\"\",SUM($P28,$AA28))","v":""},{"$f":"IF($D28=\"-\",\"-\",IF(OR($Q28=\"\",$AB28=\"\"),\"\",SUM($Q28,$AB28)))","v":""}]
["",24,"",{"$f":"IF($C29=\"\",\"\",VLOOKUP($C29,Scores,4,FALSE))","v":""},{"$f":"IF($C29=\"\",\"\",IF(VLOOKUP($C29,Scores,5,FALSE)=\"\",\"-\",VLOOKUP($C29,Matches,25,FALSE)))","v":""},{"$f":"IF($C29=\"\",\"\",IF(VLOOKUP($C29,Scores,6,FALSE)=\"\",\"\",VLOOKUP($C29,Scores,6,FALSE)))","v":""},{"$f":"IF($C29=\"\",\"\",IF(VLOOKUP($C29,Scores,7,FALSE)=\"\",\"\",VLOOKUP($C29,Scores,7,FALSE)))","v":""},{"$f":"IF($C29=\"\",\"\",IF(VLOOKUP($C29,Scores,8,FALSE)=\"\",\"\",VLOOKUP($C29,Scores,8,FALSE)))","v":""},{"$f":"IF($C29=\"\",\"\",IF(VLOOKUP($C29,Scores,9,FALSE)=\"\",\"\",VLOOKUP($C29,Scores,9,FALSE)))","v":""},{"$f":"IF($C29=\"\",\"\",IF(VLOOKUP($C29,Scores,10,FALSE)=\"\",\"\",VLOOKUP($C29,Scores,10,FALSE)))","v":""},{"$f":"IF($C29=\"\",\"\",IF(VLOOKUP($C29,Scores,11,FALSE)=\"\",\"\",VLOOKUP($C29,Scores,11,FALSE)))","v":""},{"$f":"IF($C29=\"\",\"\",IF(VLOOKUP($C29,Scores,12,FALSE)=\"\",\"\",VLOOKUP($C29,Scores,12,FALSE)))","v":""},{"$f":"IF($C29=\"\",\"\",IF(VLOOKUP($C29,Scores,13,FALSE)=\"\",\"\",VLOOKUP($C29,Scores,13,FALSE)))","v":""},{"$f":"IF($C29=\"\",\"\",IF(VLOOKUP($C29,Scores,14,FALSE)=\"\",\"\",VLOOKUP($C29,Scores,14,FALSE)))","v":""},{"$f":"IF($C29=\"\",\"\",IF(VLOOKUP($C29,Scores,15,FALSE)=\"\",\"\",VLOOKUP($C29,Scores,15,FALSE)))","v":""},{"$f":"IF($O29=\"\",\"\",SUM($G29:$O29))","v":""},{"$f":"IF($D29=\"-\",\"-\",IF($P29=\"\",\"\",$P29-($D29/2)))","v":""},{"$f":"IF($C29=\"\",\"\",IF(VLOOKUP($C29,Scores,17,FALSE)=\"\",\"\",VLOOKUP($C29,Scores,17,FALSE)))","v":""},{"$f":"IF($C29=\"\",\"\",IF(VLOOKUP($C29,Scores,18,FALSE)=\"\",\"\",VLOOKUP($C29,Scores,18,FALSE)))","v":""},{"$f":"IF($C29=\"\",\"\",IF(VLOOKUP($C29,Scores,19,FALSE)=\"\",\"\",VLOOKUP($C29,Scores,19,FALSE)))","v":""},{"$f":"IF($C29=\"\",\"\",IF(VLOOKUP($C29,Scores,20,FALSE)=\"\",\"\",VLOOKUP($C29,Scores,20,FALSE)))","v":""},{"$f":"IF($C29=\"\",\"\",IF(VLOOKUP($C29,Scores,21,FALSE)=\"\",\"\",VLOOKUP($C29,Scores,21,FALSE)))","v":""},{"$f":"IF($C29=\"\",\"\",IF(VLOOKUP($C29,Scores,22,FALSE)=\"\",\"\",VLOOKUP($C29,Scores,22,FALSE)))","v":""},{"$f":"IF($C29=\"\",\"\",IF(VLOOKUP($C29,Scores,23,FALSE)=\"\",\"\",VLOOKUP($C29,Scores,23,FALSE)))","v":""},{"$f":"IF($C29=\"\",\"\",IF(VLOOKUP($C29,Scores,24,FALSE)=\"\",\"\",VLOOKUP($C29,Scores,24,FALSE)))","v":""},{"$f":"IF($C29=\"\",\"\",IF(VLOOKUP($C29,Scores,25,FALSE)=\"\",\"\",VLOOKUP($C29,Scores,25,FALSE)))","v":""},{"$f":"IF($Z29=\"\",\"\",SUM($R29:$Z29))","v":""},{"$f":"IF($D29=\"-\",\"-\",IF($AA29=\"\",\"\",$AA29-($D29/2)))","v":""},{"$f":"IF(OR($P29=\"\",$AA29=\"\"),\"\",SUM($P29,$AA29))","v":""},{"$f":"IF($D29=\"-\",\"-\",IF(OR($Q29=\"\",$AB29=\"\"),\"\",SUM($Q29,$AB29)))","v":""}]
["",25,"",{"$f":"IF($C30=\"\",\"\",VLOOKUP($C30,Scores,4,FALSE))","v":""},{"$f":"IF($C30=\"\",\"\",IF(VLOOKUP($C30,Scores,5,FALSE)=\"\",\"-\",VLOOKUP($C30,Matches,25,FALSE)))","v":""},{"$f":"IF($C30=\"\",\"\",IF(VLOOKUP($C30,Scores,6,FALSE)=\"\",\"\",VLOOKUP($C30,Scores,6,FALSE)))","v":""},{"$f":"IF($C30=\"\",\"\",IF(VLOOKUP($C30,Scores,7,FALSE)=\"\",\"\",VLOOKUP($C30,Scores,7,FALSE)))","v":""},{"$f":"IF($C30=\"\",\"\",IF(VLOOKUP($C30,Scores,8,FALSE)=\"\",\"\",VLOOKUP($C30,Scores,8,FALSE)))","v":""},{"$f":"IF($C30=\"\",\"\",IF(VLOOKUP($C30,Scores,9,FALSE)=\"\",\"\",VLOOKUP($C30,Scores,9,FALSE)))","v":""},{"$f":"IF($C30=\"\",\"\",IF(VLOOKUP($C30,Scores,10,FALSE)=\"\",\"\",VLOOKUP($C30,Scores,10,FALSE)))","v":""},{"$f":"IF($C30=\"\",\"\",IF(VLOOKUP($C30,Scores,11,FALSE)=\"\",\"\",VLOOKUP($C30,Scores,11,FALSE)))","v":""},{"$f":"IF($C30=\"\",\"\",IF(VLOOKUP($C30,Scores,12,FALSE)=\"\",\"\",VLOOKUP($C30,Scores,12,FALSE)))","v":""},{"$f":"IF($C30=\"\",\"\",IF(VLOOKUP($C30,Scores,13,FALSE)=\"\",\"\",VLOOKUP($C30,Scores,13,FALSE)))","v":""},{"$f":"IF($C30=\"\",\"\",IF(VLOOKUP($C30,Scores,14,FALSE)=\"\",\"\",VLOOKUP($C30,Scores,14,FALSE)))","v":""},{"$f":"IF($C30=\"\",\"\",IF(VLOOKUP($C30,Scores,15,FALSE)=\"\",\"\",VLOOKUP($C30,Scores,15,FALSE)))","v":""},{"$f":"IF($O30=\"\",\"\",SUM($G30:$O30))","v":""},{"$f":"IF($D30=\"-\",\"-\",IF($P30=\"\",\"\",$P30-($D30/2)))","v":""},{"$f":"IF($C30=\"\",\"\",IF(VLOOKUP($C30,Scores,17,FALSE)=\"\",\"\",VLOOKUP($C30,Scores,17,FALSE)))","v":""},{"$f":"IF($C30=\"\",\"\",IF(VLOOKUP($C30,Scores,18,FALSE)=\"\",\"\",VLOOKUP($C30,Scores,18,FALSE)))","v":""},{"$f":"IF($C30=\"\",\"\",IF(VLOOKUP($C30,Scores,19,FALSE)=\"\",\"\",VLOOKUP($C30,Scores,19,FALSE)))","v":""},{"$f":"IF($C30=\"\",\"\",IF(VLOOKUP($C30,Scores,20,FALSE)=\"\",\"\",VLOOKUP($C30,Scores,20,FALSE)))","v":""},{"$f":"IF($C30=\"\",\"\",IF(VLOOKUP($C30,Scores,21,FALSE)=\"\",\"\",VLOOKUP($C30,Scores,21,FALSE)))","v":""},{"$f":"IF($C30=\"\",\"\",IF(VLOOKUP($C30,Scores,22,FALSE)=\"\",\"\",VLOOKUP($C30,Scores,22,FALSE)))","v":""},{"$f":"IF($C30=\"\",\"\",IF(VLOOKUP($C30,Scores,23,FALSE)=\"\",\"\",VLOOKUP($C30,Scores,23,FALSE)))","v":""},{"$f":"IF($C30=\"\",\"\",IF(VLOOKUP($C30,Scores,24,FALSE)=\"\",\"\",VLOOKUP($C30,Scores,24,FALSE)))","v":""},{"$f":"IF($C30=\"\",\"\",IF(VLOOKUP($C30,Scores,25,FALSE)=\"\",\"\",VLOOKUP($C30,Scores,25,FALSE)))","v":""},{"$f":"IF($Z30=\"\",\"\",SUM($R30:$Z30))","v":""},{"$f":"IF($D30=\"-\",\"-\",IF($AA30=\"\",\"\",$AA30-($D30/2)))","v":""},{"$f":"IF(OR($P30=\"\",$AA30=\"\"),\"\",SUM($P30,$AA30))","v":""},{"$f":"IF($D30=\"-\",\"-\",IF(OR($Q30=\"\",$AB30=\"\"),\"\",SUM($Q30,$AB30)))","v":""}]
["",26,"",{"$f":"IF($C31=\"\",\"\",VLOOKUP($C31,Scores,4,FALSE))","v":""},{"$f":"IF($C31=\"\",\"\",IF(VLOOKUP($C31,Scores,5,FALSE)=\"\",\"-\",VLOOKUP($C31,Matches,25,FALSE)))","v":""},{"$f":"IF($C31=\"\",\"\",IF(VLOOKUP($C31,Scores,6,FALSE)=\"\",\"\",VLOOKUP($C31,Scores,6,FALSE)))","v":""},{"$f":"IF($C31=\"\",\"\",IF(VLOOKUP($C31,Scores,7,FALSE)=\"\",\"\",VLOOKUP($C31,Scores,7,FALSE)))","v":""},{"$f":"IF($C31=\"\",\"\",IF(VLOOKUP($C31,Scores,8,FALSE)=\"\",\"\",VLOOKUP($C31,Scores,8,FALSE)))","v":""},{"$f":"IF($C31=\"\",\"\",IF(VLOOKUP($C31,Scores,9,FALSE)=\"\",\"\",VLOOKUP($C31,Scores,9,FALSE)))","v":""},{"$f":"IF($C31=\"\",\"\",IF(VLOOKUP($C31,Scores,10,FALSE)=\"\",\"\",VLOOKUP($C31,Scores,10,FALSE)))","v":""},{"$f":"IF($C31=\"\",\"\",IF(VLOOKUP($C31,Scores,11,FALSE)=\"\",\"\",VLOOKUP($C31,Scores,11,FALSE)))","v":""},{"$f":"IF($C31=\"\",\"\",IF(VLOOKUP($C31,Scores,12,FALSE)=\"\",\"\",VLOOKUP($C31,Scores,12,FALSE)))","v":""},{"$f":"IF($C31=\"\",\"\",IF(VLOOKUP($C31,Scores,13,FALSE)=\"\",\"\",VLOOKUP($C31,Scores,13,FALSE)))","v":""},{"$f":"IF($C31=\"\",\"\",IF(VLOOKUP($C31,Scores,14,FALSE)=\"\",\"\",VLOOKUP($C31,Scores,14,FALSE)))","v":""},{"$f":"IF($C31=\"\",\"\",IF(VLOOKUP($C31,Scores,15,FALSE)=\"\",\"\",VLOOKUP($C31,Scores,15,FALSE)))","v":""},{"$f":"IF($O31=\"\",\"\",SUM($G31:$O31))","v":""},{"$f":"IF($D31=\"-\",\"-\",IF($P31=\"\",\"\",$P31-($D31/2)))","v":""},{"$f":"IF($C31=\"\",\"\",IF(VLOOKUP($C31,Scores,17,FALSE)=\"\",\"\",VLOOKUP($C31,Scores,17,FALSE)))","v":""},{"$f":"IF($C31=\"\",\"\",IF(VLOOKUP($C31,Scores,18,FALSE)=\"\",\"\",VLOOKUP($C31,Scores,18,FALSE)))","v":""},{"$f":"IF($C31=\"\",\"\",IF(VLOOKUP($C31,Scores,19,FALSE)=\"\",\"\",VLOOKUP($C31,Scores,19,FALSE)))","v":""},{"$f":"IF($C31=\"\",\"\",IF(VLOOKUP($C31,Scores,20,FALSE)=\"\",\"\",VLOOKUP($C31,Scores,20,FALSE)))","v":""},{"$f":"IF($C31=\"\",\"\",IF(VLOOKUP($C31,Scores,21,FALSE)=\"\",\"\",VLOOKUP($C31,Scores,21,FALSE)))","v":""},{"$f":"IF($C31=\"\",\"\",IF(VLOOKUP($C31,Scores,22,FALSE)=\"\",\"\",VLOOKUP($C31,Scores,22,FALSE)))","v":""},{"$f":"IF($C31=\"\",\"\",IF(VLOOKUP($C31,Scores,23,FALSE)=\"\",\"\",VLOOKUP($C31,Scores,23,FALSE)))","v":""},{"$f":"IF($C31=\"\",\"\",IF(VLOOKUP($C31,Scores,24,FALSE)=\"\",\"\",VLOOKUP($C31,Scores,24,FALSE)))","v":""},{"$f":"IF($C31=\"\",\"\",IF(VLOOKUP($C31,Scores,25,FALSE)=\"\",\"\",VLOOKUP($C31,Scores,25,FALSE)))","v":""},{"$f":"IF($Z31=\"\",\"\",SUM($R31:$Z31))","v":""},{"$f":"IF($D31=\"-\",\"-\",IF($AA31=\"\",\"\",$AA31-($D31/2)))","v":""},{"$f":"IF(OR($P31=\"\",$AA31=\"\"),\"\",SUM($P31,$AA31))","v":""},{"$f":"IF($D31=\"-\",\"-\",IF(OR($Q31=\"\",$AB31=\"\"),\"\",SUM($Q31,$AB31)))","v":""}]
["",27,"",{"$f":"IF($C32=\"\",\"\",VLOOKUP($C32,Scores,4,FALSE))","v":""},{"$f":"IF($C32=\"\",\"\",IF(VLOOKUP($C32,Scores,5,FALSE)=\"\",\"-\",VLOOKUP($C32,Matches,25,FALSE)))","v":""},{"$f":"IF($C32=\"\",\"\",IF(VLOOKUP($C32,Scores,6,FALSE)=\"\",\"\",VLOOKUP($C32,Scores,6,FALSE)))","v":""},{"$f":"IF($C32=\"\",\"\",IF(VLOOKUP($C32,Scores,7,FALSE)=\"\",\"\",VLOOKUP($C32,Scores,7,FALSE)))","v":""},{"$f":"IF($C32=\"\",\"\",IF(VLOOKUP($C32,Scores,8,FALSE)=\"\",\"\",VLOOKUP($C32,Scores,8,FALSE)))","v":""},{"$f":"IF($C32=\"\",\"\",IF(VLOOKUP($C32,Scores,9,FALSE)=\"\",\"\",VLOOKUP($C32,Scores,9,FALSE)))","v":""},{"$f":"IF($C32=\"\",\"\",IF(VLOOKUP($C32,Scores,10,FALSE)=\"\",\"\",VLOOKUP($C32,Scores,10,FALSE)))","v":""},{"$f":"IF($C32=\"\",\"\",IF(VLOOKUP($C32,Scores,11,FALSE)=\"\",\"\",VLOOKUP($C32,Scores,11,FALSE)))","v":""},{"$f":"IF($C32=\"\",\"\",IF(VLOOKUP($C32,Scores,12,FALSE)=\"\",\"\",VLOOKUP($C32,Scores,12,FALSE)))","v":""},{"$f":"IF($C32=\"\",\"\",IF(VLOOKUP($C32,Scores,13,FALSE)=\"\",\"\",VLOOKUP($C32,Scores,13,FALSE)))","v":""},{"$f":"IF($C32=\"\",\"\",IF(VLOOKUP($C32,Scores,14,FALSE)=\"\",\"\",VLOOKUP($C32,Scores,14,FALSE)))","v":""},{"$f":"IF($C32=\"\",\"\",IF(VLOOKUP($C32,Scores,15,FALSE)=\"\",\"\",VLOOKUP($C32,Scores,15,FALSE)))","v":""},{"$f":"IF($O32=\"\",\"\",SUM($G32:$O32))","v":""},{"$f":"IF($D32=\"-\",\"-\",IF($P32=\"\",\"\",$P32-($D32/2)))","v":""},{"$f":"IF($C32=\"\",\"\",IF(VLOOKUP($C32,Scores,17,FALSE)=\"\",\"\",VLOOKUP($C32,Scores,17,FALSE)))","v":""},{"$f":"IF($C32=\"\",\"\",IF(VLOOKUP($C32,Scores,18,FALSE)=\"\",\"\",VLOOKUP($C32,Scores,18,FALSE)))","v":""},{"$f":"IF($C32=\"\",\"\",IF(VLOOKUP($C32,Scores,19,FALSE)=\"\",\"\",VLOOKUP($C32,Scores,19,FALSE)))","v":""},{"$f":"IF($C32=\"\",\"\",IF(VLOOKUP($C32,Scores,20,FALSE)=\"\",\"\",VLOOKUP($C32,Scores,20,FALSE)))","v":""},{"$f":"IF($C32=\"\",\"\",IF(VLOOKUP($C32,Scores,21,FALSE)=\"\",\"\",VLOOKUP($C32,Scores,21,FALSE)))","v":""},{"$f":"IF($C32=\"\",\"\",IF(VLOOKUP($C32,Scores,22,FALSE)=\"\",\"\",VLOOKUP($C32,Scores,22,FALSE)))","v":""},{"$f":"IF($C32=\"\",\"\",IF(VLOOKUP($C32,Scores,23,FALSE)=\"\",\"\",VLOOKUP($C32,Scores,23,FALSE)))","v":""},{"$f":"IF($C32=\"\",\"\",IF(VLOOKUP($C32,Scores,24,FALSE)=\"\",\"\",VLOOKUP($C32,Scores,24,FALSE)))","v":""},{"$f":"IF($C32=\"\",\"\",IF(VLOOKUP($C32,Scores,25,FALSE)=\"\",\"\",VLOOKUP($C32,Scores,25,FALSE)))","v":""},{"$f":"IF($Z32=\"\",\"\",SUM($R32:$Z32))","v":""},{"$f":"IF($D32=\"-\",\"-\",IF($AA32=\"\",\"\",$AA32-($D32/2)))","v":""},{"$f":"IF(OR($P32=\"\",$AA32=\"\"),\"\",SUM($P32,$AA32))","v":""},{"$f":"IF($D32=\"-\",\"-\",IF(OR($Q32=\"\",$AB32=\"\"),\"\",SUM($Q32,$AB32)))","v":""}]
["",28,"",{"$f":"IF($C33=\"\",\"\",VLOOKUP($C33,Scores,4,FALSE))","v":""},{"$f":"IF($C33=\"\",\"\",IF(VLOOKUP($C33,Scores,5,FALSE)=\"\",\"-\",VLOOKUP($C33,Matches,25,FALSE)))","v":""},{"$f":"IF($C33=\"\",\"\",IF(VLOOKUP($C33,Scores,6,FALSE)=\"\",\"\",VLOOKUP($C33,Scores,6,FALSE)))","v":""},{"$f":"IF($C33=\"\",\"\",IF(VLOOKUP($C33,Scores,7,FALSE)=\"\",\"\",VLOOKUP($C33,Scores,7,FALSE)))","v":""},{"$f":"IF($C33=\"\",\"\",IF(VLOOKUP($C33,Scores,8,FALSE)=\"\",\"\",VLOOKUP($C33,Scores,8,FALSE)))","v":""},{"$f":"IF($C33=\"\",\"\",IF(VLOOKUP($C33,Scores,9,FALSE)=\"\",\"\",VLOOKUP($C33,Scores,9,FALSE)))","v":""},{"$f":"IF($C33=\"\",\"\",IF(VLOOKUP($C33,Scores,10,FALSE)=\"\",\"\",VLOOKUP($C33,Scores,10,FALSE)))","v":""},{"$f":"IF($C33=\"\",\"\",IF(VLOOKUP($C33,Scores,11,FALSE)=\"\",\"\",VLOOKUP($C33,Scores,11,FALSE)))","v":""},{"$f":"IF($C33=\"\",\"\",IF(VLOOKUP($C33,Scores,12,FALSE)=\"\",\"\",VLOOKUP($C33,Scores,12,FALSE)))","v":""},{"$f":"IF($C33=\"\",\"\",IF(VLOOKUP($C33,Scores,13,FALSE)=\"\",\"\",VLOOKUP($C33,Scores,13,FALSE)))","v":""},{"$f":"IF($C33=\"\",\"\",IF(VLOOKUP($C33,Scores,14,FALSE)=\"\",\"\",VLOOKUP($C33,Scores,14,FALSE)))","v":""},{"$f":"IF($C33=\"\",\"\",IF(VLOOKUP($C33,Scores,15,FALSE)=\"\",\"\",VLOOKUP($C33,Scores,15,FALSE)))","v":""},{"$f":"IF($O33=\"\",\"\",SUM($G33:$O33))","v":""},{"$f":"IF($D33=\"-\",\"-\",IF($P33=\"\",\"\",$P33-($D33/2)))","v":""},{"$f":"IF($C33=\"\",\"\",IF(VLOOKUP($C33,Scores,17,FALSE)=\"\",\"\",VLOOKUP($C33,Scores,17,FALSE)))","v":""},{"$f":"IF($C33=\"\",\"\",IF(VLOOKUP($C33,Scores,18,FALSE)=\"\",\"\",VLOOKUP($C33,Scores,18,FALSE)))","v":""},{"$f":"IF($C33=\"\",\"\",IF(VLOOKUP($C33,Scores,19,FALSE)=\"\",\"\",VLOOKUP($C33,Scores,19,FALSE)))","v":""},{"$f":"IF($C33=\"\",\"\",IF(VLOOKUP($C33,Scores,20,FALSE)=\"\",\"\",VLOOKUP($C33,Scores,20,FALSE)))","v":""},{"$f":"IF($C33=\"\",\"\",IF(VLOOKUP($C33,Scores,21,FALSE)=\"\",\"\",VLOOKUP($C33,Scores,21,FALSE)))","v":""},{"$f":"IF($C33=\"\",\"\",IF(VLOOKUP($C33,Scores,22,FALSE)=\"\",\"\",VLOOKUP($C33,Scores,22,FALSE)))","v":""},{"$f":"IF($C33=\"\",\"\",IF(VLOOKUP($C33,Scores,23,FALSE)=\"\",\"\",VLOOKUP($C33,Scores,23,FALSE)))","v":""},{"$f":"IF($C33=\"\",\"\",IF(VLOOKUP($C33,Scores,24,FALSE)=\"\",\"\",VLOOKUP($C33,Scores,24,FALSE)))","v":""},{"$f":"IF($C33=\"\",\"\",IF(VLOOKUP($C33,Scores,25,FALSE)=\"\",\"\",VLOOKUP($C33,Scores,25,FALSE)))","v":""},{"$f":"IF($Z33=\"\",\"\",SUM($R33:$Z33))","v":""},{"$f":"IF($D33=\"-\",\"-\",IF($AA33=\"\",\"\",$AA33-($D33/2)))","v":""},{"$f":"IF(OR($P33=\"\",$AA33=\"\"),\"\",SUM($P33,$AA33))","v":""},{"$f":"IF($D33=\"-\",\"-\",IF(OR($Q33=\"\",$AB33=\"\"),\"\",SUM($Q33,$AB33)))","v":""}]
["",29,"",{"$f":"IF($C34=\"\",\"\",VLOOKUP($C34,Scores,4,FALSE))","v":""},{"$f":"IF($C34=\"\",\"\",IF(VLOOKUP($C34,Scores,5,FALSE)=\"\",\"-\",VLOOKUP($C34,Matches,25,FALSE)))","v":""},{"$f":"IF($C34=\"\",\"\",IF(VLOOKUP($C34,Scores,6,FALSE)=\"\",\"\",VLOOKUP($C34,Scores,6,FALSE)))","v":""},{"$f":"IF($C34=\"\",\"\",IF(VLOOKUP($C34,Scores,7,FALSE)=\"\",\"\",VLOOKUP($C34,Scores,7,FALSE)))","v":""},{"$f":"IF($C34=\"\",\"\",IF(VLOOKUP($C34,Scores,8,FALSE)=\"\",\"\",VLOOKUP($C34,Scores,8,FALSE)))","v":""},{"$f":"IF($C34=\"\",\"\",IF(VLOOKUP($C34,Scores,9,FALSE)=\"\",\"\",VLOOKUP($C34,Scores,9,FALSE)))","v":""},{"$f":"IF($C34=\"\",\"\",IF(VLOOKUP($C34,Scores,10,FALSE)=\"\",\"\",VLOOKUP($C34,Scores,10,FALSE)))","v":""},{"$f":"IF($C34=\"\",\"\",IF(VLOOKUP($C34,Scores,11,FALSE)=\"\",\"\",VLOOKUP($C34,Scores,11,FALSE)))","v":""},{"$f":"IF($C34=\"\",\"\",IF(VLOOKUP($C34,Scores,12,FALSE)=\"\",\"\",VLOOKUP($C34,Scores,12,FALSE)))","v":""},{"$f":"IF($C34=\"\",\"\",IF(VLOOKUP($C34,Scores,13,FALSE)=\"\",\"\",VLOOKUP($C34,Scores,13,FALSE)))","v":""},{"$f":"IF($C34=\"\",\"\",IF(VLOOKUP($C34,Scores,14,FALSE)=\"\",\"\",VLOOKUP($C34,Scores,14,FALSE)))","v":""},{"$f":"IF($C34=\"\",\"\",IF(VLOOKUP($C34,Scores,15,FALSE)=\"\",\"\",VLOOKUP($C34,Scores,15,FALSE)))","v":""},{"$f":"IF($O34=\"\",\"\",SUM($G34:$O34))","v":""},{"$f":"IF($D34=\"-\",\"-\",IF($P34=\"\",\"\",$P34-($D34/2)))","v":""},{"$f":"IF($C34=\"\",\"\",IF(VLOOKUP($C34,Scores,17,FALSE)=\"\",\"\",VLOOKUP($C34,Scores,17,FALSE)))","v":""},{"$f":"IF($C34=\"\",\"\",IF(VLOOKUP($C34,Scores,18,FALSE)=\"\",\"\",VLOOKUP($C34,Scores,18,FALSE)))","v":""},{"$f":"IF($C34=\"\",\"\",IF(VLOOKUP($C34,Scores,19,FALSE)=\"\",\"\",VLOOKUP($C34,Scores,19,FALSE)))","v":""},{"$f":"IF($C34=\"\",\"\",IF(VLOOKUP($C34,Scores,20,FALSE)=\"\",\"\",VLOOKUP($C34,Scores,20,FALSE)))","v":""},{"$f":"IF($C34=\"\",\"\",IF(VLOOKUP($C34,Scores,21,FALSE)=\"\",\"\",VLOOKUP($C34,Scores,21,FALSE)))","v":""},{"$f":"IF($C34=\"\",\"\",IF(VLOOKUP($C34,Scores,22,FALSE)=\"\",\"\",VLOOKUP($C34,Scores,22,FALSE)))","v":""},{"$f":"IF($C34=\"\",\"\",IF(VLOOKUP($C34,Scores,23,FALSE)=\"\",\"\",VLOOKUP($C34,Scores,23,FALSE)))","v":""},{"$f":"IF($C34=\"\",\"\",IF(VLOOKUP($C34,Scores,24,FALSE)=\"\",\"\",VLOOKUP($C34,Scores,24,FALSE)))","v":""},{"$f":"IF($C34=\"\",\"\",IF(VLOOKUP($C34,Scores,25,FALSE)=\"\",\"\",VLOOKUP($C34,Scores,25,FALSE)))","v":""},{"$f":"IF($Z34=\"\",\"\",SUM($R34:$Z34))","v":""},{"$f":"IF($D34=\"-\",\"-\",IF($AA34=\"\",\"\",$AA34-($D34/2)))","v":""},{"$f":"IF(OR($P34=\"\",$AA34=\"\"),\"\",SUM($P34,$AA34))","v":""},{"$f":"IF($D34=\"-\",\"-\",IF(OR($Q34=\"\",$AB34=\"\"),\"\",SUM($Q34,$AB34)))","v":""}]
["",30,"",{"$f":"IF($C35=\"\",\"\",VLOOKUP($C35,Scores,4,FALSE))","v":""},{"$f":"IF($C35=\"\",\"\",IF(VLOOKUP($C35,Scores,5,FALSE)=\"\",\"-\",VLOOKUP($C35,Matches,25,FALSE)))","v":""},{"$f":"IF($C35=\"\",\"\",IF(VLOOKUP($C35,Scores,6,FALSE)=\"\",\"\",VLOOKUP($C35,Scores,6,FALSE)))","v":""},{"$f":"IF($C35=\"\",\"\",IF(VLOOKUP($C35,Scores,7,FALSE)=\"\",\"\",VLOOKUP($C35,Scores,7,FALSE)))","v":""},{"$f":"IF($C35=\"\",\"\",IF(VLOOKUP($C35,Scores,8,FALSE)=\"\",\"\",VLOOKUP($C35,Scores,8,FALSE)))","v":""},{"$f":"IF($C35=\"\",\"\",IF(VLOOKUP($C35,Scores,9,FALSE)=\"\",\"\",VLOOKUP($C35,Scores,9,FALSE)))","v":""},{"$f":"IF($C35=\"\",\"\",IF(VLOOKUP($C35,Scores,10,FALSE)=\"\",\"\",VLOOKUP($C35,Scores,10,FALSE)))","v":""},{"$f":"IF($C35=\"\",\"\",IF(VLOOKUP($C35,Scores,11,FALSE)=\"\",\"\",VLOOKUP($C35,Scores,11,FALSE)))","v":""},{"$f":"IF($C35=\"\",\"\",IF(VLOOKUP($C35,Scores,12,FALSE)=\"\",\"\",VLOOKUP($C35,Scores,12,FALSE)))","v":""},{"$f":"IF($C35=\"\",\"\",IF(VLOOKUP($C35,Scores,13,FALSE)=\"\",\"\",VLOOKUP($C35,Scores,13,FALSE)))","v":""},{"$f":"IF($C35=\"\",\"\",IF(VLOOKUP($C35,Scores,14,FALSE)=\"\",\"\",VLOOKUP($C35,Scores,14,FALSE)))","v":""},{"$f":"IF($C35=\"\",\"\",IF(VLOOKUP($C35,Scores,15,FALSE)=\"\",\"\",VLOOKUP($C35,Scores,15,FALSE)))","v":""},{"$f":"IF($O35=\"\",\"\",SUM($G35:$O35))","v":""},{"$f":"IF($D35=\"-\",\"-\",IF($P35=\"\",\"\",$P35-($D35/2)))","v":""},{"$f":"IF($C35=\"\",\"\",IF(VLOOKUP($C35,Scores,17,FALSE)=\"\",\"\",VLOOKUP($C35,Scores,17,FALSE)))","v":""},{"$f":"IF($C35=\"\",\"\",IF(VLOOKUP($C35,Scores,18,FALSE)=\"\",\"\",VLOOKUP($C35,Scores,18,FALSE)))","v":""},{"$f":"IF($C35=\"\",\"\",IF(VLOOKUP($C35,Scores,19,FALSE)=\"\",\"\",VLOOKUP($C35,Scores,19,FALSE)))","v":""},{"$f":"IF($C35=\"\",\"\",IF(VLOOKUP($C35,Scores,20,FALSE)=\"\",\"\",VLOOKUP($C35,Scores,20,FALSE)))","v":""},{"$f":"IF($C35=\"\",\"\",IF(VLOOKUP($C35,Scores,21,FALSE)=\"\",\"\",VLOOKUP($C35,Scores,21,FALSE)))","v":""},{"$f":"IF($C35=\"\",\"\",IF(VLOOKUP($C35,Scores,22,FALSE)=\"\",\"\",VLOOKUP($C35,Scores,22,FALSE)))","v":""},{"$f":"IF($C35=\"\",\"\",IF(VLOOKUP($C35,Scores,23,FALSE)=\"\",\"\",VLOOKUP($C35,Scores,23,FALSE)))","v":""},{"$f":"IF($C35=\"\",\"\",IF(VLOOKUP($C35,Scores,24,FALSE)=\"\",\"\",VLOOKUP($C35,Scores,24,FALSE)))","v":""},{"$f":"IF($C35=\"\",\"\",IF(VLOOKUP($C35,Scores,25,FALSE)=\"\",\"\",VLOOKUP($C35,Scores,25,FALSE)))","v":""},{"$f":"IF($Z35=\"\",\"\",SUM($R35:$Z35))","v":""},{"$f":"IF($D35=\"-\",\"-\",IF($AA35=\"\",\"\",$AA35-($D35/2)))","v":""},{"$f":"IF(OR($P35=\"\",$AA35=\"\"),\"\",SUM($P35,$AA35))","v":""},{"$f":"IF($D35=\"-\",\"-\",IF(OR($Q35=\"\",$AB35=\"\"),\"\",SUM($Q35,$AB35)))","v":""}]
["",31,"",{"$f":"IF($C36=\"\",\"\",VLOOKUP($C36,Scores,4,FALSE))","v":""},{"$f":"IF($C36=\"\",\"\",IF(VLOOKUP($C36,Scores,5,FALSE)=\"\",\"-\",VLOOKUP($C36,Matches,25,FALSE)))","v":""},{"$f":"IF($C36=\"\",\"\",IF(VLOOKUP($C36,Scores,6,FALSE)=\"\",\"\",VLOOKUP($C36,Scores,6,FALSE)))","v":""},{"$f":"IF($C36=\"\",\"\",IF(VLOOKUP($C36,Scores,7,FALSE)=\"\",\"\",VLOOKUP($C36,Scores,7,FALSE)))","v":""},{"$f":"IF($C36=\"\",\"\",IF(VLOOKUP($C36,Scores,8,FALSE)=\"\",\"\",VLOOKUP($C36,Scores,8,FALSE)))","v":""},{"$f":"IF($C36=\"\",\"\",IF(VLOOKUP($C36,Scores,9,FALSE)=\"\",\"\",VLOOKUP($C36,Scores,9,FALSE)))","v":""},{"$f":"IF($C36=\"\",\"\",IF(VLOOKUP($C36,Scores,10,FALSE)=\"\",\"\",VLOOKUP($C36,Scores,10,FALSE)))","v":""},{"$f":"IF($C36=\"\",\"\",IF(VLOOKUP($C36,Scores,11,FALSE)=\"\",\"\",VLOOKUP($C36,Scores,11,FALSE)))","v":""},{"$f":"IF($C36=\"\",\"\",IF(VLOOKUP($C36,Scores,12,FALSE)=\"\",\"\",VLOOKUP($C36,Scores,12,FALSE)))","v":""},{"$f":"IF($C36=\"\",\"\",IF(VLOOKUP($C36,Scores,13,FALSE)=\"\",\"\",VLOOKUP($C36,Scores,13,FALSE)))","v":""},{"$f":"IF($C36=\"\",\"\",IF(VLOOKUP($C36,Scores,14,FALSE)=\"\",\"\",VLOOKUP($C36,Scores,14,FALSE)))","v":""},{"$f":"IF($C36=\"\",\"\",IF(VLOOKUP($C36,Scores,15,FALSE)=\"\",\"\",VLOOKUP($C36,Scores,15,FALSE)))","v":""},{"$f":"IF($O36=\"\",\"\",SUM($G36:$O36))","v":""},{"$f":"IF($D36=\"-\",\"-\",IF($P36=\"\",\"\",$P36-($D36/2)))","v":""},{"$f":"IF($C36=\"\",\"\",IF(VLOOKUP($C36,Scores,17,FALSE)=\"\",\"\",VLOOKUP($C36,Scores,17,FALSE)))","v":""},{"$f":"IF($C36=\"\",\"\",IF(VLOOKUP($C36,Scores,18,FALSE)=\"\",\"\",VLOOKUP($C36,Scores,18,FALSE)))","v":""},{"$f":"IF($C36=\"\",\"\",IF(VLOOKUP($C36,Scores,19,FALSE)=\"\",\"\",VLOOKUP($C36,Scores,19,FALSE)))","v":""},{"$f":"IF($C36=\"\",\"\",IF(VLOOKUP($C36,Scores,20,FALSE)=\"\",\"\",VLOOKUP($C36,Scores,20,FALSE)))","v":""},{"$f":"IF($C36=\"\",\"\",IF(VLOOKUP($C36,Scores,21,FALSE)=\"\",\"\",VLOOKUP($C36,Scores,21,FALSE)))","v":""},{"$f":"IF($C36=\"\",\"\",IF(VLOOKUP($C36,Scores,22,FALSE)=\"\",\"\",VLOOKUP($C36,Scores,22,FALSE)))","v":""},{"$f":"IF($C36=\"\",\"\",IF(VLOOKUP($C36,Scores,23,FALSE)=\"\",\"\",VLOOKUP($C36,Scores,23,FALSE)))","v":""},{"$f":"IF($C36=\"\",\"\",IF(VLOOKUP($C36,Scores,24,FALSE)=\"\",\"\",VLOOKUP($C36,Scores,24,FALSE)))","v":""},{"$f":"IF($C36=\"\",\"\",IF(VLOOKUP($C36,Scores,25,FALSE)=\"\",\"\",VLOOKUP($C36,Scores,25,FALSE)))","v":""},{"$f":"IF($Z36=\"\",\"\",SUM($R36:$Z36))","v":""},{"$f":"IF($D36=\"-\",\"-\",IF($AA36=\"\",\"\",$AA36-($D36/2)))","v":""},{"$f":"IF(OR($P36=\"\",$AA36=\"\"),\"\",SUM($P36,$AA36))","v":""},{"$f":"IF($D36=\"-\",\"-\",IF(OR($Q36=\"\",$AB36=\"\"),\"\",SUM($Q36,$AB36)))","v":""}]
["",32,"",{"$f":"IF($C37=\"\",\"\",VLOOKUP($C37,Scores,4,FALSE))","v":""},{"$f":"IF($C37=\"\",\"\",IF(VLOOKUP($C37,Scores,5,FALSE)=\"\",\"-\",VLOOKUP($C37,Matches,25,FALSE)))","v":""},{"$f":"IF($C37=\"\",\"\",IF(VLOOKUP($C37,Scores,6,FALSE)=\"\",\"\",VLOOKUP($C37,Scores,6,FALSE)))","v":""},{"$f":"IF($C37=\"\",\"\",IF(VLOOKUP($C37,Scores,7,FALSE)=\"\",\"\",VLOOKUP($C37,Scores,7,FALSE)))","v":""},{"$f":"IF($C37=\"\",\"\",IF(VLOOKUP($C37,Scores,8,FALSE)=\"\",\"\",VLOOKUP($C37,Scores,8,FALSE)))","v":""},{"$f":"IF($C37=\"\",\"\",IF(VLOOKUP($C37,Scores,9,FALSE)=\"\",\"\",VLOOKUP($C37,Scores,9,FALSE)))","v":""},{"$f":"IF($C37=\"\",\"\",IF(VLOOKUP($C37,Scores,10,FALSE)=\"\",\"\",VLOOKUP($C37,Scores,10,FALSE)))","v":""},{"$f":"IF($C37=\"\",\"\",IF(VLOOKUP($C37,Scores,11,FALSE)=\"\",\"\",VLOOKUP($C37,Scores,11,FALSE)))","v":""},{"$f":"IF($C37=\"\",\"\",IF(VLOOKUP($C37,Scores,12,FALSE)=\"\",\"\",VLOOKUP($C37,Scores,12,FALSE)))","v":""},{"$f":"IF($C37=\"\",\"\",IF(VLOOKUP($C37,Scores,13,FALSE)=\"\",\"\",VLOOKUP($C37,Scores,13,FALSE)))","v":""},{"$f":"IF($C37=\"\",\"\",IF(VLOOKUP($C37,Scores,14,FALSE)=\"\",\"\",VLOOKUP($C37,Scores,14,FALSE)))","v":""},{"$f":"IF($C37=\"\",\"\",IF(VLOOKUP($C37,Scores,15,FALSE)=\"\",\"\",VLOOKUP($C37,Scores,15,FALSE)))","v":""},{"$f":"IF($O37=\"\",\"\",SUM($G37:$O37))","v":""},{"$f":"IF($D37=\"-\",\"-\",IF($P37=\"\",\"\",$P37-($D37/2)))","v":""},{"$f":"IF($C37=\"\",\"\",IF(VLOOKUP($C37,Scores,17,FALSE)=\"\",\"\",VLOOKUP($C37,Scores,17,FALSE)))","v":""},{"$f":"IF($C37=\"\",\"\",IF(VLOOKUP($C37,Scores,18,FALSE)=\"\",\"\",VLOOKUP($C37,Scores,18,FALSE)))","v":""},{"$f":"IF($C37=\"\",\"\",IF(VLOOKUP($C37,Scores,19,FALSE)=\"\",\"\",VLOOKUP($C37,Scores,19,FALSE)))","v":""},{"$f":"IF($C37=\"\",\"\",IF(VLOOKUP($C37,Scores,20,FALSE)=\"\",\"\",VLOOKUP($C37,Scores,20,FALSE)))","v":""},{"$f":"IF($C37=\"\",\"\",IF(VLOOKUP($C37,Scores,21,FALSE)=\"\",\"\",VLOOKUP($C37,Scores,21,FALSE)))","v":""},{"$f":"IF($C37=\"\",\"\",IF(VLOOKUP($C37,Scores,22,FALSE)=\"\",\"\",VLOOKUP($C37,Scores,22,FALSE)))","v":""},{"$f":"IF($C37=\"\",\"\",IF(VLOOKUP($C37,Scores,23,FALSE)=\"\",\"\",VLOOKUP($C37,Scores,23,FALSE)))","v":""},{"$f":"IF($C37=\"\",\"\",IF(VLOOKUP($C37,Scores,24,FALSE)=\"\",\"\",VLOOKUP($C37,Scores,24,FALSE)))","v":""},{"$f":"IF($C37=\"\",\"\",IF(VLOOKUP($C37,Scores,25,FALSE)=\"\",\"\",VLOOKUP($C37,Scores,25,FALSE)))","v":""},{"$f":"IF($Z37=\"\",\"\",SUM($R37:$Z37))","v":""},{"$f":"IF($D37=\"-\",\"-\",IF($AA37=\"\",\"\",$AA37-($D37/2)))","v":""},{"$f":"IF(OR($P37=\"\",$AA37=\"\"),\"\",SUM($P37,$AA37))","v":""},{"$f":"IF($D37=\"-\",\"-\",IF(OR($Q37=\"\",$AB37=\"\"),\"\",SUM($Q37,$AB37)))","v":""}]
["",33,"",{"$f":"IF($C38=\"\",\"\",VLOOKUP($C38,Scores,4,FALSE))","v":""},{"$f":"IF($C38=\"\",\"\",IF(VLOOKUP($C38,Scores,5,FALSE)=\"\",\"-\",VLOOKUP($C38,Matches,25,FALSE)))","v":""},{"$f":"IF($C38=\"\",\"\",IF(VLOOKUP($C38,Scores,6,FALSE)=\"\",\"\",VLOOKUP($C38,Scores,6,FALSE)))","v":""},{"$f":"IF($C38=\"\",\"\",IF(VLOOKUP($C38,Scores,7,FALSE)=\"\",\"\",VLOOKUP($C38,Scores,7,FALSE)))","v":""},{"$f":"IF($C38=\"\",\"\",IF(VLOOKUP($C38,Scores,8,FALSE)=\"\",\"\",VLOOKUP($C38,Scores,8,FALSE)))","v":""},{"$f":"IF($C38=\"\",\"\",IF(VLOOKUP($C38,Scores,9,FALSE)=\"\",\"\",VLOOKUP($C38,Scores,9,FALSE)))","v":""},{"$f":"IF($C38=\"\",\"\",IF(VLOOKUP($C38,Scores,10,FALSE)=\"\",\"\",VLOOKUP($C38,Scores,10,FALSE)))","v":""},{"$f":"IF($C38=\"\",\"\",IF(VLOOKUP($C38,Scores,11,FALSE)=\"\",\"\",VLOOKUP($C38,Scores,11,FALSE)))","v":""},{"$f":"IF($C38=\"\",\"\",IF(VLOOKUP($C38,Scores,12,FALSE)=\"\",\"\",VLOOKUP($C38,Scores,12,FALSE)))","v":""},{"$f":"IF($C38=\"\",\"\",IF(VLOOKUP($C38,Scores,13,FALSE)=\"\",\"\",VLOOKUP($C38,Scores,13,FALSE)))","v":""},{"$f":"IF($C38=\"\",\"\",IF(VLOOKUP($C38,Scores,14,FALSE)=\"\",\"\",VLOOKUP($C38,Scores,14,FALSE)))","v":""},{"$f":"IF($C38=\"\",\"\",IF(VLOOKUP($C38,Scores,15,FALSE)=\"\",\"\",VLOOKUP($C38,Scores,15,FALSE)))","v":""},{"$f":"IF($O38=\"\",\"\",SUM($G38:$O38))","v":""},{"$f":"IF($D38=\"-\",\"-\",IF($P38=\"\",\"\",$P38-($D38/2)))","v":""},{"$f":"IF($C38=\"\",\"\",IF(VLOOKUP($C38,Scores,17,FALSE)=\"\",\"\",VLOOKUP($C38,Scores,17,FALSE)))","v":""},{"$f":"IF($C38=\"\",\"\",IF(VLOOKUP($C38,Scores,18,FALSE)=\"\",\"\",VLOOKUP($C38,Scores,18,FALSE)))","v":""},{"$f":"IF($C38=\"\",\"\",IF(VLOOKUP($C38,Scores,19,FALSE)=\"\",\"\",VLOOKUP($C38,Scores,19,FALSE)))","v":""},{"$f":"IF($C38=\"\",\"\",IF(VLOOKUP($C38,Scores,20,FALSE)=\"\",\"\",VLOOKUP($C38,Scores,20,FALSE)))","v":""},{"$f":"IF($C38=\"\",\"\",IF(VLOOKUP($C38,Scores,21,FALSE)=\"\",\"\",VLOOKUP($C38,Scores,21,FALSE)))","v":""},{"$f":"IF($C38=\"\",\"\",IF(VLOOKUP($C38,Scores,22,FALSE)=\"\",\"\",VLOOKUP($C38,Scores,22,FALSE)))","v":""},{"$f":"IF($C38=\"\",\"\",IF(VLOOKUP($C38,Scores,23,FALSE)=\"\",\"\",VLOOKUP($C38,Scores,23,FALSE)))","v":""},{"$f":"IF($C38=\"\",\"\",IF(VLOOKUP($C38,Scores,24,FALSE)=\"\",\"\",VLOOKUP($C38,Scores,24,FALSE)))","v":""},{"$f":"IF($C38=\"\",\"\",IF(VLOOKUP($C38,Scores,25,FALSE)=\"\",\"\",VLOOKUP($C38,Scores,25,FALSE)))","v":""},{"$f":"IF($Z38=\"\",\"\",SUM($R38:$Z38))","v":""},{"$f":"IF($D38=\"-\",\"-\",IF($AA38=\"\",\"\",$AA38-($D38/2)))","v":""},{"$f":"IF(OR($P38=\"\",$AA38=\"\"),\"\",SUM($P38,$AA38))","v":""},{"$f":"IF($D38=\"-\",\"-\",IF(OR($Q38=\"\",$AB38=\"\"),\"\",SUM($Q38,$AB38)))","v":""}]
["",34,"",{"$f":"IF($C39=\"\",\"\",VLOOKUP($C39,Scores,4,FALSE))","v":""},{"$f":"IF($C39=\"\",\"\",IF(VLOOKUP($C39,Scores,5,FALSE)=\"\",\"-\",VLOOKUP($C39,Matches,25,FALSE)))","v":""},{"$f":"IF($C39=\"\",\"\",IF(VLOOKUP($C39,Scores,6,FALSE)=\"\",\"\",VLOOKUP($C39,Scores,6,FALSE)))","v":""},{"$f":"IF($C39=\"\",\"\",IF(VLOOKUP($C39,Scores,7,FALSE)=\"\",\"\",VLOOKUP($C39,Scores,7,FALSE)))","v":""},{"$f":"IF($C39=\"\",\"\",IF(VLOOKUP($C39,Scores,8,FALSE)=\"\",\"\",VLOOKUP($C39,Scores,8,FALSE)))","v":""},{"$f":"IF($C39=\"\",\"\",IF(VLOOKUP($C39,Scores,9,FALSE)=\"\",\"\",VLOOKUP($C39,Scores,9,FALSE)))","v":""},{"$f":"IF($C39=\"\",\"\",IF(VLOOKUP($C39,Scores,10,FALSE)=\"\",\"\",VLOOKUP($C39,Scores,10,FALSE)))","v":""},{"$f":"IF($C39=\"\",\"\",IF(VLOOKUP($C39,Scores,11,FALSE)=\"\",\"\",VLOOKUP($C39,Scores,11,FALSE)))","v":""},{"$f":"IF($C39=\"\",\"\",IF(VLOOKUP($C39,Scores,12,FALSE)=\"\",\"\",VLOOKUP($C39,Scores,12,FALSE)))","v":""},{"$f":"IF($C39=\"\",\"\",IF(VLOOKUP($C39,Scores,13,FALSE)=\"\",\"\",VLOOKUP($C39,Scores,13,FALSE)))","v":""},{"$f":"IF($C39=\"\",\"\",IF(VLOOKUP($C39,Scores,14,FALSE)=\"\",\"\",VLOOKUP($C39,Scores,14,FALSE)))","v":""},{"$f":"IF($C39=\"\",\"\",IF(VLOOKUP($C39,Scores,15,FALSE)=\"\",\"\",VLOOKUP($C39,Scores,15,FALSE)))","v":""},{"$f":"IF($O39=\"\",\"\",SUM($G39:$O39))","v":""},{"$f":"IF($D39=\"-\",\"-\",IF($P39=\"\",\"\",$P39-($D39/2)))","v":""},{"$f":"IF($C39=\"\",\"\",IF(VLOOKUP($C39,Scores,17,FALSE)=\"\",\"\",VLOOKUP($C39,Scores,17,FALSE)))","v":""},{"$f":"IF($C39=\"\",\"\",IF(VLOOKUP($C39,Scores,18,FALSE)=\"\",\"\",VLOOKUP($C39,Scores,18,FALSE)))","v":""},{"$f":"IF($C39=\"\",\"\",IF(VLOOKUP($C39,Scores,19,FALSE)=\"\",\"\",VLOOKUP($C39,Scores,19,FALSE)))","v":""},{"$f":"IF($C39=\"\",\"\",IF(VLOOKUP($C39,Scores,20,FALSE)=\"\",\"\",VLOOKUP($C39,Scores,20,FALSE)))","v":""},{"$f":"IF($C39=\"\",\"\",IF(VLOOKUP($C39,Scores,21,FALSE)=\"\",\"\",VLOOKUP($C39,Scores,21,FALSE)))","v":""},{"$f":"IF($C39=\"\",\"\",IF(VLOOKUP($C39,Scores,22,FALSE)=\"\",\"\",VLOOKUP($C39,Scores,22,FALSE)))","v":""},{"$f":"IF($C39=\"\",\"\",IF(VLOOKUP($C39,Scores,23,FALSE)=\"\",\"\",VLOOKUP($C39,Scores,23,FALSE)))","v":""},{"$f":"IF($C39=\"\",\"\",IF(VLOOKUP($C39,Scores,24,FALSE)=\"\",\"\",VLOOKUP($C39,Scores,24,FALSE)))","v":""},{"$f":"IF($C39=\"\",\"\",IF(VLOOKUP($C39,Scores,25,FALSE)=\"\",\"\",VLOOKUP($C39,Scores,25,FALSE)))","v":""},{"$f":"IF($Z39=\"\",\"\",SUM($R39:$Z39))","v":""},{"$f":"IF($D39=\"-\",\"-\",IF($AA39=\"\",\"\",$AA39-($D39/2)))","v":""},{"$f":"IF(OR($P39=\"\",$AA39=\"\"),\"\",SUM($P39,$AA39))","v":""},{"$f":"IF($D39=\"-\",\"-\",IF(OR($Q39=\"\",$AB39=\"\"),\"\",SUM($Q39,$AB39)))","v":""}]
["",35,"",{"$f":"IF($C40=\"\",\"\",VLOOKUP($C40,Scores,4,FALSE))","v":""},{"$f":"IF($C40=\"\",\"\",IF(VLOOKUP($C40,Scores,5,FALSE)=\"\",\"-\",VLOOKUP($C40,Matches,25,FALSE)))","v":""},{"$f":"IF($C40=\"\",\"\",IF(VLOOKUP($C40,Scores,6,FALSE)=\"\",\"\",VLOOKUP($C40,Scores,6,FALSE)))","v":""},{"$f":"IF($C40=\"\",\"\",IF(VLOOKUP($C40,Scores,7,FALSE)=\"\",\"\",VLOOKUP($C40,Scores,7,FALSE)))","v":""},{"$f":"IF($C40=\"\",\"\",IF(VLOOKUP($C40,Scores,8,FALSE)=\"\",\"\",VLOOKUP($C40,Scores,8,FALSE)))","v":""},{"$f":"IF($C40=\"\",\"\",IF(VLOOKUP($C40,Scores,9,FALSE)=\"\",\"\",VLOOKUP($C40,Scores,9,FALSE)))","v":""},{"$f":"IF($C40=\"\",\"\",IF(VLOOKUP($C40,Scores,10,FALSE)=\"\",\"\",VLOOKUP($C40,Scores,10,FALSE)))","v":""},{"$f":"IF($C40=\"\",\"\",IF(VLOOKUP($C40,Scores,11,FALSE)=\"\",\"\",VLOOKUP($C40,Scores,11,FALSE)))","v":""},{"$f":"IF($C40=\"\",\"\",IF(VLOOKUP($C40,Scores,12,FALSE)=\"\",\"\",VLOOKUP($C40,Scores,12,FALSE)))","v":""},{"$f":"IF($C40=\"\",\"\",IF(VLOOKUP($C40,Scores,13,FALSE)=\"\",\"\",VLOOKUP($C40,Scores,13,FALSE)))","v":""},{"$f":"IF($C40=\"\",\"\",IF(VLOOKUP($C40,Scores,14,FALSE)=\"\",\"\",VLOOKUP($C40,Scores,14,FALSE)))","v":""},{"$f":"IF($C40=\"\",\"\",IF(VLOOKUP($C40,Scores,15,FALSE)=\"\",\"\",VLOOKUP($C40,Scores,15,FALSE)))","v":""},{"$f":"IF($O40=\"\",\"\",SUM($G40:$O40))","v":""},{"$f":"IF($D40=\"-\",\"-\",IF($P40=\"\",\"\",$P40-($D40/2)))","v":""},{"$f":"IF($C40=\"\",\"\",IF(VLOOKUP($C40,Scores,17,FALSE)=\"\",\"\",VLOOKUP($C40,Scores,17,FALSE)))","v":""},{"$f":"IF($C40=\"\",\"\",IF(VLOOKUP($C40,Scores,18,FALSE)=\"\",\"\",VLOOKUP($C40,Scores,18,FALSE)))","v":""},{"$f":"IF($C40=\"\",\"\",IF(VLOOKUP($C40,Scores,19,FALSE)=\"\",\"\",VLOOKUP($C40,Scores,19,FALSE)))","v":""},{"$f":"IF($C40=\"\",\"\",IF(VLOOKUP($C40,Scores,20,FALSE)=\"\",\"\",VLOOKUP($C40,Scores,20,FALSE)))","v":""},{"$f":"IF($C40=\"\",\"\",IF(VLOOKUP($C40,Scores,21,FALSE)=\"\",\"\",VLOOKUP($C40,Scores,21,FALSE)))","v":""},{"$f":"IF($C40=\"\",\"\",IF(VLOOKUP($C40,Scores,22,FALSE)=\"\",\"\",VLOOKUP($C40,Scores,22,FALSE)))","v":""},{"$f":"IF($C40=\"\",\"\",IF(VLOOKUP($C40,Scores,23,FALSE)=\"\",\"\",VLOOKUP($C40,Scores,23,FALSE)))","v":""},{"$f":"IF($C40=\"\",\"\",IF(VLOOKUP($C40,Scores,24,FALSE)=\"\",\"\",VLOOKUP($C40,Scores,24,FALSE)))","v":""},{"$f":"IF($C40=\"\",\"\",IF(VLOOKUP($C40,Scores,25,FALSE)=\"\",\"\",VLOOKUP($C40,Scores,25,FALSE)))","v":""},{"$f":"IF($Z40=\"\",\"\",SUM($R40:$Z40))","v":""},{"$f":"IF($D40=\"-\",\"-\",IF($AA40=\"\",\"\",$AA40-($D40/2)))","v":""},{"$f":"IF(OR($P40=\"\",$AA40=\"\"),\"\",SUM($P40,$AA40))","v":""},{"$f":"IF($D40=\"-\",\"-\",IF(OR($Q40=\"\",$AB40=\"\"),\"\",SUM($Q40,$AB40)))","v":""}]
["",36,"",{"$f":"IF($C41=\"\",\"\",VLOOKUP($C41,Scores,4,FALSE))","v":""},{"$f":"IF($C41=\"\",\"\",IF(VLOOKUP($C41,Scores,5,FALSE)=\"\",\"-\",VLOOKUP($C41,Matches,25,FALSE)))","v":""},{"$f":"IF($C41=\"\",\"\",IF(VLOOKUP($C41,Scores,6,FALSE)=\"\",\"\",VLOOKUP($C41,Scores,6,FALSE)))","v":""},{"$f":"IF($C41=\"\",\"\",IF(VLOOKUP($C41,Scores,7,FALSE)=\"\",\"\",VLOOKUP($C41,Scores,7,FALSE)))","v":""},{"$f":"IF($C41=\"\",\"\",IF(VLOOKUP($C41,Scores,8,FALSE)=\"\",\"\",VLOOKUP($C41,Scores,8,FALSE)))","v":""},{"$f":"IF($C41=\"\",\"\",IF(VLOOKUP($C41,Scores,9,FALSE)=\"\",\"\",VLOOKUP($C41,Scores,9,FALSE)))","v":""},{"$f":"IF($C41=\"\",\"\",IF(VLOOKUP($C41,Scores,10,FALSE)=\"\",\"\",VLOOKUP($C41,Scores,10,FALSE)))","v":""},{"$f":"IF($C41=\"\",\"\",IF(VLOOKUP($C41,Scores,11,FALSE)=\"\",\"\",VLOOKUP($C41,Scores,11,FALSE)))","v":""},{"$f":"IF($C41=\"\",\"\",IF(VLOOKUP($C41,Scores,12,FALSE)=\"\",\"\",VLOOKUP($C41,Scores,12,FALSE)))","v":""},{"$f":"IF($C41=\"\",\"\",IF(VLOOKUP($C41,Scores,13,FALSE)=\"\",\"\",VLOOKUP($C41,Scores,13,FALSE)))","v":""},{"$f":"IF($C41=\"\",\"\",IF(VLOOKUP($C41,Scores,14,FALSE)=\"\",\"\",VLOOKUP($C41,Scores,14,FALSE)))","v":""},{"$f":"IF($C41=\"\",\"\",IF(VLOOKUP($C41,Scores,15,FALSE)=\"\",\"\",VLOOKUP($C41,Scores,15,FALSE)))","v":""},{"$f":"IF($O41=\"\",\"\",SUM($G41:$O41))","v":""},{"$f":"IF($D41=\"-\",\"-\",IF($P41=\"\",\"\",$P41-($D41/2)))","v":""},{"$f":"IF($C41=\"\",\"\",IF(VLOOKUP($C41,Scores,17,FALSE)=\"\",\"\",VLOOKUP($C41,Scores,17,FALSE)))","v":""},{"$f":"IF($C41=\"\",\"\",IF(VLOOKUP($C41,Scores,18,FALSE)=\"\",\"\",VLOOKUP($C41,Scores,18,FALSE)))","v":""},{"$f":"IF($C41=\"\",\"\",IF(VLOOKUP($C41,Scores,19,FALSE)=\"\",\"\",VLOOKUP($C41,Scores,19,FALSE)))","v":""},{"$f":"IF($C41=\"\",\"\",IF(VLOOKUP($C41,Scores,20,FALSE)=\"\",\"\",VLOOKUP($C41,Scores,20,FALSE)))","v":""},{"$f":"IF($C41=\"\",\"\",IF(VLOOKUP($C41,Scores,21,FALSE)=\"\",\"\",VLOOKUP($C41,Scores,21,FALSE)))","v":""},{"$f":"IF($C41=\"\",\"\",IF(VLOOKUP($C41,Scores,22,FALSE)=\"\",\"\",VLOOKUP($C41,Scores,22,FALSE)))","v":""},{"$f":"IF($C41=\"\",\"\",IF(VLOOKUP($C41,Scores,23,FALSE)=\"\",\"\",VLOOKUP($C41,Scores,23,FALSE)))","v":""},{"$f":"IF($C41=\"\",\"\",IF(VLOOKUP($C41,Scores,24,FALSE)=\"\",\"\",VLOOKUP($C41,Scores,24,FALSE)))","v":""},{"$f":"IF($C41=\"\",\"\",IF(VLOOKUP($C41,Scores,25,FALSE)=\"\",\"\",VLOOKUP($C41,Scores,25,FALSE)))","v":""},{"$f":"IF($Z41=\"\",\"\",SUM($R41:$Z41))","v":""},{"$f":"IF($D41=\"-\",\"-\",IF($AA41=\"\",\"\",$AA41-($D41/2)))","v":""},{"$f":"IF(OR($P41=\"\",$AA41=\"\"),\"\",SUM($P41,$AA41))","v":""},{"$f":"IF($D41=\"-\",\"-\",IF(OR($Q41=\"\",$AB41=\"\"),\"\",SUM($Q41,$AB41)))","v":""}]
["",37,"",{"$f":"IF($C42=\"\",\"\",VLOOKUP($C42,Scores,4,FALSE))","v":""},{"$f":"IF($C42=\"\",\"\",IF(VLOOKUP($C42,Scores,5,FALSE)=\"\",\"-\",VLOOKUP($C42,Matches,25,FALSE)))","v":""},{"$f":"IF($C42=\"\",\"\",IF(VLOOKUP($C42,Scores,6,FALSE)=\"\",\"\",VLOOKUP($C42,Scores,6,FALSE)))","v":""},{"$f":"IF($C42=\"\",\"\",IF(VLOOKUP($C42,Scores,7,FALSE)=\"\",\"\",VLOOKUP($C42,Scores,7,FALSE)))","v":""},{"$f":"IF($C42=\"\",\"\",IF(VLOOKUP($C42,Scores,8,FALSE)=\"\",\"\",VLOOKUP($C42,Scores,8,FALSE)))","v":""},{"$f":"IF($C42=\"\",\"\",IF(VLOOKUP($C42,Scores,9,FALSE)=\"\",\"\",VLOOKUP($C42,Scores,9,FALSE)))","v":""},{"$f":"IF($C42=\"\",\"\",IF(VLOOKUP($C42,Scores,10,FALSE)=\"\",\"\",VLOOKUP($C42,Scores,10,FALSE)))","v":""},{"$f":"IF($C42=\"\",\"\",IF(VLOOKUP($C42,Scores,11,FALSE)=\"\",\"\",VLOOKUP($C42,Scores,11,FALSE)))","v":""},{"$f":"IF($C42=\"\",\"\",IF(VLOOKUP($C42,Scores,12,FALSE)=\"\",\"\",VLOOKUP($C42,Scores,12,FALSE)))","v":""},{"$f":"IF($C42=\"\",\"\",IF(VLOOKUP($C42,Scores,13,FALSE)=\"\",\"\",VLOOKUP($C42,Scores,13,FALSE)))","v":""},{"$f":"IF($C42=\"\",\"\",IF(VLOOKUP($C42,Scores,14,FALSE)=\"\",\"\",VLOOKUP($C42,Scores,14,FALSE)))","v":""},{"$f":"IF($C42=\"\",\"\",IF(VLOOKUP($C42,Scores,15,FALSE)=\"\",\"\",VLOOKUP($C42,Scores,15,FALSE)))","v":""},{"$f":"IF($O42=\"\",\"\",SUM($G42:$O42))","v":""},{"$f":"IF($D42=\"-\",\"-\",IF($P42=\"\",\"\",$P42-($D42/2)))","v":""},{"$f":"IF($C42=\"\",\"\",IF(VLOOKUP($C42,Scores,17,FALSE)=\"\",\"\",VLOOKUP($C42,Scores,17,FALSE)))","v":""},{"$f":"IF($C42=\"\",\"\",IF(VLOOKUP($C42,Scores,18,FALSE)=\"\",\"\",VLOOKUP($C42,Scores,18,FALSE)))","v":""},{"$f":"IF($C42=\"\",\"\",IF(VLOOKUP($C42,Scores,19,FALSE)=\"\",\"\",VLOOKUP($C42,Scores,19,FALSE)))","v":""},{"$f":"IF($C42=\"\",\"\",IF(VLOOKUP($C42,Scores,20,FALSE)=\"\",\"\",VLOOKUP($C42,Scores,20,FALSE)))","v":""},{"$f":"IF($C42=\"\",\"\",IF(VLOOKUP($C42,Scores,21,FALSE)=\"\",\"\",VLOOKUP($C42,Scores,21,FALSE)))","v":""},{"$f":"IF($C42=\"\",\"\",IF(VLOOKUP($C42,Scores,22,FALSE)=\"\",\"\",VLOOKUP($C42,Scores,22,FALSE)))","v":""},{"$f":"IF($C42=\"\",\"\",IF(VLOOKUP($C42,Scores,23,FALSE)=\"\",\"\",VLOOKUP($C42,Scores,23,FALSE)))","v":""},{"$f":"IF($C42=\"\",\"\",IF(VLOOKUP($C42,Scores,24,FALSE)=\"\",\"\",VLOOKUP($C42,Scores,24,FALSE)))","v":""},{"$f":"IF($C42=\"\",\"\",IF(VLOOKUP($C42,Scores,25,FALSE)=\"\",\"\",VLOOKUP($C42,Scores,25,FALSE)))","v":""},{"$f":"IF($Z42=\"\",\"\",SUM($R42:$Z42))","v":""},{"$f":"IF($D42=\"-\",\"-\",IF($AA42=\"\",\"\",$AA42-($D42/2)))","v":""},{"$f":"IF(OR($P42=\"\",$AA42=\"\"),\"\",SUM($P42,$AA42))","v":""},{"$f":"IF($D42=\"-\",\"-\",IF(OR($Q42=\"\",$AB42=\"\"),\"\",SUM($Q42,$AB42)))","v":""}]
["",38,"",{"$f":"IF($C43=\"\",\"\",VLOOKUP($C43,Scores,4,FALSE))","v":""},{"$f":"IF($C43=\"\",\"\",IF(VLOOKUP($C43,Scores,5,FALSE)=\"\",\"-\",VLOOKUP($C43,Matches,25,FALSE)))","v":""},{"$f":"IF($C43=\"\",\"\",IF(VLOOKUP($C43,Scores,6,FALSE)=\"\",\"\",VLOOKUP($C43,Scores,6,FALSE)))","v":""},{"$f":"IF($C43=\"\",\"\",IF(VLOOKUP($C43,Scores,7,FALSE)=\"\",\"\",VLOOKUP($C43,Scores,7,FALSE)))","v":""},{"$f":"IF($C43=\"\",\"\",IF(VLOOKUP($C43,Scores,8,FALSE)=\"\",\"\",VLOOKUP($C43,Scores,8,FALSE)))","v":""},{"$f":"IF($C43=\"\",\"\",IF(VLOOKUP($C43,Scores,9,FALSE)=\"\",\"\",VLOOKUP($C43,Scores,9,FALSE)))","v":""},{"$f":"IF($C43=\"\",\"\",IF(VLOOKUP($C43,Scores,10,FALSE)=\"\",\"\",VLOOKUP($C43,Scores,10,FALSE)))","v":""},{"$f":"IF($C43=\"\",\"\",IF(VLOOKUP($C43,Scores,11,FALSE)=\"\",\"\",VLOOKUP($C43,Scores,11,FALSE)))","v":""},{"$f":"IF($C43=\"\",\"\",IF(VLOOKUP($C43,Scores,12,FALSE)=\"\",\"\",VLOOKUP($C43,Scores,12,FALSE)))","v":""},{"$f":"IF($C43=\"\",\"\",IF(VLOOKUP($C43,Scores,13,FALSE)=\"\",\"\",VLOOKUP($C43,Scores,13,FALSE)))","v":""},{"$f":"IF($C43=\"\",\"\",IF(VLOOKUP($C43,Scores,14,FALSE)=\"\",\"\",VLOOKUP($C43,Scores,14,FALSE)))","v":""},{"$f":"IF($C43=\"\",\"\",IF(VLOOKUP($C43,Scores,15,FALSE)=\"\",\"\",VLOOKUP($C43,Scores,15,FALSE)))","v":""},{"$f":"IF($O43=\"\",\"\",SUM($G43:$O43))","v":""},{"$f":"IF($D43=\"-\",\"-\",IF($P43=\"\",\"\",$P43-($D43/2)))","v":""},{"$f":"IF($C43=\"\",\"\",IF(VLOOKUP($C43,Scores,17,FALSE)=\"\",\"\",VLOOKUP($C43,Scores,17,FALSE)))","v":""},{"$f":"IF($C43=\"\",\"\",IF(VLOOKUP($C43,Scores,18,FALSE)=\"\",\"\",VLOOKUP($C43,Scores,18,FALSE)))","v":""},{"$f":"IF($C43=\"\",\"\",IF(VLOOKUP($C43,Scores,19,FALSE)=\"\",\"\",VLOOKUP($C43,Scores,19,FALSE)))","v":""},{"$f":"IF($C43=\"\",\"\",IF(VLOOKUP($C43,Scores,20,FALSE)=\"\",\"\",VLOOKUP($C43,Scores,20,FALSE)))","v":""},{"$f":"IF($C43=\"\",\"\",IF(VLOOKUP($C43,Scores,21,FALSE)=\"\",\"\",VLOOKUP($C43,Scores,21,FALSE)))","v":""},{"$f":"IF($C43=\"\",\"\",IF(VLOOKUP($C43,Scores,22,FALSE)=\"\",\"\",VLOOKUP($C43,Scores,22,FALSE)))","v":""},{"$f":"IF($C43=\"\",\"\",IF(VLOOKUP($C43,Scores,23,FALSE)=\"\",\"\",VLOOKUP($C43,Scores,23,FALSE)))","v":""},{"$f":"IF($C43=\"\",\"\",IF(VLOOKUP($C43,Scores,24,FALSE)=\"\",\"\",VLOOKUP($C43,Scores,24,FALSE)))","v":""},{"$f":"IF($C43=\"\",\"\",IF(VLOOKUP($C43,Scores,25,FALSE)=\"\",\"\",VLOOKUP($C43,Scores,25,FALSE)))","v":""},{"$f":"IF($Z43=\"\",\"\",SUM($R43:$Z43))","v":""},{"$f":"IF($D43=\"-\",\"-\",IF($AA43=\"\",\"\",$AA43-($D43/2)))","v":""},{"$f":"IF(OR($P43=\"\",$AA43=\"\"),\"\",SUM($P43,$AA43))","v":""},{"$f":"IF($D43=\"-\",\"-\",IF(OR($Q43=\"\",$AB43=\"\"),\"\",SUM($Q43,$AB43)))","v":""}]
["",39,"",{"$f":"IF($C44=\"\",\"\",VLOOKUP($C44,Scores,4,FALSE))","v":""},{"$f":"IF($C44=\"\",\"\",IF(VLOOKUP($C44,Scores,5,FALSE)=\"\",\"-\",VLOOKUP($C44,Matches,25,FALSE)))","v":""},{"$f":"IF($C44=\"\",\"\",IF(VLOOKUP($C44,Scores,6,FALSE)=\"\",\"\",VLOOKUP($C44,Scores,6,FALSE)))","v":""},{"$f":"IF($C44=\"\",\"\",IF(VLOOKUP($C44,Scores,7,FALSE)=\"\",\"\",VLOOKUP($C44,Scores,7,FALSE)))","v":""},{"$f":"IF($C44=\"\",\"\",IF(VLOOKUP($C44,Scores,8,FALSE)=\"\",\"\",VLOOKUP($C44,Scores,8,FALSE)))","v":""},{"$f":"IF($C44=\"\",\"\",IF(VLOOKUP($C44,Scores,9,FALSE)=\"\",\"\",VLOOKUP($C44,Scores,9,FALSE)))","v":""},{"$f":"IF($C44=\"\",\"\",IF(VLOOKUP($C44,Scores,10,FALSE)=\"\",\"\",VLOOKUP($C44,Scores,10,FALSE)))","v":""},{"$f":"IF($C44=\"\",\"\",IF(VLOOKUP($C44,Scores,11,FALSE)=\"\",\"\",VLOOKUP($C44,Scores,11,FALSE)))","v":""},{"$f":"IF($C44=\"\",\"\",IF(VLOOKUP($C44,Scores,12,FALSE)=\"\",\"\",VLOOKUP($C44,Scores,12,FALSE)))","v":""},{"$f":"IF($C44=\"\",\"\",IF(VLOOKUP($C44,Scores,13,FALSE)=\"\",\"\",VLOOKUP($C44,Scores,13,FALSE)))","v":""},{"$f":"IF($C44=\"\",\"\",IF(VLOOKUP($C44,Scores,14,FALSE)=\"\",\"\",VLOOKUP($C44,Scores,14,FALSE)))","v":""},{"$f":"IF($C44=\"\",\"\",IF(VLOOKUP($C44,Scores,15,FALSE)=\"\",\"\",VLOOKUP($C44,Scores,15,FALSE)))","v":""},{"$f":"IF($O44=\"\",\"\",SUM($G44:$O44))","v":""},{"$f":"IF($D44=\"-\",\"-\",IF($P44=\"\",\"\",$P44-($D44/2)))","v":""},{"$f":"IF($C44=\"\",\"\",IF(VLOOKUP($C44,Scores,17,FALSE)=\"\",\"\",VLOOKUP($C44,Scores,17,FALSE)))","v":""},{"$f":"IF($C44=\"\",\"\",IF(VLOOKUP($C44,Scores,18,FALSE)=\"\",\"\",VLOOKUP($C44,Scores,18,FALSE)))","v":""},{"$f":"IF($C44=\"\",\"\",IF(VLOOKUP($C44,Scores,19,FALSE)=\"\",\"\",VLOOKUP($C44,Scores,19,FALSE)))","v":""},{"$f":"IF($C44=\"\",\"\",IF(VLOOKUP($C44,Scores,20,FALSE)=\"\",\"\",VLOOKUP($C44,Scores,20,FALSE)))","v":""},{"$f":"IF($C44=\"\",\"\",IF(VLOOKUP($C44,Scores,21,FALSE)=\"\",\"\",VLOOKUP($C44,Scores,21,FALSE)))","v":""},{"$f":"IF($C44=\"\",\"\",IF(VLOOKUP($C44,Scores,22,FALSE)=\"\",\"\",VLOOKUP($C44,Scores,22,FALSE)))","v":""},{"$f":"IF($C44=\"\",\"\",IF(VLOOKUP($C44,Scores,23,FALSE)=\"\",\"\",VLOOKUP($C44,Scores,23,FALSE)))","v":""},{"$f":"IF($C44=\"\",\"\",IF(VLOOKUP($C44,Scores,24,FALSE)=\"\",\"\",VLOOKUP($C44,Scores,24,FALSE)))","v":""},{"$f":"IF($C44=\"\",\"\",IF(VLOOKUP($C44,Scores,25,FALSE)=\"\",\"\",VLOOKUP($C44,Scores,25,FALSE)))","v":""},{"$f":"IF($Z44=\"\",\"\",SUM($R44:$Z44))","v":""},{"$f":"IF($D44=\"-\",\"-\",IF($AA44=\"\",\"\",$AA44-($D44/2)))","v":""},{"$f":"IF(OR($P44=\"\",$AA44=\"\"),\"\",SUM($P44,$AA44))","v":""},{"$f":"IF($D44=\"-\",\"-\",IF(OR($Q44=\"\",$AB44=\"\"),\"\",SUM($Q44,$AB44)))","v":""}]
["",40,"",{"$f":"IF($C45=\"\",\"\",VLOOKUP($C45,Scores,4,FALSE))","v":""},{"$f":"IF($C45=\"\",\"\",IF(VLOOKUP($C45,Scores,5,FALSE)=\"\",\"-\",VLOOKUP($C45,Matches,25,FALSE)))","v":""},{"$f":"IF($C45=\"\",\"\",IF(VLOOKUP($C45,Scores,6,FALSE)=\"\",\"\",VLOOKUP($C45,Scores,6,FALSE)))","v":""},{"$f":"IF($C45=\"\",\"\",IF(VLOOKUP($C45,Scores,7,FALSE)=\"\",\"\",VLOOKUP($C45,Scores,7,FALSE)))","v":""},{"$f":"IF($C45=\"\",\"\",IF(VLOOKUP($C45,Scores,8,FALSE)=\"\",\"\",VLOOKUP($C45,Scores,8,FALSE)))","v":""},{"$f":"IF($C45=\"\",\"\",IF(VLOOKUP($C45,Scores,9,FALSE)=\"\",\"\",VLOOKUP($C45,Scores,9,FALSE)))","v":""},{"$f":"IF($C45=\"\",\"\",IF(VLOOKUP($C45,Scores,10,FALSE)=\"\",\"\",VLOOKUP($C45,Scores,10,FALSE)))","v":""},{"$f":"IF($C45=\"\",\"\",IF(VLOOKUP($C45,Scores,11,FALSE)=\"\",\"\",VLOOKUP($C45,Scores,11,FALSE)))","v":""},{"$f":"IF($C45=\"\",\"\",IF(VLOOKUP($C45,Scores,12,FALSE)=\"\",\"\",VLOOKUP($C45,Scores,12,FALSE)))","v":""},{"$f":"IF($C45=\"\",\"\",IF(VLOOKUP($C45,Scores,13,FALSE)=\"\",\"\",VLOOKUP($C45,Scores,13,FALSE)))","v":""},{"$f":"IF($C45=\"\",\"\",IF(VLOOKUP($C45,Scores,14,FALSE)=\"\",\"\",VLOOKUP($C45,Scores,14,FALSE)))","v":""},{"$f":"IF($C45=\"\",\"\",IF(VLOOKUP($C45,Scores,15,FALSE)=\"\",\"\",VLOOKUP($C45,Scores,15,FALSE)))","v":""},{"$f":"IF($O45=\"\",\"\",SUM($G45:$O45))","v":""},{"$f":"IF($D45=\"-\",\"-\",IF($P45=\"\",\"\",$P45-($D45/2)))","v":""},{"$f":"IF($C45=\"\",\"\",IF(VLOOKUP($C45,Scores,17,FALSE)=\"\",\"\",VLOOKUP($C45,Scores,17,FALSE)))","v":""},{"$f":"IF($C45=\"\",\"\",IF(VLOOKUP($C45,Scores,18,FALSE)=\"\",\"\",VLOOKUP($C45,Scores,18,FALSE)))","v":""},{"$f":"IF($C45=\"\",\"\",IF(VLOOKUP($C45,Scores,19,FALSE)=\"\",\"\",VLOOKUP($C45,Scores,19,FALSE)))","v":""},{"$f":"IF($C45=\"\",\"\",IF(VLOOKUP($C45,Scores,20,FALSE)=\"\",\"\",VLOOKUP($C45,Scores,20,FALSE)))","v":""},{"$f":"IF($C45=\"\",\"\",IF(VLOOKUP($C45,Scores,21,FALSE)=\"\",\"\",VLOOKUP($C45,Scores,21,FALSE)))","v":""},{"$f":"IF($C45=\"\",\"\",IF(VLOOKUP($C45,Scores,22,FALSE)=\"\",\"\",VLOOKUP($C45,Scores,22,FALSE)))","v":""},{"$f":"IF($C45=\"\",\"\",IF(VLOOKUP($C45,Scores,23,FALSE)=\"\",\"\",VLOOKUP($C45,Scores,23,FALSE)))","v":""},{"$f":"IF($C45=\"\",\"\",IF(VLOOKUP($C45,Scores,24,FALSE)=\"\",\"\",VLOOKUP($C45,Scores,24,FALSE)))","v":""},{"$f":"IF($C45=\"\",\"\",IF(VLOOKUP($C45,Scores,25,FALSE)=\"\",\"\",VLOOKUP($C45,Scores,25,FALSE)))","v":""},{"$f":"IF($Z45=\"\",\"\",SUM($R45:$Z45))","v":""},{"$f":"IF($D45=\"-\",\"-\",IF($AA45=\"\",\"\",$AA45-($D45/2)))","v":""},{"$f":"IF(OR($P45=\"\",$AA45=\"\"),\"\",SUM($P45,$AA45))","v":""},{"$f":"IF($D45=\"-\",\"-\",IF(OR($Q45=\"\",$AB45=\"\"),\"\",SUM($Q45,$AB45)))","v":""}]
["",41,"",{"$f":"IF($C46=\"\",\"\",VLOOKUP($C46,Scores,4,FALSE))","v":""},{"$f":"IF($C46=\"\",\"\",IF(VLOOKUP($C46,Scores,5,FALSE)=\"\",\"-\",VLOOKUP($C46,Matches,25,FALSE)))","v":""},{"$f":"IF($C46=\"\",\"\",IF(VLOOKUP($C46,Scores,6,FALSE)=\"\",\"\",VLOOKUP($C46,Scores,6,FALSE)))","v":""},{"$f":"IF($C46=\"\",\"\",IF(VLOOKUP($C46,Scores,7,FALSE)=\"\",\"\",VLOOKUP($C46,Scores,7,FALSE)))","v":""},{"$f":"IF($C46=\"\",\"\",IF(VLOOKUP($C46,Scores,8,FALSE)=\"\",\"\",VLOOKUP($C46,Scores,8,FALSE)))","v":""},{"$f":"IF($C46=\"\",\"\",IF(VLOOKUP($C46,Scores,9,FALSE)=\"\",\"\",VLOOKUP($C46,Scores,9,FALSE)))","v":""},{"$f":"IF($C46=\"\",\"\",IF(VLOOKUP($C46,Scores,10,FALSE)=\"\",\"\",VLOOKUP($C46,Scores,10,FALSE)))","v":""},{"$f":"IF($C46=\"\",\"\",IF(VLOOKUP($C46,Scores,11,FALSE)=\"\",\"\",VLOOKUP($C46,Scores,11,FALSE)))","v":""},{"$f":"IF($C46=\"\",\"\",IF(VLOOKUP($C46,Scores,12,FALSE)=\"\",\"\",VLOOKUP($C46,Scores,12,FALSE)))","v":""},{"$f":"IF($C46=\"\",\"\",IF(VLOOKUP($C46,Scores,13,FALSE)=\"\",\"\",VLOOKUP($C46,Scores,13,FALSE)))","v":""},{"$f":"IF($C46=\"\",\"\",IF(VLOOKUP($C46,Scores,14,FALSE)=\"\",\"\",VLOOKUP($C46,Scores,14,FALSE)))","v":""},{"$f":"IF($C46=\"\",\"\",IF(VLOOKUP($C46,Scores,15,FALSE)=\"\",\"\",VLOOKUP($C46,Scores,15,FALSE)))","v":""},{"$f":"IF($O46=\"\",\"\",SUM($G46:$O46))","v":""},{"$f":"IF($D46=\"-\",\"-\",IF($P46=\"\",\"\",$P46-($D46/2)))","v":""},{"$f":"IF($C46=\"\",\"\",IF(VLOOKUP($C46,Scores,17,FALSE)=\"\",\"\",VLOOKUP($C46,Scores,17,FALSE)))","v":""},{"$f":"IF($C46=\"\",\"\",IF(VLOOKUP($C46,Scores,18,FALSE)=\"\",\"\",VLOOKUP($C46,Scores,18,FALSE)))","v":""},{"$f":"IF($C46=\"\",\"\",IF(VLOOKUP($C46,Scores,19,FALSE)=\"\",\"\",VLOOKUP($C46,Scores,19,FALSE)))","v":""},{"$f":"IF($C46=\"\",\"\",IF(VLOOKUP($C46,Scores,20,FALSE)=\"\",\"\",VLOOKUP($C46,Scores,20,FALSE)))","v":""},{"$f":"IF($C46=\"\",\"\",IF(VLOOKUP($C46,Scores,21,FALSE)=\"\",\"\",VLOOKUP($C46,Scores,21,FALSE)))","v":""},{"$f":"IF($C46=\"\",\"\",IF(VLOOKUP($C46,Scores,22,FALSE)=\"\",\"\",VLOOKUP($C46,Scores,22,FALSE)))","v":""},{"$f":"IF($C46=\"\",\"\",IF(VLOOKUP($C46,Scores,23,FALSE)=\"\",\"\",VLOOKUP($C46,Scores,23,FALSE)))","v":""},{"$f":"IF($C46=\"\",\"\",IF(VLOOKUP($C46,Scores,24,FALSE)=\"\",\"\",VLOOKUP($C46,Scores,24,FALSE)))","v":""},{"$f":"IF($C46=\"\",\"\",IF(VLOOKUP($C46,Scores,25,FALSE)=\"\",\"\",VLOOKUP($C46,Scores,25,FALSE)))","v":""},{"$f":"IF($Z46=\"\",\"\",SUM($R46:$Z46))","v":""},{"$f":"IF($D46=\"-\",\"-\",IF($AA46=\"\",\"\",$AA46-($D46/2)))","v":""},{"$f":"IF(OR($P46=\"\",$AA46=\"\"),\"\",SUM($P46,$AA46))","v":""},{"$f":"IF($D46=\"-\",\"-\",IF(OR($Q46=\"\",$AB46=\"\"),\"\",SUM($Q46,$AB46)))","v":""}]
["",42,"",{"$f":"IF($C47=\"\",\"\",VLOOKUP($C47,Scores,4,FALSE))","v":""},{"$f":"IF($C47=\"\",\"\",IF(VLOOKUP($C47,Scores,5,FALSE)=\"\",\"-\",VLOOKUP($C47,Matches,25,FALSE)))","v":""},{"$f":"IF($C47=\"\",\"\",IF(VLOOKUP($C47,Scores,6,FALSE)=\"\",\"\",VLOOKUP($C47,Scores,6,FALSE)))","v":""},{"$f":"IF($C47=\"\",\"\",IF(VLOOKUP($C47,Scores,7,FALSE)=\"\",\"\",VLOOKUP($C47,Scores,7,FALSE)))","v":""},{"$f":"IF($C47=\"\",\"\",IF(VLOOKUP($C47,Scores,8,FALSE)=\"\",\"\",VLOOKUP($C47,Scores,8,FALSE)))","v":""},{"$f":"IF($C47=\"\",\"\",IF(VLOOKUP($C47,Scores,9,FALSE)=\"\",\"\",VLOOKUP($C47,Scores,9,FALSE)))","v":""},{"$f":"IF($C47=\"\",\"\",IF(VLOOKUP($C47,Scores,10,FALSE)=\"\",\"\",VLOOKUP($C47,Scores,10,FALSE)))","v":""},{"$f":"IF($C47=\"\",\"\",IF(VLOOKUP($C47,Scores,11,FALSE)=\"\",\"\",VLOOKUP($C47,Scores,11,FALSE)))","v":""},{"$f":"IF($C47=\"\",\"\",IF(VLOOKUP($C47,Scores,12,FALSE)=\"\",\"\",VLOOKUP($C47,Scores,12,FALSE)))","v":""},{"$f":"IF($C47=\"\",\"\",IF(VLOOKUP($C47,Scores,13,FALSE)=\"\",\"\",VLOOKUP($C47,Scores,13,FALSE)))","v":""},{"$f":"IF($C47=\"\",\"\",IF(VLOOKUP($C47,Scores,14,FALSE)=\"\",\"\",VLOOKUP($C47,Scores,14,FALSE)))","v":""},{"$f":"IF($C47=\"\",\"\",IF(VLOOKUP($C47,Scores,15,FALSE)=\"\",\"\",VLOOKUP($C47,Scores,15,FALSE)))","v":""},{"$f":"IF($O47=\"\",\"\",SUM($G47:$O47))","v":""},{"$f":"IF($D47=\"-\",\"-\",IF($P47=\"\",\"\",$P47-($D47/2)))","v":""},{"$f":"IF($C47=\"\",\"\",IF(VLOOKUP($C47,Scores,17,FALSE)=\"\",\"\",VLOOKUP($C47,Scores,17,FALSE)))","v":""},{"$f":"IF($C47=\"\",\"\",IF(VLOOKUP($C47,Scores,18,FALSE)=\"\",\"\",VLOOKUP($C47,Scores,18,FALSE)))","v":""},{"$f":"IF($C47=\"\",\"\",IF(VLOOKUP($C47,Scores,19,FALSE)=\"\",\"\",VLOOKUP($C47,Scores,19,FALSE)))","v":""},{"$f":"IF($C47=\"\",\"\",IF(VLOOKUP($C47,Scores,20,FALSE)=\"\",\"\",VLOOKUP($C47,Scores,20,FALSE)))","v":""},{"$f":"IF($C47=\"\",\"\",IF(VLOOKUP($C47,Scores,21,FALSE)=\"\",\"\",VLOOKUP($C47,Scores,21,FALSE)))","v":""},{"$f":"IF($C47=\"\",\"\",IF(VLOOKUP($C47,Scores,22,FALSE)=\"\",\"\",VLOOKUP($C47,Scores,22,FALSE)))","v":""},{"$f":"IF($C47=\"\",\"\",IF(VLOOKUP($C47,Scores,23,FALSE)=\"\",\"\",VLOOKUP($C47,Scores,23,FALSE)))","v":""},{"$f":"IF($C47=\"\",\"\",IF(VLOOKUP($C47,Scores,24,FALSE)=\"\",\"\",VLOOKUP($C47,Scores,24,FALSE)))","v":""},{"$f":"IF($C47=\"\",\"\",IF(VLOOKUP($C47,Scores,25,FALSE)=\"\",\"\",VLOOKUP($C47,Scores,25,FALSE)))","v":""},{"$f":"IF($Z47=\"\",\"\",SUM($R47:$Z47))","v":""},{"$f":"IF($D47=\"-\",\"-\",IF($AA47=\"\",\"\",$AA47-($D47/2)))","v":""},{"$f":"IF(OR($P47=\"\",$AA47=\"\"),\"\",SUM($P47,$AA47))","v":""},{"$f":"IF($D47=\"-\",\"-\",IF(OR($Q47=\"\",$AB47=\"\"),\"\",SUM($Q47,$AB47)))","v":""}]
["",43,"",{"$f":"IF($C48=\"\",\"\",VLOOKUP($C48,Scores,4,FALSE))","v":""},{"$f":"IF($C48=\"\",\"\",IF(VLOOKUP($C48,Scores,5,FALSE)=\"\",\"-\",VLOOKUP($C48,Matches,25,FALSE)))","v":""},{"$f":"IF($C48=\"\",\"\",IF(VLOOKUP($C48,Scores,6,FALSE)=\"\",\"\",VLOOKUP($C48,Scores,6,FALSE)))","v":""},{"$f":"IF($C48=\"\",\"\",IF(VLOOKUP($C48,Scores,7,FALSE)=\"\",\"\",VLOOKUP($C48,Scores,7,FALSE)))","v":""},{"$f":"IF($C48=\"\",\"\",IF(VLOOKUP($C48,Scores,8,FALSE)=\"\",\"\",VLOOKUP($C48,Scores,8,FALSE)))","v":""},{"$f":"IF($C48=\"\",\"\",IF(VLOOKUP($C48,Scores,9,FALSE)=\"\",\"\",VLOOKUP($C48,Scores,9,FALSE)))","v":""},{"$f":"IF($C48=\"\",\"\",IF(VLOOKUP($C48,Scores,10,FALSE)=\"\",\"\",VLOOKUP($C48,Scores,10,FALSE)))","v":""},{"$f":"IF($C48=\"\",\"\",IF(VLOOKUP($C48,Scores,11,FALSE)=\"\",\"\",VLOOKUP($C48,Scores,11,FALSE)))","v":""},{"$f":"IF($C48=\"\",\"\",IF(VLOOKUP($C48,Scores,12,FALSE)=\"\",\"\",VLOOKUP($C48,Scores,12,FALSE)))","v":""},{"$f":"IF($C48=\"\",\"\",IF(VLOOKUP($C48,Scores,13,FALSE)=\"\",\"\",VLOOKUP($C48,Scores,13,FALSE)))","v":""},{"$f":"IF($C48=\"\",\"\",IF(VLOOKUP($C48,Scores,14,FALSE)=\"\",\"\",VLOOKUP($C48,Scores,14,FALSE)))","v":""},{"$f":"IF($C48=\"\",\"\",IF(VLOOKUP($C48,Scores,15,FALSE)=\"\",\"\",VLOOKUP($C48,Scores,15,FALSE)))","v":""},{"$f":"IF($O48=\"\",\"\",SUM($G48:$O48))","v":""},{"$f":"IF($D48=\"-\",\"-\",IF($P48=\"\",\"\",$P48-($D48/2)))","v":""},{"$f":"IF($C48=\"\",\"\",IF(VLOOKUP($C48,Scores,17,FALSE)=\"\",\"\",VLOOKUP($C48,Scores,17,FALSE)))","v":""},{"$f":"IF($C48=\"\",\"\",IF(VLOOKUP($C48,Scores,18,FALSE)=\"\",\"\",VLOOKUP($C48,Scores,18,FALSE)))","v":""},{"$f":"IF($C48=\"\",\"\",IF(VLOOKUP($C48,Scores,19,FALSE)=\"\",\"\",VLOOKUP($C48,Scores,19,FALSE)))","v":""},{"$f":"IF($C48=\"\",\"\",IF(VLOOKUP($C48,Scores,20,FALSE)=\"\",\"\",VLOOKUP($C48,Scores,20,FALSE)))","v":""},{"$f":"IF($C48=\"\",\"\",IF(VLOOKUP($C48,Scores,21,FALSE)=\"\",\"\",VLOOKUP($C48,Scores,21,FALSE)))","v":""},{"$f":"IF($C48=\"\",\"\",IF(VLOOKUP($C48,Scores,22,FALSE)=\"\",\"\",VLOOKUP($C48,Scores,22,FALSE)))","v":""},{"$f":"IF($C48=\"\",\"\",IF(VLOOKUP($C48,Scores,23,FALSE)=\"\",\"\",VLOOKUP($C48,Scores,23,FALSE)))","v":""},{"$f":"IF($C48=\"\",\"\",IF(VLOOKUP($C48,Scores,24,FALSE)=\"\",\"\",VLOOKUP($C48,Scores,24,FALSE)))","v":""},{"$f":"IF($C48=\"\",\"\",IF(VLOOKUP($C48,Scores,25,FALSE)=\"\",\"\",VLOOKUP($C48,Scores,25,FALSE)))","v":""},{"$f":"IF($Z48=\"\",\"\",SUM($R48:$Z48))","v":""},{"$f":"IF($D48=\"-\",\"-\",IF($AA48=\"\",\"\",$AA48-($D48/2)))","v":""},{"$f":"IF(OR($P48=\"\",$AA48=\"\"),\"\",SUM($P48,$AA48))","v":""},{"$f":"IF($D48=\"-\",\"-\",IF(OR($Q48=\"\",$AB48=\"\"),\"\",SUM($Q48,$AB48)))","v":""}]
["",44,"",{"$f":"IF($C49=\"\",\"\",VLOOKUP($C49,Scores,4,FALSE))","v":""},{"$f":"IF($C49=\"\",\"\",IF(VLOOKUP($C49,Scores,5,FALSE)=\"\",\"-\",VLOOKUP($C49,Matches,25,FALSE)))","v":""},{"$f":"IF($C49=\"\",\"\",IF(VLOOKUP($C49,Scores,6,FALSE)=\"\",\"\",VLOOKUP($C49,Scores,6,FALSE)))","v":""},{"$f":"IF($C49=\"\",\"\",IF(VLOOKUP($C49,Scores,7,FALSE)=\"\",\"\",VLOOKUP($C49,Scores,7,FALSE)))","v":""},{"$f":"IF($C49=\"\",\"\",IF(VLOOKUP($C49,Scores,8,FALSE)=\"\",\"\",VLOOKUP($C49,Scores,8,FALSE)))","v":""},{"$f":"IF($C49=\"\",\"\",IF(VLOOKUP($C49,Scores,9,FALSE)=\"\",\"\",VLOOKUP($C49,Scores,9,FALSE)))","v":""},{"$f":"IF($C49=\"\",\"\",IF(VLOOKUP($C49,Scores,10,FALSE)=\"\",\"\",VLOOKUP($C49,Scores,10,FALSE)))","v":""},{"$f":"IF($C49=\"\",\"\",IF(VLOOKUP($C49,Scores,11,FALSE)=\"\",\"\",VLOOKUP($C49,Scores,11,FALSE)))","v":""},{"$f":"IF($C49=\"\",\"\",IF(VLOOKUP($C49,Scores,12,FALSE)=\"\",\"\",VLOOKUP($C49,Scores,12,FALSE)))","v":""},{"$f":"IF($C49=\"\",\"\",IF(VLOOKUP($C49,Scores,13,FALSE)=\"\",\"\",VLOOKUP($C49,Scores,13,FALSE)))","v":""},{"$f":"IF($C49=\"\",\"\",IF(VLOOKUP($C49,Scores,14,FALSE)=\"\",\"\",VLOOKUP($C49,Scores,14,FALSE)))","v":""},{"$f":"IF($C49=\"\",\"\",IF(VLOOKUP($C49,Scores,15,FALSE)=\"\",\"\",VLOOKUP($C49,Scores,15,FALSE)))","v":""},{"$f":"IF($O49=\"\",\"\",SUM($G49:$O49))","v":""},{"$f":"IF($D49=\"-\",\"-\",IF($P49=\"\",\"\",$P49-($D49/2)))","v":""},{"$f":"IF($C49=\"\",\"\",IF(VLOOKUP($C49,Scores,17,FALSE)=\"\",\"\",VLOOKUP($C49,Scores,17,FALSE)))","v":""},{"$f":"IF($C49=\"\",\"\",IF(VLOOKUP($C49,Scores,18,FALSE)=\"\",\"\",VLOOKUP($C49,Scores,18,FALSE)))","v":""},{"$f":"IF($C49=\"\",\"\",IF(VLOOKUP($C49,Scores,19,FALSE)=\"\",\"\",VLOOKUP($C49,Scores,19,FALSE)))","v":""},{"$f":"IF($C49=\"\",\"\",IF(VLOOKUP($C49,Scores,20,FALSE)=\"\",\"\",VLOOKUP($C49,Scores,20,FALSE)))","v":""},{"$f":"IF($C49=\"\",\"\",IF(VLOOKUP($C49,Scores,21,FALSE)=\"\",\"\",VLOOKUP($C49,Scores,21,FALSE)))","v":""},{"$f":"IF($C49=\"\",\"\",IF(VLOOKUP($C49,Scores,22,FALSE)=\"\",\"\",VLOOKUP($C49,Scores,22,FALSE)))","v":""},{"$f":"IF($C49=\"\",\"\",IF(VLOOKUP($C49,Scores,23,FALSE)=\"\",\"\",VLOOKUP($C49,Scores,23,FALSE)))","v":""},{"$f":"IF($C49=\"\",\"\",IF(VLOOKUP($C49,Scores,24,FALSE)=\"\",\"\",VLOOKUP($C49,Scores,24,FALSE)))","v":""},{"$f":"IF($C49=\"\",\"\",IF(VLOOKUP($C49,Scores,25,FALSE)=\"\",\"\",VLOOKUP($C49,Scores,25,FALSE)))","v":""},{"$f":"IF($Z49=\"\",\"\",SUM($R49:$Z49))","v":""},{"$f":"IF($D49=\"-\",\"-\",IF($AA49=\"\",\"\",$AA49-($D49/2)))","v":""},{"$f":"IF(OR($P49=\"\",$AA49=\"\"),\"\",SUM($P49,$AA49))","v":""},{"$f":"IF($D49=\"-\",\"-\",IF(OR($Q49=\"\",$AB49=\"\"),\"\",SUM($Q49,$AB49)))","v":""}]
["",45,"",{"$f":"IF($C50=\"\",\"\",VLOOKUP($C50,Scores,4,FALSE))","v":""},{"$f":"IF($C50=\"\",\"\",IF(VLOOKUP($C50,Scores,5,FALSE)=\"\",\"-\",VLOOKUP($C50,Matches,25,FALSE)))","v":""},{"$f":"IF($C50=\"\",\"\",IF(VLOOKUP($C50,Scores,6,FALSE)=\"\",\"\",VLOOKUP($C50,Scores,6,FALSE)))","v":""},{"$f":"IF($C50=\"\",\"\",IF(VLOOKUP($C50,Scores,7,FALSE)=\"\",\"\",VLOOKUP($C50,Scores,7,FALSE)))","v":""},{"$f":"IF($C50=\"\",\"\",IF(VLOOKUP($C50,Scores,8,FALSE)=\"\",\"\",VLOOKUP($C50,Scores,8,FALSE)))","v":""},{"$f":"IF($C50=\"\",\"\",IF(VLOOKUP($C50,Scores,9,FALSE)=\"\",\"\",VLOOKUP($C50,Scores,9,FALSE)))","v":""},{"$f":"IF($C50=\"\",\"\",IF(VLOOKUP($C50,Scores,10,FALSE)=\"\",\"\",VLOOKUP($C50,Scores,10,FALSE)))","v":""},{"$f":"IF($C50=\"\",\"\",IF(VLOOKUP($C50,Scores,11,FALSE)=\"\",\"\",VLOOKUP($C50,Scores,11,FALSE)))","v":""},{"$f":"IF($C50=\"\",\"\",IF(VLOOKUP($C50,Scores,12,FALSE)=\"\",\"\",VLOOKUP($C50,Scores,12,FALSE)))","v":""},{"$f":"IF($C50=\"\",\"\",IF(VLOOKUP($C50,Scores,13,FALSE)=\"\",\"\",VLOOKUP($C50,Scores,13,FALSE)))","v":""},{"$f":"IF($C50=\"\",\"\",IF(VLOOKUP($C50,Scores,14,FALSE)=\"\",\"\",VLOOKUP($C50,Scores,14,FALSE)))","v":""},{"$f":"IF($C50=\"\",\"\",IF(VLOOKUP($C50,Scores,15,FALSE)=\"\",\"\",VLOOKUP($C50,Scores,15,FALSE)))","v":""},{"$f":"IF($O50=\"\",\"\",SUM($G50:$O50))","v":""},{"$f":"IF($D50=\"-\",\"-\",IF($P50=\"\",\"\",$P50-($D50/2)))","v":""},{"$f":"IF($C50=\"\",\"\",IF(VLOOKUP($C50,Scores,17,FALSE)=\"\",\"\",VLOOKUP($C50,Scores,17,FALSE)))","v":""},{"$f":"IF($C50=\"\",\"\",IF(VLOOKUP($C50,Scores,18,FALSE)=\"\",\"\",VLOOKUP($C50,Scores,18,FALSE)))","v":""},{"$f":"IF($C50=\"\",\"\",IF(VLOOKUP($C50,Scores,19,FALSE)=\"\",\"\",VLOOKUP($C50,Scores,19,FALSE)))","v":""},{"$f":"IF($C50=\"\",\"\",IF(VLOOKUP($C50,Scores,20,FALSE)=\"\",\"\",VLOOKUP($C50,Scores,20,FALSE)))","v":""},{"$f":"IF($C50=\"\",\"\",IF(VLOOKUP($C50,Scores,21,FALSE)=\"\",\"\",VLOOKUP($C50,Scores,21,FALSE)))","v":""},{"$f":"IF($C50=\"\",\"\",IF(VLOOKUP($C50,Scores,22,FALSE)=\"\",\"\",VLOOKUP($C50,Scores,22,FALSE)))","v":""},{"$f":"IF($C50=\"\",\"\",IF(VLOOKUP($C50,Scores,23,FALSE)=\"\",\"\",VLOOKUP($C50,Scores,23,FALSE)))","v":""},{"$f":"IF($C50=\"\",\"\",IF(VLOOKUP($C50,Scores,24,FALSE)=\"\",\"\",VLOOKUP($C50,Scores,24,FALSE)))","v":""},{"$f":"IF($C50=\"\",\"\",IF(VLOOKUP($C50,Scores,25,FALSE)=\"\",\"\",VLOOKUP($C50,Scores,25,FALSE)))","v":""},{"$f":"IF($Z50=\"\",\"\",SUM($R50:$Z50))","v":""},{"$f":"IF($D50=\"-\",\"-\",IF($AA50=\"\",\"\",$AA50-($D50/2)))","v":""},{"$f":"IF(OR($P50=\"\",$AA50=\"\"),\"\",SUM($P50,$AA50))","v":""},{"$f":"IF($D50=\"-\",\"-\",IF(OR($Q50=\"\",$AB50=\"\"),\"\",SUM($Q50,$AB50)))","v":""}]
["",46,"",{"$f":"IF($C51=\"\",\"\",VLOOKUP($C51,Scores,4,FALSE))","v":""},{"$f":"IF($C51=\"\",\"\",IF(VLOOKUP($C51,Scores,5,FALSE)=\"\",\"-\",VLOOKUP($C51,Matches,25,FALSE)))","v":""},{"$f":"IF($C51=\"\",\"\",IF(VLOOKUP($C51,Scores,6,FALSE)=\"\",\"\",VLOOKUP($C51,Scores,6,FALSE)))","v":""},{"$f":"IF($C51=\"\",\"\",IF(VLOOKUP($C51,Scores,7,FALSE)=\"\",\"\",VLOOKUP($C51,Scores,7,FALSE)))","v":""},{"$f":"IF($C51=\"\",\"\",IF(VLOOKUP($C51,Scores,8,FALSE)=\"\",\"\",VLOOKUP($C51,Scores,8,FALSE)))","v":""},{"$f":"IF($C51=\"\",\"\",IF(VLOOKUP($C51,Scores,9,FALSE)=\"\",\"\",VLOOKUP($C51,Scores,9,FALSE)))","v":""},{"$f":"IF($C51=\"\",\"\",IF(VLOOKUP($C51,Scores,10,FALSE)=\"\",\"\",VLOOKUP($C51,Scores,10,FALSE)))","v":""},{"$f":"IF($C51=\"\",\"\",IF(VLOOKUP($C51,Scores,11,FALSE)=\"\",\"\",VLOOKUP($C51,Scores,11,FALSE)))","v":""},{"$f":"IF($C51=\"\",\"\",IF(VLOOKUP($C51,Scores,12,FALSE)=\"\",\"\",VLOOKUP($C51,Scores,12,FALSE)))","v":""},{"$f":"IF($C51=\"\",\"\",IF(VLOOKUP($C51,Scores,13,FALSE)=\"\",\"\",VLOOKUP($C51,Scores,13,FALSE)))","v":""},{"$f":"IF($C51=\"\",\"\",IF(VLOOKUP($C51,Scores,14,FALSE)=\"\",\"\",VLOOKUP($C51,Scores,14,FALSE)))","v":""},{"$f":"IF($C51=\"\",\"\",IF(VLOOKUP($C51,Scores,15,FALSE)=\"\",\"\",VLOOKUP($C51,Scores,15,FALSE)))","v":""},{"$f":"IF($O51=\"\",\"\",SUM($G51:$O51))","v":""},{"$f":"IF($D51=\"-\",\"-\",IF($P51=\"\",\"\",$P51-($D51/2)))","v":""},{"$f":"IF($C51=\"\",\"\",IF(VLOOKUP($C51,Scores,17,FALSE)=\"\",\"\",VLOOKUP($C51,Scores,17,FALSE)))","v":""},{"$f":"IF($C51=\"\",\"\",IF(VLOOKUP($C51,Scores,18,FALSE)=\"\",\"\",VLOOKUP($C51,Scores,18,FALSE)))","v":""},{"$f":"IF($C51=\"\",\"\",IF(VLOOKUP($C51,Scores,19,FALSE)=\"\",\"\",VLOOKUP($C51,Scores,19,FALSE)))","v":""},{"$f":"IF($C51=\"\",\"\",IF(VLOOKUP($C51,Scores,20,FALSE)=\"\",\"\",VLOOKUP($C51,Scores,20,FALSE)))","v":""},{"$f":"IF($C51=\"\",\"\",IF(VLOOKUP($C51,Scores,21,FALSE)=\"\",\"\",VLOOKUP($C51,Scores,21,FALSE)))","v":""},{"$f":"IF($C51=\"\",\"\",IF(VLOOKUP($C51,Scores,22,FALSE)=\"\",\"\",VLOOKUP($C51,Scores,22,FALSE)))","v":""},{"$f":"IF($C51=\"\",\"\",IF(VLOOKUP($C51,Scores,23,FALSE)=\"\",\"\",VLOOKUP($C51,Scores,23,FALSE)))","v":""},{"$f":"IF($C51=\"\",\"\",IF(VLOOKUP($C51,Scores,24,FALSE)=\"\",\"\",VLOOKUP($C51,Scores,24,FALSE)))","v":""},{"$f":"IF($C51=\"\",\"\",IF(VLOOKUP($C51,Scores,25,FALSE)=\"\",\"\",VLOOKUP($C51,Scores,25,FALSE)))","v":""},{"$f":"IF($Z51=\"\",\"\",SUM($R51:$Z51))","v":""},{"$f":"IF($D51=\"-\",\"-\",IF($AA51=\"\",\"\",$AA51-($D51/2)))","v":""},{"$f":"IF(OR($P51=\"\",$AA51=\"\"),\"\",SUM($P51,$AA51))","v":""},{"$f":"IF($D51=\"-\",\"-\",IF(OR($Q51=\"\",$AB51=\"\"),\"\",SUM($Q51,$AB51)))","v":""}]
["",47,"Deutsch, Paul",{"$f":"IF($C52=\"\",\"\",VLOOKUP($C52,Scores,4,FALSE))","v":"-"},{"$f":"IF($C52=\"\",\"\",IF(VLOOKUP($C52,Scores,5,FALSE)=\"\",\"-\",VLOOKUP($C52,Matches,25,FALSE)))","v":"-"},{"$f":"IF($C52=\"\",\"\",IF(VLOOKUP($C52,Scores,6,FALSE)=\"\",\"\",VLOOKUP($C52,Scores,6,FALSE)))","v":29},{"$f":"IF($C52=\"\",\"\",IF(VLOOKUP($C52,Scores,7,FALSE)=\"\",\"\",VLOOKUP($C52,Scores,7,FALSE)))","v":6},{"$f":"IF($C52=\"\",\"\",IF(VLOOKUP($C52,Scores,8,FALSE)=\"\",\"\",VLOOKUP($C52,Scores,8,FALSE)))","v":4},{"$f":"IF($C52=\"\",\"\",IF(VLOOKUP($C52,Scores,9,FALSE)=\"\",\"\",VLOOKUP($C52,Scores,9,FALSE)))","v":4},{"$f":"IF($C52=\"\",\"\",IF(VLOOKUP($C52,Scores,10,FALSE)=\"\",\"\",VLOOKUP($C52,Scores,10,FALSE)))","v":4},{"$f":"IF($C52=\"\",\"\",IF(VLOOKUP($C52,Scores,11,FALSE)=\"\",\"\",VLOOKUP($C52,Scores,11,FALSE)))","v":6},{"$f":"IF($C52=\"\",\"\",IF(VLOOKUP($C52,Scores,12,FALSE)=\"\",\"\",VLOOKUP($C52,Scores,12,FALSE)))","v":4},{"$f":"IF($C52=\"\",\"\",IF(VLOOKUP($C52,Scores,13,FALSE)=\"\",\"\",VLOOKUP($C52,Scores,13,FALSE)))","v":6},{"$f":"IF($C52=\"\",\"\",IF(VLOOKUP($C52,Scores,14,FALSE)=\"\",\"\",VLOOKUP($C52,Scores,14,FALSE)))","v":5},{"$f":"IF($C52=\"\",\"\",IF(VLOOKUP($C52,Scores,15,FALSE)=\"\",\"\",VLOOKUP($C52,Scores,15,FALSE)))","v":6},{"$f":"IF($O52=\"\",\"\",SUM($G52:$O52))","v":45},{"$f":"IF($D52=\"-\",\"-\",IF($P52=\"\",\"\",$P52-($D52/2)))","v":"-"},{"$f":"IF($C52=\"\",\"\",IF(VLOOKUP($C52,Scores,17,FALSE)=\"\",\"\",VLOOKUP($C52,Scores,17,FALSE)))","v":4},{"$f":"IF($C52=\"\",\"\",IF(VLOOKUP($C52,Scores,18,FALSE)=\"\",\"\",VLOOKUP($C52,Scores,18,FALSE)))","v":4},{"$f":"IF($C52=\"\",\"\",IF(VLOOKUP($C52,Scores,19,FALSE)=\"\",\"\",VLOOKUP($C52,Scores,19,FALSE)))","v":6},{"$f":"IF($C52=\"\",\"\",IF(VLOOKUP($C52,Scores,20,FALSE)=\"\",\"\",VLOOKUP($C52,Scores,20,FALSE)))","v":5},{"$f":"IF($C52=\"\",\"\",IF(VLOOKUP($C52,Scores,21,FALSE)=\"\",\"\",VLOOKUP($C52,Scores,21,FALSE)))","v":7},{"$f":"IF($C52=\"\",\"\",IF(VLOOKUP($C52,Scores,22,FALSE)=\"\",\"\",VLOOKUP($C52,Scores,22,FALSE)))","v":5},{"$f":"IF($C52=\"\",\"\",IF(VLOOKUP($C52,Scores,23,FALSE)=\"\",\"\",VLOOKUP($C52,Scores,23,FALSE)))","v":5},{"$f":"IF($C52=\"\",\"\",IF(VLOOKUP($C52,Scores,24,FALSE)=\"\",\"\",VLOOKUP($C52,Scores,24,FALSE)))","v":5},{"$f":"IF($C52=\"\",\"\",IF(VLOOKUP($C52,Scores,25,FALSE)=\"\",\"\",VLOOKUP($C52,Scores,25,FALSE)))","v":4},{"$f":"IF($Z52=\"\",\"\",SUM($R52:$Z52))","v":45},{"$f":"IF($D52=\"-\",\"-\",IF($AA52=\"\",\"\",$AA52-($D52/2)))","v":"-"},{"$f":"IF(OR($P52=\"\",$AA52=\"\"),\"\",SUM($P52,$AA52))","v":90},{"$f":"IF($D52=\"-\",\"-\",IF(OR($Q52=\"\",$AB52=\"\"),\"\",SUM($Q52,$AB52)))","v":"-"}]
["",48,"Ikeda, Blaine",{"$f":"IF($C53=\"\",\"\",VLOOKUP($C53,Scores,4,FALSE))","v":"-"},{"$f":"IF($C53=\"\",\"\",IF(VLOOKUP($C53,Scores,5,FALSE)=\"\",\"-\",VLOOKUP($C53,Matches,25,FALSE)))","v":"-"},{"$f":"IF($C53=\"\",\"\",IF(VLOOKUP($C53,Scores,6,FALSE)=\"\",\"\",VLOOKUP($C53,Scores,6,FALSE)))","v":35},{"$f":"IF($C53=\"\",\"\",IF(VLOOKUP($C53,Scores,7,FALSE)=\"\",\"\",VLOOKUP($C53,Scores,7,FALSE)))","v":7},{"$f":"IF($C53=\"\",\"\",IF(VLOOKUP($C53,Scores,8,FALSE)=\"\",\"\",VLOOKUP($C53,Scores,8,FALSE)))","v":4},{"$f":"IF($C53=\"\",\"\",IF(VLOOKUP($C53,Scores,9,FALSE)=\"\",\"\",VLOOKUP($C53,Scores,9,FALSE)))","v":6},{"$f":"IF($C53=\"\",\"\",IF(VLOOKUP($C53,Scores,10,FALSE)=\"\",\"\",VLOOKUP($C53,Scores,10,FALSE)))","v":5},{"$f":"IF($C53=\"\",\"\",IF(VLOOKUP($C53,Scores,11,FALSE)=\"\",\"\",VLOOKUP($C53,Scores,11,FALSE)))","v":6},{"$f":"IF($C53=\"\",\"\",IF(VLOOKUP($C53,Scores,12,FALSE)=\"\",\"\",VLOOKUP($C53,Scores,12,FALSE)))","v":4},{"$f":"IF($C53=\"\",\"\",IF(VLOOKUP($C53,Scores,13,FALSE)=\"\",\"\",VLOOKUP($C53,Scores,13,FALSE)))","v":7},{"$f":"IF($C53=\"\",\"\",IF(VLOOKUP($C53,Scores,14,FALSE)=\"\",\"\",VLOOKUP($C53,Scores,14,FALSE)))","v":6},{"$f":"IF($C53=\"\",\"\",IF(VLOOKUP($C53,Scores,15,FALSE)=\"\",\"\",VLOOKUP($C53,Scores,15,FALSE)))","v":6},{"$f":"IF($O53=\"\",\"\",SUM($G53:$O53))","v":51},{"$f":"IF($D53=\"-\",\"-\",IF($P53=\"\",\"\",$P53-($D53/2)))","v":"-"},{"$f":"IF($C53=\"\",\"\",IF(VLOOKUP($C53,Scores,17,FALSE)=\"\",\"\",VLOOKUP($C53,Scores,17,FALSE)))","v":5},{"$f":"IF($C53=\"\",\"\",IF(VLOOKUP($C53,Scores,18,FALSE)=\"\",\"\",VLOOKUP($C53,Scores,18,FALSE)))","v":5},{"$f":"IF($C53=\"\",\"\",IF(VLOOKUP($C53,Scores,19,FALSE)=\"\",\"\",VLOOKUP($C53,Scores,19,FALSE)))","v":3},{"$f":"IF($C53=\"\",\"\",IF(VLOOKUP($C53,Scores,20,FALSE)=\"\",\"\",VLOOKUP($C53,Scores,20,FALSE)))","v":7},{"$f":"IF($C53=\"\",\"\",IF(VLOOKUP($C53,Scores,21,FALSE)=\"\",\"\",VLOOKUP($C53,Scores,21,FALSE)))","v":7},{"$f":"IF($C53=\"\",\"\",IF(VLOOKUP($C53,Scores,22,FALSE)=\"\",\"\",VLOOKUP($C53,Scores,22,FALSE)))","v":5},{"$f":"IF($C53=\"\",\"\",IF(VLOOKUP($C53,Scores,23,FALSE)=\"\",\"\",VLOOKUP($C53,Scores,23,FALSE)))","v":3},{"$f":"IF($C53=\"\",\"\",IF(VLOOKUP($C53,Scores,24,FALSE)=\"\",\"\",VLOOKUP($C53,Scores,24,FALSE)))","v":6},{"$f":"IF($C53=\"\",\"\",IF(VLOOKUP($C53,Scores,25,FALSE)=\"\",\"\",VLOOKUP($C53,Scores,25,FALSE)))","v":4},{"$f":"IF($Z53=\"\",\"\",SUM($R53:$Z53))","v":45},{"$f":"IF($D53=\"-\",\"-\",IF($AA53=\"\",\"\",$AA53-($D53/2)))","v":"-"},{"$f":"IF(OR($P53=\"\",$AA53=\"\"),\"\",SUM($P53,$AA53))","v":96},{"$f":"IF($D53=\"-\",\"-\",IF(OR($Q53=\"\",$AB53=\"\"),\"\",SUM($Q53,$AB53)))","v":"-"}]
["",49,"Endo, Johnny",{"$f":"IF($C54=\"\",\"\",VLOOKUP($C54,Scores,4,FALSE))","v":"-"},{"$f":"IF($C54=\"\",\"\",IF(VLOOKUP($C54,Scores,5,FALSE)=\"\",\"-\",VLOOKUP($C54,Matches,25,FALSE)))","v":"-"},{"$f":"IF($C54=\"\",\"\",IF(VLOOKUP($C54,Scores,6,FALSE)=\"\",\"\",VLOOKUP($C54,Scores,6,FALSE)))","v":41},{"$f":"IF($C54=\"\",\"\",IF(VLOOKUP($C54,Scores,7,FALSE)=\"\",\"\",VLOOKUP($C54,Scores,7,FALSE)))","v":6},{"$f":"IF($C54=\"\",\"\",IF(VLOOKUP($C54,Scores,8,FALSE)=\"\",\"\",VLOOKUP($C54,Scores,8,FALSE)))","v":11},{"$f":"IF($C54=\"\",\"\",IF(VLOOKUP($C54,Scores,9,FALSE)=\"\",\"\",VLOOKUP($C54,Scores,9,FALSE)))","v":7},{"$f":"IF($C54=\"\",\"\",IF(VLOOKUP($C54,Scores,10,FALSE)=\"\",\"\",VLOOKUP($C54,Scores,10,FALSE)))","v":4},{"$f":"IF($C54=\"\",\"\",IF(VLOOKUP($C54,Scores,11,FALSE)=\"\",\"\",VLOOKUP($C54,Scores,11,FALSE)))","v":5},{"$f":"IF($C54=\"\",\"\",IF(VLOOKUP($C54,Scores,12,FALSE)=\"\",\"\",VLOOKUP($C54,Scores,12,FALSE)))","v":6},{"$f":"IF($C54=\"\",\"\",IF(VLOOKUP($C54,Scores,13,FALSE)=\"\",\"\",VLOOKUP($C54,Scores,13,FALSE)))","v":5},{"$f":"IF($C54=\"\",\"\",IF(VLOOKUP($C54,Scores,14,FALSE)=\"\",\"\",VLOOKUP($C54,Scores,14,FALSE)))","v":8},{"$f":"IF($C54=\"\",\"\",IF(VLOOKUP($C54,Scores,15,FALSE)=\"\",\"\",VLOOKUP($C54,Scores,15,FALSE)))","v":6},{"$f":"IF($O54=\"\",\"\",SUM($G54:$O54))","v":58},{"$f":"IF($D54=\"-\",\"-\",IF($P54=\"\",\"\",$P54-($D54/2)))","v":"-"},{"$f":"IF($C54=\"\",\"\",IF(VLOOKUP($C54,Scores,17,FALSE)=\"\",\"\",VLOOKUP($C54,Scores,17,FALSE)))","v":7},{"$f":"IF($C54=\"\",\"\",IF(VLOOKUP($C54,Scores,18,FALSE)=\"\",\"\",VLOOKUP($C54,Scores,18,FALSE)))","v":7},{"$f":"IF($C54=\"\",\"\",IF(VLOOKUP($C54,Scores,19,FALSE)=\"\",\"\",VLOOKUP($C54,Scores,19,FALSE)))","v":3},{"$f":"IF($C54=\"\",\"\",IF(VLOOKUP($C54,Scores,20,FALSE)=\"\",\"\",VLOOKUP($C54,Scores,20,FALSE)))","v":4},{"$f":"IF($C54=\"\",\"\",IF(VLOOKUP($C54,Scores,21,FALSE)=\"\",\"\",VLOOKUP($C54,Scores,21,FALSE)))","v":8},{"$f":"IF($C54=\"\",\"\",IF(VLOOKUP($C54,Scores,22,FALSE)=\"\",\"\",VLOOKUP($C54,Scores,22,FALSE)))","v":7},{"$f":"IF($C54=\"\",\"\",IF(VLOOKUP($C54,Scores,23,FALSE)=\"\",\"\",VLOOKUP($C54,Scores,23,FALSE)))","v":4},{"$f":"IF($C54=\"\",\"\",IF(VLOOKUP($C54,Scores,24,FALSE)=\"\",\"\",VLOOKUP($C54,Scores,24,FALSE)))","v":5},{"$f":"IF($C54=\"\",\"\",IF(VLOOKUP($C54,Scores,25,FALSE)=\"\",\"\",VLOOKUP($C54,Scores,25,FALSE)))","v":6},{"$f":"IF($Z54=\"\",\"\",SUM($R54:$Z54))","v":51},{"$f":"IF($D54=\"-\",\"-\",IF($AA54=\"\",\"\",$AA54-($D54/2)))","v":"-"},{"$f":"IF(OR($P54=\"\",$AA54=\"\"),\"\",SUM($P54,$AA54))","v":109},{"$f":"IF($D54=\"-\",\"-\",IF(OR($Q54=\"\",$AB54=\"\"),\"\",SUM($Q54,$AB54)))","v":"-"}]
["",50,"Iinuma, Shiro",{"$f":"IF($C55=\"\",\"\",VLOOKUP($C55,Scores,4,FALSE))","v":"-"},{"$f":"IF($C55=\"\",\"\",IF(VLOOKUP($C55,Scores,5,FALSE)=\"\",\"-\",VLOOKUP($C55,Matches,25,FALSE)))","v":"-"},{"$f":"IF($C55=\"\",\"\",IF(VLOOKUP($C55,Scores,6,FALSE)=\"\",\"\",VLOOKUP($C55,Scores,6,FALSE)))","v":46},{"$f":"IF($C55=\"\",\"\",IF(VLOOKUP($C55,Scores,7,FALSE)=\"\",\"\",VLOOKUP($C55,Scores,7,FALSE)))","v":5},{"$f":"IF($C55=\"\",\"\",IF(VLOOKUP($C55,Scores,8,FALSE)=\"\",\"\",VLOOKUP($C55,Scores,8,FALSE)))","v":8},{"$f":"IF($C55=\"\",\"\",IF(VLOOKUP($C55,Scores,9,FALSE)=\"\",\"\",VLOOKUP($C55,Scores,9,FALSE)))","v":6},{"$f":"IF($C55=\"\",\"\",IF(VLOOKUP($C55,Scores,10,FALSE)=\"\",\"\",VLOOKUP($C55,Scores,10,FALSE)))","v":5},{"$f":"IF($C55=\"\",\"\",IF(VLOOKUP($C55,Scores,11,FALSE)=\"\",\"\",VLOOKUP($C55,Scores,11,FALSE)))","v":8},{"$f":"IF($C55=\"\",\"\",IF(VLOOKUP($C55,Scores,12,FALSE)=\"\",\"\",VLOOKUP($C55,Scores,12,FALSE)))","v":4},{"$f":"IF($C55=\"\",\"\",IF(VLOOKUP($C55,Scores,13,FALSE)=\"\",\"\",VLOOKUP($C55,Scores,13,FALSE)))","v":7},{"$f":"IF($C55=\"\",\"\",IF(VLOOKUP($C55,Scores,14,FALSE)=\"\",\"\",VLOOKUP($C55,Scores,14,FALSE)))","v":7},{"$f":"IF($C55=\"\",\"\",IF(VLOOKUP($C55,Scores,15,FALSE)=\"\",\"\",VLOOKUP($C55,Scores,15,FALSE)))","v":6},{"$f":"IF($O55=\"\",\"\",SUM($G55:$O55))","v":56},{"$f":"IF($D55=\"-\",\"-\",IF($P55=\"\",\"\",$P55-($D55/2)))","v":"-"},{"$f":"IF($C55=\"\",\"\",IF(VLOOKUP($C55,Scores,17,FALSE)=\"\",\"\",VLOOKUP($C55,Scores,17,FALSE)))","v":6},{"$f":"IF($C55=\"\",\"\",IF(VLOOKUP($C55,Scores,18,FALSE)=\"\",\"\",VLOOKUP($C55,Scores,18,FALSE)))","v":8},{"$f":"IF($C55=\"\",\"\",IF(VLOOKUP($C55,Scores,19,FALSE)=\"\",\"\",VLOOKUP($C55,Scores,19,FALSE)))","v":3},{"$f":"IF($C55=\"\",\"\",IF(VLOOKUP($C55,Scores,20,FALSE)=\"\",\"\",VLOOKUP($C55,Scores,20,FALSE)))","v":6},{"$f":"IF($C55=\"\",\"\",IF(VLOOKUP($C55,Scores,21,FALSE)=\"\",\"\",VLOOKUP($C55,Scores,21,FALSE)))","v":7},{"$f":"IF($C55=\"\",\"\",IF(VLOOKUP($C55,Scores,22,FALSE)=\"\",\"\",VLOOKUP($C55,Scores,22,FALSE)))","v":8},{"$f":"IF($C55=\"\",\"\",IF(VLOOKUP($C55,Scores,23,FALSE)=\"\",\"\",VLOOKUP($C55,Scores,23,FALSE)))","v":6},{"$f":"IF($C55=\"\",\"\",IF(VLOOKUP($C55,Scores,24,FALSE)=\"\",\"\",VLOOKUP($C55,Scores,24,FALSE)))","v":5},{"$f":"IF($C55=\"\",\"\",IF(VLOOKUP($C55,Scores,25,FALSE)=\"\",\"\",VLOOKUP($C55,Scores,25,FALSE)))","v":5},{"$f":"IF($Z55=\"\",\"\",SUM($R55:$Z55))","v":54},{"$f":"IF($D55=\"-\",\"-\",IF($AA55=\"\",\"\",$AA55-($D55/2)))","v":"-"},{"$f":"IF(OR($P55=\"\",$AA55=\"\"),\"\",SUM($P55,$AA55))","v":110},{"$f":"IF($D55=\"-\",\"-\",IF(OR($Q55=\"\",$AB55=\"\"),\"\",SUM($Q55,$AB55)))","v":"-"}]

{"sheet":"Results (Pairings)","index":5,"n_rows":55,"n_cols":30,"rows_kept":55,"cut":false,"hidden":false,"merged":[[0,17,0,29],[1,4,1,16],[1,17,1,29],[2,5,4,5],[2,6,2,16],[2,17,2,27],[2,28,2,29],[2,1,4,1],[2,3,4,3],[2,4,4,4],[2,2,4,2],[0,0,1,3],[0,4,0,16],[2,0,4,0]]}
[null,null,null,null,"HACK ATTACK GOLF CLUB",null,null,null,null,null,null,null,null,null,null,null,null,{"$f":"IF(Players!B1=\"\",\"\",Players!B1)","v":"Mile Square Golf Course (Players)"}]
[null,null,null,null,"Tournament Results",null,null,null,null,null,null,null,null,null,null,null,null,{"$f":"IF(Players!B4=\"\",\"\",Players!B4)","v":"2018-07-22"}]
["No.","Player",null,"Tour. Hdcp.","Match Play","Putts","Front Side (Hole No. / Par)",null,null,null,null,null,null,null,null,null,null,"Back Side (Hole No. / Par)",null,null,null,null,null,null,null,null,null,null,"Total"]
[null,null,null,null,null,null,{"$f":"IF(Players!H4=\"\",\"\",Players!H4)","v":1},{"$f":"IF(Players!I4=\"\",\"\",Players!I4)","v":2},{"$f":"IF(Players!J4=\"\",\"\",Players!J4)","v":3},{"$f":"IF(Players!K4=\"\",\"\",Players!K4)","v":4},{"$f":"IF(Players!L4=\"\",\"\",Players!L4)","v":5},{"$f":"IF(Players!M4=\"\",\"\",Players!M4)","v":6},{"$f":"IF(Players!N4=\"\",\"\",Players!N4)","v":7},{"$f":"IF(Players!O4=\"\",\"\",Players!O4)","v":8},{"$f":"IF(Players!P4=\"\",\"\",Players!P4)","v":9},"Gross","Net",{"$f":"IF(Players!R4=\"\",\"\",Players!R4)","v":10},{"$f":"IF(Players!S4=\"\",\"\",Players!S4)","v":11},{"$f":"IF(Players!T4=\"\",\"\",Players!T4)","v":12},{"$f":"IF(Players!U4=\"\",\"\",Players!U4)","v":13},{"$f":"IF(Players!V4=\"\",\"\",Players!V4)","v":14},{"$f":"IF(Players!W4=\"\",\"\",Players!W4)","v":15},{"$f":"IF(Players!X4=\"\",\"\",Players!X4)","v":16},{"$f":"IF(Players!Y4=\"\",\"\",Players!Y4)","v":17},{"$f":"IF(Players!Z4=\"\",\"\",Players!Z4)","v":18},"Gross","Net","Gross","Net"]
[null,null,null,null,null,null,{"$f":"IF(Players!H5=\"\",\"\",Players!H5)","v":4},{"$f":"IF(Players!I5=\"\",\"\",Players!I5)","v":4},{"$f":"IF(Players!J5=\"\",\"\",Players!J5)","v":4},{"$f":"IF(Players!K5=\"\",\"\",Players!K5)","v":3},{"$f":"IF(Players!L5=\"\",\"\",Players!L5)","v":5},{"$f":"IF(Players!M5=\"\",\"\",Players!M5)","v":3},{"$f":"IF(Players!N5=\"\",\"\",Players!N5)","v":4},{"$f":"IF(Players!O5=\"\",\"\",Players!O5)","v":4},{"$f":"IF(Players!P5=\"\",\"\",Players!P5)","v":5},{"$f":"IF(Players!Q5=\"\",\"\",Players!Q5)","v":36},"-",{"$f":"IF(Players!R5=\"\",\"\",Players!R5)","v":4},{"$f":"IF(Players!S5=\"\",\"\",Players!S5)","v":4},{"$f":"IF(Players!T5=\"\",\"\",Players!T5)","v":3},{"$f":"IF(Players!U5=\"\",\"\",Players!U5)","v":4},{"$f":"IF(Players!V5=\"\",\"\",Players!V5)","v":5},{"$f":"IF(Players!W5=\"\",\"\",Players!W5)","v":4},{"$f":"IF(Players!X5=\"\",\"\",Players!X5)","v":3},{"$f":"IF(Players!Y5=\"\",\"\",Players!Y5)","v":5},{"$f":"IF(Players!Z5=\"\",\"\",Players!Z5)","v":4},{"$f":"IF(Players!AA5=\"\",\"\",Players!AA5)","v":36},"-",{"$f":"IF(Players!AB5=\"\",\"\",Players!AB5)","v":72},"-"]
["","Jones, Gary",{"$f":"IF($B6=\"\",\"\",IF(ISBLANK(VLOOKUP($B6,Scores,5,FALSE)),\"N\",IF(VLOOKUP($B6,Members,6,FALSE)=\"A\",\"B\",\"BI\")))","v":"B"},{"$f":"IF($B6=\"\",\"\",VLOOKUP($B6,Scores,4,FALSE))","v":13},{"$f":"IF($B6=\"\",\"\",IF(VLOOKUP($B6,Scores,5,FALSE)=\"\",\"-\",VLOOKUP($B6,Matches,25,FALSE)))","v":"3 and 1"},{"$f":"IF($B6=\"\",\"\",IF(VLOOKUP($B6,Scores,6,FALSE)=\"\",\"\",VLOOKUP($B6,Scores,6,FALSE)))","v":31},{"$f":"IF($B6=\"\",\"\",IF(VLOOKUP($B6,Scores,7,FALSE)=\"\",\"\",VLOOKUP($B6,Scores,7,FALSE)))","v":5},{"$f":"IF($B6=\"\",\"\",IF(VLOOKUP($B6,Scores,8,FALSE)=\"\",\"\",VLOOKUP($B6,Scores,8,FALSE)))","v":4},{"$f":"IF($B6=\"\",\"\",IF(VLOOKUP($B6,Scores,9,FALSE)=\"\",\"\",VLOOKUP($B6,Scores,9,FALSE)))","v":5},{"$f":"IF($B6=\"\",\"\",IF(VLOOKUP($B6,Scores,10,FALSE)=\"\",\"\",VLOOKUP($B6,Scores,10,FALSE)))","v":2},{"$f":"IF($B6=\"\",\"\",IF(VLOOKUP($B6,Scores,11,FALSE)=\"\",\"\",VLOOKUP($B6,Scores,11,FALSE)))","v":5},{"$f":"IF($B6=\"\",\"\",IF(VLOOKUP($B6,Scores,12,FALSE)=\"\",\"\",VLOOKUP($B6,Scores,12,FALSE)))","v":4},{"$f":"IF($B6=\"\",\"\",IF(VLOOKUP($B6,Scores,13,FALSE)=\"\",\"\",VLOOKUP($B6,Scores,13,FALSE)))","v":5},{"$f":"IF($B6=\"\",\"\",IF(VLOOKUP($B6,Scores,14,FALSE)=\"\",\"\",VLOOKUP($B6,Scores,14,FALSE)))","v":5},{"$f":"IF($B6=\"\",\"\",IF(VLOOKUP($B6,Scores,15,FALSE)=\"\",\"\",VLOOKUP($B6,Scores,15,FALSE)))","v":4},{"$f":"IF($O6=\"\",\"\",SUM($G6:$O6))","v":39},{"$f":"IF($D6=\"-\",\"-\",IF($P6=\"\",\"\",$P6-($D6/2)))","v":32.5},{"$f":"IF($B6=\"\",\"\",IF(VLOOKUP($B6,Scores,17,FALSE)=\"\",\"\",VLOOKUP($B6,Scores,17,FALSE)))","v":5},{"$f":"IF($B6=\"\",\"\",IF(VLOOKUP($B6,Scores,18,FALSE)=\"\",\"\",VLOOKUP($B6,Scores,18,FALSE)))","v":6},{"$f":"IF($B6=\"\",\"\",IF(VLOOKUP($B6,Scores,19,FALSE)=\"\",\"\",VLOOKUP($B6,Scores,19,FALSE)))","v":2},{"$f":"IF($B6=\"\",\"\",IF(VLOOKUP($B6,Scores,20,FALSE)=\"\",\"\",VLOOKUP($B6,Scores,20,FALSE)))","v":5},{"$f":"IF($B6=\"\",\"\",IF(VLOOKUP($B6,Scores,21,FALSE)=\"\",\"\",VLOOKUP($B6,Scores,21,FALSE)))","v":5},{"$f":"IF($B6=\"\",\"\",IF(VLOOKUP($B6,Scores,22,FALSE)=\"\",\"\",VLOOKUP($B6,Scores,22,FALSE)))","v":5},{"$f":"IF($B6=\"\",\"\",IF(VLOOKUP($B6,Scores,23,FALSE)=\"\",\"\",VLOOKUP($B6,Scores,23,FALSE)))","v":2},{"$f":"IF($B6=\"\",\"\",IF(VLOOKUP($B6,Scores,24,FALSE)=\"\",\"\",VLOOKUP($B6,Scores,24,FALSE)))","v":4},{"$f":"IF($B6=\"\",\"\",IF(VLOOKUP($B6,Scores,25,FALSE)=\"\",\"\",VLOOKUP($B6,Scores,25,FALSE)))","v":6},{"$f":"IF($Z6=\"\",\"\",SUM($R6:$Z6))","v":40},{"$f":"IF($D6=\"-\",\"-\",IF($AA6=\"\",\"\",$AA6-($D6/2)))","v":33.5},{"$f":"IF(OR($P6=\"\",$AA6=\"\"),\"\",SUM($P6,$AA6))","v":79},{"$f":"IF($D6=\"-\",\"-\",IF(OR($Q6=\"\",$AB6=\"\"),\"\",SUM($Q6,$AB6)))","v":66}]
["","Escobedo, Hector",{"$f":"IF($B7=\"\",\"\",IF(ISBLANK(VLOOKUP($B7,Scores,5,FALSE)),\"N\",IF(VLOOKUP($B7,Members,6,FALSE)=\"A\",\"B\",\"BI\")))","v":"B"},{"$f":"IF($B7=\"\",\"\",VLOOKUP($B7,Scores,4,FALSE))","v":11},{"$f":"IF($B7=\"\",\"\",IF(VLOOKUP($B7,Scores,5,FALSE)=\"\",\"-\",VLOOKUP($B7,Matches,25,FALSE)))","v":"lost"},{"$f":"IF($B7=\"\",\"\",IF(VLOOKUP($B7,Scores,6,FALSE)=\"\",\"\",VLOOKUP($B7,Scores,6,FALSE)))","v":28},{"$f":"IF($B7=\"\",\"\",IF(VLOOKUP($B7,Scores,7,FALSE)=\"\",\"\",VLOOKUP($B7,Scores,7,FALSE)))","v":4},{"$f":"IF($B7=\"\",\"\",IF(VLOOKUP($B7,Scores,8,FALSE)=\"\",\"\",VLOOKUP($B7,Scores,8,FALSE)))","v":6},{"$f":"IF($B7=\"\",\"\",IF(VLOOKUP($B7,Scores,9,FALSE)=\"\",\"\",VLOOKUP($B7,Scores,9,FALSE)))","v":4},{"$f":"IF($B7=\"\",\"\",IF(VLOOKUP($B7,Scores,10,FALSE)=\"\",\"\",VLOOKUP($B7,Scores,10,FALSE)))","v":4},{"$f":"IF($B7=\"\",\"\",IF(VLOOKUP($B7,Scores,11,FALSE)=\"\",\"\",VLOOKUP($B7,Scores,11,FALSE)))","v":5},{"$f":"IF($B7=\"\",\"\",IF(VLOOKUP($B7,Scores,12,FALSE)=\"\",\"\",VLOOKUP($B7,Scores,12,FALSE)))","v":3},{"$f":"IF($B7=\"\",\"\",IF(VLOOKUP($B7,Scores,13,FALSE)=\"\",\"\",VLOOKUP($B7,Scores,13,FALSE)))","v":4},{"$f":"IF($B7=\"\",\"\",IF(VLOOKUP($B7,Scores,14,FALSE)=\"\",\"\",VLOOKUP($B7,Scores,14,FALSE)))","v":5},{"$f":"IF($B7=\"\",\"\",IF(VLOOKUP($B7,Scores,15,FALSE)=\"\",\"\",VLOOKUP($B7,Scores,15,FALSE)))","v":6},{"$f":"IF($O7=\"\",\"\",SUM($G7:$O7))","v":41},{"$f":"IF($D7=\"-\",\"-\",IF($P7=\"\",\"\",$P7-($D7/2)))","v":35.5},{"$f":"IF($B7=\"\",\"\",IF(VLOOKUP($B7,Scores,17,FALSE)=\"\",\"\",VLOOKUP($B7,Scores,17,FALSE)))","v":7},{"$f":"IF($B7=\"\",\"\",IF(VLOOKUP($B7,Scores,18,FALSE)=\"\",\"\",VLOOKUP($B7,Scores,18,FALSE)))","v":5},{"$f":"IF($B7=\"\",\"\",IF(VLOOKUP($B7,Scores,19,FALSE)=\"\",\"\",VLOOKUP($B7,Scores,19,FALSE)))","v":3},{"$f":"IF($B7=\"\",\"\",IF(VLOOKUP($B7,Scores,20,FALSE)=\"\",\"\",VLOOKUP($B7,Scores,20,FALSE)))","v":5},{"$f":"IF($B7=\"\",\"\",IF(VLOOKUP($B7,Scores,21,FALSE)=\"\",\"\",VLOOKUP($B7,Scores,21,FALSE)))","v":7},{"$f":"IF($B7=\"\",\"\",IF(VLOOKUP($B7,Scores,22,FALSE)=\"\",\"\",VLOOKUP($B7,Scores,22,FALSE)))","v":4},{"$f":"IF($B7=\"\",\"\",IF(VLOOKUP($B7,Scores,23,FALSE)=\"\",\"\",VLOOKUP($B7,Scores,23,FALSE)))","v":3},{"$f":"IF($B7=\"\",\"\",IF(VLOOKUP($B7,Scores,24,FALSE)=\"\",\"\",VLOOKUP($B7,Scores,24,FALSE)))","v":5},{"$f":"IF($B7=\"\",\"\",IF(VLOOKUP($B7,Scores,25,FALSE)=\"\",\"\",VLOOKUP($B7,Scores,25,FALSE)))","v":6},{"$f":"IF($Z7=\"\",\"\",SUM($R7:$Z7))","v":45},{"$f":"IF($D7=\"-\",\"-\",IF($AA7=\"\",\"\",$AA7-($D7/2)))","v":39.5},{"$f":"IF(OR($P7=\"\",$AA7=\"\"),\"\",SUM($P7,$AA7))","v":86},{"$f":"IF($D7=\"-\",\"-\",IF(OR($Q7=\"\",$AB7=\"\"),\"\",SUM($Q7,$AB7)))","v":75}]
["","Mariano, Joe","B",13,"lost",37,7,4,5,3,5,5,6,5,6,46,39.5,5,6,5,4,7,5,3,6,6,47,40.5,93,80]
["","Ornelas, Eddie","B",10,"2 and 1",34,4,5,6,4,5,4,4,6,5,43,38,4,4,3,4,6,6,5,6,4,42,37,85,75]
["","","","","","","","","","","","","","","","","","","","","","","","","","","","","",""]
["","Kozachenko, Jon","BI",15,"AS",33,5,5,4,3,6,3,4,5,6,41,33.5,5,4,5,4,6,4,3,6,6,43,35.5,84,69]
["","Matthews, Keith","BI",14,"AS",35,6,4,4,5,5,3,7,5,6,45,38,4,4,4,5,5,4,3,6,6,41,34,86,72]
["","Christen, Lou","N",7,"-",33,4,6,4,3,5,4,4,4,5,39,35.5,3,5,3,4,6,5,3,6,5,40,36.5,79,72]
["","Havstad, Steve","N",14,"-",29,4,5,5,3,5,4,5,5,5,41,34,5,4,3,7,5,5,4,6,6,45,38,86,72]
["","","","","","","","","","","","","","","","","","","","","","","","","","","","","",""]
["","Tenorio, Noe","N",17,"-",32,4,5,4,5,7,4,4,5,7,45,36.5,5,4,2,5,7,6,3,5,4,41,32.5,86,69]
["","Deutsch, Paul","N","-","-",29,6,4,4,4,6,4,6,5,6,45,"-",4,4,6,5,7,5,5,5,4,45,"-",90,"-"]
["","Lunghard, Rich","N",23,"-",34,6,6,4,4,6,4,4,7,6,47,35.5,6,6,3,6,6,6,4,7,6,50,38.5,97,74]
["","Blodgett, Kevin","N",27,"-",39,4,7,7,4,6,7,5,6,9,55,41.5,5,5,4,4,6,5,6,7,5,47,33.5,102,75]
["","","","","","","","","","","","","","","","","","","","","","","","","","","","","",""]
["","Iinuma, Shiro","N","-","-",46,5,8,6,5,8,4,7,7,6,56,"-",6,8,3,6,7,8,6,5,5,54,"-",110,"-"]
["","Endo, Johnny","N","-","-",41,6,11,7,4,5,6,5,8,6,58,"-",7,7,3,4,8,7,4,5,6,51,"-",109,"-"]
["","Ikeda, Blaine","N","-","-",35,7,4,6,5,6,4,7,6,6,51,"-",5,5,3,7,7,5,3,6,4,45,"-",96,"-"]
["","Holzrichter, Geoff","N",22,"-",32,4,5,7,4,5,5,5,5,5,45,34,4,5,5,4,7,6,4,10,6,51,40,96,74]
["","","","","","","","","","","","","","","","","","","","","","","","","","","","","",""]
["","","","","","","","","","","","","","","","","","","","","","","","","","","","","",""]
["","","","","","","","","","","","","","","","","","","","","","","","","","","","","",""]
["","","","","","","","","","","","","","","","","","","","","","","","","","","","","",""]
["","","","","","","","","","","","","","","","","","","","","","","","","","","","","",""]
["","","","","","","","","","","","","","","","","","","","","","","","","","","","","",""]
["","","","","","","","","","","","","","","","","","","","","","","","","","","","","",""]
["","","","","","","","","","","","","","","","","","","","","","","","","","","","","",""]
["","","","","","","","","","","","","","","","","","","","","","","","","","","","","",""]
["","","","","","","","","","","","","","","","","","","","","","","","","","","","","",""]
["","","","","","","","","","","","","","","","","","","","","","","","","","","","","",""]
["","","","","","","","","","","","","","","","","","","","","","","","","","","","","",""]
["","","","","","","","","","","","","","","","","","","","","","","","","","","","","",""]
["","","","","","","","","","","","","","","","","","","","","","","","","","","","","",""]
["","","","","","","","","","","","","","","","","","","","","","","","","","","","","",""]
["","","","","","","","","","","","","","","","","","","","","","","","","","","","","",""]
["","","","","","","","","","","","","","","","","","","","","","","","","","","","","",""]
["","","","","","","","","","","","","","","","","","","","","","","","","","","","","",""]
["","","","","","","","","","","","","","","","","","","","","","","","","","","","","",""]
["","","","","","","","","","","","","","","","","","","","","","","","","","","","","",""]
["","","","","","","","","","","","","","","","","","","","","","","","","","","","","",""]
["","","","","","","","","","","","","","","","","","","","","","","","","","","","","",""]
["","","","","","","","","","","","","","","","","","","","","","","","","","","","","",""]
["","","","","","","","","","","","","","","","","","","","","","","","","","","","","",""]
["","","","","","","","","","","","","","","","","","","","","","","","","","","","","",""]
["","","","","","","","","","","","","","","","","","","","","","","","","","","","","",""]
["","","","","","","","","","","","","","","","","","","","","","","","","","","","","",""]
["","","","","","","","","","","","","","","","","","","","","","","","","","","","","",""]
["","","","","","","","","","","","","","","","","","","","","","","","","","","","","",""]
["","","","","","","","","","","","","","","","","","","","","","","","","","","","","",""]
["","","","","","","","","","","","","","","","","","","","","","","","","","","","","",""]

{"sheet":"Skins - CP's","index":6,"n_rows":159,"n_cols":21,"rows_kept":159,"cut":false,"hidden":false,"merged":[[5,1,54,1],[107,1,156,1],[106,0,106,1],[56,1,105,1],[158,1,158,2],[55,0,55,1],[0,3,0,20],[2,2,4,2],[0,0,0,2],[2,0,4,0],[2,1,4,1],[1,0,1,2],[1,3,1,20],[2,12,2,20],[2,3,2,11]]}
["HACK ATTACK        GOLF CLUB",null,null,{"$f":"IF(Players!B1=\"\",\"\",Players!B1)","v":"Mile Square Golf Course (Players)"}]
["Skins &                   Closest-to-the-Pins",null,null,{"$f":"IF(Players!B4=\"\",\"\",Players!B4)","v":"2018-07-22"}]
["No.","Flight","Player","Front Hole No. / Par",null,null,null,null,null,null,null,null,"Back Hole No. / Par"]
[null,null,null,{"$f":"IF(Players!H4=\"\",\"\",Players!H4)","v":1},{"$f":"IF(Players!I4=\"\",\"\",Players!I4)","v":2},{"$f":"IF(Players!J4=\"\",\"\",Players!J4)","v":3},{"$f":"IF(Players!K4=\"\",\"\",Players!K4)","v":4},{"$f":"IF(Players!L4=\"\",\"\",Players!L4)","v":5},{"$f":"IF(Players!M4=\"\",\"\",Players!M4)","v":6},{"$f":"IF(Players!N4=\"\",\"\",Players!N4)","v":7},{"$f":"IF(Players!O4=\"\",\"\",Players!O4)","v":8},{"$f":"IF(Players!P4=\"\",\"\",Players!P4)","v":9},{"$f":"IF(Players!R4=\"\",\"\",Players!R4)","v":10},{"$f":"IF(Players!S4=\"\",\"\",Players!S4)","v":11},{"$f":"IF(Players!T4=\"\",\"\",Players!T4)","v":12},{"$f":"IF(Players!U4=\"\",\"\",Players!U4)","v":13},{"$f":"IF(Players!V4=\"\",\"\",Players!V4)","v":14},{"$f":"IF(Players!W4=\"\",\"\",Players!W4)","v":15},{"$f":"IF(Players!X4=\"\",\"\",Players!X4)","v":16},{"$f":"IF(Players!Y4=\"\",\"\",Players!Y4)","v":17},{"$f":"IF(Players!Z4=\"\",\"\",Players!Z4)","v":18}]
[null,null,null,{"$f":"IF(Players!H5=\"\",\"\",Players!H5)","v":4},{"$f":"IF(Players!I5=\"\",\"\",Players!I5)","v":4},{"$f":"IF(Players!J5=\"\",\"\",Players!J5)","v":4},{"$f":"IF(Players!K5=\"\",\"\",Players!K5)","v":3},{"$f":"IF(Players!L5=\"\",\"\",Players!L5)","v":5},{"$f":"IF(Players!M5=\"\",\"\",Players!M5)","v":3},{"$f":"IF(Players!N5=\"\",\"\",Players!N5)","v":4},{"$f":"IF(Players!O5=\"\",\"\",Players!O5)","v":4},{"$f":"IF(Players!P5=\"\",\"\",Players!P5)","v":5},{"$f":"IF(Players!R5=\"\",\"\",Players!R5)","v":4},{"$f":"IF(Players!S5=\"\",\"\",Players!S5)","v":4},{"$f":"IF(Players!T5=\"\",\"\",Players!T5)","v":3},{"$f":"IF(Players!U5=\"\",\"\",Players!U5)","v":4},{"$f":"IF(Players!V5=\"\",\"\",Players!V5)","v":5},{"$f":"IF(Players!W5=\"\",\"\",Players!W5)","v":4},{"$f":"IF(Players!X5=\"\",\"\",Players!X5)","v":3},{"$f":"IF(Players!Y5=\"\",\"\",Players!Y5)","v":5},{"$f":"IF(Players!Z5=\"\",\"\",Players!Z5)","v":4}]
[1,"A","Jones, Gary",{"$f":"IF($C6=\"\",\"\",IF(VLOOKUP($C6,Scores,7,FALSE)=\"\",\"\",IF(AND(VLOOKUP($C6,Scores,7,FALSE)-D$5<0, VLOOKUP($C6,Scores,7,FALSE)>0), VLOOKUP($C6,Scores,7,FALSE),\"\")))","v":""},{"$f":"IF($C6=\"\",\"\",IF(VLOOKUP($C6,Scores,7,FALSE)=\"\",\"\",IF(AND(VLOOKUP($C6,Scores,8,FALSE)-E$5<0, VLOOKUP($C6,Scores,8,FALSE)>0), VLOOKUP($C6,Scores,8,FALSE),\"\")))","v":""},{"$f":"IF($C6=\"\",\"\",IF(VLOOKUP($C6,Scores,7,FALSE)=\"\",\"\",IF(AND(VLOOKUP($C6,Scores,9,FALSE)-F$5<0, VLOOKUP($C6,Scores,9,FALSE)>0), VLOOKUP($C6,Scores,9,FALSE),\"\")))","v":""},{"$f":"IF($C6=\"\",\"\",IF(VLOOKUP($C6,Scores,7,FALSE)=\"\",\"\",IF(AND(VLOOKUP($C6,Scores,10,FALSE)-G$5<0, VLOOKUP($C6,Scores,10,FALSE)>0), VLOOKUP($C6,Scores,10,FALSE),\"\")))","v":2},{"$f":"IF($C6=\"\",\"\",IF(VLOOKUP($C6,Scores,7,FALSE)=\"\",\"\",IF(AND(VLOOKUP($C6,Scores,11,FALSE)-H$5<0, VLOOKUP($C6,Scores,11,FALSE)>0), VLOOKUP($C6,Scores,11,FALSE),\"\")))","v":""},{"$f":"IF($C6=\"\",\"\",IF(VLOOKUP($C6,Scores,7,FALSE)=\"\",\"\",IF(AND(VLOOKUP($C6,Scores,12,FALSE)-I$5<0, VLOOKUP($C6,Scores,12,FALSE)>0), VLOOKUP($C6,Scores,12,FALSE),\"\")))","v":""},{"$f":"IF($C6=\"\",\"\",IF(VLOOKUP($C6,Scores,7,FALSE)=\"\",\"\",IF(AND(VLOOKUP($C6,Scores,13,FALSE)-J$5<0, VLOOKUP($C6,Scores,13,FALSE)>0), VLOOKUP($C6,Scores,13,FALSE),\"\")))","v":""},{"$f":"IF($C6=\"\",\"\",IF(VLOOKUP($C6,Scores,7,FALSE)=\"\",\"\",IF(AND(VLOOKUP($C6,Scores,14,FALSE)-K$5<0, VLOOKUP($C6,Scores,14,FALSE)>0), VLOOKUP($C6,Scores,14,FALSE),\"\")))","v":""},{"$f":"IF($C6=\"\",\"\",IF(VLOOKUP($C6,Scores,7,FALSE)=\"\",\"\",IF(AND(VLOOKUP($C6,Scores,15,FALSE)-L$5<0, VLOOKUP($C6,Scores,15,FALSE)>0), VLOOKUP($C6,Scores,15,FALSE),\"\")))","v":4},{"$f":"IF($C6=\"\",\"\",IF(VLOOKUP($C6,Scores,7,FALSE)=\"\",\"\",IF(AND(VLOOKUP($C6,Scores,17,FALSE)-M$5<0, VLOOKUP($C6,Scores,17,FALSE)>0), VLOOKUP($C6,Scores,17,FALSE),\"\")))","v":""},{"$f":"IF($C6=\"\",\"\",IF(VLOOKUP($C6,Scores,7,FALSE)=\"\",\"\",IF(AND(VLOOKUP($C6,Scores,18,FALSE)-N$5<0, VLOOKUP($C6,Scores,18,FALSE)>0), VLOOKUP($C6,Scores,18,FALSE),\"\")))","v":""},{"$f":"IF($C6=\"\",\"\",IF(VLOOKUP($C6,Scores,7,FALSE)=\"\",\"\",IF(AND(VLOOKUP($C6,Scores,19,FALSE)-O$5<0, VLOOKUP($C6,Scores,19,FALSE)>0), VLOOKUP($C6,Scores,19,FALSE),\"\")))","v":2},{"$f":"IF($C6=\"\",\"\",IF(VLOOKUP($C6,Scores,7,FALSE)=\"\",\"\",IF(AND(VLOOKUP($C6,Scores,20,FALSE)-P$5<0, VLOOKUP($C6,Scores,20,FALSE)>0), VLOOKUP($C6,Scores,20,FALSE),\"\")))","v":""},{"$f":"IF($C6=\"\",\"\",IF(VLOOKUP($C6,Scores,7,FALSE)=\"\",\"\",IF(AND(VLOOKUP($C6,Scores,21,FALSE)-Q$5<0, VLOOKUP($C6,Scores,21,FALSE)>0), VLOOKUP($C6,Scores,21,FALSE),\"\")))","v":""},{"$f":"IF($C6=\"\",\"\",IF(VLOOKUP($C6,Scores,7,FALSE)=\"\",\"\",IF(AND(VLOOKUP($C6,Scores,22,FALSE)-R$5<0, VLOOKUP($C6,Scores,22,FALSE)>0), VLOOKUP($C6,Scores,22,FALSE),\"\")))","v":""},{"$f":"IF($C6=\"\",\"\",IF(VLOOKUP($C6,Scores,7,FALSE)=\"\",\"\",IF(AND(VLOOKUP($C6,Scores,23,FALSE)-S$5<0, VLOOKUP($C6,Scores,23,FALSE)>0), VLOOKUP($C6,Scores,23,FALSE),\"\")))","v":2},{"$f":"IF($C6=\"\",\"\",IF(VLOOKUP($C6,Scores,7,FALSE)=\"\",\"\",IF(AND(VLOOKUP($C6,Scores,24,FALSE)-T$5<0, VLOOKUP($C6,Scores,24,FALSE)>0), VLOOKUP($C6,Scores,24,FALSE),\"\")))","v":4},{"$f":"IF($C6=\"\",\"\",IF(VLOOKUP($C6,Scores,7,FALSE)=\"\",\"\",IF(AND(VLOOKUP($C6,Scores,25,FALSE)-U$5<0, VLOOKUP($C6,Scores,25,FALSE)>0), VLOOKUP($C6,Scores,25,FALSE),\"\")))","v":""}]
[2,null,"Escobedo, Hector","","","","","","","","","","","","","","","","","",""]
[3,null,"Mariano, Joe","","","","","","","","","","","","","","","","","",""]
[4,null,"Ornelas, Eddie","","","","","","","","","","","","","","","","","",""]
[5,null,"Kozachenko, Jon","","","","","","","","","","","","","","","","","",""]
[6,null,"Matthews, Keith","","","","","","","","","","","","","","","","","",""]
[7,null,"Christen, Lou","","","","","","","","","",3,"","","","","","","",""]
[8,null,"Havstad, Steve","","","","","","","","","","","","","","","","","",""]
[9,null,"Blodgett, Kevin","","","","","","","","","","","","","","","","","",""]
[10,null,"","","","","","","","","","","","","","","","","","",""]
[11,null,"","","","","","","","","","","","","","","","","","",""]
[12,null,"","","","","","","","","","","","","","","","","","",""]
[13,null,"","","","","","","","","","","","","","","","","","",""]
[14,null,"","","","","","","","","","","","","","","","","","",""]
[15,null,"","","","","","","","","","","","","","","","","","",""]
[16,null,"","","","","","","","","","","","","","","","","","",""]
[17,null,"","","","","","","","","","","","","","","","","","",""]
[18,null,"","","","","","","","","","","","","","","","","","",""]
[19,null,"","","","","","","","","","","","","","","","","","",""]
[20,null,"","","","","","","","","","","","","","","","","","",""]
[21,null,"","","","","","","","","","","","","","","","","","",""]
[22,null,"","","","","","","","","","","","","","","","","","",""]
[23,null,"","","","","","","","","","","","","","","","","","",""]
[24,null,"","","","","","","","","","","","","","","","","","",""]
[25,null,"","","","","","","","","","","","","","","","","","",""]
[26,null,"","","","","","","","","","","","","","","","","","",""]
[27,null,"","","","","","","","","","","","","","","","","","",""]
[28,null,"","","","","","","","","","","","","","","","","","",""]
[29,null,"","","","","","","","","","","","","","","","","","",""]
[30,null,"","","","","","","","","","","","","","","","","","",""]
[31,null,"","","","","","","","","","","","","","","","","","",""]
[32,null,"","","","","","","","","","","","","","","","","","",""]
[33,null,"","","","","","","","","","","","","","","","","","",""]
[34,null,"","","","","","","","","","","","","","","","","","",""]
[35,null,"","","","","","","","","","","","","","","","","","",""]
[36,null,"","","","","","","","","","","","","","","","","","",""]
[37,null,"","","","","","","","","","","","","","","","","","",""]
[38,null,"","","","","","","","","","","","","","","","","","",""]
[39,null,"","","","","","","","","","","","","","","","","","",""]
[40,null,"","","","","","","","","","","","","","","","","","",""]
[41,null,"","","","","","","","","","","","","","","","","","",""]
[42,null,"","","","","","","","","","","","","","","","","","",""]
[43,null,"","","","","","","","","","","","","","","","","","",""]
[44,null,"","","","","","","","","","","","","","","","","","",""]
[45,null,"","","","","","","","","","","","","","","","","","",""]
[46,null,"","","","","","","","","","","","","","","","","","",""]
[47,null,"","","","","","","","","","","","","","","","","","",""]
[48,null,"","","","","","","","","","","","","","","","","","",""]
[49,null,"","","","","","","","","","","","","","","","","","",""]
[50,null,"","","","","","","","","","","","","","","","","","",""]
[null,null,"SKINS (S)",{"$f":"IF(COUNTIF(D6:D55,MIN(D$6:D$55))=1,\"S\",\"\")","v":""},"","","S","","","","","S","S","","S","","","","S","S",""]
[1,"B","Blodgett, Kevin","","","","","","","","","","","","","","","","","",""]
[2,null,"Tenorio, Noe","","","","","","","","","","","",2,"","","","","",""]
[3,null,"Deutsch, Paul","","","","","","","","","","","","","","","","","",""]
[4,null,"Lunghard, Rich","","","","","","","","","","","","","","","","","",""]
[5,null,"Holzrichter, Geoff","","","","","","","","","","","","","","","","","",""]
[6,null,"","","","","","","","","","","","","","","","","","",""]
[7,null,"","","","","","","","","","","","","","","","","","",""]
[8,null,"","","","","","","","","","","","","","","","","","",""]
[9,null,"","","","","","","","","","","","","","","","","","",""]
[10,null,"","","","","","","","","","","","","","","","","","",""]
[11,null,"","","","","","","","","","","","","","","","","","",""]
[12,null,"","","","","","","","","","","","","","","","","","",""]
[13,null,"","","","","","","","","","","","","","","","","","",""]
[14,null,"",{"$f":"IF($C70=\"\",\"\",IF(VLOOKUP($C70,Scores,7,FALSE)=\"\",\"\",IF(AND(VLOOKUP($C70,Scores,7,FALSE)-D$5<0, VLOOKUP($C70,Scores,7,FALSE)>0), VLOOKUP($C70,Scores,7,FALSE),\"\")))","v":""},{"$f":"IF($C70=\"\",\"\",IF(VLOOKUP($C70,Scores,7,FALSE)=\"\",\"\",IF(AND(VLOOKUP($C70,Scores,8,FALSE)-E$5<0, VLOOKUP($C70,Scores,8,FALSE)>0), VLOOKUP($C70,Scores,8,FALSE),\"\")))","v":""},{"$f":"IF($C70=\"\",\"\",IF(VLOOKUP($C70,Scores,7,FALSE)=\"\",\"\",IF(AND(VLOOKUP($C70,Scores,9,FALSE)-F$5<0, VLOOKUP($C70,Scores,9,FALSE)>0), VLOOKUP($C70,Scores,9,FALSE),\"\")))","v":""},{"$f":"IF($C70=\"\",\"\",IF(VLOOKUP($C70,Scores,7,FALSE)=\"\",\"\",IF(AND(VLOOKUP($C70,Scores,10,FALSE)-G$5<0, VLOOKUP($C70,Scores,10,FALSE)>0), VLOOKUP($C70,Scores,10,FALSE),\"\")))","v":""},{"$f":"IF($C70=\"\",\"\",IF(VLOOKUP($C70,Scores,7,FALSE)=\"\",\"\",IF(AND(VLOOKUP($C70,Scores,11,FALSE)-H$5<0, VLOOKUP($C70,Scores,11,FALSE)>0), VLOOKUP($C70,Scores,11,FALSE),\"\")))","v":""},{"$f":"IF($C70=\"\",\"\",IF(VLOOKUP($C70,Scores,7,FALSE)=\"\",\"\",IF(AND(VLOOKUP($C70,Scores,12,FALSE)-I$5<0, VLOOKUP($C70,Scores,12,FALSE)>0), VLOOKUP($C70,Scores,12,FALSE),\"\")))","v":""},{"$f":"IF($C70=\"\",\"\",IF(VLOOKUP($C70,Scores,7,FALSE)=\"\",\"\",IF(AND(VLOOKUP($C70,Scores,13,FALSE)-J$5<0, VLOOKUP($C70,Scores,13,FALSE)>0), VLOOKUP($C70,Scores,13,FALSE),\"\")))","v":""},{"$f":"IF($C70=\"\",\"\",IF(VLOOKUP($C70,Scores,7,FALSE)=\"\",\"\",IF(AND(VLOOKUP($C70,Scores,14,FALSE)-K$5<0, VLOOKUP($C70,Scores,14,FALSE)>0), VLOOKUP($C70,Scores,14,FALSE),\"\")))","v":""},{"$f":"IF($C70=\"\",\"\",IF(VLOOKUP($C70,Scores,7,FALSE)=\"\",\"\",IF(AND(VLOOKUP($C70,Scores,15,FALSE)-L$5<0, VLOOKUP($C70,Scores,15,FALSE)>0), VLOOKUP($C70,Scores,15,FALSE),\"\")))","v":""},{"$f":"IF($C70=\"\",\"\",IF(VLOOKUP($C70,Scores,7,FALSE)=\"\",\"\",IF(AND(VLOOKUP($C70,Scores,17,FALSE)-M$5<0, VLOOKUP($C70,Scores,17,FALSE)>0), VLOOKUP($C70,Scores,17,FALSE),\"\")))","v":""},{"$f":"IF($C70=\"\",\"\",IF(VLOOKUP($C70,Scores,7,FALSE)=\"\",\"\",IF(AND(VLOOKUP($C70,Scores,18,FALSE)-N$5<0, VLOOKUP($C70,Scores,18,FALSE)>0), VLOOKUP($C70,Scores,18,FALSE),\"\")))","v":""},{"$f":"IF($C70=\"\",\"\",IF(VLOOKUP($C70,Scores,7,FALSE)=\"\",\"\",IF(AND(VLOOKUP($C70,Scores,19,FALSE)-O$5<0, VLOOKUP($C70,Scores,19,FALSE)>0), VLOOKUP($C70,Scores,19,FALSE),\"\")))","v":""},{"$f":"IF($C70=\"\",\"\",IF(VLOOKUP($C70,Scores,7,FALSE)=\"\",\"\",IF(AND(VLOOKUP($C70,Scores,20,FALSE)-P$5<0, VLOOKUP($C70,Scores,20,FALSE)>0), VLOOKUP($C70,Scores,20,FALSE),\"\")))","v":""},{"$f":"IF($C70=\"\",\"\",IF(VLOOKUP($C70,Scores,7,FALSE)=\"\",\"\",IF(AND(VLOOKUP($C70,Scores,21,FALSE)-Q$5<0, VLOOKUP($C70,Scores,21,FALSE)>0), VLOOKUP($C70,Scores,21,FALSE),\"\")))","v":""},{"$f":"IF($C70=\"\",\"\",IF(VLOOKUP($C70,Scores,7,FALSE)=\"\",\"\",IF(AND(VLOOKUP($C70,Scores,22,FALSE)-R$5<0, VLOOKUP($C70,Scores,22,FALSE)>0), VLOOKUP($C70,Scores,22,FALSE),\"\")))","v":""},{"$f":"IF($C70=\"\",\"\",IF(VLOOKUP($C70,Scores,7,FALSE)=\"\",\"\",IF(AND(VLOOKUP($C70,Scores,23,FALSE)-S$5<0, VLOOKUP($C70,Scores,23,FALSE)>0), VLOOKUP($C70,Scores,23,FALSE),\"\")))","v":""},{"$f":"IF($C70=\"\",\"\",IF(VLOOKUP($C70,Scores,7,FALSE)=\"\",\"\",IF(AND(VLOOKUP($C70,Scores,24,FALSE)-T$5<0, VLOOKUP($C70,Scores,24,FALSE)>0), VLOOKUP($C70,Scores,24,FALSE),\"\")))","v":""},{"$f":"IF($C70=\"\",\"\",IF(VLOOKUP($C70,Scores,7,FALSE)=\"\",\"\",IF(AND(VLOOKUP($C70,Scores,25,FALSE)-U$5<0, VLOOKUP($C70,Scores,25,FALSE)>0), VLOOKUP($C70,Scores,25,FALSE),\"\")))","v":""}]
[15,null,"","","","","","","","","","","","","","","","","","",""]
[16,null,"","","","","","","","","","","","","","","","","","",""]
[17,null,"","","","","","","","","","","","","","","","","","",""]
[18,null,"","","","","","","","","","","","","","","","","","",""]
[19,null,"","","","","","","","","","","","","","","","","","",""]
[20,null,"","","","","","","","","","","","","","","","","","",""]
[21,null,"","","","","","","","","","","","","","","","","","",""]
[22,null,"","","","","","","","","","","","","","","","","","",""]
[23,null,"","","","","","","","","","","","","","","","","","",""]
[24,null,"","","","","","","","","","","","","","","","","","",""]
[25,null,"","","","","","","","","","","","","","","","","","",""]
[26,null,"","","","","","","","","","","","","","","","","","",""]
[27,null,"","","","","","","","","","","","","","","","","","",""]
[28,null,"","","","","","","","","","","","","","","","","","",""]
[29,null,"","","","","","","","","","","","","","","","","","",""]
[30,null,"","","","","","","","","","","","","","","","","","",""]
[31,null,"","","","","","","","","","","","","","","","","","",""]
[32,null,"","","","","","","","","","","","","","","","","","",""]
[33,null,"","","","","","","","","","","","","","","","","","",""]
[34,null,"","","","","","","","","","","","","","","","","","",""]
[35,null,"","","","","","","","","","","","","","","","","","",""]
[36,null,"","","","","","","","","","","","","","","","","","",""]
[37,null,"","","","","","","","","","","","","","","","","","",""]
[38,null,"","","","","","","","","","","","","","","","","","",""]
[39,null,"","","","","","","","","","","","","","","","","","",""]
[40,null,"","","","","","","","","","","","","","","","","","",""]
[41,null,"","","","","","","","","","","","","","","","","","",""]
[42,null,"","","","","","","","","","","","","","","","","","",""]
[43,null,"","","","","","","","","","","","","","","","","","",""]
[44,null,"","","","","","","","","","","","","","","","","","",""]
[45,null,"","","","","","","","","","","","","","","","","","",""]
[46,null,"","","","","","","","","","","","","","","","","","",""]
[47,null,"","","","","","","","","","","","","","","","","","",""]
[48,null,"","","","","","","","","","","","","","","","","","",""]
[49,null,"","","","","","","","","","","","","","","","","","",""]
[50,null,"","","","","","","","","","","","","","","","","","",""]
[null,null,"SKINS (S)",{"$f":"IF(COUNTIF(D57:D106,MIN(D$57:D$106))=1,\"S\",\"\")","v":""},"","","","","","","","","","","S","","","","","",""]
[1,"CP's","Iinuma, Shiro"]
[2,null,"Endo, Johnny"]
[3,null,"Ikeda, Blaine"]
[4,null,""]
[5,null,""]
[6,null,""]
[7,null,""]
[8,null,""]
[9,null,""]
[10,null,""]
[11,null,""]
[12,null,""]
[13,null,""]
[14,null,""]
[15,null,""]
[16,null,""]
[17,null,""]
[18,null,""]
[19,null,""]
[20,null,""]
[21,null,""]
[22,null,""]
[23,null,""]
[24,null,""]
[25,null,""]
[26,null,""]
[27,null,""]
[28,null,""]
[29,null,""]
[30,null,""]
[31,null,""]
[32,null,""]
[33,null,""]
[34,null,""]
[35,null,""]
[36,null,""]
[37,null,""]
[38,null,""]
[39,null,""]
[40,null,""]
[41,null,""]
[42,null,""]
[43,null,""]
[44,null,""]
[45,null,""]
[46,null,""]
[47,null,""]
[48,null,""]
[49,null,""]
[50,null,""]
[]
[null,"Symbol represents \"Skin\"",null,null,null,null,null,null,null,"Symbol represents \"Closest-to-the-Pin\""]

{"sheet":"Matches","index":7,"n_rows":208,"n_cols":26,"rows_kept":208,"cut":false,"hidden":false,"merged":[[178,0,180,0],[180,1,180,2],[198,0,200,0],[200,1,200,2],[203,0,205,0],[205,1,205,2],[183,0,185,0],[185,1,185,2],[188,0,190,0],[190,1,190,2],[193,0,195,0],[195,1,195,2],[163,0,165,0],[165,1,165,2],[168,0,170,0],[170,1,170,2],[173,0,175,0],[175,1,175,2],[148,0,150,0],[150,1,150,2],[153,0,155,0],[155,1,155,2],[158,0,160,0],[160,1,160,2],[133,0,135,0],[135,1,135,2],[138,0,140,0],[140,1,140,2],[143,0,145,0],[145,1,145,2],[118,0,120,0],[120,1,120,2],[123,0,125,0],[125,1,125,2],[128,0,130,0],[130,1,130,2],[100,1,100,2],[108,0,110,0],[110,1,110,2],[113,0,115,0],[115,1,115,2],[70,1,70,2],[75,1,75,2],[80,1,80,2],[85,1,85,2],[95,1,95,2],[30,1,30,2],[35,1,35,2],[40,1,40,2],[45,1,45,2],[50,1,50,2],[55,1,55,2],[103,0,105,0],[53,0,55,0],[58,0,60,0],[63,0,65,0],[68,0,70,0],[73,0,75,0],[78,0,80,0],[83,0,85,0],[93,0,95,0],[98,0,100,0],[88,0,90,0],[90,1,90,2],[60,1,60,2],[65,1,65,2],[105,1,105,2],[48,0,50,0],[28,0,30,0],[33,0,35,0],[38,0,40,0],[23,0,25,0],[43,0,45,0],[3,25,7,25],[0,0,0,24],[3,24,7,24],[3,3,3,20],[25,1,25,2],[8,0,10,0],[1,0,1,24],[2,0,2,24],[18,0,20,0],[10,1,10,2],[15,1,15,2],[20,1,20,2],[13,0,15,0]]}
["HACK ATTACK MATCH PLAY RESULTS"]
[{"$f":"IF(Players!B1=\"\",\"\",Players!B1)","v":"Mile Square Golf Course (Players)"}]
[{"$f":"IF(Players!B4=\"\",\"\",Players!B4)","v":"2018-07-22"}]
[null,null,null,"Hole No. / Par / Yardage / Handicap No.",null,null,null,null,null,null,null,null,null,null,null,null,null,null,null,null,null,null,null,null,"RESULTS","RESULTS"]
[null,null,null,{"$f":"IF(Players!H4=\"\",\"\",Players!H4)","v":1},{"$f":"IF(Players!I4=\"\",\"\",Players!I4)","v":2},{"$f":"IF(Players!J4=\"\",\"\",Players!J4)","v":3},{"$f":"IF(Players!K4=\"\",\"\",Players!K4)","v":4},{"$f":"IF(Players!L4=\"\",\"\",Players!L4)","v":5},{"$f":"IF(Players!M4=\"\",\"\",Players!M4)","v":6},{"$f":"IF(Players!N4=\"\",\"\",Players!N4)","v":7},{"$f":"IF(Players!O4=\"\",\"\",Players!O4)","v":8},{"$f":"IF(Players!P4=\"\",\"\",Players!P4)","v":9},{"$f":"IF(Players!R4=\"\",\"\",Players!R4)","v":10},{"$f":"IF(Players!S4=\"\",\"\",Players!S4)","v":11},{"$f":"IF(Players!T4=\"\",\"\",Players!T4)","v":12},{"$f":"IF(Players!U4=\"\",\"\",Players!U4)","v":13},{"$f":"IF(Players!V4=\"\",\"\",Players!V4)","v":14},{"$f":"IF(Players!W4=\"\",\"\",Players!W4)","v":15},{"$f":"IF(Players!X4=\"\",\"\",Players!X4)","v":16},{"$f":"IF(Players!Y4=\"\",\"\",Players!Y4)","v":17},{"$f":"IF(Players!Z4=\"\",\"\",Players!Z4)","v":18}]
[null,null,null,{"$f":"IF(Players!H5=\"\",\"\",Players!H5)","v":4},{"$f":"IF(Players!I5=\"\",\"\",Players!I5)","v":4},{"$f":"IF(Players!J5=\"\",\"\",Players!J5)","v":4},{"$f":"IF(Players!K5=\"\",\"\",Players!K5)","v":3},{"$f":"IF(Players!L5=\"\",\"\",Players!L5)","v":5},{"$f":"IF(Players!M5=\"\",\"\",Players!M5)","v":3},{"$f":"IF(Players!N5=\"\",\"\",Players!N5)","v":4},{"$f":"IF(Players!O5=\"\",\"\",Players!O5)","v":4},{"$f":"IF(Players!P5=\"\",\"\",Players!P5)","v":5},{"$f":"IF(Players!R5=\"\",\"\",Players!R5)","v":4},{"$f":"IF(Players!S5=\"\",\"\",Players!S5)","v":4},{"$f":"IF(Players!T5=\"\",\"\",Players!T5)","v":3},{"$f":"IF(Players!U5=\"\",\"\",Players!U5)","v":4},{"$f":"IF(Players!V5=\"\",\"\",Players!V5)","v":5},{"$f":"IF(Players!W5=\"\",\"\",Players!W5)","v":4},{"$f":"IF(Players!X5=\"\",\"\",Players!X5)","v":3},{"$f":"IF(Players!Y5=\"\",\"\",Players!Y5)","v":5},{"$f":"IF(Players!Z5=\"\",\"\",Players!Z5)","v":4}]
[null,null,null,{"$f":"IF(Players!H6=\"\",\"\",Players!H6)","v":354},{"$f":"IF(Players!I6=\"\",\"\",Players!I6)","v":383},{"$f":"IF(Players!J6=\"\",\"\",Players!J6)","v":347},{"$f":"IF(Players!K6=\"\",\"\",Players!K6)","v":111},{"$f":"IF(Players!L6=\"\",\"\",Players!L6)","v":480},{"$f":"IF(Players!M6=\"\",\"\",Players!M6)","v":169},{"$f":"IF(Players!N6=\"\",\"\",Players!N6)","v":374},{"$f":"IF(Players!O6=\"\",\"\",Players!O6)","v":410},{"$f":"IF(Players!P6=\"\",\"\",Players!P6)","v":476},{"$f":"IF(Players!R6=\"\",\"\",Players!R6)","v":376},{"$f":"IF(Players!S6=\"\",\"\",Players!S6)","v":405},{"$f":"IF(Players!T6=\"\",\"\",Players!T6)","v":153},{"$f":"IF(Players!U6=\"\",\"\",Players!U6)","v":332},{"$f":"IF(Players!V6=\"\",\"\",Players!V6)","v":515},{"$f":"IF(Players!W6=\"\",\"\",Players!W6)","v":431},{"$f":"IF(Players!X6=\"\",\"\",Players!X6)","v":141},{"$f":"IF(Players!Y6=\"\",\"\",Players!Y6)","v":477},{"$f":"IF(Players!Z6=\"\",\"\",Players!Z6)","v":400}]
["No.","Player","Hdcp.",{"$f":"IF(Players!H7=\"\",\"\",Players!H7)","v":15},{"$f":"IF(Players!I7=\"\",\"\",Players!I7)","v":1},{"$f":"IF(Players!J7=\"\",\"\",Players!J7)","v":13},{"$f":"IF(Players!K7=\"\",\"\",Players!K7)","v":17},{"$f":"IF(Players!L7=\"\",\"\",Players!L7)","v":7},{"$f":"IF(Players!M7=\"\",\"\",Players!M7)","v":9},{"$f":"IF(Players!N7=\"\",\"\",Players!N7)","v":11},{"$f":"IF(Players!O7=\"\",\"\",Players!O7)","v":3},{"$f":"IF(Players!P7=\"\",\"\",Players!P7)","v":5},{"$f":"IF(Players!R7=\"\",\"\",Players!R7)","v":8},{"$f":"IF(Players!S7=\"\",\"\",Players!S7)","v":4},{"$f":"IF(Players!T7=\"\",\"\",Players!T7)","v":10},{"$f":"IF(Players!U7=\"\",\"\",Players!U7)","v":18},{"$f":"IF(Players!V7=\"\",\"\",Players!V7)","v":14},{"$f":"IF(Players!W7=\"\",\"\",Players!W7)","v":2},{"$f":"IF(Players!X7=\"\",\"\",Players!X7)","v":16},{"$f":"IF(Players!Y7=\"\",\"\",Players!Y7)","v":12},{"$f":"IF(Players!Z7=\"\",\"\",Players!Z7)","v":6}]
[1,{"$f":"IF(Players!F83=\"\",\"\",Players!B83)","v":"Jones, Gary"},{"$f":"IF($B9=\"\",\"\",IF(VLOOKUP($B9,Members,9,FALSE)=\"\",\"\",(VLOOKUP($B9,Members,9,FALSE))))","v":13},{"$f":"IF($B9=\"\",\"\",IF(VLOOKUP($B9,Scores,7,FALSE)=\"\",\"\",VLOOKUP($B9,Scores,7,FALSE)))","v":5},{"$f":"IF($B9=\"\",\"\",IF(VLOOKUP($B9,Scores,8,FALSE)=\"\",\"\",VLOOKUP($B9,Scores,8,FALSE)))","v":4},{"$f":"IF($B9=\"\",\"\",IF(VLOOKUP($B9,Scores,9,FALSE)=\"\",\"\",VLOOKUP($B9,Scores,9,FALSE)))","v":5},{"$f":"IF($B9=\"\",\"\",IF(VLOOKUP($B9,Scores,10,FALSE)=\"\",\"\",VLOOKUP($B9,Scores,10,FALSE)))","v":2},{"$f":"IF($B9=\"\",\"\",IF(VLOOKUP($B9,Scores,11,FALSE)=\"\",\"\",VLOOKUP($B9,Scores,11,FALSE)))","v":5},{"$f":"IF($B9=\"\",\"\",IF(VLOOKUP($B9,Scores,12,FALSE)=\"\",\"\",VLOOKUP($B9,Scores,12,FALSE)))","v":4},{"$f":"IF($B9=\"\",\"\",IF(VLOOKUP($B9,Scores,13,FALSE)=\"\",\"\",VLOOKUP($B9,Scores,13,FALSE)))","v":5},{"$f":"IF($B9=\"\",\"\",IF(VLOOKUP($B9,Scores,14,FALSE)=\"\",\"\",VLOOKUP($B9,Scores,14,FALSE)))","v":5},{"$f":"IF($B9=\"\",\"\",IF(VLOOKUP($B9,Scores,15,FALSE)=\"\",\"\",VLOOKUP($B9,Scores,15,FALSE)))","v":4},{"$f":"IF($B9=\"\",\"\",IF(VLOOKUP($B9,Scores,17,FALSE)=\"\",\"\",VLOOKUP($B9,Scores,17,FALSE)))","v":5},{"$f":"IF($B9=\"\",\"\",IF(VLOOKUP($B9,Scores,18,FALSE)=\"\",\"\",VLOOKUP($B9,Scores,18,FALSE)))","v":6},{"$f":"IF($B9=\"\",\"\",IF(VLOOKUP($B9,Scores,19,FALSE)=\"\",\"\",VLOOKUP($B9,Scores,19,FALSE)))","v":2},{"$f":"IF($B9=\"\",\"\",IF(VLOOKUP($B9,Scores,20,FALSE)=\"\",\"\",VLOOKUP($B9,Scores,20,FALSE)))","v":5},{"$f":"IF($B9=\"\",\"\",IF(VLOOKUP($B9,Scores,21,FALSE)=\"\",\"\",VLOOKUP($B9,Scores,21,FALSE)))","v":5},{"$f":"IF($B9=\"\",\"\",IF(VLOOKUP($B9,Scores,22,FALSE)=\"\",\"\",VLOOKUP($B9,Scores,22,FALSE)))","v":5},{"$f":"IF($B9=\"\",\"\",IF(VLOOKUP($B9,Scores,23,FALSE)=\"\",\"\",VLOOKUP($B9,Scores,23,FALSE)))","v":2},{"$f":"IF($B9=\"\",\"\",IF(VLOOKUP($B9,Scores,24,FALSE)=\"\",\"\",VLOOKUP($B9,Scores,24,FALSE)))","v":4},{"$f":"IF($B9=\"\",\"\",IF(VLOOKUP($B9,Scores,25,FALSE)=\"\",\"\",VLOOKUP($B9,Scores,25,FALSE)))","v":6},null,null,null,{"$f":"IF(OR(U9=\"\",U10=\"\"),\"\",IF(X11=\"E\",\"AS\",IF(X11<0,\"lost\",ABS(X11)&\" and \"&V11)))","v":"3 and 1"},{"$f":"IF(OR(U9=\"\",U10=\"\"),\"\",IF(Y9=\"1 and 0\",\"1-up\",IF(Y9=\"2 and 0\",\"2-up\",Y9)))","v":"3 and 1"}]
[null,{"$f":"IF(B9=\"\",\"\",Players!F83)","v":"Escobedo, Hector"},{"$f":"IF($B10=\"\",\"\",IF(VLOOKUP($B10,Members,9,FALSE)=\"\",\"\",(VLOOKUP($B10,Members,9,FALSE))))","v":11},{"$f":"IF($B10=\"\",\"\",IF(VLOOKUP($B10,Scores,7,FALSE)=\"\",\"\",VLOOKUP($B10,Scores,7,FALSE)))","v":4},{"$f":"IF($B10=\"\",\"\",IF(VLOOKUP($B10,Scores,8,FALSE)=\"\",\"\",VLOOKUP($B10,Scores,8,FALSE)))","v":6},{"$f":"IF($B10=\"\",\"\",IF(VLOOKUP($B10,Scores,9,FALSE)=\"\",\"\",VLOOKUP($B10,Scores,9,FALSE)))","v":4},{"$f":"IF($B10=\"\",\"\",IF(VLOOKUP($B10,Scores,10,FALSE)=\"\",\"\",VLOOKUP($B10,Scores,10,FALSE)))","v":4},{"$f":"IF($B10=\"\",\"\",IF(VLOOKUP($B10,Scores,11,FALSE)=\"\",\"\",VLOOKUP($B10,Scores,11,FALSE)))","v":5},{"$f":"IF($B10=\"\",\"\",IF(VLOOKUP($B10,Scores,12,FALSE)=\"\",\"\",VLOOKUP($B10,Scores,12,FALSE)))","v":3},{"$f":"IF($B10=\"\",\"\",IF(VLOOKUP($B10,Scores,13,FALSE)=\"\",\"\",VLOOKUP($B10,Scores,13,FALSE)))","v":4},{"$f":"IF($B10=\"\",\"\",IF(VLOOKUP($B10,Scores,14,FALSE)=\"\",\"\",VLOOKUP($B10,Scores,14,FALSE)))","v":5},{"$f":"IF($B10=\"\",\"\",IF(VLOOKUP($B10,Scores,15,FALSE)=\"\",\"\",VLOOKUP($B10,Scores,15,FALSE)))","v":6},{"$f":"IF($B10=\"\",\"\",IF(VLOOKUP($B10,Scores,17,FALSE)=\"\",\"\",VLOOKUP($B10,Scores,17,FALSE)))","v":7},{"$f":"IF($B10=\"\",\"\",IF(VLOOKUP($B10,Scores,18,FALSE)=\"\",\"\",VLOOKUP($B10,Scores,18,FALSE)))","v":5},{"$f":"IF($B10=\"\",\"\",IF(VLOOKUP($B10,Scores,19,FALSE)=\"\",\"\",VLOOKUP($B10,Scores,19,FALSE)))","v":3},{"$f":"IF($B10=\"\",\"\",IF(VLOOKUP($B10,Scores,20,FALSE)=\"\",\"\",VLOOKUP($B10,Scores,20,FALSE)))","v":5},{"$f":"IF($B10=\"\",\"\",IF(VLOOKUP($B10,Scores,21,FALSE)=\"\",\"\",VLOOKUP($B10,Scores,21,FALSE)))","v":7},{"$f":"IF($B10=\"\",\"\",IF(VLOOKUP($B10,Scores,22,FALSE)=\"\",\"\",VLOOKUP($B10,Scores,22,FALSE)))","v":4},{"$f":"IF($B10=\"\",\"\",IF(VLOOKUP($B10,Scores,23,FALSE)=\"\",\"\",VLOOKUP($B10,Scores,23,FALSE)))","v":3},{"$f":"IF($B10=\"\",\"\",IF(VLOOKUP($B10,Scores,24,FALSE)=\"\",\"\",VLOOKUP($B10,Scores,24,FALSE)))","v":5},{"$f":"IF($B10=\"\",\"\",IF(VLOOKUP($B10,Scores,25,FALSE)=\"\",\"\",VLOOKUP($B10,Scores,25,FALSE)))","v":6},null,null,null,{"$f":"IF(OR(U9=\"\",U10=\"\"),\"\",IF(X11=\"E\",\"AS\",IF(X11>0,\"lost\",ABS(X11)&\" and \"&V11)))","v":"lost"},{"$f":"IF(OR(U9=\"\",U10=\"\"),\"\",IF(Y10=\"1 and 0\",\"1-up\",IF(Y10=\"2 and 0\",\"2-up\",Y10)))","v":"lost"}]
[null,"Score",null,{"$f":"IF(OR(D9=\"\",D10=\"\"),\"\", IF(D12>0,\"+\"&D12, IF(D12<0,D12,\"E\")))","v":-1},"E",-1,"E","E",-1,-2,-2,-1,"E",{"$f":"IF(N9=\"\",\"\", IF(N10=\"\",\"\",IF(ABS(M12)>8,\"\", IF(N12>0,\"+\"&N12, IF(N12<0,N12,\"E\")))))","v":-1},{"$f":"IF(O9=\"\",\"\", IF(O10=\"\",\"\",IF(ABS(N12)>7,\"\", IF(O12>0,\"+\"&O12, IF(O12<0,O12,\"E\")))))","v":"E"},{"$f":"IF(P9=\"\",\"\", IF(P10=\"\",\"\",IF(ABS(O12)>6,\"\", IF(P12>0,\"+\"&P12, IF(P12<0,P12,\"E\")))))","v":"E"},{"$f":"IF(Q9=\"\",\"\", IF(Q10=\"\",\"\",IF(ABS(P12)>5,\"\", IF(Q12>0,\"+\"&Q12, IF(Q12<0,Q12,\"E\")))))","v":"+1"},{"$f":"IF(R9=\"\",\"\", IF(R10=\"\",\"\",IF(ABS(Q12)>4,\"\", IF(R12>0,\"+\"&R12, IF(R12<0,R12,\"E\")))))","v":"+1"},{"$f":"IF(S9=\"\",\"\", IF(S10=\"\",\"\",IF(ABS(R12)>3,\"\", IF(S12>0,\"+\"&S12, IF(S12<0,S12,\"E\")))))","v":"+2"},{"$f":"IF(T9=\"\",\"\", IF(T10=\"\",\"\",IF(ABS(S12)>2,\"\", IF(T12>0,\"+\"&T12, IF(T12<0,T12,\"E\")))))","v":"+3"},{"$f":"IF(U9=\"\",\"\", IF(U10=\"\",\"\",IF(ABS(T12)>1,\"\", IF(U12>0,\"+\"&U12, IF(U12<0,U12,\"E\")))))","v":""},{"$f":"COUNTBLANK(M11:U11)","v":1},{"$f":"IF(U11<>\"\",U11,IF(T11<>\"\",T11,IF(S11<>\"\",S11,IF(R11<>\"\",R11,IF(Q11<>\"\",Q11,IF(P11<>\"\",P11,IF(O11<>\"\",O11,IF(N11<>\"\",N11,\"\"))))))))","v":"+3"},{"$f":"IF(W11<>\"\",W11,M11)","v":"+3"}]
[null,null,null,{"$f":"IF(D9<(D10+D13),1, IF(D9>(D10+D13),-1,0))","v":-1},{"$f":"IF(E9<(E10+E13),D12+1, IF(E9>(E10+E13),D12-1,D12))","v":0},-1,0,0,-1,-2,-2,-1,0,-1,0,0,1,1,2,3,3]
[null,null,null,{"$f":"IF($C9<$C10,-TRUNC(($C10-$C9-D$8+18)/18),TRUNC(($C9-$C10-D$8+18)/18))","v":0},{"$f":"IF($C9<$C10,-TRUNC(($C10-$C9-E$8+18)/18),TRUNC(($C9-$C10-E$8+18)/18))","v":1},0,0,0,0,0,0,0,0,0,0,0,0,1,0,0,0]
[2,{"$f":"IF(Players!F85=\"\",\"\",Players!B85)","v":"Escobedo, Hector"},{"$f":"IF($B14=\"\",\"\",IF(VLOOKUP($B14,Members,9,FALSE)=\"\",\"\",(VLOOKUP($B14,Members,9,FALSE))))","v":11},{"$f":"IF($B14=\"\",\"\",IF(VLOOKUP($B14,Scores,7,FALSE)=\"\",\"\",VLOOKUP($B14,Scores,7,FALSE)))","v":4},{"$f":"IF($B14=\"\",\"\",IF(VLOOKUP($B14,Scores,8,FALSE)=\"\",\"\",VLOOKUP($B14,Scores,8,FALSE)))","v":6},{"$f":"IF($B14=\"\",\"\",IF(VLOOKUP($B14,Scores,9,FALSE)=\"\",\"\",VLOOKUP($B14,Scores,9,FALSE)))","v":4},{"$f":"IF($B14=\"\",\"\",IF(VLOOKUP($B14,Scores,10,FALSE)=\"\",\"\",VLOOKUP($B14,Scores,10,FALSE)))","v":4},{"$f":"IF($B14=\"\",\"\",IF(VLOOKUP($B14,Scores,11,FALSE)=\"\",\"\",VLOOKUP($B14,Scores,11,FALSE)))","v":5},{"$f":"IF($B14=\"\",\"\",IF(VLOOKUP($B14,Scores,12,FALSE)=\"\",\"\",VLOOKUP($B14,Scores,12,FALSE)))","v":3},{"$f":"IF($B14=\"\",\"\",IF(VLOOKUP($B14,Scores,13,FALSE)=\"\",\"\",VLOOKUP($B14,Scores,13,FALSE)))","v":4},{"$f":"IF($B14=\"\",\"\",IF(VLOOKUP($B14,Scores,14,FALSE)=\"\",\"\",VLOOKUP($B14,Scores,14,FALSE)))","v":5},{"$f":"IF($B14=\"\",\"\",IF(VLOOKUP($B14,Scores,15,FALSE)=\"\",\"\",VLOOKUP($B14,Scores,15,FALSE)))","v":6},{"$f":"IF($B14=\"\",\"\",IF(VLOOKUP($B14,Scores,17,FALSE)=\"\",\"\",VLOOKUP($B14,Scores,17,FALSE)))","v":7},{"$f":"IF($B14=\"\",\"\",IF(VLOOKUP($B14,Scores,18,FALSE)=\"\",\"\",VLOOKUP($B14,Scores,18,FALSE)))","v":5},{"$f":"IF($B14=\"\",\"\",IF(VLOOKUP($B14,Scores,19,FALSE)=\"\",\"\",VLOOKUP($B14,Scores,19,FALSE)))","v":3},{"$f":"IF($B14=\"\",\"\",IF(VLOOKUP($B14,Scores,20,FALSE)=\"\",\"\",VLOOKUP($B14,Scores,20,FALSE)))","v":5},{"$f":"IF($B14=\"\",\"\",IF(VLOOKUP($B14,Scores,21,FALSE)=\"\",\"\",VLOOKUP($B14,Scores,21,FALSE)))","v":7},{"$f":"IF($B14=\"\",\"\",IF(VLOOKUP($B14,Scores,22,FALSE)=\"\",\"\",VLOOKUP($B14,Scores,22,FALSE)))","v":4},{"$f":"IF($B14=\"\",\"\",IF(VLOOKUP($B14,Scores,23,FALSE)=\"\",\"\",VLOOKUP($B14,Scores,23,FALSE)))","v":3},{"$f":"IF($B14=\"\",\"\",IF(VLOOKUP($B14,Scores,24,FALSE)=\"\",\"\",VLOOKUP($B14,Scores,24,FALSE)))","v":5},{"$f":"IF($B14=\"\",\"\",IF(VLOOKUP($B14,Scores,25,FALSE)=\"\",\"\",VLOOKUP($B14,Scores,25,FALSE)))","v":6},null,null,null,{"$f":"IF(OR(U14=\"\",U15=\"\"),\"\",IF(X16=\"E\",\"AS\",IF(X16<0,\"lost\",ABS(X16)&\" and \"&V16)))","v":"lost"},{"$f":"IF(OR(U14=\"\",U15=\"\"),\"\",IF(Y14=\"1 and 0\",\"1-up\",IF(Y14=\"2 and 0\",\"2-up\",Y14)))","v":"lost"}]
[null,{"$f":"IF(B14=\"\",\"\",Players!F85)","v":"Jones, Gary"},{"$f":"IF($B15=\"\",\"\",IF(VLOOKUP($B15,Members,9,FALSE)=\"\",\"\",(VLOOKUP($B15,Members,9,FALSE))))","v":13},{"$f":"IF($B15=\"\",\"\",IF(VLOOKUP($B15,Scores,7,FALSE)=\"\",\"\",VLOOKUP($B15,Scores,7,FALSE)))","v":5},{"$f":"IF($B15=\"\",\"\",IF(VLOOKUP($B15,Scores,8,FALSE)=\"\",\"\",VLOOKUP($B15,Scores,8,FALSE)))","v":4},{"$f":"IF($B15=\"\",\"\",IF(VLOOKUP($B15,Scores,9,FALSE)=\"\",\"\",VLOOKUP($B15,Scores,9,FALSE)))","v":5},{"$f":"IF($B15=\"\",\"\",IF(VLOOKUP($B15,Scores,10,FALSE)=\"\",\"\",VLOOKUP($B15,Scores,10,FALSE)))","v":2},{"$f":"IF($B15=\"\",\"\",IF(VLOOKUP($B15,Scores,11,FALSE)=\"\",\"\",VLOOKUP($B15,Scores,11,FALSE)))","v":5},{"$f":"IF($B15=\"\",\"\",IF(VLOOKUP($B15,Scores,12,FALSE)=\"\",\"\",VLOOKUP($B15,Scores,12,FALSE)))","v":4},{"$f":"IF($B15=\"\",\"\",IF(VLOOKUP($B15,Scores,13,FALSE)=\"\",\"\",VLOOKUP($B15,Scores,13,FALSE)))","v":5},{"$f":"IF($B15=\"\",\"\",IF(VLOOKUP($B15,Scores,14,FALSE)=\"\",\"\",VLOOKUP($B15,Scores,14,FALSE)))","v":5},{"$f":"IF($B15=\"\",\"\",IF(VLOOKUP($B15,Scores,15,FALSE)=\"\",\"\",VLOOKUP($B15,Scores,15,FALSE)))","v":4},{"$f":"IF($B15=\"\",\"\",IF(VLOOKUP($B15,Scores,17,FALSE)=\"\",\"\",VLOOKUP($B15,Scores,17,FALSE)))","v":5},{"$f":"IF($B15=\"\",\"\",IF(VLOOKUP($B15,Scores,18,FALSE)=\"\",\"\",VLOOKUP($B15,Scores,18,FALSE)))","v":6},{"$f":"IF($B15=\"\",\"\",IF(VLOOKUP($B15,Scores,19,FALSE)=\"\",\"\",VLOOKUP($B15,Scores,19,FALSE)))","v":2},{"$f":"IF($B15=\"\",\"\",IF(VLOOKUP($B15,Scores,20,FALSE)=\"\",\"\",VLOOKUP($B15,Scores,20,FALSE)))","v":5},{"$f":"IF($B15=\"\",\"\",IF(VLOOKUP($B15,Scores,21,FALSE)=\"\",\"\",VLOOKUP($B15,Scores,21,FALSE)))","v":5},{"$f":"IF($B15=\"\",\"\",IF(VLOOKUP($B15,Scores,22,FALSE)=\"\",\"\",VLOOKUP($B15,Scores,22,FALSE)))","v":5},{"$f":"IF($B15=\"\",\"\",IF(VLOOKUP($B15,Scores,23,FALSE)=\"\",\"\",VLOOKUP($B15,Scores,23,FALSE)))","v":2},{"$f":"IF($B15=\"\",\"\",IF(VLOOKUP($B15,Scores,24,FALSE)=\"\",\"\",VLOOKUP($B15,Scores,24,FALSE)))","v":4},{"$f":"IF($B15=\"\",\"\",IF(VLOOKUP($B15,Scores,25,FALSE)=\"\",\"\",VLOOKUP($B15,Scores,25,FALSE)))","v":6},null,null,null,{"$f":"IF(OR(U14=\"\",U15=\"\"),\"\",IF(X16=\"E\",\"AS\",IF(X16>0,\"lost\",ABS(X16)&\" and \"&V16)))","v":"3 and 1"},{"$f":"IF(OR(U14=\"\",U15=\"\"),\"\",IF(Y15=\"1 and 0\",\"1-up\",IF(Y15=\"2 and 0\",\"2-up\",Y15)))","v":"3 and 1"}]
[null,"Score",null,{"$f":"IF(OR(D14=\"\",D15=\"\"),\"\", IF(D17>0,\"+\"&D17, IF(D17<0,D17,\"E\")))","v":"+1"},"E","+1","E","E","+1","+2","+2","+1","E",{"$f":"IF(N14=\"\",\"\", IF(N15=\"\",\"\",IF(ABS(M17)>8,\"\", IF(N17>0,\"+\"&N17, IF(N17<0,N17,\"E\")))))","v":"+1"},{"$f":"IF(O14=\"\",\"\", IF(O15=\"\",\"\",IF(ABS(N17)>7,\"\", IF(O17>0,\"+\"&O17, IF(O17<0,O17,\"E\")))))","v":"E"},{"$f":"IF(P14=\"\",\"\", IF(P15=\"\",\"\",IF(ABS(O17)>6,\"\", IF(P17>0,\"+\"&P17, IF(P17<0,P17,\"E\")))))","v":"E"},{"$f":"IF(Q14=\"\",\"\", IF(Q15=\"\",\"\",IF(ABS(P17)>5,\"\", IF(Q17>0,\"+\"&Q17, IF(Q17<0,Q17,\"E\")))))","v":-1},{"$f":"IF(R14=\"\",\"\", IF(R15=\"\",\"\",IF(ABS(Q17)>4,\"\", IF(R17>0,\"+\"&R17, IF(R17<0,R17,\"E\")))))","v":-1},{"$f":"IF(S14=\"\",\"\", IF(S15=\"\",\"\",IF(ABS(R17)>3,\"\", IF(S17>0,\"+\"&S17, IF(S17<0,S17,\"E\")))))","v":-2},{"$f":"IF(T14=\"\",\"\", IF(T15=\"\",\"\",IF(ABS(S17)>2,\"\", IF(T17>0,\"+\"&T17, IF(T17<0,T17,\"E\")))))","v":-3},{"$f":"IF(U14=\"\",\"\", IF(U15=\"\",\"\",IF(ABS(T17)>1,\"\", IF(U17>0,\"+\"&U17, IF(U17<0,U17,\"E\")))))","v":""},{"$f":"COUNTBLANK(M16:U16)","v":1},{"$f":"IF(U16<>\"\",U16,IF(T16<>\"\",T16,IF(S16<>\"\",S16,IF(R16<>\"\",R16,IF(Q16<>\"\",Q16,IF(P16<>\"\",P16,IF(O16<>\"\",O16,IF(N16<>\"\",N16,\"\"))))))))","v":-3},{"$f":"IF(W16<>\"\",W16,M16)","v":-3}]
[null,null,null,{"$f":"IF(D14<(D15+D18),1, IF(D14>(D15+D18),-1,0))","v":1},{"$f":"IF(E14<(E15+E18),D17+1, IF(E14>(E15+E18),D17-1,D17))","v":0},1,0,0,1,2,2,1,0,1,0,0,-1,-1,-2,-3,-3]
[null,null,null,{"$f":"IF($C14<$C15,-TRUNC(($C15-$C14-D$8+18)/18),TRUNC(($C14-$C15-D$8+18)/18))","v":0},{"$f":"IF($C14<$C15,-TRUNC(($C15-$C14-E$8+18)/18),TRUNC(($C14-$C15-E$8+18)/18))","v":-1},0,0,0,0,0,0,0,0,0,0,0,0,-1,0,0,0]
[3,{"$f":"IF(Players!F87=\"\",\"\",Players!B87)","v":"Mariano, Joe"},{"$f":"IF($B19=\"\",\"\",IF(VLOOKUP($B19,Members,9,FALSE)=\"\",\"\",(VLOOKUP($B19,Members,9,FALSE))))","v":13},{"$f":"IF($B19=\"\",\"\",IF(VLOOKUP($B19,Scores,7,FALSE)=\"\",\"\",VLOOKUP($B19,Scores,7,FALSE)))","v":7},{"$f":"IF($B19=\"\",\"\",IF(VLOOKUP($B19,Scores,8,FALSE)=\"\",\"\",VLOOKUP($B19,Scores,8,FALSE)))","v":4},{"$f":"IF($B19=\"\",\"\",IF(VLOOKUP($B19,Scores,9,FALSE)=\"\",\"\",VLOOKUP($B19,Scores,9,FALSE)))","v":5},{"$f":"IF($B19=\"\",\"\",IF(VLOOKUP($B19,Scores,10,FALSE)=\"\",\"\",VLOOKUP($B19,Scores,10,FALSE)))","v":3},{"$f":"IF($B19=\"\",\"\",IF(VLOOKUP($B19,Scores,11,FALSE)=\"\",\"\",VLOOKUP($B19,Scores,11,FALSE)))","v":5},{"$f":"IF($B19=\"\",\"\",IF(VLOOKUP($B19,Scores,12,FALSE)=\"\",\"\",VLOOKUP($B19,Scores,12,FALSE)))","v":5},{"$f":"IF($B19=\"\",\"\",IF(VLOOKUP($B19,Scores,13,FALSE)=\"\",\"\",VLOOKUP($B19,Scores,13,FALSE)))","v":6},{"$f":"IF($B19=\"\",\"\",IF(VLOOKUP($B19,Scores,14,FALSE)=\"\",\"\",VLOOKUP($B19,Scores,14,FALSE)))","v":5},{"$f":"IF($B19=\"\",\"\",IF(VLOOKUP($B19,Scores,15,FALSE)=\"\",\"\",VLOOKUP($B19,Scores,15,FALSE)))","v":6},{"$f":"IF($B19=\"\",\"\",IF(VLOOKUP($B19,Scores,17,FALSE)=\"\",\"\",VLOOKUP($B19,Scores,17,FALSE)))","v":5},{"$f":"IF($B19=\"\",\"\",IF(VLOOKUP($B19,Scores,18,FALSE)=\"\",\"\",VLOOKUP($B19,Scores,18,FALSE)))","v":6},{"$f":"IF($B19=\"\",\"\",IF(VLOOKUP($B19,Scores,19,FALSE)=\"\",\"\",VLOOKUP($B19,Scores,19,FALSE)))","v":5},{"$f":"IF($B19=\"\",\"\",IF(VLOOKUP($B19,Scores,20,FALSE)=\"\",\"\",VLOOKUP($B19,Scores,20,FALSE)))","v":4},{"$f":"IF($B19=\"\",\"\",IF(VLOOKUP($B19,Scores,21,FALSE)=\"\",\"\",VLOOKUP($B19,Scores,21,FALSE)))","v":7},{"$f":"IF($B19=\"\",\"\",IF(VLOOKUP($B19,Scores,22,FALSE)=\"\",\"\",VLOOKUP($B19,Scores,22,FALSE)))","v":5},{"$f":"IF($B19=\"\",\"\",IF(VLOOKUP($B19,Scores,23,FALSE)=\"\",\"\",VLOOKUP($B19,Scores,23,FALSE)))","v":3},{"$f":"IF($B19=\"\",\"\",IF(VLOOKUP($B19,Scores,24,FALSE)=\"\",\"\",VLOOKUP($B19,Scores,24,FALSE)))","v":6},{"$f":"IF($B19=\"\",\"\",IF(VLOOKUP($B19,Scores,25,FALSE)=\"\",\"\",VLOOKUP($B19,Scores,25,FALSE)))","v":6},null,null,null,{"$f":"IF(OR(U19=\"\",U20=\"\"),\"\",IF(X21=\"E\",\"AS\",IF(X21<0,\"lost\",ABS(X21)&\" and \"&V21)))","v":"lost"},{"$f":"IF(OR(U19=\"\",U20=\"\"),\"\",IF(Y19=\"1 and 0\",\"1-up\",IF(Y19=\"2 and 0\",\"2-up\",Y19)))","v":"lost"}]
[null,{"$f":"IF(B19=\"\",\"\",Players!F87)","v":"Ornelas, Eddie"},{"$f":"IF($B20=\"\",\"\",IF(VLOOKUP($B20,Members,9,FALSE)=\"\",\"\",(VLOOKUP($B20,Members,9,FALSE))))","v":10},{"$f":"IF($B20=\"\",\"\",IF(VLOOKUP($B20,Scores,7,FALSE)=\"\",\"\",VLOOKUP($B20,Scores,7,FALSE)))","v":4},{"$f":"IF($B20=\"\",\"\",IF(VLOOKUP($B20,Scores,8,FALSE)=\"\",\"\",VLOOKUP($B20,Scores,8,FALSE)))","v":5},{"$f":"IF($B20=\"\",\"\",IF(VLOOKUP($B20,Scores,9,FALSE)=\"\",\"\",VLOOKUP($B20,Scores,9,FALSE)))","v":6},{"$f":"IF($B20=\"\",\"\",IF(VLOOKUP($B20,Scores,10,FALSE)=\"\",\"\",VLOOKUP($B20,Scores,10,FALSE)))","v":4},{"$f":"IF($B20=\"\",\"\",IF(VLOOKUP($B20,Scores,11,FALSE)=\"\",\"\",VLOOKUP($B20,Scores,11,FALSE)))","v":5},{"$f":"IF($B20=\"\",\"\",IF(VLOOKUP($B20,Scores,12,FALSE)=\"\",\"\",VLOOKUP($B20,Scores,12,FALSE)))","v":4},{"$f":"IF($B20=\"\",\"\",IF(VLOOKUP($B20,Scores,13,FALSE)=\"\",\"\",VLOOKUP($B20,Scores,13,FALSE)))","v":4},{"$f":"IF($B20=\"\",\"\",IF(VLOOKUP($B20,Scores,14,FALSE)=\"\",\"\",VLOOKUP($B20,Scores,14,FALSE)))","v":6},{"$f":"IF($B20=\"\",\"\",IF(VLOOKUP($B20,Scores,15,FALSE)=\"\",\"\",VLOOKUP($B20,Scores,15,FALSE)))","v":5},{"$f":"IF($B20=\"\",\"\",IF(VLOOKUP($B20,Scores,17,FALSE)=\"\",\"\",VLOOKUP($B20,Scores,17,FALSE)))","v":4},{"$f":"IF($B20=\"\",\"\",IF(VLOOKUP($B20,Scores,18,FALSE)=\"\",\"\",VLOOKUP($B20,Scores,18,FALSE)))","v":4},{"$f":"IF($B20=\"\",\"\",IF(VLOOKUP($B20,Scores,19,FALSE)=\"\",\"\",VLOOKUP($B20,Scores,19,FALSE)))","v":3},{"$f":"IF($B20=\"\",\"\",IF(VLOOKUP($B20,Scores,20,FALSE)=\"\",\"\",VLOOKUP($B20,Scores,20,FALSE)))","v":4},{"$f":"IF($B20=\"\",\"\",IF(VLOOKUP($B20,Scores,21,FALSE)=\"\",\"\",VLOOKUP($B20,Scores,21,FALSE)))","v":6},{"$f":"IF($B20=\"\",\"\",IF(VLOOKUP($B20,Scores,22,FALSE)=\"\",\"\",VLOOKUP($B20,Scores,22,FALSE)))","v":6},{"$f":"IF($B20=\"\",\"\",IF(VLOOKUP($B20,Scores,23,FALSE)=\"\",\"\",VLOOKUP($B20,Scores,23,FALSE)))","v":5},{"$f":"IF($B20=\"\",\"\",IF(VLOOKUP($B20,Scores,24,FALSE)=\"\",\"\",VLOOKUP($B20,Scores,24,FALSE)))","v":6},{"$f":"IF($B20=\"\",\"\",IF(VLOOKUP($B20,Scores,25,FALSE)=\"\",\"\",VLOOKUP($B20,Scores,25,FALSE)))","v":4},null,null,null,{"$f":"IF(OR(U19=\"\",U20=\"\"),\"\",IF(X21=\"E\",\"AS\",IF(X21>0,\"lost\",ABS(X21)&\" and \"&V21)))","v":"2 and 1"},{"$f":"IF(OR(U19=\"\",U20=\"\"),\"\",IF(Y20=\"1 and 0\",\"1-up\",IF(Y20=\"2 and 0\",\"2-up\",Y20)))","v":"2 and 1"}]
[null,"Score",null,{"$f":"IF(OR(D19=\"\",D20=\"\"),\"\", IF(D22>0,\"+\"&D22, IF(D22<0,D22,\"E\")))","v":-1},"E","+1","+2","+2","+1","E","+1","E",-1,{"$f":"IF(N19=\"\",\"\", IF(N20=\"\",\"\",IF(ABS(M22)>8,\"\", IF(N22>0,\"+\"&N22, IF(N22<0,N22,\"E\")))))","v":-2},{"$f":"IF(O19=\"\",\"\", IF(O20=\"\",\"\",IF(ABS(N22)>7,\"\", IF(O22>0,\"+\"&O22, IF(O22<0,O22,\"E\")))))","v":-3},{"$f":"IF(P19=\"\",\"\", IF(P20=\"\",\"\",IF(ABS(O22)>6,\"\", IF(P22>0,\"+\"&P22, IF(P22<0,P22,\"E\")))))","v":-3},{"$f":"IF(Q19=\"\",\"\", IF(Q20=\"\",\"\",IF(ABS(P22)>5,\"\", IF(Q22>0,\"+\"&Q22, IF(Q22<0,Q22,\"E\")))))","v":-4},{"$f":"IF(R19=\"\",\"\", IF(R20=\"\",\"\",IF(ABS(Q22)>4,\"\", IF(R22>0,\"+\"&R22, IF(R22<0,R22,\"E\")))))","v":-3},{"$f":"IF(S19=\"\",\"\", IF(S20=\"\",\"\",IF(ABS(R22)>3,\"\", IF(S22>0,\"+\"&S22, IF(S22<0,S22,\"E\")))))","v":-2},{"$f":"IF(T19=\"\",\"\", IF(T20=\"\",\"\",IF(ABS(S22)>2,\"\", IF(T22>0,\"+\"&T22, IF(T22<0,T22,\"E\")))))","v":-2},{"$f":"IF(U19=\"\",\"\", IF(U20=\"\",\"\",IF(ABS(T22)>1,\"\", IF(U22>0,\"+\"&U22, IF(U22<0,U22,\"E\")))))","v":""},{"$f":"COUNTBLANK(M21:U21)","v":1},{"$f":"IF(U21<>\"\",U21,IF(T21<>\"\",T21,IF(S21<>\"\",S21,IF(R21<>\"\",R21,IF(Q21<>\"\",Q21,IF(P21<>\"\",P21,IF(O21<>\"\",O21,IF(N21<>\"\",N21,\"\"))))))))","v":-2},{"$f":"IF(W21<>\"\",W21,M21)","v":-2}]
[null,null,null,{"$f":"IF(D19<(D20+D23),1, IF(D19>(D20+D23),-1,0))","v":-1},{"$f":"IF(E19<(E20+E23),D22+1, IF(E19>(E20+E23),D22-1,D22))","v":0},1,2,2,1,0,1,0,-1,-2,-3,-3,-4,-3,-2,-2,-3]
[null,null,null,{"$f":"IF($C19<$C20,-TRUNC(($C20-$C19-D$8+18)/18),TRUNC(($C19-$C20-D$8+18)/18))","v":0},{"$f":"IF($C19<$C20,-TRUNC(($C20-$C19-E$8+18)/18),TRUNC(($C19-$C20-E$8+18)/18))","v":1},0,0,0,0,0,1,0,0,0,0,0,0,1,0,0,0]
[4,{"$f":"IF(Players!F89=\"\",\"\",Players!B89)","v":"Ornelas, Eddie"},{"$f":"IF($B24=\"\",\"\",IF(VLOOKUP($B24,Members,9,FALSE)=\"\",\"\",(VLOOKUP($B24,Members,9,FALSE))))","v":10},{"$f":"IF($B24=\"\",\"\",IF(VLOOKUP($B24,Scores,7,FALSE)=\"\",\"\",VLOOKUP($B24,Scores,7,FALSE)))","v":4},{"$f":"IF($B24=\"\",\"\",IF(VLOOKUP($B24,Scores,8,FALSE)=\"\",\"\",VLOOKUP($B24,Scores,8,FALSE)))","v":5},{"$f":"IF($B24=\"\",\"\",IF(VLOOKUP($B24,Scores,9,FALSE)=\"\",\"\",VLOOKUP($B24,Scores,9,FALSE)))","v":6},{"$f":"IF($B24=\"\",\"\",IF(VLOOKUP($B24,Scores,10,FALSE)=\"\",\"\",VLOOKUP($B24,Scores,10,FALSE)))","v":4},{"$f":"IF($B24=\"\",\"\",IF(VLOOKUP($B24,Scores,11,FALSE)=\"\",\"\",VLOOKUP($B24,Scores,11,FALSE)))","v":5},{"$f":"IF($B24=\"\",\"\",IF(VLOOKUP($B24,Scores,12,FALSE)=\"\",\"\",VLOOKUP($B24,Scores,12,FALSE)))","v":4},{"$f":"IF($B24=\"\",\"\",IF(VLOOKUP($B24,Scores,13,FALSE)=\"\",\"\",VLOOKUP($B24,Scores,13,FALSE)))","v":4},{"$f":"IF($B24=\"\",\"\",IF(VLOOKUP($B24,Scores,14,FALSE)=\"\",\"\",VLOOKUP($B24,Scores,14,FALSE)))","v":6},{"$f":"IF($B24=\"\",\"\",IF(VLOOKUP($B24,Scores,15,FALSE)=\"\",\"\",VLOOKUP($B24,Scores,15,FALSE)))","v":5},{"$f":"IF($B24=\"\",\"\",IF(VLOOKUP($B24,Scores,17,FALSE)=\"\",\"\",VLOOKUP($B24,Scores,17,FALSE)))","v":4},{"$f":"IF($B24=\"\",\"\",IF(VLOOKUP($B24,Scores,18,FALSE)=\"\",\"\",VLOOKUP($B24,Scores,18,FALSE)))","v":4},{"$f":"IF($B24=\"\",\"\",IF(VLOOKUP($B24,Scores,19,FALSE)=\"\",\"\",VLOOKUP($B24,Scores,19,FALSE)))","v":3},{"$f":"IF($B24=\"\",\"\",IF(VLOOKUP($B24,Scores,20,FALSE)=\"\",\"\",VLOOKUP($B24,Scores,20,FALSE)))","v":4},{"$f":"IF($B24=\"\",\"\",IF(VLOOKUP($B24,Scores,21,FALSE)=\"\",\"\",VLOOKUP($B24,Scores,21,FALSE)))","v":6},{"$f":"IF($B24=\"\",\"\",IF(VLOOKUP($B24,Scores,22,FALSE)=\"\",\"\",VLOOKUP($B24,Scores,22,FALSE)))","v":6},{"$f":"IF($B24=\"\",\"\",IF(VLOOKUP($B24,Scores,23,FALSE)=\"\",\"\",VLOOKUP($B24,Scores,23,FALSE)))","v":5},{"$f":"IF($B24=\"\",\"\",IF(VLOOKUP($B24,Scores,24,FALSE)=\"\",\"\",VLOOKUP($B24,Scores,24,FALSE)))","v":6},{"$f":"IF($B24=\"\",\"\",IF(VLOOKUP($B24,Scores,25,FALSE)=\"\",\"\",VLOOKUP($B24,Scores,25,FALSE)))","v":4},null,null,null,{"$f":"IF(OR(U24=\"\",U25=\"\"),\"\",IF(X26=\"E\",\"AS\",IF(X26<0,\"lost\",ABS(X26)&\" and \"&V26)))","v":"2 and 1"},{"$f":"IF(OR(U24=\"\",U25=\"\"),\"\",IF(Y24=\"1 and 0\",\"1-up\",IF(Y24=\"2 and 0\",\"2-up\",Y24)))","v":"2 and 1"}]
[null,{"$f":"IF(B24=\"\",\"\",Players!F89)","v":"Mariano, Joe"},{"$f":"IF($B25=\"\",\"\",IF(VLOOKUP($B25,Members,9,FALSE)=\"\",\"\",(VLOOKUP($B25,Members,9,FALSE))))","v":13},{"$f":"IF($B25=\"\",\"\",IF(VLOOKUP($B25,Scores,7,FALSE)=\"\",\"\",VLOOKUP($B25,Scores,7,FALSE)))","v":7},{"$f":"IF($B25=\"\",\"\",IF(VLOOKUP($B25,Scores,8,FALSE)=\"\",\"\",VLOOKUP($B25,Scores,8,FALSE)))","v":4},{"$f":"IF($B25=\"\",\"\",IF(VLOOKUP($B25,Scores,9,FALSE)=\"\",\"\",VLOOKUP($B25,Scores,9,FALSE)))","v":5},{"$f":"IF($B25=\"\",\"\",IF(VLOOKUP($B25,Scores,10,FALSE)=\"\",\"\",VLOOKUP($B25,Scores,10,FALSE)))","v":3},{"$f":"IF($B25=\"\",\"\",IF(VLOOKUP($B25,Scores,11,FALSE)=\"\",\"\",VLOOKUP($B25,Scores,11,FALSE)))","v":5},{"$f":"IF($B25=\"\",\"\",IF(VLOOKUP($B25,Scores,12,FALSE)=\"\",\"\",VLOOKUP($B25,Scores,12,FALSE)))","v":5},{"$f":"IF($B25=\"\",\"\",IF(VLOOKUP($B25,Scores,13,FALSE)=\"\",\"\",VLOOKUP($B25,Scores,13,FALSE)))","v":6},{"$f":"IF($B25=\"\",\"\",IF(VLOOKUP($B25,Scores,14,FALSE)=\"\",\"\",VLOOKUP($B25,Scores,14,FALSE)))","v":5},{"$f":"IF($B25=\"\",\"\",IF(VLOOKUP($B25,Scores,15,FALSE)=\"\",\"\",VLOOKUP($B25,Scores,15,FALSE)))","v":6},{"$f":"IF($B25=\"\",\"\",IF(VLOOKUP($B25,Scores,17,FALSE)=\"\",\"\",VLOOKUP($B25,Scores,17,FALSE)))","v":5},{"$f":"IF($B25=\"\",\"\",IF(VLOOKUP($B25,Scores,18,FALSE)=\"\",\"\",VLOOKUP($B25,Scores,18,FALSE)))","v":6},{"$f":"IF($B25=\"\",\"\",IF(VLOOKUP($B25,Scores,19,FALSE)=\"\",\"\",VLOOKUP($B25,Scores,19,FALSE)))","v":5},{"$f":"IF($B25=\"\",\"\",IF(VLOOKUP($B25,Scores,20,FALSE)=\"\",\"\",VLOOKUP($B25,Scores,20,FALSE)))","v":4},{"$f":"IF($B25=\"\",\"\",IF(VLOOKUP($B25,Scores,21,FALSE)=\"\",\"\",VLOOKUP($B25,Scores,21,FALSE)))","v":7},{"$f":"IF($B25=\"\",\"\",IF(VLOOKUP($B25,Scores,22,FALSE)=\"\",\"\",VLOOKUP($B25,Scores,22,FALSE)))","v":5},{"$f":"IF($B25=\"\",\"\",IF(VLOOKUP($B25,Scores,23,FALSE)=\"\",\"\",VLOOKUP($B25,Scores,23,FALSE)))","v":3},{"$f":"IF($B25=\"\",\"\",IF(VLOOKUP($B25,Scores,24,FALSE)=\"\",\"\",VLOOKUP($B25,Scores,24,FALSE)))","v":6},{"$f":"IF($B25=\"\",\"\",IF(VLOOKUP($B25,Scores,25,FALSE)=\"\",\"\",VLOOKUP($B25,Scores,25,FALSE)))","v":6},null,null,null,{"$f":"IF(OR(U24=\"\",U25=\"\"),\"\",IF(X26=\"E\",\"AS\",IF(X26>0,\"lost\",ABS(X26)&\" and \"&V26)))","v":"lost"},{"$f":"IF(OR(U24=\"\",U25=\"\"),\"\",IF(Y25=\"1 and 0\",\"1-up\",IF(Y25=\"2 and 0\",\"2-up\",Y25)))","v":"lost"}]
[null,"Score",null,{"$f":"IF(OR(D24=\"\",D25=\"\"),\"\", IF(D27>0,\"+\"&D27, IF(D27<0,D27,\"E\")))","v":"+1"},"E",-1,-2,-2,-1,"E",-1,"E","+1",{"$f":"IF(N24=\"\",\"\", IF(N25=\"\",\"\",IF(ABS(M27)>8,\"\", IF(N27>0,\"+\"&N27, IF(N27<0,N27,\"E\")))))","v":"+2"},{"$f":"IF(O24=\"\",\"\", IF(O25=\"\",\"\",IF(ABS(N27)>7,\"\", IF(O27>0,\"+\"&O27, IF(O27<0,O27,\"E\")))))","v":"+3"},{"$f":"IF(P24=\"\",\"\", IF(P25=\"\",\"\",IF(ABS(O27)>6,\"\", IF(P27>0,\"+\"&P27, IF(P27<0,P27,\"E\")))))","v":"+3"},{"$f":"IF(Q24=\"\",\"\", IF(Q25=\"\",\"\",IF(ABS(P27)>5,\"\", IF(Q27>0,\"+\"&Q27, IF(Q27<0,Q27,\"E\")))))","v":"+4"},{"$f":"IF(R24=\"\",\"\", IF(R25=\"\",\"\",IF(ABS(Q27)>4,\"\", IF(R27>0,\"+\"&R27, IF(R27<0,R27,\"E\")))))","v":"+3"},{"$f":"IF(S24=\"\",\"\", IF(S25=\"\",\"\",IF(ABS(R27)>3,\"\", IF(S27>0,\"+\"&S27, IF(S27<0,S27,\"E\")))))","v":"+2"},{"$f":"IF(T24=\"\",\"\", IF(T25=\"\",\"\",IF(ABS(S27)>2,\"\", IF(T27>0,\"+\"&T27, IF(T27<0,T27,\"E\")))))","v":"+2"},{"$f":"IF(U24=\"\",\"\", IF(U25=\"\",\"\",IF(ABS(T27)>1,\"\", IF(U27>0,\"+\"&U27, IF(U27<0,U27,\"E\")))))","v":""},{"$f":"COUNTBLANK(M26:U26)","v":1},{"$f":"IF(U26<>\"\",U26,IF(T26<>\"\",T26,IF(S26<>\"\",S26,IF(R26<>\"\",R26,IF(Q26<>\"\",Q26,IF(P26<>\"\",P26,IF(O26<>\"\",O26,IF(N26<>\"\",N26,\"\"))))))))","v":"+2"},{"$f":"IF(W26<>\"\",W26,M26)","v":"+2"}]
[null,null,null,{"$f":"IF(D24<(D25+D28),1, IF(D24>(D25+D28),-1,0))","v":1},{"$f":"IF(E24<(E25+E28),D27+1, IF(E24>(E25+E28),D27-1,D27))","v":0},-1,-2,-2,-1,0,-1,0,1,2,3,3,4,3,2,2,3]
[null,null,null,{"$f":"IF($C24<$C25,-TRUNC(($C25-$C24-D$8+18)/18),TRUNC(($C24-$C25-D$8+18)/18))","v":0},{"$f":"IF($C24<$C25,-TRUNC(($C25-$C24-E$8+18)/18),TRUNC(($C24-$C25-E$8+18)/18))","v":-1},0,0,0,0,0,-1,0,0,0,0,0,0,-1,0,0,0]
[5,{"$f":"IF(Players!F91=\"\",\"\",Players!B91)","v":""},{"$f":"IF($B29=\"\",\"\",IF(VLOOKUP($B29,Members,9,FALSE)=\"\",\"\",(VLOOKUP($B29,Members,9,FALSE))))","v":""},{"$f":"IF($B29=\"\",\"\",IF(VLOOKUP($B29,Scores,7,FALSE)=\"\",\"\",VLOOKUP($B29,Scores,7,FALSE)))","v":""},{"$f":"IF($B29=\"\",\"\",IF(VLOOKUP($B29,Scores,8,FALSE)=\"\",\"\",VLOOKUP($B29,Scores,8,FALSE)))","v":""},{"$f":"IF($B29=\"\",\"\",IF(VLOOKUP($B29,Scores,9,FALSE)=\"\",\"\",VLOOKUP($B29,Scores,9,FALSE)))","v":""},{"$f":"IF($B29=\"\",\"\",IF(VLOOKUP($B29,Scores,10,FALSE)=\"\",\"\",VLOOKUP($B29,Scores,10,FALSE)))","v":""},{"$f":"IF($B29=\"\",\"\",IF(VLOOKUP($B29,Scores,11,FALSE)=\"\",\"\",VLOOKUP($B29,Scores,11,FALSE)))","v":""},{"$f":"IF($B29=\"\",\"\",IF(VLOOKUP($B29,Scores,12,FALSE)=\"\",\"\",VLOOKUP($B29,Scores,12,FALSE)))","v":""},{"$f":"IF($B29=\"\",\"\",IF(VLOOKUP($B29,Scores,13,FALSE)=\"\",\"\",VLOOKUP($B29,Scores,13,FALSE)))","v":""},{"$f":"IF($B29=\"\",\"\",IF(VLOOKUP($B29,Scores,14,FALSE)=\"\",\"\",VLOOKUP($B29,Scores,14,FALSE)))","v":""},{"$f":"IF($B29=\"\",\"\",IF(VLOOKUP($B29,Scores,15,FALSE)=\"\",\"\",VLOOKUP($B29,Scores,15,FALSE)))","v":""},{"$f":"IF($B29=\"\",\"\",IF(VLOOKUP($B29,Scores,17,FALSE)=\"\",\"\",VLOOKUP($B29,Scores,17,FALSE)))","v":""},{"$f":"IF($B29=\"\",\"\",IF(VLOOKUP($B29,Scores,18,FALSE)=\"\",\"\",VLOOKUP($B29,Scores,18,FALSE)))","v":""},{"$f":"IF($B29=\"\",\"\",IF(VLOOKUP($B29,Scores,19,FALSE)=\"\",\"\",VLOOKUP($B29,Scores,19,FALSE)))","v":""},{"$f":"IF($B29=\"\",\"\",IF(VLOOKUP($B29,Scores,20,FALSE)=\"\",\"\",VLOOKUP($B29,Scores,20,FALSE)))","v":""},{"$f":"IF($B29=\"\",\"\",IF(VLOOKUP($B29,Scores,21,FALSE)=\"\",\"\",VLOOKUP($B29,Scores,21,FALSE)))","v":""},{"$f":"IF($B29=\"\",\"\",IF(VLOOKUP($B29,Scores,22,FALSE)=\"\",\"\",VLOOKUP($B29,Scores,22,FALSE)))","v":""},{"$f":"IF($B29=\"\",\"\",IF(VLOOKUP($B29,Scores,23,FALSE)=\"\",\"\",VLOOKUP($B29,Scores,23,FALSE)))","v":""},{"$f":"IF($B29=\"\",\"\",IF(VLOOKUP($B29,Scores,24,FALSE)=\"\",\"\",VLOOKUP($B29,Scores,24,FALSE)))","v":""},{"$f":"IF($B29=\"\",\"\",IF(VLOOKUP($B29,Scores,25,FALSE)=\"\",\"\",VLOOKUP($B29,Scores,25,FALSE)))","v":""},null,null,null,{"$f":"IF(OR(U29=\"\",U30=\"\"),\"\",IF(X31=\"E\",\"AS\",IF(X31<0,\"lost\",ABS(X31)&\" and \"&V31)))","v":""},{"$f":"IF(OR(U29=\"\",U30=\"\"),\"\",IF(Y29=\"1 and 0\",\"1-up\",IF(Y29=\"2 and 0\",\"2-up\",Y29)))","v":""}]
[null,{"$f":"IF(B29=\"\",\"\",Players!F91)","v":""},{"$f":"IF($B30=\"\",\"\",IF(VLOOKUP($B30,Members,9,FALSE)=\"\",\"\",(VLOOKUP($B30,Members,9,FALSE))))","v":""},{"$f":"IF($B30=\"\",\"\",IF(VLOOKUP($B30,Scores,7,FALSE)=\"\",\"\",VLOOKUP($B30,Scores,7,FALSE)))","v":""},{"$f":"IF($B30=\"\",\"\",IF(VLOOKUP($B30,Scores,8,FALSE)=\"\",\"\",VLOOKUP($B30,Scores,8,FALSE)))","v":""},{"$f":"IF($B30=\"\",\"\",IF(VLOOKUP($B30,Scores,9,FALSE)=\"\",\"\",VLOOKUP($B30,Scores,9,FALSE)))","v":""},{"$f":"IF($B30=\"\",\"\",IF(VLOOKUP($B30,Scores,10,FALSE)=\"\",\"\",VLOOKUP($B30,Scores,10,FALSE)))","v":""},{"$f":"IF($B30=\"\",\"\",IF(VLOOKUP($B30,Scores,11,FALSE)=\"\",\"\",VLOOKUP($B30,Scores,11,FALSE)))","v":""},{"$f":"IF($B30=\"\",\"\",IF(VLOOKUP($B30,Scores,12,FALSE)=\"\",\"\",VLOOKUP($B30,Scores,12,FALSE)))","v":""},{"$f":"IF($B30=\"\",\"\",IF(VLOOKUP($B30,Scores,13,FALSE)=\"\",\"\",VLOOKUP($B30,Scores,13,FALSE)))","v":""},{"$f":"IF($B30=\"\",\"\",IF(VLOOKUP($B30,Scores,14,FALSE)=\"\",\"\",VLOOKUP($B30,Scores,14,FALSE)))","v":""},{"$f":"IF($B30=\"\",\"\",IF(VLOOKUP($B30,Scores,15,FALSE)=\"\",\"\",VLOOKUP($B30,Scores,15,FALSE)))","v":""},{"$f":"IF($B30=\"\",\"\",IF(VLOOKUP($B30,Scores,17,FALSE)=\"\",\"\",VLOOKUP($B30,Scores,17,FALSE)))","v":""},{"$f":"IF($B30=\"\",\"\",IF(VLOOKUP($B30,Scores,18,FALSE)=\"\",\"\",VLOOKUP($B30,Scores,18,FALSE)))","v":""},{"$f":"IF($B30=\"\",\"\",IF(VLOOKUP($B30,Scores,19,FALSE)=\"\",\"\",VLOOKUP($B30,Scores,19,FALSE)))","v":""},{"$f":"IF($B30=\"\",\"\",IF(VLOOKUP($B30,Scores,20,FALSE)=\"\",\"\",VLOOKUP($B30,Scores,20,FALSE)))","v":""},{"$f":"IF($B30=\"\",\"\",IF(VLOOKUP($B30,Scores,21,FALSE)=\"\",\"\",VLOOKUP($B30,Scores,21,FALSE)))","v":""},{"$f":"IF($B30=\"\",\"\",IF(VLOOKUP($B30,Scores,22,FALSE)=\"\",\"\",VLOOKUP($B30,Scores,22,FALSE)))","v":""},{"$f":"IF($B30=\"\",\"\",IF(VLOOKUP($B30,Scores,23,FALSE)=\"\",\"\",VLOOKUP($B30,Scores,23,FALSE)))","v":""},{"$f":"IF($B30=\"\",\"\",IF(VLOOKUP($B30,Scores,24,FALSE)=\"\",\"\",VLOOKUP($B30,Scores,24,FALSE)))","v":""},{"$f":"IF($B30=\"\",\"\",IF(VLOOKUP($B30,Scores,25,FALSE)=\"\",\"\",VLOOKUP($B30,Scores,25,FALSE)))","v":""},null,null,null,{"$f":"IF(OR(U29=\"\",U30=\"\"),\"\",IF(X31=\"E\",\"AS\",IF(X31>0,\"lost\",ABS(X31)&\" and \"&V31)))","v":""},{"$f":"IF(OR(U29=\"\",U30=\"\"),\"\",IF(Y30=\"1 and 0\",\"1-up\",IF(Y30=\"2 and 0\",\"2-up\",Y30)))","v":""}]
[null,"Score",null,{"$f":"IF(OR(D29=\"\",D30=\"\"),\"\", IF(D32>0,\"+\"&D32, IF(D32<0,D32,\"E\")))","v":""},"","","","","","","","","",{"$f":"IF(N29=\"\",\"\", IF(N30=\"\",\"\",IF(ABS(M32)>8,\"\", IF(N32>0,\"+\"&N32, IF(N32<0,N32,\"E\")))))","v":""},{"$f":"IF(O29=\"\",\"\", IF(O30=\"\",\"\",IF(ABS(N32)>7,\"\", IF(O32>0,\"+\"&O32, IF(O32<0,O32,\"E\")))))","v":""},{"$f":"IF(P29=\"\",\"\", IF(P30=\"\",\"\",IF(ABS(O32)>6,\"\", IF(P32>0,\"+\"&P32, IF(P32<0,P32,\"E\")))))","v":""},{"$f":"IF(Q29=\"\",\"\", IF(Q30=\"\",\"\",IF(ABS(P32)>5,\"\", IF(Q32>0,\"+\"&Q32, IF(Q32<0,Q32,\"E\")))))","v":""},{"$f":"IF(R29=\"\",\"\", IF(R30=\"\",\"\",IF(ABS(Q32)>4,\"\", IF(R32>0,\"+\"&R32, IF(R32<0,R32,\"E\")))))","v":""},{"$f":"IF(S29=\"\",\"\", IF(S30=\"\",\"\",IF(ABS(R32)>3,\"\", IF(S32>0,\"+\"&S32, IF(S32<0,S32,\"E\")))))","v":""},{"$f":"IF(T29=\"\",\"\", IF(T30=\"\",\"\",IF(ABS(S32)>2,\"\", IF(T32>0,\"+\"&T32, IF(T32<0,T32,\"E\")))))","v":""},{"$f":"IF(U29=\"\",\"\", IF(U30=\"\",\"\",IF(ABS(T32)>1,\"\", IF(U32>0,\"+\"&U32, IF(U32<0,U32,\"E\")))))","v":""},{"$f":"COUNTBLANK(M31:U31)","v":9},{"$f":"IF(U31<>\"\",U31,IF(T31<>\"\",T31,IF(S31<>\"\",S31,IF(R31<>\"\",R31,IF(Q31<>\"\",Q31,IF(P31<>\"\",P31,IF(O31<>\"\",O31,IF(N31<>\"\",N31,\"\"))))))))","v":""},{"$f":"IF(W31<>\"\",W31,M31)","v":""}]
[null,null,null,{"$f":"IF(D29<(D30+D33),1, IF(D29>(D30+D33),-1,0))","v":{"$error":"#VALUE!"}},{"$f":"IF(E29<(E30+E33),D32+1, IF(E29>(E30+E33),D32-1,D32))","v":{"$error":"#VALUE!"}},{"$error":"#VALUE!"},{"$error":"#VALUE!"},{"$error":"#VALUE!"},{"$error":"#VALUE!"},{"$error":"#VALUE!"},{"$error":"#VALUE!"},{"$error":"#VALUE!"},{"$error":"#VALUE!"},{"$error":"#VALUE!"},{"$error":"#VALUE!"},{"$error":"#VALUE!"},{"$error":"#VALUE!"},{"$error":"#VALUE!"},{"$error":"#VALUE!"},{"$error":"#VALUE!"},{"$error":"#VALUE!"}]
[null,null,null,{"$f":"IF($C29<$C30,-TRUNC(($C30-$C29-D$8+18)/18),TRUNC(($C29-$C30-D$8+18)/18))","v":{"$error":"#VALUE!"}},{"$f":"IF($C29<$C30,-TRUNC(($C30-$C29-E$8+18)/18),TRUNC(($C29-$C30-E$8+18)/18))","v":{"$error":"#VALUE!"}},{"$error":"#VALUE!"},{"$error":"#VALUE!"},{"$error":"#VALUE!"},{"$error":"#VALUE!"},{"$error":"#VALUE!"},{"$error":"#VALUE!"},{"$error":"#VALUE!"},{"$error":"#VALUE!"},{"$error":"#VALUE!"},{"$error":"#VALUE!"},{"$error":"#VALUE!"},{"$error":"#VALUE!"},{"$error":"#VALUE!"},{"$error":"#VALUE!"},{"$error":"#VALUE!"},{"$error":"#VALUE!"}]
[6,{"$f":"IF(Players!F93=\"\",\"\",Players!B93)","v":"Kozachenko, Jon"},{"$f":"IF($B34=\"\",\"\",IF(VLOOKUP($B34,Members,9,FALSE)=\"\",\"\",(VLOOKUP($B34,Members,9,FALSE))))","v":15},{"$f":"IF($B34=\"\",\"\",IF(VLOOKUP($B34,Scores,7,FALSE)=\"\",\"\",VLOOKUP($B34,Scores,7,FALSE)))","v":5},{"$f":"IF($B34=\"\",\"\",IF(VLOOKUP($B34,Scores,8,FALSE)=\"\",\"\",VLOOKUP($B34,Scores,8,FALSE)))","v":5},{"$f":"IF($B34=\"\",\"\",IF(VLOOKUP($B34,Scores,9,FALSE)=\"\",\"\",VLOOKUP($B34,Scores,9,FALSE)))","v":4},{"$f":"IF($B34=\"\",\"\",IF(VLOOKUP($B34,Scores,10,FALSE)=\"\",\"\",VLOOKUP($B34,Scores,10,FALSE)))","v":3},{"$f":"IF($B34=\"\",\"\",IF(VLOOKUP($B34,Scores,11,FALSE)=\"\",\"\",VLOOKUP($B34,Scores,11,FALSE)))","v":6},{"$f":"IF($B34=\"\",\"\",IF(VLOOKUP($B34,Scores,12,FALSE)=\"\",\"\",VLOOKUP($B34,Scores,12,FALSE)))","v":3},{"$f":"IF($B34=\"\",\"\",IF(VLOOKUP($B34,Scores,13,FALSE)=\"\",\"\",VLOOKUP($B34,Scores,13,FALSE)))","v":4},{"$f":"IF($B34=\"\",\"\",IF(VLOOKUP($B34,Scores,14,FALSE)=\"\",\"\",VLOOKUP($B34,Scores,14,FALSE)))","v":5},{"$f":"IF($B34=\"\",\"\",IF(VLOOKUP($B34,Scores,15,FALSE)=\"\",\"\",VLOOKUP($B34,Scores,15,FALSE)))","v":6},{"$f":"IF($B34=\"\",\"\",IF(VLOOKUP($B34,Scores,17,FALSE)=\"\",\"\",VLOOKUP($B34,Scores,17,FALSE)))","v":5},{"$f":"IF($B34=\"\",\"\",IF(VLOOKUP($B34,Scores,18,FALSE)=\"\",\"\",VLOOKUP($B34,Scores,18,FALSE)))","v":4},{"$f":"IF($B34=\"\",\"\",IF(VLOOKUP($B34,Scores,19,FALSE)=\"\",\"\",VLOOKUP($B34,Scores,19,FALSE)))","v":5},{"$f":"IF($B34=\"\",\"\",IF(VLOOKUP($B34,Scores,20,FALSE)=\"\",\"\",VLOOKUP($B34,Scores,20,FALSE)))","v":4},{"$f":"IF($B34=\"\",\"\",IF(VLOOKUP($B34,Scores,21,FALSE)=\"\",\"\",VLOOKUP($B34,Scores,21,FALSE)))","v":6},{"$f":"IF($B34=\"\",\"\",IF(VLOOKUP($B34,Scores,22,FALSE)=\"\",\"\",VLOOKUP($B34,Scores,22,FALSE)))","v":4},{"$f":"IF($B34=\"\",\"\",IF(VLOOKUP($B34,Scores,23,FALSE)=\"\",\"\",VLOOKUP($B34,Scores,23,FALSE)))","v":3},{"$f":"IF($B34=\"\",\"\",IF(VLOOKUP($B34,Scores,24,FALSE)=\"\",\"\",VLOOKUP($B34,Scores,24,FALSE)))","v":6},{"$f":"IF($B34=\"\",\"\",IF(VLOOKUP($B34,Scores,25,FALSE)=\"\",\"\",VLOOKUP($B34,Scores,25,FALSE)))","v":6},null,null,null,{"$f":"IF(OR(U34=\"\",U35=\"\"),\"\",IF(X36=\"E\",\"AS\",IF(X36<0,\"lost\",ABS(X36)&\" and \"&V36)))","v":"AS"},{"$f":"IF(OR(U34=\"\",U35=\"\"),\"\",IF(Y34=\"1 and 0\",\"1-up\",IF(Y34=\"2 and 0\",\"2-up\",Y34)))","v":"AS"}]
[null,{"$f":"IF(B34=\"\",\"\",Players!F93)","v":"Matthews, Keith"},{"$f":"IF($B35=\"\",\"\",IF(VLOOKUP($B35,Members,9,FALSE)=\"\",\"\",(VLOOKUP($B35,Members,9,FALSE))))","v":14},{"$f":"IF($B35=\"\",\"\",IF(VLOOKUP($B35,Scores,7,FALSE)=\"\",\"\",VLOOKUP($B35,Scores,7,FALSE)))","v":6},{"$f":"IF($B35=\"\",\"\",IF(VLOOKUP($B35,Scores,8,FALSE)=\"\",\"\",VLOOKUP($B35,Scores,8,FALSE)))","v":4},{"$f":"IF($B35=\"\",\"\",IF(VLOOKUP($B35,Scores,9,FALSE)=\"\",\"\",VLOOKUP($B35,Scores,9,FALSE)))","v":4},{"$f":"IF($B35=\"\",\"\",IF(VLOOKUP($B35,Scores,10,FALSE)=\"\",\"\",VLOOKUP($B35,Scores,10,FALSE)))","v":5},{"$f":"IF($B35=\"\",\"\",IF(VLOOKUP($B35,Scores,11,FALSE)=\"\",\"\",VLOOKUP($B35,Scores,11,FALSE)))","v":5},{"$f":"IF($B35=\"\",\"\",IF(VLOOKUP($B35,Scores,12,FALSE)=\"\",\"\",VLOOKUP($B35,Scores,12,FALSE)))","v":3},{"$f":"IF($B35=\"\",\"\",IF(VLOOKUP($B35,Scores,13,FALSE)=\"\",\"\",VLOOKUP($B35,Scores,13,FALSE)))","v":7},{"$f":"IF($B35=\"\",\"\",IF(VLOOKUP($B35,Scores,14,FALSE)=\"\",\"\",VLOOKUP($B35,Scores,14,FALSE)))","v":5},{"$f":"IF($B35=\"\",\"\",IF(VLOOKUP($B35,Scores,15,FALSE)=\"\",\"\",VLOOKUP($B35,Scores,15,FALSE)))","v":6},{"$f":"IF($B35=\"\",\"\",IF(VLOOKUP($B35,Scores,17,FALSE)=\"\",\"\",VLOOKUP($B35,Scores,17,FALSE)))","v":4},{"$f":"IF($B35=\"\",\"\",IF(VLOOKUP($B35,Scores,18,FALSE)=\"\",\"\",VLOOKUP($B35,Scores,18,FALSE)))","v":4},{"$f":"IF($B35=\"\",\"\",IF(VLOOKUP($B35,Scores,19,FALSE)=\"\",\"\",VLOOKUP($B35,Scores,19,FALSE)))","v":4},{"$f":"IF($B35=\"\",\"\",IF(VLOOKUP($B35,Scores,20,FALSE)=\"\",\"\",VLOOKUP($B35,Scores,20,FALSE)))","v":5},{"$f":"IF($B35=\"\",\"\",IF(VLOOKUP($B35,Scores,21,FALSE)=\"\",\"\",VLOOKUP($B35,Scores,21,FALSE)))","v":5},{"$f":"IF($B35=\"\",\"\",IF(VLOOKUP($B35,Scores,22,FALSE)=\"\",\"\",VLOOKUP($B35,Scores,22,FALSE)))","v":4},{"$f":"IF($B35=\"\",\"\",IF(VLOOKUP($B35,Scores,23,FALSE)=\"\",\"\",VLOOKUP($B35,Scores,23,FALSE)))","v":3},{"$f":"IF($B35=\"\",\"\",IF(VLOOKUP($B35,Scores,24,FALSE)=\"\",\"\",VLOOKUP($B35,Scores,24,FALSE)))","v":6},{"$f":"IF($B35=\"\",\"\",IF(VLOOKUP($B35,Scores,25,FALSE)=\"\",\"\",VLOOKUP($B35,Scores,25,FALSE)))","v":6},null,null,null,{"$f":"IF(OR(U34=\"\",U35=\"\"),\"\",IF(X36=\"E\",\"AS\",IF(X36>0,\"lost\",ABS(X36)&\" and \"&V36)))","v":"AS"},{"$f":"IF(OR(U34=\"\",U35=\"\"),\"\",IF(Y35=\"1 and 0\",\"1-up\",IF(Y35=\"2 and 0\",\"2-up\",Y35)))","v":"AS"}]
[null,"Score",null,{"$f":"IF(OR(D34=\"\",D35=\"\"),\"\", IF(D37>0,\"+\"&D37, IF(D37<0,D37,\"E\")))","v":"+1"},"+1","+1","+2","+1","+1","+2","+2","+2","+1",{"$f":"IF(N34=\"\",\"\", IF(N35=\"\",\"\",IF(ABS(M37)>8,\"\", IF(N37>0,\"+\"&N37, IF(N37<0,N37,\"E\")))))","v":"+1"},{"$f":"IF(O34=\"\",\"\", IF(O35=\"\",\"\",IF(ABS(N37)>7,\"\", IF(O37>0,\"+\"&O37, IF(O37<0,O37,\"E\")))))","v":"E"},{"$f":"IF(P34=\"\",\"\", IF(P35=\"\",\"\",IF(ABS(O37)>6,\"\", IF(P37>0,\"+\"&P37, IF(P37<0,P37,\"E\")))))","v":"+1"},{"$f":"IF(Q34=\"\",\"\", IF(Q35=\"\",\"\",IF(ABS(P37)>5,\"\", IF(Q37>0,\"+\"&Q37, IF(Q37<0,Q37,\"E\")))))","v":"E"},{"$f":"IF(R34=\"\",\"\", IF(R35=\"\",\"\",IF(ABS(Q37)>4,\"\", IF(R37>0,\"+\"&R37, IF(R37<0,R37,\"E\")))))","v":"E"},{"$f":"IF(S34=\"\",\"\", IF(S35=\"\",\"\",IF(ABS(R37)>3,\"\", IF(S37>0,\"+\"&S37, IF(S37<0,S37,\"E\")))))","v":"E"},{"$f":"IF(T34=\"\",\"\", IF(T35=\"\",\"\",IF(ABS(S37)>2,\"\", IF(T37>0,\"+\"&T37, IF(T37<0,T37,\"E\")))))","v":"E"},{"$f":"IF(U34=\"\",\"\", IF(U35=\"\",\"\",IF(ABS(T37)>1,\"\", IF(U37>0,\"+\"&U37, IF(U37<0,U37,\"E\")))))","v":"E"},{"$f":"COUNTBLANK(M36:U36)","v":0},{"$f":"IF(U36<>\"\",U36,IF(T36<>\"\",T36,IF(S36<>\"\",S36,IF(R36<>\"\",R36,IF(Q36<>\"\",Q36,IF(P36<>\"\",P36,IF(O36<>\"\",O36,IF(N36<>\"\",N36,\"\"))))))))","v":"E"},{"$f":"IF(W36<>\"\",W36,M36)","v":"E"}]
[null,null,null,{"$f":"IF(D34<(D35+D38),1, IF(D34>(D35+D38),-1,0))","v":1},{"$f":"IF(E34<(E35+E38),D37+1, IF(E34>(E35+E38),D37-1,D37))","v":1},1,2,1,1,2,2,2,1,1,0,1,0,0,0,0,0]
[null,null,null,{"$f":"IF($C34<$C35,-TRUNC(($C35-$C34-D$8+18)/18),TRUNC(($C34-$C35-D$8+18)/18))","v":0},{"$f":"IF($C34<$C35,-TRUNC(($C35-$C34-E$8+18)/18),TRUNC(($C34-$C35-E$8+18)/18))","v":1},0,0,0,0,0,0,0,0,0,0,0,0,0,0,0,0]
[7,{"$f":"IF(Players!F95=\"\",\"\",Players!B95)","v":"Matthews, Keith"},{"$f":"IF($B39=\"\",\"\",IF(VLOOKUP($B39,Members,9,FALSE)=\"\",\"\",(VLOOKUP($B39,Members,9,FALSE))))","v":14},{"$f":"IF($B39=\"\",\"\",IF(VLOOKUP($B39,Scores,7,FALSE)=\"\",\"\",VLOOKUP($B39,Scores,7,FALSE)))","v":6},{"$f":"IF($B39=\"\",\"\",IF(VLOOKUP($B39,Scores,8,FALSE)=\"\",\"\",VLOOKUP($B39,Scores,8,FALSE)))","v":4},{"$f":"IF($B39=\"\",\"\",IF(VLOOKUP($B39,Scores,9,FALSE)=\"\",\"\",VLOOKUP($B39,Scores,9,FALSE)))","v":4},{"$f":"IF($B39=\"\",\"\",IF(VLOOKUP($B39,Scores,10,FALSE)=\"\",\"\",VLOOKUP($B39,Scores,10,FALSE)))","v":5},{"$f":"IF($B39=\"\",\"\",IF(VLOOKUP($B39,Scores,11,FALSE)=\"\",\"\",VLOOKUP($B39,Scores,11,FALSE)))","v":5},{"$f":"IF($B39=\"\",\"\",IF(VLOOKUP($B39,Scores,12,FALSE)=\"\",\"\",VLOOKUP($B39,Scores,12,FALSE)))","v":3},{"$f":"IF($B39=\"\",\"\",IF(VLOOKUP($B39,Scores,13,FALSE)=\"\",\"\",VLOOKUP($B39,Scores,13,FALSE)))","v":7},{"$f":"IF($B39=\"\",\"\",IF(VLOOKUP($B39,Scores,14,FALSE)=\"\",\"\",VLOOKUP($B39,Scores,14,FALSE)))","v":5},{"$f":"IF($B39=\"\",\"\",IF(VLOOKUP($B39,Scores,15,FALSE)=\"\",\"\",VLOOKUP($B39,Scores,15,FALSE)))","v":6},{"$f":"IF($B39=\"\",\"\",IF(VLOOKUP($B39,Scores,17,FALSE)=\"\",\"\",VLOOKUP($B39,Scores,17,FALSE)))","v":4},{"$f":"IF($B39=\"\",\"\",IF(VLOOKUP($B39,Scores,18,FALSE)=\"\",\"\",VLOOKUP($B39,Scores,18,FALSE)))","v":4},{"$f":"IF($B39=\"\",\"\",IF(VLOOKUP($B39,Scores,19,FALSE)=\"\",\"\",VLOOKUP($B39,Scores,19,FALSE)))","v":4},{"$f":"IF($B39=\"\",\"\",IF(VLOOKUP($B39,Scores,20,FALSE)=\"\",\"\",VLOOKUP($B39,Scores,20,FALSE)))","v":5},{"$f":"IF($B39=\"\",\"\",IF(VLOOKUP($B39,Scores,21,FALSE)=\"\",\"\",VLOOKUP($B39,Scores,21,FALSE)))","v":5},{"$f":"IF($B39=\"\",\"\",IF(VLOOKUP($B39,Scores,22,FALSE)=\"\",\"\",VLOOKUP($B39,Scores,22,FALSE)))","v":4},{"$f":"IF($B39=\"\",\"\",IF(VLOOKUP($B39,Scores,23,FALSE)=\"\",\"\",VLOOKUP($B39,Scores,23,FALSE)))","v":3},{"$f":"IF($B39=\"\",\"\",IF(VLOOKUP($B39,Scores,24,FALSE)=\"\",\"\",VLOOKUP($B39,Scores,24,FALSE)))","v":6},{"$f":"IF($B39=\"\",\"\",IF(VLOOKUP($B39,Scores,25,FALSE)=\"\",\"\",VLOOKUP($B39,Scores,25,FALSE)))","v":6},null,null,null,{"$f":"IF(OR(U39=\"\",U40=\"\"),\"\",IF(X41=\"E\",\"AS\",IF(X41<0,\"lost\",ABS(X41)&\" and \"&V41)))","v":"AS"},{"$f":"IF(OR(U39=\"\",U40=\"\"),\"\",IF(Y39=\"1 and 0\",\"1-up\",IF(Y39=\"2 and 0\",\"2-up\",Y39)))","v":"AS"}]
[null,{"$f":"IF(B39=\"\",\"\",Players!F95)","v":"Kozachenko, Jon"},{"$f":"IF($B40=\"\",\"\",IF(VLOOKUP($B40,Members,9,FALSE)=\"\",\"\",(VLOOKUP($B40,Members,9,FALSE))))","v":15},{"$f":"IF($B40=\"\",\"\",IF(VLOOKUP($B40,Scores,7,FALSE)=\"\",\"\",VLOOKUP($B40,Scores,7,FALSE)))","v":5},{"$f":"IF($B40=\"\",\"\",IF(VLOOKUP($B40,Scores,8,FALSE)=\"\",\"\",VLOOKUP($B40,Scores,8,FALSE)))","v":5},{"$f":"IF($B40=\"\",\"\",IF(VLOOKUP($B40,Scores,9,FALSE)=\"\",\"\",VLOOKUP($B40,Scores,9,FALSE)))","v":4},{"$f":"IF($B40=\"\",\"\",IF(VLOOKUP($B40,Scores,10,FALSE)=\"\",\"\",VLOOKUP($B40,Scores,10,FALSE)))","v":3},{"$f":"IF($B40=\"\",\"\",IF(VLOOKUP($B40,Scores,11,FALSE)=\"\",\"\",VLOOKUP($B40,Scores,11,FALSE)))","v":6},{"$f":"IF($B40=\"\",\"\",IF(VLOOKUP($B40,Scores,12,FALSE)=\"\",\"\",VLOOKUP($B40,Scores,12,FALSE)))","v":3},{"$f":"IF($B40=\"\",\"\",IF(VLOOKUP($B40,Scores,13,FALSE)=\"\",\"\",VLOOKUP($B40,Scores,13,FALSE)))","v":4},{"$f":"IF($B40=\"\",\"\",IF(VLOOKUP($B40,Scores,14,FALSE)=\"\",\"\",VLOOKUP($B40,Scores,14,FALSE)))","v":5},{"$f":"IF($B40=\"\",\"\",IF(VLOOKUP($B40,Scores,15,FALSE)=\"\",\"\",VLOOKUP($B40,Scores,15,FALSE)))","v":6},{"$f":"IF($B40=\"\",\"\",IF(VLOOKUP($B40,Scores,17,FALSE)=\"\",\"\",VLOOKUP($B40,Scores,17,FALSE)))","v":5},{"$f":"IF($B40=\"\",\"\",IF(VLOOKUP($B40,Scores,18,FALSE)=\"\",\"\",VLOOKUP($B40,Scores,18,FALSE)))","v":4},{"$f":"IF($B40=\"\",\"\",IF(VLOOKUP($B40,Scores,19,FALSE)=\"\",\"\",VLOOKUP($B40,Scores,19,FALSE)))","v":5},{"$f":"IF($B40=\"\",\"\",IF(VLOOKUP($B40,Scores,20,FALSE)=\"\",\"\",VLOOKUP($B40,Scores,20,FALSE)))","v":4},{"$f":"IF($B40=\"\",\"\",IF(VLOOKUP($B40,Scores,21,FALSE)=\"\",\"\",VLOOKUP($B40,Scores,21,FALSE)))","v":6},{"$f":"IF($B40=\"\",\"\",IF(VLOOKUP($B40,Scores,22,FALSE)=\"\",\"\",VLOOKUP($B40,Scores,22,FALSE)))","v":4},{"$f":"IF($B40=\"\",\"\",IF(VLOOKUP($B40,Scores,23,FALSE)=\"\",\"\",VLOOKUP($B40,Scores,23,FALSE)))","v":3},{"$f":"IF($B40=\"\",\"\",IF(VLOOKUP($B40,Scores,24,FALSE)=\"\",\"\",VLOOKUP($B40,Scores,24,FALSE)))","v":6},{"$f":"IF($B40=\"\",\"\",IF(VLOOKUP($B40,Scores,25,FALSE)=\"\",\"\",VLOOKUP($B40,Scores,25,FALSE)))","v":6},null,null,null,{"$f":"IF(OR(U39=\"\",U40=\"\"),\"\",IF(X41=\"E\",\"AS\",IF(X41>0,\"lost\",ABS(X41)&\" and \"&V41)))","v":"AS"},{"$f":"IF(OR(U39=\"\",U40=\"\"),\"\",IF(Y40=\"1 and 0\",\"1-up\",IF(Y40=\"2 and 0\",\"2-up\",Y40)))","v":"AS"}]
[null,"Score",null,{"$f":"IF(OR(D39=\"\",D40=\"\"),\"\", IF(D42>0,\"+\"&D42, IF(D42<0,D42,\"E\")))","v":-1},-1,-1,-2,-1,-1,-2,-2,-2,-1,{"$f":"IF(N39=\"\",\"\", IF(N40=\"\",\"\",IF(ABS(M42)>8,\"\", IF(N42>0,\"+\"&N42, IF(N42<0,N42,\"E\")))))","v":-1},{"$f":"IF(O39=\"\",\"\", IF(O40=\"\",\"\",IF(ABS(N42)>7,\"\", IF(O42>0,\"+\"&O42, IF(O42<0,O42,\"E\")))))","v":"E"},{"$f":"IF(P39=\"\",\"\", IF(P40=\"\",\"\",IF(ABS(O42)>6,\"\", IF(P42>0,\"+\"&P42, IF(P42<0,P42,\"E\")))))","v":-1},{"$f":"IF(Q39=\"\",\"\", IF(Q40=\"\",\"\",IF(ABS(P42)>5,\"\", IF(Q42>0,\"+\"&Q42, IF(Q42<0,Q42,\"E\")))))","v":"E"},{"$f":"IF(R39=\"\",\"\", IF(R40=\"\",\"\",IF(ABS(Q42)>4,\"\", IF(R42>0,\"+\"&R42, IF(R42<0,R42,\"E\")))))","v":"E"},{"$f":"IF(S39=\"\",\"\", IF(S40=\"\",\"\",IF(ABS(R42)>3,\"\", IF(S42>0,\"+\"&S42, IF(S42<0,S42,\"E\")))))","v":"E"},{"$f":"IF(T39=\"\",\"\", IF(T40=\"\",\"\",IF(ABS(S42)>2,\"\", IF(T42>0,\"+\"&T42, IF(T42<0,T42,\"E\")))))","v":"E"},{"$f":"IF(U39=\"\",\"\", IF(U40=\"\",\"\",IF(ABS(T42)>1,\"\", IF(U42>0,\"+\"&U42, IF(U42<0,U42,\"E\")))))","v":"E"},{"$f":"COUNTBLANK(M41:U41)","v":0},{"$f":"IF(U41<>\"\",U41,IF(T41<>\"\",T41,IF(S41<>\"\",S41,IF(R41<>\"\",R41,IF(Q41<>\"\",Q41,IF(P41<>\"\",P41,IF(O41<>\"\",O41,IF(N41<>\"\",N41,\"\"))))))))","v":"E"},{"$f":"IF(W41<>\"\",W41,M41)","v":"E"}]
[null,null,null,{"$f":"IF(D39<(D40+D43),1, IF(D39>(D40+D43),-1,0))","v":-1},{"$f":"IF(E39<(E40+E43),D42+1, IF(E39>(E40+E43),D42-1,D42))","v":-1},-1,-2,-1,-1,-2,-2,-2,-1,-1,0,-1,0,0,0,0,0]
[null,null,null,{"$f":"IF($C39<$C40,-TRUNC(($C40-$C39-D$8+18)/18),TRUNC(($C39-$C40-D$8+18)/18))","v":0},{"$f":"IF($C39<$C40,-TRUNC(($C40-$C39-E$8+18)/18),TRUNC(($C39-$C40-E$8+18)/18))","v":-1},0,0,0,0,0,0,0,0,0,0,0,0,0,0,0,0]
[8,{"$f":"IF(Players!F97=\"\",\"\",Players!B97)","v":""},{"$f":"IF($B44=\"\",\"\",IF(VLOOKUP($B44,Members,9,FALSE)=\"\",\"\",(VLOOKUP($B44,Members,9,FALSE))))","v":""},{"$f":"IF($B44=\"\",\"\",IF(VLOOKUP($B44,Scores,7,FALSE)=\"\",\"\",VLOOKUP($B44,Scores,7,FALSE)))","v":""},{"$f":"IF($B44=\"\",\"\",IF(VLOOKUP($B44,Scores,8,FALSE)=\"\",\"\",VLOOKUP($B44,Scores,8,FALSE)))","v":""},{"$f":"IF($B44=\"\",\"\",IF(VLOOKUP($B44,Scores,9,FALSE)=\"\",\"\",VLOOKUP($B44,Scores,9,FALSE)))","v":""},{"$f":"IF($B44=\"\",\"\",IF(VLOOKUP($B44,Scores,10,FALSE)=\"\",\"\",VLOOKUP($B44,Scores,10,FALSE)))","v":""},{"$f":"IF($B44=\"\",\"\",IF(VLOOKUP($B44,Scores,11,FALSE)=\"\",\"\",VLOOKUP($B44,Scores,11,FALSE)))","v":""},{"$f":"IF($B44=\"\",\"\",IF(VLOOKUP($B44,Scores,12,FALSE)=\"\",\"\",VLOOKUP($B44,Scores,12,FALSE)))","v":""},{"$f":"IF($B44=\"\",\"\",IF(VLOOKUP($B44,Scores,13,FALSE)=\"\",\"\",VLOOKUP($B44,Scores,13,FALSE)))","v":""},{"$f":"IF($B44=\"\",\"\",IF(VLOOKUP($B44,Scores,14,FALSE)=\"\",\"\",VLOOKUP($B44,Scores,14,FALSE)))","v":""},{"$f":"IF($B44=\"\",\"\",IF(VLOOKUP($B44,Scores,15,FALSE)=\"\",\"\",VLOOKUP($B44,Scores,15,FALSE)))","v":""},{"$f":"IF($B44=\"\",\"\",IF(VLOOKUP($B44,Scores,17,FALSE)=\"\",\"\",VLOOKUP($B44,Scores,17,FALSE)))","v":""},{"$f":"IF($B44=\"\",\"\",IF(VLOOKUP($B44,Scores,18,FALSE)=\"\",\"\",VLOOKUP($B44,Scores,18,FALSE)))","v":""},{"$f":"IF($B44=\"\",\"\",IF(VLOOKUP($B44,Scores,19,FALSE)=\"\",\"\",VLOOKUP($B44,Scores,19,FALSE)))","v":""},{"$f":"IF($B44=\"\",\"\",IF(VLOOKUP($B44,Scores,20,FALSE)=\"\",\"\",VLOOKUP($B44,Scores,20,FALSE)))","v":""},{"$f":"IF($B44=\"\",\"\",IF(VLOOKUP($B44,Scores,21,FALSE)=\"\",\"\",VLOOKUP($B44,Scores,21,FALSE)))","v":""},{"$f":"IF($B44=\"\",\"\",IF(VLOOKUP($B44,Scores,22,FALSE)=\"\",\"\",VLOOKUP($B44,Scores,22,FALSE)))","v":""},{"$f":"IF($B44=\"\",\"\",IF(VLOOKUP($B44,Scores,23,FALSE)=\"\",\"\",VLOOKUP($B44,Scores,23,FALSE)))","v":""},{"$f":"IF($B44=\"\",\"\",IF(VLOOKUP($B44,Scores,24,FALSE)=\"\",\"\",VLOOKUP($B44,Scores,24,FALSE)))","v":""},{"$f":"IF($B44=\"\",\"\",IF(VLOOKUP($B44,Scores,25,FALSE)=\"\",\"\",VLOOKUP($B44,Scores,25,FALSE)))","v":""},null,null,null,{"$f":"IF(OR(U44=\"\",U45=\"\"),\"\",IF(X46=\"E\",\"AS\",IF(X46<0,\"lost\",ABS(X46)&\" and \"&V46)))","v":""},{"$f":"IF(OR(U44=\"\",U45=\"\"),\"\",IF(Y44=\"1 and 0\",\"1-up\",IF(Y44=\"2 and 0\",\"2-up\",Y44)))","v":""}]
[null,{"$f":"IF(B44=\"\",\"\",Players!F97)","v":""},{"$f":"IF($B45=\"\",\"\",IF(VLOOKUP($B45,Members,9,FALSE)=\"\",\"\",(VLOOKUP($B45,Members,9,FALSE))))","v":""},{"$f":"IF($B45=\"\",\"\",IF(VLOOKUP($B45,Scores,7,FALSE)=\"\",\"\",VLOOKUP($B45,Scores,7,FALSE)))","v":""},{"$f":"IF($B45=\"\",\"\",IF(VLOOKUP($B45,Scores,8,FALSE)=\"\",\"\",VLOOKUP($B45,Scores,8,FALSE)))","v":""},{"$f":"IF($B45=\"\",\"\",IF(VLOOKUP($B45,Scores,9,FALSE)=\"\",\"\",VLOOKUP($B45,Scores,9,FALSE)))","v":""},{"$f":"IF($B45=\"\",\"\",IF(VLOOKUP($B45,Scores,10,FALSE)=\"\",\"\",VLOOKUP($B45,Scores,10,FALSE)))","v":""},{"$f":"IF($B45=\"\",\"\",IF(VLOOKUP($B45,Scores,11,FALSE)=\"\",\"\",VLOOKUP($B45,Scores,11,FALSE)))","v":""},{"$f":"IF($B45=\"\",\"\",IF(VLOOKUP($B45,Scores,12,FALSE)=\"\",\"\",VLOOKUP($B45,Scores,12,FALSE)))","v":""},{"$f":"IF($B45=\"\",\"\",IF(VLOOKUP($B45,Scores,13,FALSE)=\"\",\"\",VLOOKUP($B45,Scores,13,FALSE)))","v":""},{"$f":"IF($B45=\"\",\"\",IF(VLOOKUP($B45,Scores,14,FALSE)=\"\",\"\",VLOOKUP($B45,Scores,14,FALSE)))","v":""},{"$f":"IF($B45=\"\",\"\",IF(VLOOKUP($B45,Scores,15,FALSE)=\"\",\"\",VLOOKUP($B45,Scores,15,FALSE)))","v":""},{"$f":"IF($B45=\"\",\"\",IF(VLOOKUP($B45,Scores,17,FALSE)=\"\",\"\",VLOOKUP($B45,Scores,17,FALSE)))","v":""},{"$f":"IF($B45=\"\",\"\",IF(VLOOKUP($B45,Scores,18,FALSE)=\"\",\"\",VLOOKUP($B45,Scores,18,FALSE)))","v":""},{"$f":"IF($B45=\"\",\"\",IF(VLOOKUP($B45,Scores,19,FALSE)=\"\",\"\",VLOOKUP($B45,Scores,19,FALSE)))","v":""},{"$f":"IF($B45=\"\",\"\",IF(VLOOKUP($B45,Scores,20,FALSE)=\"\",\"\",VLOOKUP($B45,Scores,20,FALSE)))","v":""},{"$f":"IF($B45=\"\",\"\",IF(VLOOKUP($B45,Scores,21,FALSE)=\"\",\"\",VLOOKUP($B45,Scores,21,FALSE)))","v":""},{"$f":"IF($B45=\"\",\"\",IF(VLOOKUP($B45,Scores,22,FALSE)=\"\",\"\",VLOOKUP($B45,Scores,22,FALSE)))","v":""},{"$f":"IF($B45=\"\",\"\",IF(VLOOKUP($B45,Scores,23,FALSE)=\"\",\"\",VLOOKUP($B45,Scores,23,FALSE)))","v":""},{"$f":"IF($B45=\"\",\"\",IF(VLOOKUP($B45,Scores,24,FALSE)=\"\",\"\",VLOOKUP($B45,Scores,24,FALSE)))","v":""},{"$f":"IF($B45=\"\",\"\",IF(VLOOKUP($B45,Scores,25,FALSE)=\"\",\"\",VLOOKUP($B45,Scores,25,FALSE)))","v":""},null,null,null,{"$f":"IF(OR(U44=\"\",U45=\"\"),\"\",IF(X46=\"E\",\"AS\",IF(X46>0,\"lost\",ABS(X46)&\" and \"&V46)))","v":""},{"$f":"IF(OR(U44=\"\",U45=\"\"),\"\",IF(Y45=\"1 and 0\",\"1-up\",IF(Y45=\"2 and 0\",\"2-up\",Y45)))","v":""}]
[null,"Score",null,{"$f":"IF(OR(D44=\"\",D45=\"\"),\"\", IF(D47>0,\"+\"&D47, IF(D47<0,D47,\"E\")))","v":""},"","","","","","","","","",{"$f":"IF(N44=\"\",\"\", IF(N45=\"\",\"\",IF(ABS(M47)>8,\"\", IF(N47>0,\"+\"&N47, IF(N47<0,N47,\"E\")))))","v":""},{"$f":"IF(O44=\"\",\"\", IF(O45=\"\",\"\",IF(ABS(N47)>7,\"\", IF(O47>0,\"+\"&O47, IF(O47<0,O47,\"E\")))))","v":""},{"$f":"IF(P44=\"\",\"\", IF(P45=\"\",\"\",IF(ABS(O47)>6,\"\", IF(P47>0,\"+\"&P47, IF(P47<0,P47,\"E\")))))","v":""},{"$f":"IF(Q44=\"\",\"\", IF(Q45=\"\",\"\",IF(ABS(P47)>5,\"\", IF(Q47>0,\"+\"&Q47, IF(Q47<0,Q47,\"E\")))))","v":""},{"$f":"IF(R44=\"\",\"\", IF(R45=\"\",\"\",IF(ABS(Q47)>4,\"\", IF(R47>0,\"+\"&R47, IF(R47<0,R47,\"E\")))))","v":""},{"$f":"IF(S44=\"\",\"\", IF(S45=\"\",\"\",IF(ABS(R47)>3,\"\", IF(S47>0,\"+\"&S47, IF(S47<0,S47,\"E\")))))","v":""},{"$f":"IF(T44=\"\",\"\", IF(T45=\"\",\"\",IF(ABS(S47)>2,\"\", IF(T47>0,\"+\"&T47, IF(T47<0,T47,\"E\")))))","v":""},{"$f":"IF(U44=\"\",\"\", IF(U45=\"\",\"\",IF(ABS(T47)>1,\"\", IF(U47>0,\"+\"&U47, IF(U47<0,U47,\"E\")))))","v":""},{"$f":"COUNTBLANK(M46:U46)","v":9},{"$f":"IF(U46<>\"\",U46,IF(T46<>\"\",T46,IF(S46<>\"\",S46,IF(R46<>\"\",R46,IF(Q46<>\"\",Q46,IF(P46<>\"\",P46,IF(O46<>\"\",O46,IF(N46<>\"\",N46,\"\"))))))))","v":""},{"$f":"IF(W46<>\"\",W46,M46)","v":""}]
[null,null,null,{"$f":"IF(D44<(D45+D48),1, IF(D44>(D45+D48),-1,0))","v":{"$error":"#VALUE!"}},{"$f":"IF(E44<(E45+E48),D47+1, IF(E44>(E45+E48),D47-1,D47))","v":{"$error":"#VALUE!"}},{"$error":"#VALUE!"},{"$error":"#VALUE!"},{"$error":"#VALUE!"},{"$error":"#VALUE!"},{"$error":"#VALUE!"},{"$error":"#VALUE!"},{"$error":"#VALUE!"},{"$error":"#VALUE!"},{"$error":"#VALUE!"},{"$error":"#VALUE!"},{"$error":"#VALUE!"},{"$error":"#VALUE!"},{"$error":"#VALUE!"},{"$error":"#VALUE!"},{"$error":"#VALUE!"},{"$error":"#VALUE!"}]
[null,null,null,{"$f":"IF($C44<$C45,-TRUNC(($C45-$C44-D$8+18)/18),TRUNC(($C44-$C45-D$8+18)/18))","v":{"$error":"#VALUE!"}},{"$f":"IF($C44<$C45,-TRUNC(($C45-$C44-E$8+18)/18),TRUNC(($C44-$C45-E$8+18)/18))","v":{"$error":"#VALUE!"}},{"$error":"#VALUE!"},{"$error":"#VALUE!"},{"$error":"#VALUE!"},{"$error":"#VALUE!"},{"$error":"#VALUE!"},{"$error":"#VALUE!"},{"$error":"#VALUE!"},{"$error":"#VALUE!"},{"$error":"#VALUE!"},{"$error":"#VALUE!"},{"$error":"#VALUE!"},{"$error":"#VALUE!"},{"$error":"#VALUE!"},{"$error":"#VALUE!"},{"$error":"#VALUE!"},{"$error":"#VALUE!"}]
[9,{"$f":"IF(Players!F99=\"\",\"\",Players!B99)","v":""},{"$f":"IF($B49=\"\",\"\",IF(VLOOKUP($B49,Members,9,FALSE)=\"\",\"\",(VLOOKUP($B49,Members,9,FALSE))))","v":""},{"$f":"IF($B49=\"\",\"\",IF(VLOOKUP($B49,Scores,7,FALSE)=\"\",\"\",VLOOKUP($B49,Scores,7,FALSE)))","v":""},{"$f":"IF($B49=\"\",\"\",IF(VLOOKUP($B49,Scores,8,FALSE)=\"\",\"\",VLOOKUP($B49,Scores,8,FALSE)))","v":""},{"$f":"IF($B49=\"\",\"\",IF(VLOOKUP($B49,Scores,9,FALSE)=\"\",\"\",VLOOKUP($B49,Scores,9,FALSE)))","v":""},{"$f":"IF($B49=\"\",\"\",IF(VLOOKUP($B49,Scores,10,FALSE)=\"\",\"\",VLOOKUP($B49,Scores,10,FALSE)))","v":""},{"$f":"IF($B49=\"\",\"\",IF(VLOOKUP($B49,Scores,11,FALSE)=\"\",\"\",VLOOKUP($B49,Scores,11,FALSE)))","v":""},{"$f":"IF($B49=\"\",\"\",IF(VLOOKUP($B49,Scores,12,FALSE)=\"\",\"\",VLOOKUP($B49,Scores,12,FALSE)))","v":""},{"$f":"IF($B49=\"\",\"\",IF(VLOOKUP($B49,Scores,13,FALSE)=\"\",\"\",VLOOKUP($B49,Scores,13,FALSE)))","v":""},{"$f":"IF($B49=\"\",\"\",IF(VLOOKUP($B49,Scores,14,FALSE)=\"\",\"\",VLOOKUP($B49,Scores,14,FALSE)))","v":""},{"$f":"IF($B49=\"\",\"\",IF(VLOOKUP($B49,Scores,15,FALSE)=\"\",\"\",VLOOKUP($B49,Scores,15,FALSE)))","v":""},{"$f":"IF($B49=\"\",\"\",IF(VLOOKUP($B49,Scores,17,FALSE)=\"\",\"\",VLOOKUP($B49,Scores,17,FALSE)))","v":""},{"$f":"IF($B49=\"\",\"\",IF(VLOOKUP($B49,Scores,18,FALSE)=\"\",\"\",VLOOKUP($B49,Scores,18,FALSE)))","v":""},{"$f":"IF($B49=\"\",\"\",IF(VLOOKUP($B49,Scores,19,FALSE)=\"\",\"\",VLOOKUP($B49,Scores,19,FALSE)))","v":""},{"$f":"IF($B49=\"\",\"\",IF(VLOOKUP($B49,Scores,20,FALSE)=\"\",\"\",VLOOKUP($B49,Scores,20,FALSE)))","v":""},{"$f":"IF($B49=\"\",\"\",IF(VLOOKUP($B49,Scores,21,FALSE)=\"\",\"\",VLOOKUP($B49,Scores,21,FALSE)))","v":""},{"$f":"IF($B49=\"\",\"\",IF(VLOOKUP($B49,Scores,22,FALSE)=\"\",\"\",VLOOKUP($B49,Scores,22,FALSE)))","v":""},{"$f":"IF($B49=\"\",\"\",IF(VLOOKUP($B49,Scores,23,FALSE)=\"\",\"\",VLOOKUP($B49,Scores,23,FALSE)))","v":""},{"$f":"IF($B49=\"\",\"\",IF(VLOOKUP($B49,Scores,24,FALSE)=\"\",\"\",VLOOKUP($B49,Scores,24,FALSE)))","v":""},{"$f":"IF($B49=\"\",\"\",IF(VLOOKUP($B49,Scores,25,FALSE)=\"\",\"\",VLOOKUP($B49,Scores,25,FALSE)))","v":""},null,null,null,{"$f":"IF(OR(U49=\"\",U50=\"\"),\"\",IF(X51=\"E\",\"AS\",IF(X51<0,\"lost\",ABS(X51)&\" and \"&V51)))","v":""},{"$f":"IF(OR(U49=\"\",U50=\"\"),\"\",IF(Y49=\"1 and 0\",\"1-up\",IF(Y49=\"2 and 0\",\"2-up\",Y49)))","v":""}]
[null,{"$f":"IF(B49=\"\",\"\",Players!F99)","v":""},{"$f":"IF($B50=\"\",\"\",IF(VLOOKUP($B50,Members,9,FALSE)=\"\",\"\",(VLOOKUP($B50,Members,9,FALSE))))","v":""},{"$f":"IF($B50=\"\",\"\",IF(VLOOKUP($B50,Scores,7,FALSE)=\"\",\"\",VLOOKUP($B50,Scores,7,FALSE)))","v":""},{"$f":"IF($B50=\"\",\"\",IF(VLOOKUP($B50,Scores,8,FALSE)=\"\",\"\",VLOOKUP($B50,Scores,8,FALSE)))","v":""},{"$f":"IF($B50=\"\",\"\",IF(VLOOKUP($B50,Scores,9,FALSE)=\"\",\"\",VLOOKUP($B50,Scores,9,FALSE)))","v":""},{"$f":"IF($B50=\"\",\"\",IF(VLOOKUP($B50,Scores,10,FALSE)=\"\",\"\",VLOOKUP($B50,Scores,10,FALSE)))","v":""},{"$f":"IF($B50=\"\",\"\",IF(VLOOKUP($B50,Scores,11,FALSE)=\"\",\"\",VLOOKUP($B50,Scores,11,FALSE)))","v":""},{"$f":"IF($B50=\"\",\"\",IF(VLOOKUP($B50,Scores,12,FALSE)=\"\",\"\",VLOOKUP($B50,Scores,12,FALSE)))","v":""},{"$f":"IF($B50=\"\",\"\",IF(VLOOKUP($B50,Scores,13,FALSE)=\"\",\"\",VLOOKUP($B50,Scores,13,FALSE)))","v":""},{"$f":"IF($B50=\"\",\"\",IF(VLOOKUP($B50,Scores,14,FALSE)=\"\",\"\",VLOOKUP($B50,Scores,14,FALSE)))","v":""},{"$f":"IF($B50=\"\",\"\",IF(VLOOKUP($B50,Scores,15,FALSE)=\"\",\"\",VLOOKUP($B50,Scores,15,FALSE)))","v":""},{"$f":"IF($B50=\"\",\"\",IF(VLOOKUP($B50,Scores,17,FALSE)=\"\",\"\",VLOOKUP($B50,Scores,17,FALSE)))","v":""},{"$f":"IF($B50=\"\",\"\",IF(VLOOKUP($B50,Scores,18,FALSE)=\"\",\"\",VLOOKUP($B50,Scores,18,FALSE)))","v":""},{"$f":"IF($B50=\"\",\"\",IF(VLOOKUP($B50,Scores,19,FALSE)=\"\",\"\",VLOOKUP($B50,Scores,19,FALSE)))","v":""},{"$f":"IF($B50=\"\",\"\",IF(VLOOKUP($B50,Scores,20,FALSE)=\"\",\"\",VLOOKUP($B50,Scores,20,FALSE)))","v":""},{"$f":"IF($B50=\"\",\"\",IF(VLOOKUP($B50,Scores,21,FALSE)=\"\",\"\",VLOOKUP($B50,Scores,21,FALSE)))","v":""},{"$f":"IF($B50=\"\",\"\",IF(VLOOKUP($B50,Scores,22,FALSE)=\"\",\"\",VLOOKUP($B50,Scores,22,FALSE)))","v":""},{"$f":"IF($B50=\"\",\"\",IF(VLOOKUP($B50,Scores,23,FALSE)=\"\",\"\",VLOOKUP($B50,Scores,23,FALSE)))","v":""},{"$f":"IF($B50=\"\",\"\",IF(VLOOKUP($B50,Scores,24,FALSE)=\"\",\"\",VLOOKUP($B50,Scores,24,FALSE)))","v":""},{"$f":"IF($B50=\"\",\"\",IF(VLOOKUP($B50,Scores,25,FALSE)=\"\",\"\",VLOOKUP($B50,Scores,25,FALSE)))","v":""},null,null,null,{"$f":"IF(OR(U49=\"\",U50=\"\"),\"\",IF(X51=\"E\",\"AS\",IF(X51>0,\"lost\",ABS(X51)&\" and \"&V51)))","v":""},{"$f":"IF(OR(U49=\"\",U50=\"\"),\"\",IF(Y50=\"1 and 0\",\"1-up\",IF(Y50=\"2 and 0\",\"2-up\",Y50)))","v":""}]
[null,"Score",null,{"$f":"IF(OR(D49=\"\",D50=\"\"),\"\", IF(D52>0,\"+\"&D52, IF(D52<0,D52,\"E\")))","v":""},"","","","","","","","","",{"$f":"IF(N49=\"\",\"\", IF(N50=\"\",\"\",IF(ABS(M52)>8,\"\", IF(N52>0,\"+\"&N52, IF(N52<0,N52,\"E\")))))","v":""},{"$f":"IF(O49=\"\",\"\", IF(O50=\"\",\"\",IF(ABS(N52)>7,\"\", IF(O52>0,\"+\"&O52, IF(O52<0,O52,\"E\")))))","v":""},{"$f":"IF(P49=\"\",\"\", IF(P50=\"\",\"\",IF(ABS(O52)>6,\"\", IF(P52>0,\"+\"&P52, IF(P52<0,P52,\"E\")))))","v":""},{"$f":"IF(Q49=\"\",\"\", IF(Q50=\"\",\"\",IF(ABS(P52)>5,\"\", IF(Q52>0,\"+\"&Q52, IF(Q52<0,Q52,\"E\")))))","v":""},{"$f":"IF(R49=\"\",\"\", IF(R50=\"\",\"\",IF(ABS(Q52)>4,\"\", IF(R52>0,\"+\"&R52, IF(R52<0,R52,\"E\")))))","v":""},{"$f":"IF(S49=\"\",\"\", IF(S50=\"\",\"\",IF(ABS(R52)>3,\"\", IF(S52>0,\"+\"&S52, IF(S52<0,S52,\"E\")))))","v":""},{"$f":"IF(T49=\"\",\"\", IF(T50=\"\",\"\",IF(ABS(S52)>2,\"\", IF(T52>0,\"+\"&T52, IF(T52<0,T52,\"E\")))))","v":""},{"$f":"IF(U49=\"\",\"\", IF(U50=\"\",\"\",IF(ABS(T52)>1,\"\", IF(U52>0,\"+\"&U52, IF(U52<0,U52,\"E\")))))","v":""},{"$f":"COUNTBLANK(M51:U51)","v":9},{"$f":"IF(U51<>\"\",U51,IF(T51<>\"\",T51,IF(S51<>\"\",S51,IF(R51<>\"\",R51,IF(Q51<>\"\",Q51,IF(P51<>\"\",P51,IF(O51<>\"\",O51,IF(N51<>\"\",N51,\"\"))))))))","v":""},{"$f":"IF(W51<>\"\",W51,M51)","v":""}]
[null,null,null,{"$f":"IF(D49<(D50+D53),1, IF(D49>(D50+D53),-1,0))","v":{"$error":"#VALUE!"}},{"$f":"IF(E49<(E50+E53),D52+1, IF(E49>(E50+E53),D52-1,D52))","v":{"$error":"#VALUE!"}},{"$error":"#VALUE!"},{"$error":"#VALUE!"},{"$error":"#VALUE!"},{"$error":"#VALUE!"},{"$error":"#VALUE!"},{"$error":"#VALUE!"},{"$error":"#VALUE!"},{"$error":"#VALUE!"},{"$error":"#VALUE!"},{"$error":"#VALUE!"},{"$error":"#VALUE!"},{"$error":"#VALUE!"},{"$error":"#VALUE!"},{"$error":"#VALUE!"},{"$error":"#VALUE!"},{"$error":"#VALUE!"}]
[null,null,null,{"$f":"IF($C49<$C50,-TRUNC(($C50-$C49-D$8+18)/18),TRUNC(($C49-$C50-D$8+18)/18))","v":{"$error":"#VALUE!"}},{"$f":"IF($C49<$C50,-TRUNC(($C50-$C49-E$8+18)/18),TRUNC(($C49-$C50-E$8+18)/18))","v":{"$error":"#VALUE!"}},{"$error":"#VALUE!"},{"$error":"#VALUE!"},{"$error":"#VALUE!"},{"$error":"#VALUE!"},{"$error":"#VALUE!"},{"$error":"#VALUE!"},{"$error":"#VALUE!"},{"$error":"#VALUE!"},{"$error":"#VALUE!"},{"$error":"#VALUE!"},{"$error":"#VALUE!"},{"$error":"#VALUE!"},{"$error":"#VALUE!"},{"$error":"#VALUE!"},{"$error":"#VALUE!"},{"$error":"#VALUE!"}]
[10,{"$f":"IF(Players!F101=\"\",\"\",Players!B101)","v":""},{"$f":"IF($B54=\"\",\"\",IF(VLOOKUP($B54,Members,9,FALSE)=\"\",\"\",(VLOOKUP($B54,Members,9,FALSE))))","v":""},{"$f":"IF($B54=\"\",\"\",IF(VLOOKUP($B54,Scores,7,FALSE)=\"\",\"\",VLOOKUP($B54,Scores,7,FALSE)))","v":""},{"$f":"IF($B54=\"\",\"\",IF(VLOOKUP($B54,Scores,8,FALSE)=\"\",\"\",VLOOKUP($B54,Scores,8,FALSE)))","v":""},{"$f":"IF($B54=\"\",\"\",IF(VLOOKUP($B54,Scores,9,FALSE)=\"\",\"\",VLOOKUP($B54,Scores,9,FALSE)))","v":""},{"$f":"IF($B54=\"\",\"\",IF(VLOOKUP($B54,Scores,10,FALSE)=\"\",\"\",VLOOKUP($B54,Scores,10,FALSE)))","v":""},{"$f":"IF($B54=\"\",\"\",IF(VLOOKUP($B54,Scores,11,FALSE)=\"\",\"\",VLOOKUP($B54,Scores,11,FALSE)))","v":""},{"$f":"IF($B54=\"\",\"\",IF(VLOOKUP($B54,Scores,12,FALSE)=\"\",\"\",VLOOKUP($B54,Scores,12,FALSE)))","v":""},{"$f":"IF($B54=\"\",\"\",IF(VLOOKUP($B54,Scores,13,FALSE)=\"\",\"\",VLOOKUP($B54,Scores,13,FALSE)))","v":""},{"$f":"IF($B54=\"\",\"\",IF(VLOOKUP($B54,Scores,14,FALSE)=\"\",\"\",VLOOKUP($B54,Scores,14,FALSE)))","v":""},{"$f":"IF($B54=\"\",\"\",IF(VLOOKUP($B54,Scores,15,FALSE)=\"\",\"\",VLOOKUP($B54,Scores,15,FALSE)))","v":""},{"$f":"IF($B54=\"\",\"\",IF(VLOOKUP($B54,Scores,17,FALSE)=\"\",\"\",VLOOKUP($B54,Scores,17,FALSE)))","v":""},{"$f":"IF($B54=\"\",\"\",IF(VLOOKUP($B54,Scores,18,FALSE)=\"\",\"\",VLOOKUP($B54,Scores,18,FALSE)))","v":""},{"$f":"IF($B54=\"\",\"\",IF(VLOOKUP($B54,Scores,19,FALSE)=\"\",\"\",VLOOKUP($B54,Scores,19,FALSE)))","v":""},{"$f":"IF($B54=\"\",\"\",IF(VLOOKUP($B54,Scores,20,FALSE)=\"\",\"\",VLOOKUP($B54,Scores,20,FALSE)))","v":""},{"$f":"IF($B54=\"\",\"\",IF(VLOOKUP($B54,Scores,21,FALSE)=\"\",\"\",VLOOKUP($B54,Scores,21,FALSE)))","v":""},{"$f":"IF($B54=\"\",\"\",IF(VLOOKUP($B54,Scores,22,FALSE)=\"\",\"\",VLOOKUP($B54,Scores,22,FALSE)))","v":""},{"$f":"IF($B54=\"\",\"\",IF(VLOOKUP($B54,Scores,23,FALSE)=\"\",\"\",VLOOKUP($B54,Scores,23,FALSE)))","v":""},{"$f":"IF($B54=\"\",\"\",IF(VLOOKUP($B54,Scores,24,FALSE)=\"\",\"\",VLOOKUP($B54,Scores,24,FALSE)))","v":""},{"$f":"IF($B54=\"\",\"\",IF(VLOOKUP($B54,Scores,25,FALSE)=\"\",\"\",VLOOKUP($B54,Scores,25,FALSE)))","v":""},null,null,null,{"$f":"IF(OR(U54=\"\",U55=\"\"),\"\",IF(X56=\"E\",\"AS\",IF(X56<0,\"lost\",ABS(X56)&\" and \"&V56)))","v":""},{"$f":"IF(OR(U54=\"\",U55=\"\"),\"\",IF(Y54=\"1 and 0\",\"1-up\",IF(Y54=\"2 and 0\",\"2-up\",Y54)))","v":""}]
[null,{"$f":"IF(B54=\"\",\"\",Players!F101)","v":""},{"$f":"IF($B55=\"\",\"\",IF(VLOOKUP($B55,Members,9,FALSE)=\"\",\"\",(VLOOKUP($B55,Members,9,FALSE))))","v":""},{"$f":"IF($B55=\"\",\"\",IF(VLOOKUP($B55,Scores,7,FALSE)=\"\",\"\",VLOOKUP($B55,Scores,7,FALSE)))","v":""},{"$f":"IF($B55=\"\",\"\",IF(VLOOKUP($B55,Scores,8,FALSE)=\"\",\"\",VLOOKUP($B55,Scores,8,FALSE)))","v":""},{"$f":"IF($B55=\"\",\"\",IF(VLOOKUP($B55,Scores,9,FALSE)=\"\",\"\",VLOOKUP($B55,Scores,9,FALSE)))","v":""},{"$f":"IF($B55=\"\",\"\",IF(VLOOKUP($B55,Scores,10,FALSE)=\"\",\"\",VLOOKUP($B55,Scores,10,FALSE)))","v":""},{"$f":"IF($B55=\"\",\"\",IF(VLOOKUP($B55,Scores,11,FALSE)=\"\",\"\",VLOOKUP($B55,Scores,11,FALSE)))","v":""},{"$f":"IF($B55=\"\",\"\",IF(VLOOKUP($B55,Scores,12,FALSE)=\"\",\"\",VLOOKUP($B55,Scores,12,FALSE)))","v":""},{"$f":"IF($B55=\"\",\"\",IF(VLOOKUP($B55,Scores,13,FALSE)=\"\",\"\",VLOOKUP($B55,Scores,13,FALSE)))","v":""},{"$f":"IF($B55=\"\",\"\",IF(VLOOKUP($B55,Scores,14,FALSE)=\"\",\"\",VLOOKUP($B55,Scores,14,FALSE)))","v":""},{"$f":"IF($B55=\"\",\"\",IF(VLOOKUP($B55,Scores,15,FALSE)=\"\",\"\",VLOOKUP($B55,Scores,15,FALSE)))","v":""},{"$f":"IF($B55=\"\",\"\",IF(VLOOKUP($B55,Scores,17,FALSE)=\"\",\"\",VLOOKUP($B55,Scores,17,FALSE)))","v":""},{"$f":"IF($B55=\"\",\"\",IF(VLOOKUP($B55,Scores,18,FALSE)=\"\",\"\",VLOOKUP($B55,Scores,18,FALSE)))","v":""},{"$f":"IF($B55=\"\",\"\",IF(VLOOKUP($B55,Scores,19,FALSE)=\"\",\"\",VLOOKUP($B55,Scores,19,FALSE)))","v":""},{"$f":"IF($B55=\"\",\"\",IF(VLOOKUP($B55,Scores,20,FALSE)=\"\",\"\",VLOOKUP($B55,Scores,20,FALSE)))","v":""},{"$f":"IF($B55=\"\",\"\",IF(VLOOKUP($B55,Scores,21,FALSE)=\"\",\"\",VLOOKUP($B55,Scores,21,FALSE)))","v":""},{"$f":"IF($B55=\"\",\"\",IF(VLOOKUP($B55,Scores,22,FALSE)=\"\",\"\",VLOOKUP($B55,Scores,22,FALSE)))","v":""},{"$f":"IF($B55=\"\",\"\",IF(VLOOKUP($B55,Scores,23,FALSE)=\"\",\"\",VLOOKUP($B55,Scores,23,FALSE)))","v":""},{"$f":"IF($B55=\"\",\"\",IF(VLOOKUP($B55,Scores,24,FALSE)=\"\",\"\",VLOOKUP($B55,Scores,24,FALSE)))","v":""},{"$f":"IF($B55=\"\",\"\",IF(VLOOKUP($B55,Scores,25,FALSE)=\"\",\"\",VLOOKUP($B55,Scores,25,FALSE)))","v":""},null,null,null,{"$f":"IF(OR(U54=\"\",U55=\"\"),\"\",IF(X56=\"E\",\"AS\",IF(X56>0,\"lost\",ABS(X56)&\" and \"&V56)))","v":""},{"$f":"IF(OR(U54=\"\",U55=\"\"),\"\",IF(Y55=\"1 and 0\",\"1-up\",IF(Y55=\"2 and 0\",\"2-up\",Y55)))","v":""}]
[null,"Score",null,{"$f":"IF(OR(D54=\"\",D55=\"\"),\"\", IF(D57>0,\"+\"&D57, IF(D57<0,D57,\"E\")))","v":""},"","","","","","","","","",{"$f":"IF(N54=\"\",\"\", IF(N55=\"\",\"\",IF(ABS(M57)>8,\"\", IF(N57>0,\"+\"&N57, IF(N57<0,N57,\"E\")))))","v":""},{"$f":"IF(O54=\"\",\"\", IF(O55=\"\",\"\",IF(ABS(N57)>7,\"\", IF(O57>0,\"+\"&O57, IF(O57<0,O57,\"E\")))))","v":""},{"$f":"IF(P54=\"\",\"\", IF(P55=\"\",\"\",IF(ABS(O57)>6,\"\", IF(P57>0,\"+\"&P57, IF(P57<0,P57,\"E\")))))","v":""},{"$f":"IF(Q54=\"\",\"\", IF(Q55=\"\",\"\",IF(ABS(P57)>5,\"\", IF(Q57>0,\"+\"&Q57, IF(Q57<0,Q57,\"E\")))))","v":""},{"$f":"IF(R54=\"\",\"\", IF(R55=\"\",\"\",IF(ABS(Q57)>4,\"\", IF(R57>0,\"+\"&R57, IF(R57<0,R57,\"E\")))))","v":""},{"$f":"IF(S54=\"\",\"\", IF(S55=\"\",\"\",IF(ABS(R57)>3,\"\", IF(S57>0,\"+\"&S57, IF(S57<0,S57,\"E\")))))","v":""},{"$f":"IF(T54=\"\",\"\", IF(T55=\"\",\"\",IF(ABS(S57)>2,\"\", IF(T57>0,\"+\"&T57, IF(T57<0,T57,\"E\")))))","v":""},{"$f":"IF(U54=\"\",\"\", IF(U55=\"\",\"\",IF(ABS(T57)>1,\"\", IF(U57>0,\"+\"&U57, IF(U57<0,U57,\"E\")))))","v":""},{"$f":"COUNTBLANK(M56:U56)","v":9},{"$f":"IF(U56<>\"\",U56,IF(T56<>\"\",T56,IF(S56<>\"\",S56,IF(R56<>\"\",R56,IF(Q56<>\"\",Q56,IF(P56<>\"\",P56,IF(O56<>\"\",O56,IF(N56<>\"\",N56,\"\"))))))))","v":""},{"$f":"IF(W56<>\"\",W56,M56)","v":""}]
[null,null,null,{"$f":"IF(D54<(D55+D58),1, IF(D54>(D55+D58),-1,0))","v":{"$error":"#VALUE!"}},{"$f":"IF(E54<(E55+E58),D57+1, IF(E54>(E55+E58),D57-1,D57))","v":{"$error":"#VALUE!"}},{"$error":"#VALUE!"},{"$error":"#VALUE!"},{"$error":"#VALUE!"},{"$error":"#VALUE!"},{"$error":"#VALUE!"},{"$error":"#VALUE!"},{"$error":"#VALUE!"},{"$error":"#VALUE!"},{"$error":"#VALUE!"},{"$error":"#VALUE!"},{"$error":"#VALUE!"},{"$error":"#VALUE!"},{"$error":"#VALUE!"},{"$error":"#VALUE!"},{"$error":"#VALUE!"},{"$error":"#VALUE!"}]
[null,null,null,{"$f":"IF($C54<$C55,-TRUNC(($C55-$C54-D$8+18)/18),TRUNC(($C54-$C55-D$8+18)/18))","v":{"$error":"#VALUE!"}},{"$f":"IF($C54<$C55,-TRUNC(($C55-$C54-E$8+18)/18),TRUNC(($C54-$C55-E$8+18)/18))","v":{"$error":"#VALUE!"}},{"$error":"#VALUE!"},{"$error":"#VALUE!"},{"$error":"#VALUE!"},{"$error":"#VALUE!"},{"$error":"#VALUE!"},{"$error":"#VALUE!"},{"$error":"#VALUE!"},{"$error":"#VALUE!"},{"$error":"#VALUE!"},{"$error":"#VALUE!"},{"$error":"#VALUE!"},{"$error":"#VALUE!"},{"$error":"#VALUE!"},{"$error":"#VALUE!"},{"$error":"#VALUE!"},{"$error":"#VALUE!"}]
[11,{"$f":"IF(Players!F103=\"\",\"\",Players!B103)","v":""},{"$f":"IF($B59=\"\",\"\",IF(VLOOKUP($B59,Members,9,FALSE)=\"\",\"\",(VLOOKUP($B59,Members,9,FALSE))))","v":""},{"$f":"IF($B59=\"\",\"\",IF(VLOOKUP($B59,Scores,7,FALSE)=\"\",\"\",VLOOKUP($B59,Scores,7,FALSE)))","v":""},{"$f":"IF($B59=\"\",\"\",IF(VLOOKUP($B59,Scores,8,FALSE)=\"\",\"\",VLOOKUP($B59,Scores,8,FALSE)))","v":""},{"$f":"IF($B59=\"\",\"\",IF(VLOOKUP($B59,Scores,9,FALSE)=\"\",\"\",VLOOKUP($B59,Scores,9,FALSE)))","v":""},{"$f":"IF($B59=\"\",\"\",IF(VLOOKUP($B59,Scores,10,FALSE)=\"\",\"\",VLOOKUP($B59,Scores,10,FALSE)))","v":""},{"$f":"IF($B59=\"\",\"\",IF(VLOOKUP($B59,Scores,11,FALSE)=\"\",\"\",VLOOKUP($B59,Scores,11,FALSE)))","v":""},{"$f":"IF($B59=\"\",\"\",IF(VLOOKUP($B59,Scores,12,FALSE)=\"\",\"\",VLOOKUP($B59,Scores,12,FALSE)))","v":""},{"$f":"IF($B59=\"\",\"\",IF(VLOOKUP($B59,Scores,13,FALSE)=\"\",\"\",VLOOKUP($B59,Scores,13,FALSE)))","v":""},{"$f":"IF($B59=\"\",\"\",IF(VLOOKUP($B59,Scores,14,FALSE)=\"\",\"\",VLOOKUP($B59,Scores,14,FALSE)))","v":""},{"$f":"IF($B59=\"\",\"\",IF(VLOOKUP($B59,Scores,15,FALSE)=\"\",\"\",VLOOKUP($B59,Scores,15,FALSE)))","v":""},{"$f":"IF($B59=\"\",\"\",IF(VLOOKUP($B59,Scores,17,FALSE)=\"\",\"\",VLOOKUP($B59,Scores,17,FALSE)))","v":""},{"$f":"IF($B59=\"\",\"\",IF(VLOOKUP($B59,Scores,18,FALSE)=\"\",\"\",VLOOKUP($B59,Scores,18,FALSE)))","v":""},{"$f":"IF($B59=\"\",\"\",IF(VLOOKUP($B59,Scores,19,FALSE)=\"\",\"\",VLOOKUP($B59,Scores,19,FALSE)))","v":""},{"$f":"IF($B59=\"\",\"\",IF(VLOOKUP($B59,Scores,20,FALSE)=\"\",\"\",VLOOKUP($B59,Scores,20,FALSE)))","v":""},{"$f":"IF($B59=\"\",\"\",IF(VLOOKUP($B59,Scores,21,FALSE)=\"\",\"\",VLOOKUP($B59,Scores,21,FALSE)))","v":""},{"$f":"IF($B59=\"\",\"\",IF(VLOOKUP($B59,Scores,22,FALSE)=\"\",\"\",VLOOKUP($B59,Scores,22,FALSE)))","v":""},{"$f":"IF($B59=\"\",\"\",IF(VLOOKUP($B59,Scores,23,FALSE)=\"\",\"\",VLOOKUP($B59,Scores,23,FALSE)))","v":""},{"$f":"IF($B59=\"\",\"\",IF(VLOOKUP($B59,Scores,24,FALSE)=\"\",\"\",VLOOKUP($B59,Scores,24,FALSE)))","v":""},{"$f":"IF($B59=\"\",\"\",IF(VLOOKUP($B59,Scores,25,FALSE)=\"\",\"\",VLOOKUP($B59,Scores,25,FALSE)))","v":""},null,null,null,{"$f":"IF(OR(U59=\"\",U60=\"\"),\"\",IF(X61=\"E\",\"AS\",IF(X61<0,\"lost\",ABS(X61)&\" and \"&V61)))","v":""},{"$f":"IF(OR(U59=\"\",U60=\"\"),\"\",IF(Y59=\"1 and 0\",\"1-up\",IF(Y59=\"2 and 0\",\"2-up\",Y59)))","v":""}]
[null,{"$f":"IF(B59=\"\",\"\",Players!F103)","v":""},{"$f":"IF($B60=\"\",\"\",IF(VLOOKUP($B60,Members,9,FALSE)=\"\",\"\",(VLOOKUP($B60,Members,9,FALSE))))","v":""},{"$f":"IF($B60=\"\",\"\",IF(VLOOKUP($B60,Scores,7,FALSE)=\"\",\"\",VLOOKUP($B60,Scores,7,FALSE)))","v":""},{"$f":"IF($B60=\"\",\"\",IF(VLOOKUP($B60,Scores,8,FALSE)=\"\",\"\",VLOOKUP($B60,Scores,8,FALSE)))","v":""},{"$f":"IF($B60=\"\",\"\",IF(VLOOKUP($B60,Scores,9,FALSE)=\"\",\"\",VLOOKUP($B60,Scores,9,FALSE)))","v":""},{"$f":"IF($B60=\"\",\"\",IF(VLOOKUP($B60,Scores,10,FALSE)=\"\",\"\",VLOOKUP($B60,Scores,10,FALSE)))","v":""},{"$f":"IF($B60=\"\",\"\",IF(VLOOKUP($B60,Scores,11,FALSE)=\"\",\"\",VLOOKUP($B60,Scores,11,FALSE)))","v":""},{"$f":"IF($B60=\"\",\"\",IF(VLOOKUP($B60,Scores,12,FALSE)=\"\",\"\",VLOOKUP($B60,Scores,12,FALSE)))","v":""},{"$f":"IF($B60=\"\",\"\",IF(VLOOKUP($B60,Scores,13,FALSE)=\"\",\"\",VLOOKUP($B60,Scores,13,FALSE)))","v":""},{"$f":"IF($B60=\"\",\"\",IF(VLOOKUP($B60,Scores,14,FALSE)=\"\",\"\",VLOOKUP($B60,Scores,14,FALSE)))","v":""},{"$f":"IF($B60=\"\",\"\",IF(VLOOKUP($B60,Scores,15,FALSE)=\"\",\"\",VLOOKUP($B60,Scores,15,FALSE)))","v":""},{"$f":"IF($B60=\"\",\"\",IF(VLOOKUP($B60,Scores,17,FALSE)=\"\",\"\",VLOOKUP($B60,Scores,17,FALSE)))","v":""},{"$f":"IF($B60=\"\",\"\",IF(VLOOKUP($B60,Scores,18,FALSE)=\"\",\"\",VLOOKUP($B60,Scores,18,FALSE)))","v":""},{"$f":"IF($B60=\"\",\"\",IF(VLOOKUP($B60,Scores,19,FALSE)=\"\",\"\",VLOOKUP($B60,Scores,19,FALSE)))","v":""},{"$f":"IF($B60=\"\",\"\",IF(VLOOKUP($B60,Scores,20,FALSE)=\"\",\"\",VLOOKUP($B60,Scores,20,FALSE)))","v":""},{"$f":"IF($B60=\"\",\"\",IF(VLOOKUP($B60,Scores,21,FALSE)=\"\",\"\",VLOOKUP($B60,Scores,21,FALSE)))","v":""},{"$f":"IF($B60=\"\",\"\",IF(VLOOKUP($B60,Scores,22,FALSE)=\"\",\"\",VLOOKUP($B60,Scores,22,FALSE)))","v":""},{"$f":"IF($B60=\"\",\"\",IF(VLOOKUP($B60,Scores,23,FALSE)=\"\",\"\",VLOOKUP($B60,Scores,23,FALSE)))","v":""},{"$f":"IF($B60=\"\",\"\",IF(VLOOKUP($B60,Scores,24,FALSE)=\"\",\"\",VLOOKUP($B60,Scores,24,FALSE)))","v":""},{"$f":"IF($B60=\"\",\"\",IF(VLOOKUP($B60,Scores,25,FALSE)=\"\",\"\",VLOOKUP($B60,Scores,25,FALSE)))","v":""},null,null,null,{"$f":"IF(OR(U59=\"\",U60=\"\"),\"\",IF(X61=\"E\",\"AS\",IF(X61>0,\"lost\",ABS(X61)&\" and \"&V61)))","v":""},{"$f":"IF(OR(U59=\"\",U60=\"\"),\"\",IF(Y60=\"1 and 0\",\"1-up\",IF(Y60=\"2 and 0\",\"2-up\",Y60)))","v":""}]
[null,"Score",null,{"$f":"IF(OR(D59=\"\",D60=\"\"),\"\", IF(D62>0,\"+\"&D62, IF(D62<0,D62,\"E\")))","v":""},"","","","","","","","","",{"$f":"IF(N59=\"\",\"\", IF(N60=\"\",\"\",IF(ABS(M62)>8,\"\", IF(N62>0,\"+\"&N62, IF(N62<0,N62,\"E\")))))","v":""},{"$f":"IF(O59=\"\",\"\", IF(O60=\"\",\"\",IF(ABS(N62)>7,\"\", IF(O62>0,\"+\"&O62, IF(O62<0,O62,\"E\")))))","v":""},{"$f":"IF(P59=\"\",\"\", IF(P60=\"\",\"\",IF(ABS(O62)>6,\"\", IF(P62>0,\"+\"&P62, IF(P62<0,P62,\"E\")))))","v":""},{"$f":"IF(Q59=\"\",\"\", IF(Q60=\"\",\"\",IF(ABS(P62)>5,\"\", IF(Q62>0,\"+\"&Q62, IF(Q62<0,Q62,\"E\")))))","v":""},{"$f":"IF(R59=\"\",\"\", IF(R60=\"\",\"\",IF(ABS(Q62)>4,\"\", IF(R62>0,\"+\"&R62, IF(R62<0,R62,\"E\")))))","v":""},{"$f":"IF(S59=\"\",\"\", IF(S60=\"\",\"\",IF(ABS(R62)>3,\"\", IF(S62>0,\"+\"&S62, IF(S62<0,S62,\"E\")))))","v":""},{"$f":"IF(T59=\"\",\"\", IF(T60=\"\",\"\",IF(ABS(S62)>2,\"\", IF(T62>0,\"+\"&T62, IF(T62<0,T62,\"E\")))))","v":""},{"$f":"IF(U59=\"\",\"\", IF(U60=\"\",\"\",IF(ABS(T62)>1,\"\", IF(U62>0,\"+\"&U62, IF(U62<0,U62,\"E\")))))","v":""},{"$f":"COUNTBLANK(M61:U61)","v":9},{"$f":"IF(U61<>\"\",U61,IF(T61<>\"\",T61,IF(S61<>\"\",S61,IF(R61<>\"\",R61,IF(Q61<>\"\",Q61,IF(P61<>\"\",P61,IF(O61<>\"\",O61,IF(N61<>\"\",N61,\"\"))))))))","v":""},{"$f":"IF(W61<>\"\",W61,M61)","v":""}]
[null,null,null,{"$f":"IF(D59<(D60+D63),1, IF(D59>(D60+D63),-1,0))","v":{"$error":"#VALUE!"}},{"$f":"IF(E59<(E60+E63),D62+1, IF(E59>(E60+E63),D62-1,D62))","v":{"$error":"#VALUE!"}},{"$error":"#VALUE!"},{"$error":"#VALUE!"},{"$error":"#VALUE!"},{"$error":"#VALUE!"},{"$error":"#VALUE!"},{"$error":"#VALUE!"},{"$error":"#VALUE!"},{"$error":"#VALUE!"},{"$error":"#VALUE!"},{"$error":"#VALUE!"},{"$error":"#VALUE!"},{"$error":"#VALUE!"},{"$error":"#VALUE!"},{"$error":"#VALUE!"},{"$error":"#VALUE!"},{"$error":"#VALUE!"}]
[null,null,null,{"$f":"IF($C59<$C60,-TRUNC(($C60-$C59-D$8+18)/18),TRUNC(($C59-$C60-D$8+18)/18))","v":{"$error":"#VALUE!"}},{"$f":"IF($C59<$C60,-TRUNC(($C60-$C59-E$8+18)/18),TRUNC(($C59-$C60-E$8+18)/18))","v":{"$error":"#VALUE!"}},{"$error":"#VALUE!"},{"$error":"#VALUE!"},{"$error":"#VALUE!"},{"$error":"#VALUE!"},{"$error":"#VALUE!"},{"$error":"#VALUE!"},{"$error":"#VALUE!"},{"$error":"#VALUE!"},{"$error":"#VALUE!"},{"$error":"#VALUE!"},{"$error":"#VALUE!"},{"$error":"#VALUE!"},{"$error":"#VALUE!"},{"$error":"#VALUE!"},{"$error":"#VALUE!"},{"$error":"#VALUE!"}]
[12,{"$f":"IF(Players!F105=\"\",\"\",Players!B105)","v":""},{"$f":"IF($B64=\"\",\"\",IF(VLOOKUP($B64,Members,9,FALSE)=\"\",\"\",(VLOOKUP($B64,Members,9,FALSE))))","v":""},{"$f":"IF($B64=\"\",\"\",IF(VLOOKUP($B64,Scores,7,FALSE)=\"\",\"\",VLOOKUP($B64,Scores,7,FALSE)))","v":""},{"$f":"IF($B64=\"\",\"\",IF(VLOOKUP($B64,Scores,8,FALSE)=\"\",\"\",VLOOKUP($B64,Scores,8,FALSE)))","v":""},{"$f":"IF($B64=\"\",\"\",IF(VLOOKUP($B64,Scores,9,FALSE)=\"\",\"\",VLOOKUP($B64,Scores,9,FALSE)))","v":""},{"$f":"IF($B64=\"\",\"\",IF(VLOOKUP($B64,Scores,10,FALSE)=\"\",\"\",VLOOKUP($B64,Scores,10,FALSE)))","v":""},{"$f":"IF($B64=\"\",\"\",IF(VLOOKUP($B64,Scores,11,FALSE)=\"\",\"\",VLOOKUP($B64,Scores,11,FALSE)))","v":""},{"$f":"IF($B64=\"\",\"\",IF(VLOOKUP($B64,Scores,12,FALSE)=\"\",\"\",VLOOKUP($B64,Scores,12,FALSE)))","v":""},{"$f":"IF($B64=\"\",\"\",IF(VLOOKUP($B64,Scores,13,FALSE)=\"\",\"\",VLOOKUP($B64,Scores,13,FALSE)))","v":""},{"$f":"IF($B64=\"\",\"\",IF(VLOOKUP($B64,Scores,14,FALSE)=\"\",\"\",VLOOKUP($B64,Scores,14,FALSE)))","v":""},{"$f":"IF($B64=\"\",\"\",IF(VLOOKUP($B64,Scores,15,FALSE)=\"\",\"\",VLOOKUP($B64,Scores,15,FALSE)))","v":""},{"$f":"IF($B64=\"\",\"\",IF(VLOOKUP($B64,Scores,17,FALSE)=\"\",\"\",VLOOKUP($B64,Scores,17,FALSE)))","v":""},{"$f":"IF($B64=\"\",\"\",IF(VLOOKUP($B64,Scores,18,FALSE)=\"\",\"\",VLOOKUP($B64,Scores,18,FALSE)))","v":""},{"$f":"IF($B64=\"\",\"\",IF(VLOOKUP($B64,Scores,19,FALSE)=\"\",\"\",VLOOKUP($B64,Scores,19,FALSE)))","v":""},{"$f":"IF($B64=\"\",\"\",IF(VLOOKUP($B64,Scores,20,FALSE)=\"\",\"\",VLOOKUP($B64,Scores,20,FALSE)))","v":""},{"$f":"IF($B64=\"\",\"\",IF(VLOOKUP($B64,Scores,21,FALSE)=\"\",\"\",VLOOKUP($B64,Scores,21,FALSE)))","v":""},{"$f":"IF($B64=\"\",\"\",IF(VLOOKUP($B64,Scores,22,FALSE)=\"\",\"\",VLOOKUP($B64,Scores,22,FALSE)))","v":""},{"$f":"IF($B64=\"\",\"\",IF(VLOOKUP($B64,Scores,23,FALSE)=\"\",\"\",VLOOKUP($B64,Scores,23,FALSE)))","v":""},{"$f":"IF($B64=\"\",\"\",IF(VLOOKUP($B64,Scores,24,FALSE)=\"\",\"\",VLOOKUP($B64,Scores,24,FALSE)))","v":""},{"$f":"IF($B64=\"\",\"\",IF(VLOOKUP($B64,Scores,25,FALSE)=\"\",\"\",VLOOKUP($B64,Scores,25,FALSE)))","v":""},null,null,null,{"$f":"IF(OR(U64=\"\",U65=\"\"),\"\",IF(X66=\"E\",\"AS\",IF(X66<0,\"lost\",ABS(X66)&\" and \"&V66)))","v":""},{"$f":"IF(OR(U64=\"\",U65=\"\"),\"\",IF(Y64=\"1 and 0\",\"1-up\",IF(Y64=\"2 and 0\",\"2-up\",Y64)))","v":""}]
[null,{"$f":"IF(B64=\"\",\"\",Players!F105)","v":""},{"$f":"IF($B65=\"\",\"\",IF(VLOOKUP($B65,Members,9,FALSE)=\"\",\"\",(VLOOKUP($B65,Members,9,FALSE))))","v":""},{"$f":"IF($B65=\"\",\"\",IF(VLOOKUP($B65,Scores,7,FALSE)=\"\",\"\",VLOOKUP($B65,Scores,7,FALSE)))","v":""},{"$f":"IF($B65=\"\",\"\",IF(VLOOKUP($B65,Scores,8,FALSE)=\"\",\"\",VLOOKUP($B65,Scores,8,FALSE)))","v":""},{"$f":"IF($B65=\"\",\"\",IF(VLOOKUP($B65,Scores,9,FALSE)=\"\",\"\",VLOOKUP($B65,Scores,9,FALSE)))","v":""},{"$f":"IF($B65=\"\",\"\",IF(VLOOKUP($B65,Scores,10,FALSE)=\"\",\"\",VLOOKUP($B65,Scores,10,FALSE)))","v":""},{"$f":"IF($B65=\"\",\"\",IF(VLOOKUP($B65,Scores,11,FALSE)=\"\",\"\",VLOOKUP($B65,Scores,11,FALSE)))","v":""},{"$f":"IF($B65=\"\",\"\",IF(VLOOKUP($B65,Scores,12,FALSE)=\"\",\"\",VLOOKUP($B65,Scores,12,FALSE)))","v":""},{"$f":"IF($B65=\"\",\"\",IF(VLOOKUP($B65,Scores,13,FALSE)=\"\",\"\",VLOOKUP($B65,Scores,13,FALSE)))","v":""},{"$f":"IF($B65=\"\",\"\",IF(VLOOKUP($B65,Scores,14,FALSE)=\"\",\"\",VLOOKUP($B65,Scores,14,FALSE)))","v":""},{"$f":"IF($B65=\"\",\"\",IF(VLOOKUP($B65,Scores,15,FALSE)=\"\",\"\",VLOOKUP($B65,Scores,15,FALSE)))","v":""},{"$f":"IF($B65=\"\",\"\",IF(VLOOKUP($B65,Scores,17,FALSE)=\"\",\"\",VLOOKUP($B65,Scores,17,FALSE)))","v":""},{"$f":"IF($B65=\"\",\"\",IF(VLOOKUP($B65,Scores,18,FALSE)=\"\",\"\",VLOOKUP($B65,Scores,18,FALSE)))","v":""},{"$f":"IF($B65=\"\",\"\",IF(VLOOKUP($B65,Scores,19,FALSE)=\"\",\"\",VLOOKUP($B65,Scores,19,FALSE)))","v":""},{"$f":"IF($B65=\"\",\"\",IF(VLOOKUP($B65,Scores,20,FALSE)=\"\",\"\",VLOOKUP($B65,Scores,20,FALSE)))","v":""},{"$f":"IF($B65=\"\",\"\",IF(VLOOKUP($B65,Scores,21,FALSE)=\"\",\"\",VLOOKUP($B65,Scores,21,FALSE)))","v":""},{"$f":"IF($B65=\"\",\"\",IF(VLOOKUP($B65,Scores,22,FALSE)=\"\",\"\",VLOOKUP($B65,Scores,22,FALSE)))","v":""},{"$f":"IF($B65=\"\",\"\",IF(VLOOKUP($B65,Scores,23,FALSE)=\"\",\"\",VLOOKUP($B65,Scores,23,FALSE)))","v":""},{"$f":"IF($B65=\"\",\"\",IF(VLOOKUP($B65,Scores,24,FALSE)=\"\",\"\",VLOOKUP($B65,Scores,24,FALSE)))","v":""},{"$f":"IF($B65=\"\",\"\",IF(VLOOKUP($B65,Scores,25,FALSE)=\"\",\"\",VLOOKUP($B65,Scores,25,FALSE)))","v":""},null,null,null,{"$f":"IF(OR(U64=\"\",U65=\"\"),\"\",IF(X66=\"E\",\"AS\",IF(X66>0,\"lost\",ABS(X66)&\" and \"&V66)))","v":""},{"$f":"IF(OR(U64=\"\",U65=\"\"),\"\",IF(Y65=\"1 and 0\",\"1-up\",IF(Y65=\"2 and 0\",\"2-up\",Y65)))","v":""}]
[null,"Score",null,{"$f":"IF(OR(D64=\"\",D65=\"\"),\"\", IF(D67>0,\"+\"&D67, IF(D67<0,D67,\"E\")))","v":""},"","","","","","","","","",{"$f":"IF(N64=\"\",\"\", IF(N65=\"\",\"\",IF(ABS(M67)>8,\"\", IF(N67>0,\"+\"&N67, IF(N67<0,N67,\"E\")))))","v":""},{"$f":"IF(O64=\"\",\"\", IF(O65=\"\",\"\",IF(ABS(N67)>7,\"\", IF(O67>0,\"+\"&O67, IF(O67<0,O67,\"E\")))))","v":""},{"$f":"IF(P64=\"\",\"\", IF(P65=\"\",\"\",IF(ABS(O67)>6,\"\", IF(P67>0,\"+\"&P67, IF(P67<0,P67,\"E\")))))","v":""},{"$f":"IF(Q64=\"\",\"\", IF(Q65=\"\",\"\",IF(ABS(P67)>5,\"\", IF(Q67>0,\"+\"&Q67, IF(Q67<0,Q67,\"E\")))))","v":""},{"$f":"IF(R64=\"\",\"\", IF(R65=\"\",\"\",IF(ABS(Q67)>4,\"\", IF(R67>0,\"+\"&R67, IF(R67<0,R67,\"E\")))))","v":""},{"$f":"IF(S64=\"\",\"\", IF(S65=\"\",\"\",IF(ABS(R67)>3,\"\", IF(S67>0,\"+\"&S67, IF(S67<0,S67,\"E\")))))","v":""},{"$f":"IF(T64=\"\",\"\", IF(T65=\"\",\"\",IF(ABS(S67)>2,\"\", IF(T67>0,\"+\"&T67, IF(T67<0,T67,\"E\")))))","v":""},{"$f":"IF(U64=\"\",\"\", IF(U65=\"\",\"\",IF(ABS(T67)>1,\"\", IF(U67>0,\"+\"&U67, IF(U67<0,U67,\"E\")))))","v":""},{"$f":"COUNTBLANK(M66:U66)","v":9},{"$f":"IF(U66<>\"\",U66,IF(T66<>\"\",T66,IF(S66<>\"\",S66,IF(R66<>\"\",R66,IF(Q66<>\"\",Q66,IF(P66<>\"\",P66,IF(O66<>\"\",O66,IF(N66<>\"\",N66,\"\"))))))))","v":""},{"$f":"IF(W66<>\"\",W66,M66)","v":""}]
[null,null,null,{"$f":"IF(D64<(D65+D68),1, IF(D64>(D65+D68),-1,0))","v":{"$error":"#VALUE!"}},{"$f":"IF(E64<(E65+E68),D67+1, IF(E64>(E65+E68),D67-1,D67))","v":{"$error":"#VALUE!"}},{"$error":"#VALUE!"},{"$error":"#VALUE!"},{"$error":"#VALUE!"},{"$error":"#VALUE!"},{"$error":"#VALUE!"},{"$error":"#VALUE!"},{"$error":"#VALUE!"},{"$error":"#VALUE!"},{"$error":"#VALUE!"},{"$error":"#VALUE!"},{"$error":"#VALUE!"},{"$error":"#VALUE!"},{"$error":"#VALUE!"},{"$error":"#VALUE!"},{"$error":"#VALUE!"},{"$error":"#VALUE!"}]
[null,null,null,{"$f":"IF($C64<$C65,-TRUNC(($C65-$C64-D$8+18)/18),TRUNC(($C64-$C65-D$8+18)/18))","v":{"$error":"#VALUE!"}},{"$f":"IF($C64<$C65,-TRUNC(($C65-$C64-E$8+18)/18),TRUNC(($C64-$C65-E$8+18)/18))","v":{"$error":"#VALUE!"}},{"$error":"#VALUE!"},{"$error":"#VALUE!"},{"$error":"#VALUE!"},{"$error":"#VALUE!"},{"$error":"#VALUE!"},{"$error":"#VALUE!"},{"$error":"#VALUE!"},{"$error":"#VALUE!"},{"$error":"#VALUE!"},{"$error":"#VALUE!"},{"$error":"#VALUE!"},{"$error":"#VALUE!"},{"$error":"#VALUE!"},{"$error":"#VALUE!"},{"$error":"#VALUE!"},{"$error":"#VALUE!"}]
[13,{"$f":"IF(Players!F107=\"\",\"\",Players!B107)","v":""},{"$f":"IF($B69=\"\",\"\",IF(VLOOKUP($B69,Members,9,FALSE)=\"\",\"\",(VLOOKUP($B69,Members,9,FALSE))))","v":""},{"$f":"IF($B69=\"\",\"\",IF(VLOOKUP($B69,Scores,7,FALSE)=\"\",\"\",VLOOKUP($B69,Scores,7,FALSE)))","v":""},{"$f":"IF($B69=\"\",\"\",IF(VLOOKUP($B69,Scores,8,FALSE)=\"\",\"\",VLOOKUP($B69,Scores,8,FALSE)))","v":""},{"$f":"IF($B69=\"\",\"\",IF(VLOOKUP($B69,Scores,9,FALSE)=\"\",\"\",VLOOKUP($B69,Scores,9,FALSE)))","v":""},{"$f":"IF($B69=\"\",\"\",IF(VLOOKUP($B69,Scores,10,FALSE)=\"\",\"\",VLOOKUP($B69,Scores,10,FALSE)))","v":""},{"$f":"IF($B69=\"\",\"\",IF(VLOOKUP($B69,Scores,11,FALSE)=\"\",\"\",VLOOKUP($B69,Scores,11,FALSE)))","v":""},{"$f":"IF($B69=\"\",\"\",IF(VLOOKUP($B69,Scores,12,FALSE)=\"\",\"\",VLOOKUP($B69,Scores,12,FALSE)))","v":""},{"$f":"IF($B69=\"\",\"\",IF(VLOOKUP($B69,Scores,13,FALSE)=\"\",\"\",VLOOKUP($B69,Scores,13,FALSE)))","v":""},{"$f":"IF($B69=\"\",\"\",IF(VLOOKUP($B69,Scores,14,FALSE)=\"\",\"\",VLOOKUP($B69,Scores,14,FALSE)))","v":""},{"$f":"IF($B69=\"\",\"\",IF(VLOOKUP($B69,Scores,15,FALSE)=\"\",\"\",VLOOKUP($B69,Scores,15,FALSE)))","v":""},{"$f":"IF($B69=\"\",\"\",IF(VLOOKUP($B69,Scores,17,FALSE)=\"\",\"\",VLOOKUP($B69,Scores,17,FALSE)))","v":""},{"$f":"IF($B69=\"\",\"\",IF(VLOOKUP($B69,Scores,18,FALSE)=\"\",\"\",VLOOKUP($B69,Scores,18,FALSE)))","v":""},{"$f":"IF($B69=\"\",\"\",IF(VLOOKUP($B69,Scores,19,FALSE)=\"\",\"\",VLOOKUP($B69,Scores,19,FALSE)))","v":""},{"$f":"IF($B69=\"\",\"\",IF(VLOOKUP($B69,Scores,20,FALSE)=\"\",\"\",VLOOKUP($B69,Scores,20,FALSE)))","v":""},{"$f":"IF($B69=\"\",\"\",IF(VLOOKUP($B69,Scores,21,FALSE)=\"\",\"\",VLOOKUP($B69,Scores,21,FALSE)))","v":""},{"$f":"IF($B69=\"\",\"\",IF(VLOOKUP($B69,Scores,22,FALSE)=\"\",\"\",VLOOKUP($B69,Scores,22,FALSE)))","v":""},{"$f":"IF($B69=\"\",\"\",IF(VLOOKUP($B69,Scores,23,FALSE)=\"\",\"\",VLOOKUP($B69,Scores,23,FALSE)))","v":""},{"$f":"IF($B69=\"\",\"\",IF(VLOOKUP($B69,Scores,24,FALSE)=\"\",\"\",VLOOKUP($B69,Scores,24,FALSE)))","v":""},{"$f":"IF($B69=\"\",\"\",IF(VLOOKUP($B69,Scores,25,FALSE)=\"\",\"\",VLOOKUP($B69,Scores,25,FALSE)))","v":""},null,null,null,{"$f":"IF(OR(U69=\"\",U70=\"\"),\"\",IF(X71=\"E\",\"AS\",IF(X71<0,\"lost\",ABS(X71)&\" and \"&V71)))","v":""},{"$f":"IF(OR(U69=\"\",U70=\"\"),\"\",IF(Y69=\"1 and 0\",\"1-up\",IF(Y69=\"2 and 0\",\"2-up\",Y69)))","v":""}]
[null,{"$f":"IF(B69=\"\",\"\",Players!F107)","v":""},{"$f":"IF($B70=\"\",\"\",IF(VLOOKUP($B70,Members,9,FALSE)=\"\",\"\",(VLOOKUP($B70,Members,9,FALSE))))","v":""},{"$f":"IF($B70=\"\",\"\",IF(VLOOKUP($B70,Scores,7,FALSE)=\"\",\"\",VLOOKUP($B70,Scores,7,FALSE)))","v":""},{"$f":"IF($B70=\"\",\"\",IF(VLOOKUP($B70,Scores,8,FALSE)=\"\",\"\",VLOOKUP($B70,Scores,8,FALSE)))","v":""},{"$f":"IF($B70=\"\",\"\",IF(VLOOKUP($B70,Scores,9,FALSE)=\"\",\"\",VLOOKUP($B70,Scores,9,FALSE)))","v":""},{"$f":"IF($B70=\"\",\"\",IF(VLOOKUP($B70,Scores,10,FALSE)=\"\",\"\",VLOOKUP($B70,Scores,10,FALSE)))","v":""},{"$f":"IF($B70=\"\",\"\",IF(VLOOKUP($B70,Scores,11,FALSE)=\"\",\"\",VLOOKUP($B70,Scores,11,FALSE)))","v":""},{"$f":"IF($B70=\"\",\"\",IF(VLOOKUP($B70,Scores,12,FALSE)=\"\",\"\",VLOOKUP($B70,Scores,12,FALSE)))","v":""},{"$f":"IF($B70=\"\",\"\",IF(VLOOKUP($B70,Scores,13,FALSE)=\"\",\"\",VLOOKUP($B70,Scores,13,FALSE)))","v":""},{"$f":"IF($B70=\"\",\"\",IF(VLOOKUP($B70,Scores,14,FALSE)=\"\",\"\",VLOOKUP($B70,Scores,14,FALSE)))","v":""},{"$f":"IF($B70=\"\",\"\",IF(VLOOKUP($B70,Scores,15,FALSE)=\"\",\"\",VLOOKUP($B70,Scores,15,FALSE)))","v":""},{"$f":"IF($B70=\"\",\"\",IF(VLOOKUP($B70,Scores,17,FALSE)=\"\",\"\",VLOOKUP($B70,Scores,17,FALSE)))","v":""},{"$f":"IF($B70=\"\",\"\",IF(VLOOKUP($B70,Scores,18,FALSE)=\"\",\"\",VLOOKUP($B70,Scores,18,FALSE)))","v":""},{"$f":"IF($B70=\"\",\"\",IF(VLOOKUP($B70,Scores,19,FALSE)=\"\",\"\",VLOOKUP($B70,Scores,19,FALSE)))","v":""},{"$f":"IF($B70=\"\",\"\",IF(VLOOKUP($B70,Scores,20,FALSE)=\"\",\"\",VLOOKUP($B70,Scores,20,FALSE)))","v":""},{"$f":"IF($B70=\"\",\"\",IF(VLOOKUP($B70,Scores,21,FALSE)=\"\",\"\",VLOOKUP($B70,Scores,21,FALSE)))","v":""},{"$f":"IF($B70=\"\",\"\",IF(VLOOKUP($B70,Scores,22,FALSE)=\"\",\"\",VLOOKUP($B70,Scores,22,FALSE)))","v":""},{"$f":"IF($B70=\"\",\"\",IF(VLOOKUP($B70,Scores,23,FALSE)=\"\",\"\",VLOOKUP($B70,Scores,23,FALSE)))","v":""},{"$f":"IF($B70=\"\",\"\",IF(VLOOKUP($B70,Scores,24,FALSE)=\"\",\"\",VLOOKUP($B70,Scores,24,FALSE)))","v":""},{"$f":"IF($B70=\"\",\"\",IF(VLOOKUP($B70,Scores,25,FALSE)=\"\",\"\",VLOOKUP($B70,Scores,25,FALSE)))","v":""},null,null,null,{"$f":"IF(OR(U69=\"\",U70=\"\"),\"\",IF(X71=\"E\",\"AS\",IF(X71>0,\"lost\",ABS(X71)&\" and \"&V71)))","v":""},{"$f":"IF(OR(U69=\"\",U70=\"\"),\"\",IF(Y70=\"1 and 0\",\"1-up\",IF(Y70=\"2 and 0\",\"2-up\",Y70)))","v":""}]
[null,"Score",null,{"$f":"IF(OR(D69=\"\",D70=\"\"),\"\", IF(D72>0,\"+\"&D72, IF(D72<0,D72,\"E\")))","v":""},"","","","","","","","","",{"$f":"IF(N69=\"\",\"\", IF(N70=\"\",\"\",IF(ABS(M72)>8,\"\", IF(N72>0,\"+\"&N72, IF(N72<0,N72,\"E\")))))","v":""},{"$f":"IF(O69=\"\",\"\", IF(O70=\"\",\"\",IF(ABS(N72)>7,\"\", IF(O72>0,\"+\"&O72, IF(O72<0,O72,\"E\")))))","v":""},{"$f":"IF(P69=\"\",\"\", IF(P70=\"\",\"\",IF(ABS(O72)>6,\"\", IF(P72>0,\"+\"&P72, IF(P72<0,P72,\"E\")))))","v":""},{"$f":"IF(Q69=\"\",\"\", IF(Q70=\"\",\"\",IF(ABS(P72)>5,\"\", IF(Q72>0,\"+\"&Q72, IF(Q72<0,Q72,\"E\")))))","v":""},{"$f":"IF(R69=\"\",\"\", IF(R70=\"\",\"\",IF(ABS(Q72)>4,\"\", IF(R72>0,\"+\"&R72, IF(R72<0,R72,\"E\")))))","v":""},{"$f":"IF(S69=\"\",\"\", IF(S70=\"\",\"\",IF(ABS(R72)>3,\"\", IF(S72>0,\"+\"&S72, IF(S72<0,S72,\"E\")))))","v":""},{"$f":"IF(T69=\"\",\"\", IF(T70=\"\",\"\",IF(ABS(S72)>2,\"\", IF(T72>0,\"+\"&T72, IF(T72<0,T72,\"E\")))))","v":""},{"$f":"IF(U69=\"\",\"\", IF(U70=\"\",\"\",IF(ABS(T72)>1,\"\", IF(U72>0,\"+\"&U72, IF(U72<0,U72,\"E\")))))","v":""},{"$f":"COUNTBLANK(M71:U71)","v":9},{"$f":"IF(U71<>\"\",U71,IF(T71<>\"\",T71,IF(S71<>\"\",S71,IF(R71<>\"\",R71,IF(Q71<>\"\",Q71,IF(P71<>\"\",P71,IF(O71<>\"\",O71,IF(N71<>\"\",N71,\"\"))))))))","v":""},{"$f":"IF(W71<>\"\",W71,M71)","v":""}]
[null,null,null,{"$f":"IF(D69<(D70+D73),1, IF(D69>(D70+D73),-1,0))","v":{"$error":"#VALUE!"}},{"$f":"IF(E69<(E70+E73),D72+1, IF(E69>(E70+E73),D72-1,D72))","v":{"$error":"#VALUE!"}},{"$error":"#VALUE!"},{"$error":"#VALUE!"},{"$error":"#VALUE!"},{"$error":"#VALUE!"},{"$error":"#VALUE!"},{"$error":"#VALUE!"},{"$error":"#VALUE!"},{"$error":"#VALUE!"},{"$error":"#VALUE!"},{"$error":"#VALUE!"},{"$error":"#VALUE!"},{"$error":"#VALUE!"},{"$error":"#VALUE!"},{"$error":"#VALUE!"},{"$error":"#VALUE!"},{"$error":"#VALUE!"}]
[null,null,null,{"$f":"IF($C69<$C70,-TRUNC(($C70-$C69-D$8+18)/18),TRUNC(($C69-$C70-D$8+18)/18))","v":{"$error":"#VALUE!"}},{"$f":"IF($C69<$C70,-TRUNC(($C70-$C69-E$8+18)/18),TRUNC(($C69-$C70-E$8+18)/18))","v":{"$error":"#VALUE!"}},{"$error":"#VALUE!"},{"$error":"#VALUE!"},{"$error":"#VALUE!"},{"$error":"#VALUE!"},{"$error":"#VALUE!"},{"$error":"#VALUE!"},{"$error":"#VALUE!"},{"$error":"#VALUE!"},{"$error":"#VALUE!"},{"$error":"#VALUE!"},{"$error":"#VALUE!"},{"$error":"#VALUE!"},{"$error":"#VALUE!"},{"$error":"#VALUE!"},{"$error":"#VALUE!"},{"$error":"#VALUE!"}]
[14,{"$f":"IF(Players!F109=\"\",\"\",Players!B109)","v":""},{"$f":"IF($B74=\"\",\"\",IF(VLOOKUP($B74,Members,9,FALSE)=\"\",\"\",(VLOOKUP($B74,Members,9,FALSE))))","v":""},{"$f":"IF($B74=\"\",\"\",IF(VLOOKUP($B74,Scores,7,FALSE)=\"\",\"\",VLOOKUP($B74,Scores,7,FALSE)))","v":""},{"$f":"IF($B74=\"\",\"\",IF(VLOOKUP($B74,Scores,8,FALSE)=\"\",\"\",VLOOKUP($B74,Scores,8,FALSE)))","v":""},{"$f":"IF($B74=\"\",\"\",IF(VLOOKUP($B74,Scores,9,FALSE)=\"\",\"\",VLOOKUP($B74,Scores,9,FALSE)))","v":""},{"$f":"IF($B74=\"\",\"\",IF(VLOOKUP($B74,Scores,10,FALSE)=\"\",\"\",VLOOKUP($B74,Scores,10,FALSE)))","v":""},{"$f":"IF($B74=\"\",\"\",IF(VLOOKUP($B74,Scores,11,FALSE)=\"\",\"\",VLOOKUP($B74,Scores,11,FALSE)))","v":""},{"$f":"IF($B74=\"\",\"\",IF(VLOOKUP($B74,Scores,12,FALSE)=\"\",\"\",VLOOKUP($B74,Scores,12,FALSE)))","v":""},{"$f":"IF($B74=\"\",\"\",IF(VLOOKUP($B74,Scores,13,FALSE)=\"\",\"\",VLOOKUP($B74,Scores,13,FALSE)))","v":""},{"$f":"IF($B74=\"\",\"\",IF(VLOOKUP($B74,Scores,14,FALSE)=\"\",\"\",VLOOKUP($B74,Scores,14,FALSE)))","v":""},{"$f":"IF($B74=\"\",\"\",IF(VLOOKUP($B74,Scores,15,FALSE)=\"\",\"\",VLOOKUP($B74,Scores,15,FALSE)))","v":""},{"$f":"IF($B74=\"\",\"\",IF(VLOOKUP($B74,Scores,17,FALSE)=\"\",\"\",VLOOKUP($B74,Scores,17,FALSE)))","v":""},{"$f":"IF($B74=\"\",\"\",IF(VLOOKUP($B74,Scores,18,FALSE)=\"\",\"\",VLOOKUP($B74,Scores,18,FALSE)))","v":""},{"$f":"IF($B74=\"\",\"\",IF(VLOOKUP($B74,Scores,19,FALSE)=\"\",\"\",VLOOKUP($B74,Scores,19,FALSE)))","v":""},{"$f":"IF($B74=\"\",\"\",IF(VLOOKUP($B74,Scores,20,FALSE)=\"\",\"\",VLOOKUP($B74,Scores,20,FALSE)))","v":""},{"$f":"IF($B74=\"\",\"\",IF(VLOOKUP($B74,Scores,21,FALSE)=\"\",\"\",VLOOKUP($B74,Scores,21,FALSE)))","v":""},{"$f":"IF($B74=\"\",\"\",IF(VLOOKUP($B74,Scores,22,FALSE)=\"\",\"\",VLOOKUP($B74,Scores,22,FALSE)))","v":""},{"$f":"IF($B74=\"\",\"\",IF(VLOOKUP($B74,Scores,23,FALSE)=\"\",\"\",VLOOKUP($B74,Scores,23,FALSE)))","v":""},{"$f":"IF($B74=\"\",\"\",IF(VLOOKUP($B74,Scores,24,FALSE)=\"\",\"\",VLOOKUP($B74,Scores,24,FALSE)))","v":""},{"$f":"IF($B74=\"\",\"\",IF(VLOOKUP($B74,Scores,25,FALSE)=\"\",\"\",VLOOKUP($B74,Scores,25,FALSE)))","v":""},null,null,null,{"$f":"IF(OR(U74=\"\",U75=\"\"),\"\",IF(X76=\"E\",\"AS\",IF(X76<0,\"lost\",ABS(X76)&\" and \"&V76)))","v":""},{"$f":"IF(OR(U74=\"\",U75=\"\"),\"\",IF(Y74=\"1 and 0\",\"1-up\",IF(Y74=\"2 and 0\",\"2-up\",Y74)))","v":""}]
[null,{"$f":"IF(B74=\"\",\"\",Players!F109)","v":""},{"$f":"IF($B75=\"\",\"\",IF(VLOOKUP($B75,Members,9,FALSE)=\"\",\"\",(VLOOKUP($B75,Members,9,FALSE))))","v":""},{"$f":"IF($B75=\"\",\"\",IF(VLOOKUP($B75,Scores,7,FALSE)=\"\",\"\",VLOOKUP($B75,Scores,7,FALSE)))","v":""},{"$f":"IF($B75=\"\",\"\",IF(VLOOKUP($B75,Scores,8,FALSE)=\"\",\"\",VLOOKUP($B75,Scores,8,FALSE)))","v":""},{"$f":"IF($B75=\"\",\"\",IF(VLOOKUP($B75,Scores,9,FALSE)=\"\",\"\",VLOOKUP($B75,Scores,9,FALSE)))","v":""},{"$f":"IF($B75=\"\",\"\",IF(VLOOKUP($B75,Scores,10,FALSE)=\"\",\"\",VLOOKUP($B75,Scores,10,FALSE)))","v":""},{"$f":"IF($B75=\"\",\"\",IF(VLOOKUP($B75,Scores,11,FALSE)=\"\",\"\",VLOOKUP($B75,Scores,11,FALSE)))","v":""},{"$f":"IF($B75=\"\",\"\",IF(VLOOKUP($B75,Scores,12,FALSE)=\"\",\"\",VLOOKUP($B75,Scores,12,FALSE)))","v":""},{"$f":"IF($B75=\"\",\"\",IF(VLOOKUP($B75,Scores,13,FALSE)=\"\",\"\",VLOOKUP($B75,Scores,13,FALSE)))","v":""},{"$f":"IF($B75=\"\",\"\",IF(VLOOKUP($B75,Scores,14,FALSE)=\"\",\"\",VLOOKUP($B75,Scores,14,FALSE)))","v":""},{"$f":"IF($B75=\"\",\"\",IF(VLOOKUP($B75,Scores,15,FALSE)=\"\",\"\",VLOOKUP($B75,Scores,15,FALSE)))","v":""},{"$f":"IF($B75=\"\",\"\",IF(VLOOKUP($B75,Scores,17,FALSE)=\"\",\"\",VLOOKUP($B75,Scores,17,FALSE)))","v":""},{"$f":"IF($B75=\"\",\"\",IF(VLOOKUP($B75,Scores,18,FALSE)=\"\",\"\",VLOOKUP($B75,Scores,18,FALSE)))","v":""},{"$f":"IF($B75=\"\",\"\",IF(VLOOKUP($B75,Scores,19,FALSE)=\"\",\"\",VLOOKUP($B75,Scores,19,FALSE)))","v":""},{"$f":"IF($B75=\"\",\"\",IF(VLOOKUP($B75,Scores,20,FALSE)=\"\",\"\",VLOOKUP($B75,Scores,20,FALSE)))","v":""},{"$f":"IF($B75=\"\",\"\",IF(VLOOKUP($B75,Scores,21,FALSE)=\"\",\"\",VLOOKUP($B75,Scores,21,FALSE)))","v":""},{"$f":"IF($B75=\"\",\"\",IF(VLOOKUP($B75,Scores,22,FALSE)=\"\",\"\",VLOOKUP($B75,Scores,22,FALSE)))","v":""},{"$f":"IF($B75=\"\",\"\",IF(VLOOKUP($B75,Scores,23,FALSE)=\"\",\"\",VLOOKUP($B75,Scores,23,FALSE)))","v":""},{"$f":"IF($B75=\"\",\"\",IF(VLOOKUP($B75,Scores,24,FALSE)=\"\",\"\",VLOOKUP($B75,Scores,24,FALSE)))","v":""},{"$f":"IF($B75=\"\",\"\",IF(VLOOKUP($B75,Scores,25,FALSE)=\"\",\"\",VLOOKUP($B75,Scores,25,FALSE)))","v":""},null,null,null,{"$f":"IF(OR(U74=\"\",U75=\"\"),\"\",IF(X76=\"E\",\"AS\",IF(X76>0,\"lost\",ABS(X76)&\" and \"&V76)))","v":""},{"$f":"IF(OR(U74=\"\",U75=\"\"),\"\",IF(Y75=\"1 and 0\",\"1-up\",IF(Y75=\"2 and 0\",\"2-up\",Y75)))","v":""}]
[null,"Score",null,{"$f":"IF(OR(D74=\"\",D75=\"\"),\"\", IF(D77>0,\"+\"&D77, IF(D77<0,D77,\"E\")))","v":""},"","","","","","","","","",{"$f":"IF(N74=\"\",\"\", IF(N75=\"\",\"\",IF(ABS(M77)>8,\"\", IF(N77>0,\"+\"&N77, IF(N77<0,N77,\"E\")))))","v":""},{"$f":"IF(O74=\"\",\"\", IF(O75=\"\",\"\",IF(ABS(N77)>7,\"\", IF(O77>0,\"+\"&O77, IF(O77<0,O77,\"E\")))))","v":""},{"$f":"IF(P74=\"\",\"\", IF(P75=\"\",\"\",IF(ABS(O77)>6,\"\", IF(P77>0,\"+\"&P77, IF(P77<0,P77,\"E\")))))","v":""},{"$f":"IF(Q74=\"\",\"\", IF(Q75=\"\",\"\",IF(ABS(P77)>5,\"\", IF(Q77>0,\"+\"&Q77, IF(Q77<0,Q77,\"E\")))))","v":""},{"$f":"IF(R74=\"\",\"\", IF(R75=\"\",\"\",IF(ABS(Q77)>4,\"\", IF(R77>0,\"+\"&R77, IF(R77<0,R77,\"E\")))))","v":""},{"$f":"IF(S74=\"\",\"\", IF(S75=\"\",\"\",IF(ABS(R77)>3,\"\", IF(S77>0,\"+\"&S77, IF(S77<0,S77,\"E\")))))","v":""},{"$f":"IF(T74=\"\",\"\", IF(T75=\"\",\"\",IF(ABS(S77)>2,\"\", IF(T77>0,\"+\"&T77, IF(T77<0,T77,\"E\")))))","v":""},{"$f":"IF(U74=\"\",\"\", IF(U75=\"\",\"\",IF(ABS(T77)>1,\"\", IF(U77>0,\"+\"&U77, IF(U77<0,U77,\"E\")))))","v":""},{"$f":"COUNTBLANK(M76:U76)","v":9},{"$f":"IF(U76<>\"\",U76,IF(T76<>\"\",T76,IF(S76<>\"\",S76,IF(R76<>\"\",R76,IF(Q76<>\"\",Q76,IF(P76<>\"\",P76,IF(O76<>\"\",O76,IF(N76<>\"\",N76,\"\"))))))))","v":""},{"$f":"IF(W76<>\"\",W76,M76)","v":""}]
[null,null,null,{"$f":"IF(D74<(D75+D78),1, IF(D74>(D75+D78),-1,0))","v":{"$error":"#VALUE!"}},{"$f":"IF(E74<(E75+E78),D77+1, IF(E74>(E75+E78),D77-1,D77))","v":{"$error":"#VALUE!"}},{"$error":"#VALUE!"},{"$error":"#VALUE!"},{"$error":"#VALUE!"},{"$error":"#VALUE!"},{"$error":"#VALUE!"},{"$error":"#VALUE!"},{"$error":"#VALUE!"},{"$error":"#VALUE!"},{"$error":"#VALUE!"},{"$error":"#VALUE!"},{"$error":"#VALUE!"},{"$error":"#VALUE!"},{"$error":"#VALUE!"},{"$error":"#VALUE!"},{"$error":"#VALUE!"},{"$error":"#VALUE!"}]
[null,null,null,{"$f":"IF($C74<$C75,-TRUNC(($C75-$C74-D$8+18)/18),TRUNC(($C74-$C75-D$8+18)/18))","v":{"$error":"#VALUE!"}},{"$f":"IF($C74<$C75,-TRUNC(($C75-$C74-E$8+18)/18),TRUNC(($C74-$C75-E$8+18)/18))","v":{"$error":"#VALUE!"}},{"$error":"#VALUE!"},{"$error":"#VALUE!"},{"$error":"#VALUE!"},{"$error":"#VALUE!"},{"$error":"#VALUE!"},{"$error":"#VALUE!"},{"$error":"#VALUE!"},{"$error":"#VALUE!"},{"$error":"#VALUE!"},{"$error":"#VALUE!"},{"$error":"#VALUE!"},{"$error":"#VALUE!"},{"$error":"#VALUE!"},{"$error":"#VALUE!"},{"$error":"#VALUE!"},{"$error":"#VALUE!"}]
[15,{"$f":"IF(Players!F111=\"\",\"\",Players!B111)","v":""},{"$f":"IF($B79=\"\",\"\",IF(VLOOKUP($B79,Members,9,FALSE)=\"\",\"\",(VLOOKUP($B79,Members,9,FALSE))))","v":""},{"$f":"IF($B79=\"\",\"\",IF(VLOOKUP($B79,Scores,7,FALSE)=\"\",\"\",VLOOKUP($B79,Scores,7,FALSE)))","v":""},{"$f":"IF($B79=\"\",\"\",IF(VLOOKUP($B79,Scores,8,FALSE)=\"\",\"\",VLOOKUP($B79,Scores,8,FALSE)))","v":""},{"$f":"IF($B79=\"\",\"\",IF(VLOOKUP($B79,Scores,9,FALSE)=\"\",\"\",VLOOKUP($B79,Scores,9,FALSE)))","v":""},{"$f":"IF($B79=\"\",\"\",IF(VLOOKUP($B79,Scores,10,FALSE)=\"\",\"\",VLOOKUP($B79,Scores,10,FALSE)))","v":""},{"$f":"IF($B79=\"\",\"\",IF(VLOOKUP($B79,Scores,11,FALSE)=\"\",\"\",VLOOKUP($B79,Scores,11,FALSE)))","v":""},{"$f":"IF($B79=\"\",\"\",IF(VLOOKUP($B79,Scores,12,FALSE)=\"\",\"\",VLOOKUP($B79,Scores,12,FALSE)))","v":""},{"$f":"IF($B79=\"\",\"\",IF(VLOOKUP($B79,Scores,13,FALSE)=\"\",\"\",VLOOKUP($B79,Scores,13,FALSE)))","v":""},{"$f":"IF($B79=\"\",\"\",IF(VLOOKUP($B79,Scores,14,FALSE)=\"\",\"\",VLOOKUP($B79,Scores,14,FALSE)))","v":""},{"$f":"IF($B79=\"\",\"\",IF(VLOOKUP($B79,Scores,15,FALSE)=\"\",\"\",VLOOKUP($B79,Scores,15,FALSE)))","v":""},{"$f":"IF($B79=\"\",\"\",IF(VLOOKUP($B79,Scores,17,FALSE)=\"\",\"\",VLOOKUP($B79,Scores,17,FALSE)))","v":""},{"$f":"IF($B79=\"\",\"\",IF(VLOOKUP($B79,Scores,18,FALSE)=\"\",\"\",VLOOKUP($B79,Scores,18,FALSE)))","v":""},{"$f":"IF($B79=\"\",\"\",IF(VLOOKUP($B79,Scores,19,FALSE)=\"\",\"\",VLOOKUP($B79,Scores,19,FALSE)))","v":""},{"$f":"IF($B79=\"\",\"\",IF(VLOOKUP($B79,Scores,20,FALSE)=\"\",\"\",VLOOKUP($B79,Scores,20,FALSE)))","v":""},{"$f":"IF($B79=\"\",\"\",IF(VLOOKUP($B79,Scores,21,FALSE)=\"\",\"\",VLOOKUP($B79,Scores,21,FALSE)))","v":""},{"$f":"IF($B79=\"\",\"\",IF(VLOOKUP($B79,Scores,22,FALSE)=\"\",\"\",VLOOKUP($B79,Scores,22,FALSE)))","v":""},{"$f":"IF($B79=\"\",\"\",IF(VLOOKUP($B79,Scores,23,FALSE)=\"\",\"\",VLOOKUP($B79,Scores,23,FALSE)))","v":""},{"$f":"IF($B79=\"\",\"\",IF(VLOOKUP($B79,Scores,24,FALSE)=\"\",\"\",VLOOKUP($B79,Scores,24,FALSE)))","v":""},{"$f":"IF($B79=\"\",\"\",IF(VLOOKUP($B79,Scores,25,FALSE)=\"\",\"\",VLOOKUP($B79,Scores,25,FALSE)))","v":""},null,null,null,{"$f":"IF(OR(U79=\"\",U80=\"\"),\"\",IF(X81=\"E\",\"AS\",IF(X81<0,\"lost\",ABS(X81)&\" and \"&V81)))","v":""},{"$f":"IF(OR(U79=\"\",U80=\"\"),\"\",IF(Y79=\"1 and 0\",\"1-up\",IF(Y79=\"2 and 0\",\"2-up\",Y79)))","v":""}]
[null,{"$f":"IF(B79=\"\",\"\",Players!F111)","v":""},{"$f":"IF($B80=\"\",\"\",IF(VLOOKUP($B80,Members,9,FALSE)=\"\",\"\",(VLOOKUP($B80,Members,9,FALSE))))","v":""},{"$f":"IF($B80=\"\",\"\",IF(VLOOKUP($B80,Scores,7,FALSE)=\"\",\"\",VLOOKUP($B80,Scores,7,FALSE)))","v":""},{"$f":"IF($B80=\"\",\"\",IF(VLOOKUP($B80,Scores,8,FALSE)=\"\",\"\",VLOOKUP($B80,Scores,8,FALSE)))","v":""},{"$f":"IF($B80=\"\",\"\",IF(VLOOKUP($B80,Scores,9,FALSE)=\"\",\"\",VLOOKUP($B80,Scores,9,FALSE)))","v":""},{"$f":"IF($B80=\"\",\"\",IF(VLOOKUP($B80,Scores,10,FALSE)=\"\",\"\",VLOOKUP($B80,Scores,10,FALSE)))","v":""},{"$f":"IF($B80=\"\",\"\",IF(VLOOKUP($B80,Scores,11,FALSE)=\"\",\"\",VLOOKUP($B80,Scores,11,FALSE)))","v":""},{"$f":"IF($B80=\"\",\"\",IF(VLOOKUP($B80,Scores,12,FALSE)=\"\",\"\",VLOOKUP($B80,Scores,12,FALSE)))","v":""},{"$f":"IF($B80=\"\",\"\",IF(VLOOKUP($B80,Scores,13,FALSE)=\"\",\"\",VLOOKUP($B80,Scores,13,FALSE)))","v":""},{"$f":"IF($B80=\"\",\"\",IF(VLOOKUP($B80,Scores,14,FALSE)=\"\",\"\",VLOOKUP($B80,Scores,14,FALSE)))","v":""},{"$f":"IF($B80=\"\",\"\",IF(VLOOKUP($B80,Scores,15,FALSE)=\"\",\"\",VLOOKUP($B80,Scores,15,FALSE)))","v":""},{"$f":"IF($B80=\"\",\"\",IF(VLOOKUP($B80,Scores,17,FALSE)=\"\",\"\",VLOOKUP($B80,Scores,17,FALSE)))","v":""},{"$f":"IF($B80=\"\",\"\",IF(VLOOKUP($B80,Scores,18,FALSE)=\"\",\"\",VLOOKUP($B80,Scores,18,FALSE)))","v":""},{"$f":"IF($B80=\"\",\"\",IF(VLOOKUP($B80,Scores,19,FALSE)=\"\",\"\",VLOOKUP($B80,Scores,19,FALSE)))","v":""},{"$f":"IF($B80=\"\",\"\",IF(VLOOKUP($B80,Scores,20,FALSE)=\"\",\"\",VLOOKUP($B80,Scores,20,FALSE)))","v":""},{"$f":"IF($B80=\"\",\"\",IF(VLOOKUP($B80,Scores,21,FALSE)=\"\",\"\",VLOOKUP($B80,Scores,21,FALSE)))","v":""},{"$f":"IF($B80=\"\",\"\",IF(VLOOKUP($B80,Scores,22,FALSE)=\"\",\"\",VLOOKUP($B80,Scores,22,FALSE)))","v":""},{"$f":"IF($B80=\"\",\"\",IF(VLOOKUP($B80,Scores,23,FALSE)=\"\",\"\",VLOOKUP($B80,Scores,23,FALSE)))","v":""},{"$f":"IF($B80=\"\",\"\",IF(VLOOKUP($B80,Scores,24,FALSE)=\"\",\"\",VLOOKUP($B80,Scores,24,FALSE)))","v":""},{"$f":"IF($B80=\"\",\"\",IF(VLOOKUP($B80,Scores,25,FALSE)=\"\",\"\",VLOOKUP($B80,Scores,25,FALSE)))","v":""},null,null,null,{"$f":"IF(OR(U79=\"\",U80=\"\"),\"\",IF(X81=\"E\",\"AS\",IF(X81>0,\"lost\",ABS(X81)&\" and \"&V81)))","v":""},{"$f":"IF(OR(U79=\"\",U80=\"\"),\"\",IF(Y80=\"1 and 0\",\"1-up\",IF(Y80=\"2 and 0\",\"2-up\",Y80)))","v":""}]
[null,"Score",null,{"$f":"IF(OR(D79=\"\",D80=\"\"),\"\", IF(D82>0,\"+\"&D82, IF(D82<0,D82,\"E\")))","v":""},"","","","","","","","","",{"$f":"IF(N79=\"\",\"\", IF(N80=\"\",\"\",IF(ABS(M82)>8,\"\", IF(N82>0,\"+\"&N82, IF(N82<0,N82,\"E\")))))","v":""},{"$f":"IF(O79=\"\",\"\", IF(O80=\"\",\"\",IF(ABS(N82)>7,\"\", IF(O82>0,\"+\"&O82, IF(O82<0,O82,\"E\")))))","v":""},{"$f":"IF(P79=\"\",\"\", IF(P80=\"\",\"\",IF(ABS(O82)>6,\"\", IF(P82>0,\"+\"&P82, IF(P82<0,P82,\"E\")))))","v":""},{"$f":"IF(Q79=\"\",\"\", IF(Q80=\"\",\"\",IF(ABS(P82)>5,\"\", IF(Q82>0,\"+\"&Q82, IF(Q82<0,Q82,\"E\")))))","v":""},{"$f":"IF(R79=\"\",\"\", IF(R80=\"\",\"\",IF(ABS(Q82)>4,\"\", IF(R82>0,\"+\"&R82, IF(R82<0,R82,\"E\")))))","v":""},{"$f":"IF(S79=\"\",\"\", IF(S80=\"\",\"\",IF(ABS(R82)>3,\"\", IF(S82>0,\"+\"&S82, IF(S82<0,S82,\"E\")))))","v":""},{"$f":"IF(T79=\"\",\"\", IF(T80=\"\",\"\",IF(ABS(S82)>2,\"\", IF(T82>0,\"+\"&T82, IF(T82<0,T82,\"E\")))))","v":""},{"$f":"IF(U79=\"\",\"\", IF(U80=\"\",\"\",IF(ABS(T82)>1,\"\", IF(U82>0,\"+\"&U82, IF(U82<0,U82,\"E\")))))","v":""},{"$f":"COUNTBLANK(M81:U81)","v":9},{"$f":"IF(U81<>\"\",U81,IF(T81<>\"\",T81,IF(S81<>\"\",S81,IF(R81<>\"\",R81,IF(Q81<>\"\",Q81,IF(P81<>\"\",P81,IF(O81<>\"\",O81,IF(N81<>\"\",N81,\"\"))))))))","v":""},{"$f":"IF(W81<>\"\",W81,M81)","v":""}]
[null,null,null,{"$f":"IF(D79<(D80+D83),1, IF(D79>(D80+D83),-1,0))","v":{"$error":"#VALUE!"}},{"$f":"IF(E79<(E80+E83),D82+1, IF(E79>(E80+E83),D82-1,D82))","v":{"$error":"#VALUE!"}},{"$error":"#VALUE!"},{"$error":"#VALUE!"},{"$error":"#VALUE!"},{"$error":"#VALUE!"},{"$error":"#VALUE!"},{"$error":"#VALUE!"},{"$error":"#VALUE!"},{"$error":"#VALUE!"},{"$error":"#VALUE!"},{"$error":"#VALUE!"},{"$error":"#VALUE!"},{"$error":"#VALUE!"},{"$error":"#VALUE!"},{"$error":"#VALUE!"},{"$error":"#VALUE!"},{"$error":"#VALUE!"}]
[null,null,null,{"$f":"IF($C79<$C80,-TRUNC(($C80-$C79-D$8+18)/18),TRUNC(($C79-$C80-D$8+18)/18))","v":{"$error":"#VALUE!"}},{"$f":"IF($C79<$C80,-TRUNC(($C80-$C79-E$8+18)/18),TRUNC(($C79-$C80-E$8+18)/18))","v":{"$error":"#VALUE!"}},{"$error":"#VALUE!"},{"$error":"#VALUE!"},{"$error":"#VALUE!"},{"$error":"#VALUE!"},{"$error":"#VALUE!"},{"$error":"#VALUE!"},{"$error":"#VALUE!"},{"$error":"#VALUE!"},{"$error":"#VALUE!"},{"$error":"#VALUE!"},{"$error":"#VALUE!"},{"$error":"#VALUE!"},{"$error":"#VALUE!"},{"$error":"#VALUE!"},{"$error":"#VALUE!"},{"$error":"#VALUE!"}]
[16,{"$f":"IF(Players!F113=\"\",\"\",Players!B113)","v":""},{"$f":"IF($B84=\"\",\"\",IF(VLOOKUP($B84,Members,9,FALSE)=\"\",\"\",(VLOOKUP($B84,Members,9,FALSE))))","v":""},{"$f":"IF($B84=\"\",\"\",IF(VLOOKUP($B84,Scores,7,FALSE)=\"\",\"\",VLOOKUP($B84,Scores,7,FALSE)))","v":""},{"$f":"IF($B84=\"\",\"\",IF(VLOOKUP($B84,Scores,8,FALSE)=\"\",\"\",VLOOKUP($B84,Scores,8,FALSE)))","v":""},{"$f":"IF($B84=\"\",\"\",IF(VLOOKUP($B84,Scores,9,FALSE)=\"\",\"\",VLOOKUP($B84,Scores,9,FALSE)))","v":""},{"$f":"IF($B84=\"\",\"\",IF(VLOOKUP($B84,Scores,10,FALSE)=\"\",\"\",VLOOKUP($B84,Scores,10,FALSE)))","v":""},{"$f":"IF($B84=\"\",\"\",IF(VLOOKUP($B84,Scores,11,FALSE)=\"\",\"\",VLOOKUP($B84,Scores,11,FALSE)))","v":""},{"$f":"IF($B84=\"\",\"\",IF(VLOOKUP($B84,Scores,12,FALSE)=\"\",\"\",VLOOKUP($B84,Scores,12,FALSE)))","v":""},{"$f":"IF($B84=\"\",\"\",IF(VLOOKUP($B84,Scores,13,FALSE)=\"\",\"\",VLOOKUP($B84,Scores,13,FALSE)))","v":""},{"$f":"IF($B84=\"\",\"\",IF(VLOOKUP($B84,Scores,14,FALSE)=\"\",\"\",VLOOKUP($B84,Scores,14,FALSE)))","v":""},{"$f":"IF($B84=\"\",\"\",IF(VLOOKUP($B84,Scores,15,FALSE)=\"\",\"\",VLOOKUP($B84,Scores,15,FALSE)))","v":""},{"$f":"IF($B84=\"\",\"\",IF(VLOOKUP($B84,Scores,17,FALSE)=\"\",\"\",VLOOKUP($B84,Scores,17,FALSE)))","v":""},{"$f":"IF($B84=\"\",\"\",IF(VLOOKUP($B84,Scores,18,FALSE)=\"\",\"\",VLOOKUP($B84,Scores,18,FALSE)))","v":""},{"$f":"IF($B84=\"\",\"\",IF(VLOOKUP($B84,Scores,19,FALSE)=\"\",\"\",VLOOKUP($B84,Scores,19,FALSE)))","v":""},{"$f":"IF($B84=\"\",\"\",IF(VLOOKUP($B84,Scores,20,FALSE)=\"\",\"\",VLOOKUP($B84,Scores,20,FALSE)))","v":""},{"$f":"IF($B84=\"\",\"\",IF(VLOOKUP($B84,Scores,21,FALSE)=\"\",\"\",VLOOKUP($B84,Scores,21,FALSE)))","v":""},{"$f":"IF($B84=\"\",\"\",IF(VLOOKUP($B84,Scores,22,FALSE)=\"\",\"\",VLOOKUP($B84,Scores,22,FALSE)))","v":""},{"$f":"IF($B84=\"\",\"\",IF(VLOOKUP($B84,Scores,23,FALSE)=\"\",\"\",VLOOKUP($B84,Scores,23,FALSE)))","v":""},{"$f":"IF($B84=\"\",\"\",IF(VLOOKUP($B84,Scores,24,FALSE)=\"\",\"\",VLOOKUP($B84,Scores,24,FALSE)))","v":""},{"$f":"IF($B84=\"\",\"\",IF(VLOOKUP($B84,Scores,25,FALSE)=\"\",\"\",VLOOKUP($B84,Scores,25,FALSE)))","v":""},null,null,null,{"$f":"IF(OR(U84=\"\",U85=\"\"),\"\",IF(X86=\"E\",\"AS\",IF(X86<0,\"lost\",ABS(X86)&\" and \"&V86)))","v":""},{"$f":"IF(OR(U84=\"\",U85=\"\"),\"\",IF(Y84=\"1 and 0\",\"1-up\",IF(Y84=\"2 and 0\",\"2-up\",Y84)))","v":""}]
[null,{"$f":"IF(B84=\"\",\"\",Players!F113)","v":""},{"$f":"IF($B85=\"\",\"\",IF(VLOOKUP($B85,Members,9,FALSE)=\"\",\"\",(VLOOKUP($B85,Members,9,FALSE))))","v":""},{"$f":"IF($B85=\"\",\"\",IF(VLOOKUP($B85,Scores,7,FALSE)=\"\",\"\",VLOOKUP($B85,Scores,7,FALSE)))","v":""},{"$f":"IF($B85=\"\",\"\",IF(VLOOKUP($B85,Scores,8,FALSE)=\"\",\"\",VLOOKUP($B85,Scores,8,FALSE)))","v":""},{"$f":"IF($B85=\"\",\"\",IF(VLOOKUP($B85,Scores,9,FALSE)=\"\",\"\",VLOOKUP($B85,Scores,9,FALSE)))","v":""},{"$f":"IF($B85=\"\",\"\",IF(VLOOKUP($B85,Scores,10,FALSE)=\"\",\"\",VLOOKUP($B85,Scores,10,FALSE)))","v":""},{"$f":"IF($B85=\"\",\"\",IF(VLOOKUP($B85,Scores,11,FALSE)=\"\",\"\",VLOOKUP($B85,Scores,11,FALSE)))","v":""},{"$f":"IF($B85=\"\",\"\",IF(VLOOKUP($B85,Scores,12,FALSE)=\"\",\"\",VLOOKUP($B85,Scores,12,FALSE)))","v":""},{"$f":"IF($B85=\"\",\"\",IF(VLOOKUP($B85,Scores,13,FALSE)=\"\",\"\",VLOOKUP($B85,Scores,13,FALSE)))","v":""},{"$f":"IF($B85=\"\",\"\",IF(VLOOKUP($B85,Scores,14,FALSE)=\"\",\"\",VLOOKUP($B85,Scores,14,FALSE)))","v":""},{"$f":"IF($B85=\"\",\"\",IF(VLOOKUP($B85,Scores,15,FALSE)=\"\",\"\",VLOOKUP($B85,Scores,15,FALSE)))","v":""},{"$f":"IF($B85=\"\",\"\",IF(VLOOKUP($B85,Scores,17,FALSE)=\"\",\"\",VLOOKUP($B85,Scores,17,FALSE)))","v":""},{"$f":"IF($B85=\"\",\"\",IF(VLOOKUP($B85,Scores,18,FALSE)=\"\",\"\",VLOOKUP($B85,Scores,18,FALSE)))","v":""},{"$f":"IF($B85=\"\",\"\",IF(VLOOKUP($B85,Scores,19,FALSE)=\"\",\"\",VLOOKUP($B85,Scores,19,FALSE)))","v":""},{"$f":"IF($B85=\"\",\"\",IF(VLOOKUP($B85,Scores,20,FALSE)=\"\",\"\",VLOOKUP($B85,Scores,20,FALSE)))","v":""},{"$f":"IF($B85=\"\",\"\",IF(VLOOKUP($B85,Scores,21,FALSE)=\"\",\"\",VLOOKUP($B85,Scores,21,FALSE)))","v":""},{"$f":"IF($B85=\"\",\"\",IF(VLOOKUP($B85,Scores,22,FALSE)=\"\",\"\",VLOOKUP($B85,Scores,22,FALSE)))","v":""},{"$f":"IF($B85=\"\",\"\",IF(VLOOKUP($B85,Scores,23,FALSE)=\"\",\"\",VLOOKUP($B85,Scores,23,FALSE)))","v":""},{"$f":"IF($B85=\"\",\"\",IF(VLOOKUP($B85,Scores,24,FALSE)=\"\",\"\",VLOOKUP($B85,Scores,24,FALSE)))","v":""},{"$f":"IF($B85=\"\",\"\",IF(VLOOKUP($B85,Scores,25,FALSE)=\"\",\"\",VLOOKUP($B85,Scores,25,FALSE)))","v":""},null,null,null,{"$f":"IF(OR(U84=\"\",U85=\"\"),\"\",IF(X86=\"E\",\"AS\",IF(X86>0,\"lost\",ABS(X86)&\" and \"&V86)))","v":""},{"$f":"IF(OR(U84=\"\",U85=\"\"),\"\",IF(Y85=\"1 and 0\",\"1-up\",IF(Y85=\"2 and 0\",\"2-up\",Y85)))","v":""}]
[null,"Score",null,{"$f":"IF(OR(D84=\"\",D85=\"\"),\"\", IF(D87>0,\"+\"&D87, IF(D87<0,D87,\"E\")))","v":""},"","","","","","","","","",{"$f":"IF(N84=\"\",\"\", IF(N85=\"\",\"\",IF(ABS(M87)>8,\"\", IF(N87>0,\"+\"&N87, IF(N87<0,N87,\"E\")))))","v":""},{"$f":"IF(O84=\"\",\"\", IF(O85=\"\",\"\",IF(ABS(N87)>7,\"\", IF(O87>0,\"+\"&O87, IF(O87<0,O87,\"E\")))))","v":""},{"$f":"IF(P84=\"\",\"\", IF(P85=\"\",\"\",IF(ABS(O87)>6,\"\", IF(P87>0,\"+\"&P87, IF(P87<0,P87,\"E\")))))","v":""},{"$f":"IF(Q84=\"\",\"\", IF(Q85=\"\",\"\",IF(ABS(P87)>5,\"\", IF(Q87>0,\"+\"&Q87, IF(Q87<0,Q87,\"E\")))))","v":""},{"$f":"IF(R84=\"\",\"\", IF(R85=\"\",\"\",IF(ABS(Q87)>4,\"\", IF(R87>0,\"+\"&R87, IF(R87<0,R87,\"E\")))))","v":""},{"$f":"IF(S84=\"\",\"\", IF(S85=\"\",\"\",IF(ABS(R87)>3,\"\", IF(S87>0,\"+\"&S87, IF(S87<0,S87,\"E\")))))","v":""},{"$f":"IF(T84=\"\",\"\", IF(T85=\"\",\"\",IF(ABS(S87)>2,\"\", IF(T87>0,\"+\"&T87, IF(T87<0,T87,\"E\")))))","v":""},{"$f":"IF(U84=\"\",\"\", IF(U85=\"\",\"\",IF(ABS(T87)>1,\"\", IF(U87>0,\"+\"&U87, IF(U87<0,U87,\"E\")))))","v":""},{"$f":"COUNTBLANK(M86:U86)","v":9},{"$f":"IF(U86<>\"\",U86,IF(T86<>\"\",T86,IF(S86<>\"\",S86,IF(R86<>\"\",R86,IF(Q86<>\"\",Q86,IF(P86<>\"\",P86,IF(O86<>\"\",O86,IF(N86<>\"\",N86,\"\"))))))))","v":""},{"$f":"IF(W86<>\"\",W86,M86)","v":""}]
[null,null,null,{"$f":"IF(D84<(D85+D88),1, IF(D84>(D85+D88),-1,0))","v":{"$error":"#VALUE!"}},{"$f":"IF(E84<(E85+E88),D87+1, IF(E84>(E85+E88),D87-1,D87))","v":{"$error":"#VALUE!"}},{"$error":"#VALUE!"},{"$error":"#VALUE!"},{"$error":"#VALUE!"},{"$error":"#VALUE!"},{"$error":"#VALUE!"},{"$error":"#VALUE!"},{"$error":"#VALUE!"},{"$error":"#VALUE!"},{"$error":"#VALUE!"},{"$error":"#VALUE!"},{"$error":"#VALUE!"},{"$error":"#VALUE!"},{"$error":"#VALUE!"},{"$error":"#VALUE!"},{"$error":"#VALUE!"},{"$error":"#VALUE!"}]
[null,null,null,{"$f":"IF($C84<$C85,-TRUNC(($C85-$C84-D$8+18)/18),TRUNC(($C84-$C85-D$8+18)/18))","v":{"$error":"#VALUE!"}},{"$f":"IF($C84<$C85,-TRUNC(($C85-$C84-E$8+18)/18),TRUNC(($C84-$C85-E$8+18)/18))","v":{"$error":"#VALUE!"}},{"$error":"#VALUE!"},{"$error":"#VALUE!"},{"$error":"#VALUE!"},{"$error":"#VALUE!"},{"$error":"#VALUE!"},{"$error":"#VALUE!"},{"$error":"#VALUE!"},{"$error":"#VALUE!"},{"$error":"#VALUE!"},{"$error":"#VALUE!"},{"$error":"#VALUE!"},{"$error":"#VALUE!"},{"$error":"#VALUE!"},{"$error":"#VALUE!"},{"$error":"#VALUE!"},{"$error":"#VALUE!"}]
[17,{"$f":"IF(Players!F115=\"\",\"\",Players!B115)","v":""},{"$f":"IF($B89=\"\",\"\",IF(VLOOKUP($B89,Members,9,FALSE)=\"\",\"\",(VLOOKUP($B89,Members,9,FALSE))))","v":""},{"$f":"IF($B89=\"\",\"\",IF(VLOOKUP($B89,Scores,7,FALSE)=\"\",\"\",VLOOKUP($B89,Scores,7,FALSE)))","v":""},{"$f":"IF($B89=\"\",\"\",IF(VLOOKUP($B89,Scores,8,FALSE)=\"\",\"\",VLOOKUP($B89,Scores,8,FALSE)))","v":""},{"$f":"IF($B89=\"\",\"\",IF(VLOOKUP($B89,Scores,9,FALSE)=\"\",\"\",VLOOKUP($B89,Scores,9,FALSE)))","v":""},{"$f":"IF($B89=\"\",\"\",IF(VLOOKUP($B89,Scores,10,FALSE)=\"\",\"\",VLOOKUP($B89,Scores,10,FALSE)))","v":""},{"$f":"IF($B89=\"\",\"\",IF(VLOOKUP($B89,Scores,11,FALSE)=\"\",\"\",VLOOKUP($B89,Scores,11,FALSE)))","v":""},{"$f":"IF($B89=\"\",\"\",IF(VLOOKUP($B89,Scores,12,FALSE)=\"\",\"\",VLOOKUP($B89,Scores,12,FALSE)))","v":""},{"$f":"IF($B89=\"\",\"\",IF(VLOOKUP($B89,Scores,13,FALSE)=\"\",\"\",VLOOKUP($B89,Scores,13,FALSE)))","v":""},{"$f":"IF($B89=\"\",\"\",IF(VLOOKUP($B89,Scores,14,FALSE)=\"\",\"\",VLOOKUP($B89,Scores,14,FALSE)))","v":""},{"$f":"IF($B89=\"\",\"\",IF(VLOOKUP($B89,Scores,15,FALSE)=\"\",\"\",VLOOKUP($B89,Scores,15,FALSE)))","v":""},{"$f":"IF($B89=\"\",\"\",IF(VLOOKUP($B89,Scores,17,FALSE)=\"\",\"\",VLOOKUP($B89,Scores,17,FALSE)))","v":""},{"$f":"IF($B89=\"\",\"\",IF(VLOOKUP($B89,Scores,18,FALSE)=\"\",\"\",VLOOKUP($B89,Scores,18,FALSE)))","v":""},{"$f":"IF($B89=\"\",\"\",IF(VLOOKUP($B89,Scores,19,FALSE)=\"\",\"\",VLOOKUP($B89,Scores,19,FALSE)))","v":""},{"$f":"IF($B89=\"\",\"\",IF(VLOOKUP($B89,Scores,20,FALSE)=\"\",\"\",VLOOKUP($B89,Scores,20,FALSE)))","v":""},{"$f":"IF($B89=\"\",\"\",IF(VLOOKUP($B89,Scores,21,FALSE)=\"\",\"\",VLOOKUP($B89,Scores,21,FALSE)))","v":""},{"$f":"IF($B89=\"\",\"\",IF(VLOOKUP($B89,Scores,22,FALSE)=\"\",\"\",VLOOKUP($B89,Scores,22,FALSE)))","v":""},{"$f":"IF($B89=\"\",\"\",IF(VLOOKUP($B89,Scores,23,FALSE)=\"\",\"\",VLOOKUP($B89,Scores,23,FALSE)))","v":""},{"$f":"IF($B89=\"\",\"\",IF(VLOOKUP($B89,Scores,24,FALSE)=\"\",\"\",VLOOKUP($B89,Scores,24,FALSE)))","v":""},{"$f":"IF($B89=\"\",\"\",IF(VLOOKUP($B89,Scores,25,FALSE)=\"\",\"\",VLOOKUP($B89,Scores,25,FALSE)))","v":""},null,null,null,{"$f":"IF(OR(U89=\"\",U90=\"\"),\"\",IF(X91=\"E\",\"AS\",IF(X91<0,\"lost\",ABS(X91)&\" and \"&V91)))","v":""},{"$f":"IF(OR(U89=\"\",U90=\"\"),\"\",IF(Y89=\"1 and 0\",\"1-up\",IF(Y89=\"2 and 0\",\"2-up\",Y89)))","v":""}]
[null,{"$f":"IF(B89=\"\",\"\",Players!F115)","v":""},{"$f":"IF($B90=\"\",\"\",IF(VLOOKUP($B90,Members,9,FALSE)=\"\",\"\",(VLOOKUP($B90,Members,9,FALSE))))","v":""},{"$f":"IF($B90=\"\",\"\",IF(VLOOKUP($B90,Scores,7,FALSE)=\"\",\"\",VLOOKUP($B90,Scores,7,FALSE)))","v":""},{"$f":"IF($B90=\"\",\"\",IF(VLOOKUP($B90,Scores,8,FALSE)=\"\",\"\",VLOOKUP($B90,Scores,8,FALSE)))","v":""},{"$f":"IF($B90=\"\",\"\",IF(VLOOKUP($B90,Scores,9,FALSE)=\"\",\"\",VLOOKUP($B90,Scores,9,FALSE)))","v":""},{"$f":"IF($B90=\"\",\"\",IF(VLOOKUP($B90,Scores,10,FALSE)=\"\",\"\",VLOOKUP($B90,Scores,10,FALSE)))","v":""},{"$f":"IF($B90=\"\",\"\",IF(VLOOKUP($B90,Scores,11,FALSE)=\"\",\"\",VLOOKUP($B90,Scores,11,FALSE)))","v":""},{"$f":"IF($B90=\"\",\"\",IF(VLOOKUP($B90,Scores,12,FALSE)=\"\",\"\",VLOOKUP($B90,Scores,12,FALSE)))","v":""},{"$f":"IF($B90=\"\",\"\",IF(VLOOKUP($B90,Scores,13,FALSE)=\"\",\"\",VLOOKUP($B90,Scores,13,FALSE)))","v":""},{"$f":"IF($B90=\"\",\"\",IF(VLOOKUP($B90,Scores,14,FALSE)=\"\",\"\",VLOOKUP($B90,Scores,14,FALSE)))","v":""},{"$f":"IF($B90=\"\",\"\",IF(VLOOKUP($B90,Scores,15,FALSE)=\"\",\"\",VLOOKUP($B90,Scores,15,FALSE)))","v":""},{"$f":"IF($B90=\"\",\"\",IF(VLOOKUP($B90,Scores,17,FALSE)=\"\",\"\",VLOOKUP($B90,Scores,17,FALSE)))","v":""},{"$f":"IF($B90=\"\",\"\",IF(VLOOKUP($B90,Scores,18,FALSE)=\"\",\"\",VLOOKUP($B90,Scores,18,FALSE)))","v":""},{"$f":"IF($B90=\"\",\"\",IF(VLOOKUP($B90,Scores,19,FALSE)=\"\",\"\",VLOOKUP($B90,Scores,19,FALSE)))","v":""},{"$f":"IF($B90=\"\",\"\",IF(VLOOKUP($B90,Scores,20,FALSE)=\"\",\"\",VLOOKUP($B90,Scores,20,FALSE)))","v":""},{"$f":"IF($B90=\"\",\"\",IF(VLOOKUP($B90,Scores,21,FALSE)=\"\",\"\",VLOOKUP($B90,Scores,21,FALSE)))","v":""},{"$f":"IF($B90=\"\",\"\",IF(VLOOKUP($B90,Scores,22,FALSE)=\"\",\"\",VLOOKUP($B90,Scores,22,FALSE)))","v":""},{"$f":"IF($B90=\"\",\"\",IF(VLOOKUP($B90,Scores,23,FALSE)=\"\",\"\",VLOOKUP($B90,Scores,23,FALSE)))","v":""},{"$f":"IF($B90=\"\",\"\",IF(VLOOKUP($B90,Scores,24,FALSE)=\"\",\"\",VLOOKUP($B90,Scores,24,FALSE)))","v":""},{"$f":"IF($B90=\"\",\"\",IF(VLOOKUP($B90,Scores,25,FALSE)=\"\",\"\",VLOOKUP($B90,Scores,25,FALSE)))","v":""},null,null,null,{"$f":"IF(OR(U89=\"\",U90=\"\"),\"\",IF(X91=\"E\",\"AS\",IF(X91>0,\"lost\",ABS(X91)&\" and \"&V91)))","v":""},{"$f":"IF(OR(U89=\"\",U90=\"\"),\"\",IF(Y90=\"1 and 0\",\"1-up\",IF(Y90=\"2 and 0\",\"2-up\",Y90)))","v":""}]
[null,"Score",null,{"$f":"IF(OR(D89=\"\",D90=\"\"),\"\", IF(D92>0,\"+\"&D92, IF(D92<0,D92,\"E\")))","v":""},"","","","","","","","","",{"$f":"IF(N89=\"\",\"\", IF(N90=\"\",\"\",IF(ABS(M92)>8,\"\", IF(N92>0,\"+\"&N92, IF(N92<0,N92,\"E\")))))","v":""},{"$f":"IF(O89=\"\",\"\", IF(O90=\"\",\"\",IF(ABS(N92)>7,\"\", IF(O92>0,\"+\"&O92, IF(O92<0,O92,\"E\")))))","v":""},{"$f":"IF(P89=\"\",\"\", IF(P90=\"\",\"\",IF(ABS(O92)>6,\"\", IF(P92>0,\"+\"&P92, IF(P92<0,P92,\"E\")))))","v":""},{"$f":"IF(Q89=\"\",\"\", IF(Q90=\"\",\"\",IF(ABS(P92)>5,\"\", IF(Q92>0,\"+\"&Q92, IF(Q92<0,Q92,\"E\")))))","v":""},{"$f":"IF(R89=\"\",\"\", IF(R90=\"\",\"\",IF(ABS(Q92)>4,\"\", IF(R92>0,\"+\"&R92, IF(R92<0,R92,\"E\")))))","v":""},{"$f":"IF(S89=\"\",\"\", IF(S90=\"\",\"\",IF(ABS(R92)>3,\"\", IF(S92>0,\"+\"&S92, IF(S92<0,S92,\"E\")))))","v":""},{"$f":"IF(T89=\"\",\"\", IF(T90=\"\",\"\",IF(ABS(S92)>2,\"\", IF(T92>0,\"+\"&T92, IF(T92<0,T92,\"E\")))))","v":""},{"$f":"IF(U89=\"\",\"\", IF(U90=\"\",\"\",IF(ABS(T92)>1,\"\", IF(U92>0,\"+\"&U92, IF(U92<0,U92,\"E\")))))","v":""},{"$f":"COUNTBLANK(M91:U91)","v":9},{"$f":"IF(U91<>\"\",U91,IF(T91<>\"\",T91,IF(S91<>\"\",S91,IF(R91<>\"\",R91,IF(Q91<>\"\",Q91,IF(P91<>\"\",P91,IF(O91<>\"\",O91,IF(N91<>\"\",N91,\"\"))))))))","v":""},{"$f":"IF(W91<>\"\",W91,M91)","v":""}]
[null,null,null,{"$f":"IF(D89<(D90+D93),1, IF(D89>(D90+D93),-1,0))","v":{"$error":"#VALUE!"}},{"$f":"IF(E89<(E90+E93),D92+1, IF(E89>(E90+E93),D92-1,D92))","v":{"$error":"#VALUE!"}},{"$error":"#VALUE!"},{"$error":"#VALUE!"},{"$error":"#VALUE!"},{"$error":"#VALUE!"},{"$error":"#VALUE!"},{"$error":"#VALUE!"},{"$error":"#VALUE!"},{"$error":"#VALUE!"},{"$error":"#VALUE!"},{"$error":"#VALUE!"},{"$error":"#VALUE!"},{"$error":"#VALUE!"},{"$error":"#VALUE!"},{"$error":"#VALUE!"},{"$error":"#VALUE!"},{"$error":"#VALUE!"}]
[null,null,null,{"$f":"IF($C89<$C90,-TRUNC(($C90-$C89-D$8+18)/18),TRUNC(($C89-$C90-D$8+18)/18))","v":{"$error":"#VALUE!"}},{"$f":"IF($C89<$C90,-TRUNC(($C90-$C89-E$8+18)/18),TRUNC(($C89-$C90-E$8+18)/18))","v":{"$error":"#VALUE!"}},{"$error":"#VALUE!"},{"$error":"#VALUE!"},{"$error":"#VALUE!"},{"$error":"#VALUE!"},{"$error":"#VALUE!"},{"$error":"#VALUE!"},{"$error":"#VALUE!"},{"$error":"#VALUE!"},{"$error":"#VALUE!"},{"$error":"#VALUE!"},{"$error":"#VALUE!"},{"$error":"#VALUE!"},{"$error":"#VALUE!"},{"$error":"#VALUE!"},{"$error":"#VALUE!"},{"$error":"#VALUE!"}]
[18,{"$f":"IF(Players!F117=\"\",\"\",Players!B117)","v":""},{"$f":"IF($B94=\"\",\"\",IF(VLOOKUP($B94,Members,9,FALSE)=\"\",\"\",(VLOOKUP($B94,Members,9,FALSE))))","v":""},{"$f":"IF($B94=\"\",\"\",IF(VLOOKUP($B94,Scores,7,FALSE)=\"\",\"\",VLOOKUP($B94,Scores,7,FALSE)))","v":""},{"$f":"IF($B94=\"\",\"\",IF(VLOOKUP($B94,Scores,8,FALSE)=\"\",\"\",VLOOKUP($B94,Scores,8,FALSE)))","v":""},{"$f":"IF($B94=\"\",\"\",IF(VLOOKUP($B94,Scores,9,FALSE)=\"\",\"\",VLOOKUP($B94,Scores,9,FALSE)))","v":""},{"$f":"IF($B94=\"\",\"\",IF(VLOOKUP($B94,Scores,10,FALSE)=\"\",\"\",VLOOKUP($B94,Scores,10,FALSE)))","v":""},{"$f":"IF($B94=\"\",\"\",IF(VLOOKUP($B94,Scores,11,FALSE)=\"\",\"\",VLOOKUP($B94,Scores,11,FALSE)))","v":""},{"$f":"IF($B94=\"\",\"\",IF(VLOOKUP($B94,Scores,12,FALSE)=\"\",\"\",VLOOKUP($B94,Scores,12,FALSE)))","v":""},{"$f":"IF($B94=\"\",\"\",IF(VLOOKUP($B94,Scores,13,FALSE)=\"\",\"\",VLOOKUP($B94,Scores,13,FALSE)))","v":""},{"$f":"IF($B94=\"\",\"\",IF(VLOOKUP($B94,Scores,14,FALSE)=\"\",\"\",VLOOKUP($B94,Scores,14,FALSE)))","v":""},{"$f":"IF($B94=\"\",\"\",IF(VLOOKUP($B94,Scores,15,FALSE)=\"\",\"\",VLOOKUP($B94,Scores,15,FALSE)))","v":""},{"$f":"IF($B94=\"\",\"\",IF(VLOOKUP($B94,Scores,17,FALSE)=\"\",\"\",VLOOKUP($B94,Scores,17,FALSE)))","v":""},{"$f":"IF($B94=\"\",\"\",IF(VLOOKUP($B94,Scores,18,FALSE)=\"\",\"\",VLOOKUP($B94,Scores,18,FALSE)))","v":""},{"$f":"IF($B94=\"\",\"\",IF(VLOOKUP($B94,Scores,19,FALSE)=\"\",\"\",VLOOKUP($B94,Scores,19,FALSE)))","v":""},{"$f":"IF($B94=\"\",\"\",IF(VLOOKUP($B94,Scores,20,FALSE)=\"\",\"\",VLOOKUP($B94,Scores,20,FALSE)))","v":""},{"$f":"IF($B94=\"\",\"\",IF(VLOOKUP($B94,Scores,21,FALSE)=\"\",\"\",VLOOKUP($B94,Scores,21,FALSE)))","v":""},{"$f":"IF($B94=\"\",\"\",IF(VLOOKUP($B94,Scores,22,FALSE)=\"\",\"\",VLOOKUP($B94,Scores,22,FALSE)))","v":""},{"$f":"IF($B94=\"\",\"\",IF(VLOOKUP($B94,Scores,23,FALSE)=\"\",\"\",VLOOKUP($B94,Scores,23,FALSE)))","v":""},{"$f":"IF($B94=\"\",\"\",IF(VLOOKUP($B94,Scores,24,FALSE)=\"\",\"\",VLOOKUP($B94,Scores,24,FALSE)))","v":""},{"$f":"IF($B94=\"\",\"\",IF(VLOOKUP($B94,Scores,25,FALSE)=\"\",\"\",VLOOKUP($B94,Scores,25,FALSE)))","v":""},null,null,null,{"$f":"IF(OR(U94=\"\",U95=\"\"),\"\",IF(X96=\"E\",\"AS\",IF(X96<0,\"lost\",ABS(X96)&\" and \"&V96)))","v":""},{"$f":"IF(OR(U94=\"\",U95=\"\"),\"\",IF(Y94=\"1 and 0\",\"1-up\",IF(Y94=\"2 and 0\",\"2-up\",Y94)))","v":""}]
[null,{"$f":"IF(B94=\"\",\"\",Players!F117)","v":""},{"$f":"IF($B95=\"\",\"\",IF(VLOOKUP($B95,Members,9,FALSE)=\"\",\"\",(VLOOKUP($B95,Members,9,FALSE))))","v":""},{"$f":"IF($B95=\"\",\"\",IF(VLOOKUP($B95,Scores,7,FALSE)=\"\",\"\",VLOOKUP($B95,Scores,7,FALSE)))","v":""},{"$f":"IF($B95=\"\",\"\",IF(VLOOKUP($B95,Scores,8,FALSE)=\"\",\"\",VLOOKUP($B95,Scores,8,FALSE)))","v":""},{"$f":"IF($B95=\"\",\"\",IF(VLOOKUP($B95,Scores,9,FALSE)=\"\",\"\",VLOOKUP($B95,Scores,9,FALSE)))","v":""},{"$f":"IF($B95=\"\",\"\",IF(VLOOKUP($B95,Scores,10,FALSE)=\"\",\"\",VLOOKUP($B95,Scores,10,FALSE)))","v":""},{"$f":"IF($B95=\"\",\"\",IF(VLOOKUP($B95,Scores,11,FALSE)=\"\",\"\",VLOOKUP($B95,Scores,11,FALSE)))","v":""},{"$f":"IF($B95=\"\",\"\",IF(VLOOKUP($B95,Scores,12,FALSE)=\"\",\"\",VLOOKUP($B95,Scores,12,FALSE)))","v":""},{"$f":"IF($B95=\"\",\"\",IF(VLOOKUP($B95,Scores,13,FALSE)=\"\",\"\",VLOOKUP($B95,Scores,13,FALSE)))","v":""},{"$f":"IF($B95=\"\",\"\",IF(VLOOKUP($B95,Scores,14,FALSE)=\"\",\"\",VLOOKUP($B95,Scores,14,FALSE)))","v":""},{"$f":"IF($B95=\"\",\"\",IF(VLOOKUP($B95,Scores,15,FALSE)=\"\",\"\",VLOOKUP($B95,Scores,15,FALSE)))","v":""},{"$f":"IF($B95=\"\",\"\",IF(VLOOKUP($B95,Scores,17,FALSE)=\"\",\"\",VLOOKUP($B95,Scores,17,FALSE)))","v":""},{"$f":"IF($B95=\"\",\"\",IF(VLOOKUP($B95,Scores,18,FALSE)=\"\",\"\",VLOOKUP($B95,Scores,18,FALSE)))","v":""},{"$f":"IF($B95=\"\",\"\",IF(VLOOKUP($B95,Scores,19,FALSE)=\"\",\"\",VLOOKUP($B95,Scores,19,FALSE)))","v":""},{"$f":"IF($B95=\"\",\"\",IF(VLOOKUP($B95,Scores,20,FALSE)=\"\",\"\",VLOOKUP($B95,Scores,20,FALSE)))","v":""},{"$f":"IF($B95=\"\",\"\",IF(VLOOKUP($B95,Scores,21,FALSE)=\"\",\"\",VLOOKUP($B95,Scores,21,FALSE)))","v":""},{"$f":"IF($B95=\"\",\"\",IF(VLOOKUP($B95,Scores,22,FALSE)=\"\",\"\",VLOOKUP($B95,Scores,22,FALSE)))","v":""},{"$f":"IF($B95=\"\",\"\",IF(VLOOKUP($B95,Scores,23,FALSE)=\"\",\"\",VLOOKUP($B95,Scores,23,FALSE)))","v":""},{"$f":"IF($B95=\"\",\"\",IF(VLOOKUP($B95,Scores,24,FALSE)=\"\",\"\",VLOOKUP($B95,Scores,24,FALSE)))","v":""},{"$f":"IF($B95=\"\",\"\",IF(VLOOKUP($B95,Scores,25,FALSE)=\"\",\"\",VLOOKUP($B95,Scores,25,FALSE)))","v":""},null,null,null,{"$f":"IF(OR(U94=\"\",U95=\"\"),\"\",IF(X96=\"E\",\"AS\",IF(X96>0,\"lost\",ABS(X96)&\" and \"&V96)))","v":""},{"$f":"IF(OR(U94=\"\",U95=\"\"),\"\",IF(Y95=\"1 and 0\",\"1-up\",IF(Y95=\"2 and 0\",\"2-up\",Y95)))","v":""}]
[null,"Score",null,{"$f":"IF(OR(D94=\"\",D95=\"\"),\"\", IF(D97>0,\"+\"&D97, IF(D97<0,D97,\"E\")))","v":""},"","","","","","","","","",{"$f":"IF(N94=\"\",\"\", IF(N95=\"\",\"\",IF(ABS(M97)>8,\"\", IF(N97>0,\"+\"&N97, IF(N97<0,N97,\"E\")))))","v":""},{"$f":"IF(O94=\"\",\"\", IF(O95=\"\",\"\",IF(ABS(N97)>7,\"\", IF(O97>0,\"+\"&O97, IF(O97<0,O97,\"E\")))))","v":""},{"$f":"IF(P94=\"\",\"\", IF(P95=\"\",\"\",IF(ABS(O97)>6,\"\", IF(P97>0,\"+\"&P97, IF(P97<0,P97,\"E\")))))","v":""},{"$f":"IF(Q94=\"\",\"\", IF(Q95=\"\",\"\",IF(ABS(P97)>5,\"\", IF(Q97>0,\"+\"&Q97, IF(Q97<0,Q97,\"E\")))))","v":""},{"$f":"IF(R94=\"\",\"\", IF(R95=\"\",\"\",IF(ABS(Q97)>4,\"\", IF(R97>0,\"+\"&R97, IF(R97<0,R97,\"E\")))))","v":""},{"$f":"IF(S94=\"\",\"\", IF(S95=\"\",\"\",IF(ABS(R97)>3,\"\", IF(S97>0,\"+\"&S97, IF(S97<0,S97,\"E\")))))","v":""},{"$f":"IF(T94=\"\",\"\", IF(T95=\"\",\"\",IF(ABS(S97)>2,\"\", IF(T97>0,\"+\"&T97, IF(T97<0,T97,\"E\")))))","v":""},{"$f":"IF(U94=\"\",\"\", IF(U95=\"\",\"\",IF(ABS(T97)>1,\"\", IF(U97>0,\"+\"&U97, IF(U97<0,U97,\"E\")))))","v":""},{"$f":"COUNTBLANK(M96:U96)","v":9},{"$f":"IF(U96<>\"\",U96,IF(T96<>\"\",T96,IF(S96<>\"\",S96,IF(R96<>\"\",R96,IF(Q96<>\"\",Q96,IF(P96<>\"\",P96,IF(O96<>\"\",O96,IF(N96<>\"\",N96,\"\"))))))))","v":""},{"$f":"IF(W96<>\"\",W96,M96)","v":""}]
[null,null,null,{"$f":"IF(D94<(D95+D98),1, IF(D94>(D95+D98),-1,0))","v":{"$error":"#VALUE!"}},{"$f":"IF(E94<(E95+E98),D97+1, IF(E94>(E95+E98),D97-1,D97))","v":{"$error":"#VALUE!"}},{"$error":"#VALUE!"},{"$error":"#VALUE!"},{"$error":"#VALUE!"},{"$error":"#VALUE!"},{"$error":"#VALUE!"},{"$error":"#VALUE!"},{"$error":"#VALUE!"},{"$error":"#VALUE!"},{"$error":"#VALUE!"},{"$error":"#VALUE!"},{"$error":"#VALUE!"},{"$error":"#VALUE!"},{"$error":"#VALUE!"},{"$error":"#VALUE!"},{"$error":"#VALUE!"},{"$error":"#VALUE!"}]
[null,null,null,{"$f":"IF($C94<$C95,-TRUNC(($C95-$C94-D$8+18)/18),TRUNC(($C94-$C95-D$8+18)/18))","v":{"$error":"#VALUE!"}},{"$f":"IF($C94<$C95,-TRUNC(($C95-$C94-E$8+18)/18),TRUNC(($C94-$C95-E$8+18)/18))","v":{"$error":"#VALUE!"}},{"$error":"#VALUE!"},{"$error":"#VALUE!"},{"$error":"#VALUE!"},{"$error":"#VALUE!"},{"$error":"#VALUE!"},{"$error":"#VALUE!"},{"$error":"#VALUE!"},{"$error":"#VALUE!"},{"$error":"#VALUE!"},{"$error":"#VALUE!"},{"$error":"#VALUE!"},{"$error":"#VALUE!"},{"$error":"#VALUE!"},{"$error":"#VALUE!"},{"$error":"#VALUE!"},{"$error":"#VALUE!"}]
[19,{"$f":"IF(Players!F119=\"\",\"\",Players!B119)","v":""},{"$f":"IF($B99=\"\",\"\",IF(VLOOKUP($B99,Members,9,FALSE)=\"\",\"\",(VLOOKUP($B99,Members,9,FALSE))))","v":""},{"$f":"IF($B99=\"\",\"\",IF(VLOOKUP($B99,Scores,7,FALSE)=\"\",\"\",VLOOKUP($B99,Scores,7,FALSE)))","v":""},{"$f":"IF($B99=\"\",\"\",IF(VLOOKUP($B99,Scores,8,FALSE)=\"\",\"\",VLOOKUP($B99,Scores,8,FALSE)))","v":""},{"$f":"IF($B99=\"\",\"\",IF(VLOOKUP($B99,Scores,9,FALSE)=\"\",\"\",VLOOKUP($B99,Scores,9,FALSE)))","v":""},{"$f":"IF($B99=\"\",\"\",IF(VLOOKUP($B99,Scores,10,FALSE)=\"\",\"\",VLOOKUP($B99,Scores,10,FALSE)))","v":""},{"$f":"IF($B99=\"\",\"\",IF(VLOOKUP($B99,Scores,11,FALSE)=\"\",\"\",VLOOKUP($B99,Scores,11,FALSE)))","v":""},{"$f":"IF($B99=\"\",\"\",IF(VLOOKUP($B99,Scores,12,FALSE)=\"\",\"\",VLOOKUP($B99,Scores,12,FALSE)))","v":""},{"$f":"IF($B99=\"\",\"\",IF(VLOOKUP($B99,Scores,13,FALSE)=\"\",\"\",VLOOKUP($B99,Scores,13,FALSE)))","v":""},{"$f":"IF($B99=\"\",\"\",IF(VLOOKUP($B99,Scores,14,FALSE)=\"\",\"\",VLOOKUP($B99,Scores,14,FALSE)))","v":""},{"$f":"IF($B99=\"\",\"\",IF(VLOOKUP($B99,Scores,15,FALSE)=\"\",\"\",VLOOKUP($B99,Scores,15,FALSE)))","v":""},{"$f":"IF($B99=\"\",\"\",IF(VLOOKUP($B99,Scores,17,FALSE)=\"\",\"\",VLOOKUP($B99,Scores,17,FALSE)))","v":""},{"$f":"IF($B99=\"\",\"\",IF(VLOOKUP($B99,Scores,18,FALSE)=\"\",\"\",VLOOKUP($B99,Scores,18,FALSE)))","v":""},{"$f":"IF($B99=\"\",\"\",IF(VLOOKUP($B99,Scores,19,FALSE)=\"\",\"\",VLOOKUP($B99,Scores,19,FALSE)))","v":""},{"$f":"IF($B99=\"\",\"\",IF(VLOOKUP($B99,Scores,20,FALSE)=\"\",\"\",VLOOKUP($B99,Scores,20,FALSE)))","v":""},{"$f":"IF($B99=\"\",\"\",IF(VLOOKUP($B99,Scores,21,FALSE)=\"\",\"\",VLOOKUP($B99,Scores,21,FALSE)))","v":""},{"$f":"IF($B99=\"\",\"\",IF(VLOOKUP($B99,Scores,22,FALSE)=\"\",\"\",VLOOKUP($B99,Scores,22,FALSE)))","v":""},{"$f":"IF($B99=\"\",\"\",IF(VLOOKUP($B99,Scores,23,FALSE)=\"\",\"\",VLOOKUP($B99,Scores,23,FALSE)))","v":""},{"$f":"IF($B99=\"\",\"\",IF(VLOOKUP($B99,Scores,24,FALSE)=\"\",\"\",VLOOKUP($B99,Scores,24,FALSE)))","v":""},{"$f":"IF($B99=\"\",\"\",IF(VLOOKUP($B99,Scores,25,FALSE)=\"\",\"\",VLOOKUP($B99,Scores,25,FALSE)))","v":""},null,null,null,{"$f":"IF(OR(U99=\"\",U100=\"\"),\"\",IF(X101=\"E\",\"AS\",IF(X101<0,\"lost\",ABS(X101)&\" and \"&V101)))","v":""},{"$f":"IF(OR(U99=\"\",U100=\"\"),\"\",IF(Y99=\"1 and 0\",\"1-up\",IF(Y99=\"2 and 0\",\"2-up\",Y99)))","v":""}]
[null,{"$f":"IF(B99=\"\",\"\",Players!F119)","v":""},{"$f":"IF($B100=\"\",\"\",IF(VLOOKUP($B100,Members,9,FALSE)=\"\",\"\",(VLOOKUP($B100,Members,9,FALSE))))","v":""},{"$f":"IF($B100=\"\",\"\",IF(VLOOKUP($B100,Scores,7,FALSE)=\"\",\"\",VLOOKUP($B100,Scores,7,FALSE)))","v":""},{"$f":"IF($B100=\"\",\"\",IF(VLOOKUP($B100,Scores,8,FALSE)=\"\",\"\",VLOOKUP($B100,Scores,8,FALSE)))","v":""},{"$f":"IF($B100=\"\",\"\",IF(VLOOKUP($B100,Scores,9,FALSE)=\"\",\"\",VLOOKUP($B100,Scores,9,FALSE)))","v":""},{"$f":"IF($B100=\"\",\"\",IF(VLOOKUP($B100,Scores,10,FALSE)=\"\",\"\",VLOOKUP($B100,Scores,10,FALSE)))","v":""},{"$f":"IF($B100=\"\",\"\",IF(VLOOKUP($B100,Scores,11,FALSE)=\"\",\"\",VLOOKUP($B100,Scores,11,FALSE)))","v":""},{"$f":"IF($B100=\"\",\"\",IF(VLOOKUP($B100,Scores,12,FALSE)=\"\",\"\",VLOOKUP($B100,Scores,12,FALSE)))","v":""},{"$f":"IF($B100=\"\",\"\",IF(VLOOKUP($B100,Scores,13,FALSE)=\"\",\"\",VLOOKUP($B100,Scores,13,FALSE)))","v":""},{"$f":"IF($B100=\"\",\"\",IF(VLOOKUP($B100,Scores,14,FALSE)=\"\",\"\",VLOOKUP($B100,Scores,14,FALSE)))","v":""},{"$f":"IF($B100=\"\",\"\",IF(VLOOKUP($B100,Scores,15,FALSE)=\"\",\"\",VLOOKUP($B100,Scores,15,FALSE)))","v":""},{"$f":"IF($B100=\"\",\"\",IF(VLOOKUP($B100,Scores,17,FALSE)=\"\",\"\",VLOOKUP($B100,Scores,17,FALSE)))","v":""},{"$f":"IF($B100=\"\",\"\",IF(VLOOKUP($B100,Scores,18,FALSE)=\"\",\"\",VLOOKUP($B100,Scores,18,FALSE)))","v":""},{"$f":"IF($B100=\"\",\"\",IF(VLOOKUP($B100,Scores,19,FALSE)=\"\",\"\",VLOOKUP($B100,Scores,19,FALSE)))","v":""},{"$f":"IF($B100=\"\",\"\",IF(VLOOKUP($B100,Scores,20,FALSE)=\"\",\"\",VLOOKUP($B100,Scores,20,FALSE)))","v":""},{"$f":"IF($B100=\"\",\"\",IF(VLOOKUP($B100,Scores,21,FALSE)=\"\",\"\",VLOOKUP($B100,Scores,21,FALSE)))","v":""},{"$f":"IF($B100=\"\",\"\",IF(VLOOKUP($B100,Scores,22,FALSE)=\"\",\"\",VLOOKUP($B100,Scores,22,FALSE)))","v":""},{"$f":"IF($B100=\"\",\"\",IF(VLOOKUP($B100,Scores,23,FALSE)=\"\",\"\",VLOOKUP($B100,Scores,23,FALSE)))","v":""},{"$f":"IF($B100=\"\",\"\",IF(VLOOKUP($B100,Scores,24,FALSE)=\"\",\"\",VLOOKUP($B100,Scores,24,FALSE)))","v":""},{"$f":"IF($B100=\"\",\"\",IF(VLOOKUP($B100,Scores,25,FALSE)=\"\",\"\",VLOOKUP($B100,Scores,25,FALSE)))","v":""},null,null,null,{"$f":"IF(OR(U99=\"\",U100=\"\"),\"\",IF(X101=\"E\",\"AS\",IF(X101>0,\"lost\",ABS(X101)&\" and \"&V101)))","v":""},{"$f":"IF(OR(U99=\"\",U100=\"\"),\"\",IF(Y100=\"1 and 0\",\"1-up\",IF(Y100=\"2 and 0\",\"2-up\",Y100)))","v":""}]
[null,"Score",null,{"$f":"IF(OR(D99=\"\",D100=\"\"),\"\", IF(D102>0,\"+\"&D102, IF(D102<0,D102,\"E\")))","v":""},"","","","","","","","","",{"$f":"IF(N99=\"\",\"\", IF(N100=\"\",\"\",IF(ABS(M102)>8,\"\", IF(N102>0,\"+\"&N102, IF(N102<0,N102,\"E\")))))","v":""},{"$f":"IF(O99=\"\",\"\", IF(O100=\"\",\"\",IF(ABS(N102)>7,\"\", IF(O102>0,\"+\"&O102, IF(O102<0,O102,\"E\")))))","v":""},{"$f":"IF(P99=\"\",\"\", IF(P100=\"\",\"\",IF(ABS(O102)>6,\"\", IF(P102>0,\"+\"&P102, IF(P102<0,P102,\"E\")))))","v":""},{"$f":"IF(Q99=\"\",\"\", IF(Q100=\"\",\"\",IF(ABS(P102)>5,\"\", IF(Q102>0,\"+\"&Q102, IF(Q102<0,Q102,\"E\")))))","v":""},{"$f":"IF(R99=\"\",\"\", IF(R100=\"\",\"\",IF(ABS(Q102)>4,\"\", IF(R102>0,\"+\"&R102, IF(R102<0,R102,\"E\")))))","v":""},{"$f":"IF(S99=\"\",\"\", IF(S100=\"\",\"\",IF(ABS(R102)>3,\"\", IF(S102>0,\"+\"&S102, IF(S102<0,S102,\"E\")))))","v":""},{"$f":"IF(T99=\"\",\"\", IF(T100=\"\",\"\",IF(ABS(S102)>2,\"\", IF(T102>0,\"+\"&T102, IF(T102<0,T102,\"E\")))))","v":""},{"$f":"IF(U99=\"\",\"\", IF(U100=\"\",\"\",IF(ABS(T102)>1,\"\", IF(U102>0,\"+\"&U102, IF(U102<0,U102,\"E\")))))","v":""},{"$f":"COUNTBLANK(M101:U101)","v":9},{"$f":"IF(U101<>\"\",U101,IF(T101<>\"\",T101,IF(S101<>\"\",S101,IF(R101<>\"\",R101,IF(Q101<>\"\",Q101,IF(P101<>\"\",P101,IF(O101<>\"\",O101,IF(N101<>\"\",N101,\"\"))))))))","v":""},{"$f":"IF(W101<>\"\",W101,M101)","v":""}]
[null,null,null,{"$f":"IF(D99<(D100+D103),1, IF(D99>(D100+D103),-1,0))","v":{"$error":"#VALUE!"}},{"$f":"IF(E99<(E100+E103),D102+1, IF(E99>(E100+E103),D102-1,D102))","v":{"$error":"#VALUE!"}},{"$error":"#VALUE!"},{"$error":"#VALUE!"},{"$error":"#VALUE!"},{"$error":"#VALUE!"},{"$error":"#VALUE!"},{"$error":"#VALUE!"},{"$error":"#VALUE!"},{"$error":"#VALUE!"},{"$error":"#VALUE!"},{"$error":"#VALUE!"},{"$error":"#VALUE!"},{"$error":"#VALUE!"},{"$error":"#VALUE!"},{"$error":"#VALUE!"},{"$error":"#VALUE!"},{"$error":"#VALUE!"}]
[null,null,null,{"$f":"IF($C99<$C100,-TRUNC(($C100-$C99-D$8+18)/18),TRUNC(($C99-$C100-D$8+18)/18))","v":{"$error":"#VALUE!"}},{"$f":"IF($C99<$C100,-TRUNC(($C100-$C99-E$8+18)/18),TRUNC(($C99-$C100-E$8+18)/18))","v":{"$error":"#VALUE!"}},{"$error":"#VALUE!"},{"$error":"#VALUE!"},{"$error":"#VALUE!"},{"$error":"#VALUE!"},{"$error":"#VALUE!"},{"$error":"#VALUE!"},{"$error":"#VALUE!"},{"$error":"#VALUE!"},{"$error":"#VALUE!"},{"$error":"#VALUE!"},{"$error":"#VALUE!"},{"$error":"#VALUE!"},{"$error":"#VALUE!"},{"$error":"#VALUE!"},{"$error":"#VALUE!"},{"$error":"#VALUE!"}]
[20,{"$f":"IF(Players!F121=\"\",\"\",Players!B121)","v":""},{"$f":"IF($B104=\"\",\"\",IF(VLOOKUP($B104,Members,9,FALSE)=\"\",\"\",(VLOOKUP($B104,Members,9,FALSE))))","v":""},{"$f":"IF($B104=\"\",\"\",IF(VLOOKUP($B104,Scores,7,FALSE)=\"\",\"\",VLOOKUP($B104,Scores,7,FALSE)))","v":""},{"$f":"IF($B104=\"\",\"\",IF(VLOOKUP($B104,Scores,8,FALSE)=\"\",\"\",VLOOKUP($B104,Scores,8,FALSE)))","v":""},{"$f":"IF($B104=\"\",\"\",IF(VLOOKUP($B104,Scores,9,FALSE)=\"\",\"\",VLOOKUP($B104,Scores,9,FALSE)))","v":""},{"$f":"IF($B104=\"\",\"\",IF(VLOOKUP($B104,Scores,10,FALSE)=\"\",\"\",VLOOKUP($B104,Scores,10,FALSE)))","v":""},{"$f":"IF($B104=\"\",\"\",IF(VLOOKUP($B104,Scores,11,FALSE)=\"\",\"\",VLOOKUP($B104,Scores,11,FALSE)))","v":""},{"$f":"IF($B104=\"\",\"\",IF(VLOOKUP($B104,Scores,12,FALSE)=\"\",\"\",VLOOKUP($B104,Scores,12,FALSE)))","v":""},{"$f":"IF($B104=\"\",\"\",IF(VLOOKUP($B104,Scores,13,FALSE)=\"\",\"\",VLOOKUP($B104,Scores,13,FALSE)))","v":""},{"$f":"IF($B104=\"\",\"\",IF(VLOOKUP($B104,Scores,14,FALSE)=\"\",\"\",VLOOKUP($B104,Scores,14,FALSE)))","v":""},{"$f":"IF($B104=\"\",\"\",IF(VLOOKUP($B104,Scores,15,FALSE)=\"\",\"\",VLOOKUP($B104,Scores,15,FALSE)))","v":""},{"$f":"IF($B104=\"\",\"\",IF(VLOOKUP($B104,Scores,17,FALSE)=\"\",\"\",VLOOKUP($B104,Scores,17,FALSE)))","v":""},{"$f":"IF($B104=\"\",\"\",IF(VLOOKUP($B104,Scores,18,FALSE)=\"\",\"\",VLOOKUP($B104,Scores,18,FALSE)))","v":""},{"$f":"IF($B104=\"\",\"\",IF(VLOOKUP($B104,Scores,19,FALSE)=\"\",\"\",VLOOKUP($B104,Scores,19,FALSE)))","v":""},{"$f":"IF($B104=\"\",\"\",IF(VLOOKUP($B104,Scores,20,FALSE)=\"\",\"\",VLOOKUP($B104,Scores,20,FALSE)))","v":""},{"$f":"IF($B104=\"\",\"\",IF(VLOOKUP($B104,Scores,21,FALSE)=\"\",\"\",VLOOKUP($B104,Scores,21,FALSE)))","v":""},{"$f":"IF($B104=\"\",\"\",IF(VLOOKUP($B104,Scores,22,FALSE)=\"\",\"\",VLOOKUP($B104,Scores,22,FALSE)))","v":""},{"$f":"IF($B104=\"\",\"\",IF(VLOOKUP($B104,Scores,23,FALSE)=\"\",\"\",VLOOKUP($B104,Scores,23,FALSE)))","v":""},{"$f":"IF($B104=\"\",\"\",IF(VLOOKUP($B104,Scores,24,FALSE)=\"\",\"\",VLOOKUP($B104,Scores,24,FALSE)))","v":""},{"$f":"IF($B104=\"\",\"\",IF(VLOOKUP($B104,Scores,25,FALSE)=\"\",\"\",VLOOKUP($B104,Scores,25,FALSE)))","v":""},null,null,null,{"$f":"IF(OR(U104=\"\",U105=\"\"),\"\",IF(X106=\"E\",\"AS\",IF(X106<0,\"lost\",ABS(X106)&\" and \"&V106)))","v":""},{"$f":"IF(OR(U104=\"\",U105=\"\"),\"\",IF(Y104=\"1 and 0\",\"1-up\",IF(Y104=\"2 and 0\",\"2-up\",Y104)))","v":""}]
[null,{"$f":"IF(B104=\"\",\"\",Players!F121)","v":""},{"$f":"IF($B105=\"\",\"\",IF(VLOOKUP($B105,Members,9,FALSE)=\"\",\"\",(VLOOKUP($B105,Members,9,FALSE))))","v":""},{"$f":"IF($B105=\"\",\"\",IF(VLOOKUP($B105,Scores,7,FALSE)=\"\",\"\",VLOOKUP($B105,Scores,7,FALSE)))","v":""},{"$f":"IF($B105=\"\",\"\",IF(VLOOKUP($B105,Scores,8,FALSE)=\"\",\"\",VLOOKUP($B105,Scores,8,FALSE)))","v":""},{"$f":"IF($B105=\"\",\"\",IF(VLOOKUP($B105,Scores,9,FALSE)=\"\",\"\",VLOOKUP($B105,Scores,9,FALSE)))","v":""},{"$f":"IF($B105=\"\",\"\",IF(VLOOKUP($B105,Scores,10,FALSE)=\"\",\"\",VLOOKUP($B105,Scores,10,FALSE)))","v":""},{"$f":"IF($B105=\"\",\"\",IF(VLOOKUP($B105,Scores,11,FALSE)=\"\",\"\",VLOOKUP($B105,Scores,11,FALSE)))","v":""},{"$f":"IF($B105=\"\",\"\",IF(VLOOKUP($B105,Scores,12,FALSE)=\"\",\"\",VLOOKUP($B105,Scores,12,FALSE)))","v":""},{"$f":"IF($B105=\"\",\"\",IF(VLOOKUP($B105,Scores,13,FALSE)=\"\",\"\",VLOOKUP($B105,Scores,13,FALSE)))","v":""},{"$f":"IF($B105=\"\",\"\",IF(VLOOKUP($B105,Scores,14,FALSE)=\"\",\"\",VLOOKUP($B105,Scores,14,FALSE)))","v":""},{"$f":"IF($B105=\"\",\"\",IF(VLOOKUP($B105,Scores,15,FALSE)=\"\",\"\",VLOOKUP($B105,Scores,15,FALSE)))","v":""},{"$f":"IF($B105=\"\",\"\",IF(VLOOKUP($B105,Scores,17,FALSE)=\"\",\"\",VLOOKUP($B105,Scores,17,FALSE)))","v":""},{"$f":"IF($B105=\"\",\"\",IF(VLOOKUP($B105,Scores,18,FALSE)=\"\",\"\",VLOOKUP($B105,Scores,18,FALSE)))","v":""},{"$f":"IF($B105=\"\",\"\",IF(VLOOKUP($B105,Scores,19,FALSE)=\"\",\"\",VLOOKUP($B105,Scores,19,FALSE)))","v":""},{"$f":"IF($B105=\"\",\"\",IF(VLOOKUP($B105,Scores,20,FALSE)=\"\",\"\",VLOOKUP($B105,Scores,20,FALSE)))","v":""},{"$f":"IF($B105=\"\",\"\",IF(VLOOKUP($B105,Scores,21,FALSE)=\"\",\"\",VLOOKUP($B105,Scores,21,FALSE)))","v":""},{"$f":"IF($B105=\"\",\"\",IF(VLOOKUP($B105,Scores,22,FALSE)=\"\",\"\",VLOOKUP($B105,Scores,22,FALSE)))","v":""},{"$f":"IF($B105=\"\",\"\",IF(VLOOKUP($B105,Scores,23,FALSE)=\"\",\"\",VLOOKUP($B105,Scores,23,FALSE)))","v":""},{"$f":"IF($B105=\"\",\"\",IF(VLOOKUP($B105,Scores,24,FALSE)=\"\",\"\",VLOOKUP($B105,Scores,24,FALSE)))","v":""},{"$f":"IF($B105=\"\",\"\",IF(VLOOKUP($B105,Scores,25,FALSE)=\"\",\"\",VLOOKUP($B105,Scores,25,FALSE)))","v":""},null,null,null,{"$f":"IF(OR(U104=\"\",U105=\"\"),\"\",IF(X106=\"E\",\"AS\",IF(X106>0,\"lost\",ABS(X106)&\" and \"&V106)))","v":""},{"$f":"IF(OR(U104=\"\",U105=\"\"),\"\",IF(Y105=\"1 and 0\",\"1-up\",IF(Y105=\"2 and 0\",\"2-up\",Y105)))","v":""}]
[null,"Score",null,{"$f":"IF(OR(D104=\"\",D105=\"\"),\"\", IF(D107>0,\"+\"&D107, IF(D107<0,D107,\"E\")))","v":""},"","","","","","","","","",{"$f":"IF(N104=\"\",\"\", IF(N105=\"\",\"\",IF(ABS(M107)>8,\"\", IF(N107>0,\"+\"&N107, IF(N107<0,N107,\"E\")))))","v":""},{"$f":"IF(O104=\"\",\"\", IF(O105=\"\",\"\",IF(ABS(N107)>7,\"\", IF(O107>0,\"+\"&O107, IF(O107<0,O107,\"E\")))))","v":""},{"$f":"IF(P104=\"\",\"\", IF(P105=\"\",\"\",IF(ABS(O107)>6,\"\", IF(P107>0,\"+\"&P107, IF(P107<0,P107,\"E\")))))","v":""},{"$f":"IF(Q104=\"\",\"\", IF(Q105=\"\",\"\",IF(ABS(P107)>5,\"\", IF(Q107>0,\"+\"&Q107, IF(Q107<0,Q107,\"E\")))))","v":""},{"$f":"IF(R104=\"\",\"\", IF(R105=\"\",\"\",IF(ABS(Q107)>4,\"\", IF(R107>0,\"+\"&R107, IF(R107<0,R107,\"E\")))))","v":""},{"$f":"IF(S104=\"\",\"\", IF(S105=\"\",\"\",IF(ABS(R107)>3,\"\", IF(S107>0,\"+\"&S107, IF(S107<0,S107,\"E\")))))","v":""},{"$f":"IF(T104=\"\",\"\", IF(T105=\"\",\"\",IF(ABS(S107)>2,\"\", IF(T107>0,\"+\"&T107, IF(T107<0,T107,\"E\")))))","v":""},{"$f":"IF(U104=\"\",\"\", IF(U105=\"\",\"\",IF(ABS(T107)>1,\"\", IF(U107>0,\"+\"&U107, IF(U107<0,U107,\"E\")))))","v":""},{"$f":"COUNTBLANK(M106:U106)","v":9},{"$f":"IF(U106<>\"\",U106,IF(T106<>\"\",T106,IF(S106<>\"\",S106,IF(R106<>\"\",R106,IF(Q106<>\"\",Q106,IF(P106<>\"\",P106,IF(O106<>\"\",O106,IF(N106<>\"\",N106,\"\"))))))))","v":""},{"$f":"IF(W106<>\"\",W106,M106)","v":""}]
[null,null,null,{"$f":"IF(D104<(D105+D108),1, IF(D104>(D105+D108),-1,0))","v":{"$error":"#VALUE!"}},{"$f":"IF(E104<(E105+E108),D107+1, IF(E104>(E105+E108),D107-1,D107))","v":{"$error":"#VALUE!"}},{"$error":"#VALUE!"},{"$error":"#VALUE!"},{"$error":"#VALUE!"},{"$error":"#VALUE!"},{"$error":"#VALUE!"},{"$error":"#VALUE!"},{"$error":"#VALUE!"},{"$error":"#VALUE!"},{"$error":"#VALUE!"},{"$error":"#VALUE!"},{"$error":"#VALUE!"},{"$error":"#VALUE!"},{"$error":"#VALUE!"},{"$error":"#VALUE!"},{"$error":"#VALUE!"},{"$error":"#VALUE!"}]
[null,null,null,{"$f":"IF($C104<$C105,-TRUNC(($C105-$C104-D$8+18)/18),TRUNC(($C104-$C105-D$8+18)/18))","v":{"$error":"#VALUE!"}},{"$f":"IF($C104<$C105,-TRUNC(($C105-$C104-E$8+18)/18),TRUNC(($C104-$C105-E$8+18)/18))","v":{"$error":"#VALUE!"}},{"$error":"#VALUE!"},{"$error":"#VALUE!"},{"$error":"#VALUE!"},{"$error":"#VALUE!"},{"$error":"#VALUE!"},{"$error":"#VALUE!"},{"$error":"#VALUE!"},{"$error":"#VALUE!"},{"$error":"#VALUE!"},{"$error":"#VALUE!"},{"$error":"#VALUE!"},{"$error":"#VALUE!"},{"$error":"#VALUE!"},{"$error":"#VALUE!"},{"$error":"#VALUE!"},{"$error":"#VALUE!"}]
[21,{"$f":"IF(Players!F123=\"\",\"\",Players!B123)","v":""},{"$f":"IF($B109=\"\",\"\",IF(VLOOKUP($B109,Members,9,FALSE)=\"\",\"\",(VLOOKUP($B109,Members,9,FALSE))))","v":""},{"$f":"IF($B109=\"\",\"\",IF(VLOOKUP($B109,Scores,7,FALSE)=\"\",\"\",VLOOKUP($B109,Scores,7,FALSE)))","v":""},{"$f":"IF($B109=\"\",\"\",IF(VLOOKUP($B109,Scores,8,FALSE)=\"\",\"\",VLOOKUP($B109,Scores,8,FALSE)))","v":""},{"$f":"IF($B109=\"\",\"\",IF(VLOOKUP($B109,Scores,9,FALSE)=\"\",\"\",VLOOKUP($B109,Scores,9,FALSE)))","v":""},{"$f":"IF($B109=\"\",\"\",IF(VLOOKUP($B109,Scores,10,FALSE)=\"\",\"\",VLOOKUP($B109,Scores,10,FALSE)))","v":""},{"$f":"IF($B109=\"\",\"\",IF(VLOOKUP($B109,Scores,11,FALSE)=\"\",\"\",VLOOKUP($B109,Scores,11,FALSE)))","v":""},{"$f":"IF($B109=\"\",\"\",IF(VLOOKUP($B109,Scores,12,FALSE)=\"\",\"\",VLOOKUP($B109,Scores,12,FALSE)))","v":""},{"$f":"IF($B109=\"\",\"\",IF(VLOOKUP($B109,Scores,13,FALSE)=\"\",\"\",VLOOKUP($B109,Scores,13,FALSE)))","v":""},{"$f":"IF($B109=\"\",\"\",IF(VLOOKUP($B109,Scores,14,FALSE)=\"\",\"\",VLOOKUP($B109,Scores,14,FALSE)))","v":""},{"$f":"IF($B109=\"\",\"\",IF(VLOOKUP($B109,Scores,15,FALSE)=\"\",\"\",VLOOKUP($B109,Scores,15,FALSE)))","v":""},{"$f":"IF($B109=\"\",\"\",IF(VLOOKUP($B109,Scores,17,FALSE)=\"\",\"\",VLOOKUP($B109,Scores,17,FALSE)))","v":""},{"$f":"IF($B109=\"\",\"\",IF(VLOOKUP($B109,Scores,18,FALSE)=\"\",\"\",VLOOKUP($B109,Scores,18,FALSE)))","v":""},{"$f":"IF($B109=\"\",\"\",IF(VLOOKUP($B109,Scores,19,FALSE)=\"\",\"\",VLOOKUP($B109,Scores,19,FALSE)))","v":""},{"$f":"IF($B109=\"\",\"\",IF(VLOOKUP($B109,Scores,20,FALSE)=\"\",\"\",VLOOKUP($B109,Scores,20,FALSE)))","v":""},{"$f":"IF($B109=\"\",\"\",IF(VLOOKUP($B109,Scores,21,FALSE)=\"\",\"\",VLOOKUP($B109,Scores,21,FALSE)))","v":""},{"$f":"IF($B109=\"\",\"\",IF(VLOOKUP($B109,Scores,22,FALSE)=\"\",\"\",VLOOKUP($B109,Scores,22,FALSE)))","v":""},{"$f":"IF($B109=\"\",\"\",IF(VLOOKUP($B109,Scores,23,FALSE)=\"\",\"\",VLOOKUP($B109,Scores,23,FALSE)))","v":""},{"$f":"IF($B109=\"\",\"\",IF(VLOOKUP($B109,Scores,24,FALSE)=\"\",\"\",VLOOKUP($B109,Scores,24,FALSE)))","v":""},{"$f":"IF($B109=\"\",\"\",IF(VLOOKUP($B109,Scores,25,FALSE)=\"\",\"\",VLOOKUP($B109,Scores,25,FALSE)))","v":""},null,null,null,{"$f":"IF(OR(U109=\"\",U110=\"\"),\"\",IF(X111=\"E\",\"AS\",IF(X111<0,\"lost\",ABS(X111)&\" and \"&V111)))","v":""},{"$f":"IF(OR(U109=\"\",U110=\"\"),\"\",IF(Y109=\"1 and 0\",\"1-up\",IF(Y109=\"2 and 0\",\"2-up\",Y109)))","v":""}]
[null,{"$f":"IF(B109=\"\",\"\",Players!F123)","v":""},{"$f":"IF($B110=\"\",\"\",IF(VLOOKUP($B110,Members,9,FALSE)=\"\",\"\",(VLOOKUP($B110,Members,9,FALSE))))","v":""},{"$f":"IF($B110=\"\",\"\",IF(VLOOKUP($B110,Scores,7,FALSE)=\"\",\"\",VLOOKUP($B110,Scores,7,FALSE)))","v":""},{"$f":"IF($B110=\"\",\"\",IF(VLOOKUP($B110,Scores,8,FALSE)=\"\",\"\",VLOOKUP($B110,Scores,8,FALSE)))","v":""},{"$f":"IF($B110=\"\",\"\",IF(VLOOKUP($B110,Scores,9,FALSE)=\"\",\"\",VLOOKUP($B110,Scores,9,FALSE)))","v":""},{"$f":"IF($B110=\"\",\"\",IF(VLOOKUP($B110,Scores,10,FALSE)=\"\",\"\",VLOOKUP($B110,Scores,10,FALSE)))","v":""},{"$f":"IF($B110=\"\",\"\",IF(VLOOKUP($B110,Scores,11,FALSE)=\"\",\"\",VLOOKUP($B110,Scores,11,FALSE)))","v":""},{"$f":"IF($B110=\"\",\"\",IF(VLOOKUP($B110,Scores,12,FALSE)=\"\",\"\",VLOOKUP($B110,Scores,12,FALSE)))","v":""},{"$f":"IF($B110=\"\",\"\",IF(VLOOKUP($B110,Scores,13,FALSE)=\"\",\"\",VLOOKUP($B110,Scores,13,FALSE)))","v":""},{"$f":"IF($B110=\"\",\"\",IF(VLOOKUP($B110,Scores,14,FALSE)=\"\",\"\",VLOOKUP($B110,Scores,14,FALSE)))","v":""},{"$f":"IF($B110=\"\",\"\",IF(VLOOKUP($B110,Scores,15,FALSE)=\"\",\"\",VLOOKUP($B110,Scores,15,FALSE)))","v":""},{"$f":"IF($B110=\"\",\"\",IF(VLOOKUP($B110,Scores,17,FALSE)=\"\",\"\",VLOOKUP($B110,Scores,17,FALSE)))","v":""},{"$f":"IF($B110=\"\",\"\",IF(VLOOKUP($B110,Scores,18,FALSE)=\"\",\"\",VLOOKUP($B110,Scores,18,FALSE)))","v":""},{"$f":"IF($B110=\"\",\"\",IF(VLOOKUP($B110,Scores,19,FALSE)=\"\",\"\",VLOOKUP($B110,Scores,19,FALSE)))","v":""},{"$f":"IF($B110=\"\",\"\",IF(VLOOKUP($B110,Scores,20,FALSE)=\"\",\"\",VLOOKUP($B110,Scores,20,FALSE)))","v":""},{"$f":"IF($B110=\"\",\"\",IF(VLOOKUP($B110,Scores,21,FALSE)=\"\",\"\",VLOOKUP($B110,Scores,21,FALSE)))","v":""},{"$f":"IF($B110=\"\",\"\",IF(VLOOKUP($B110,Scores,22,FALSE)=\"\",\"\",VLOOKUP($B110,Scores,22,FALSE)))","v":""},{"$f":"IF($B110=\"\",\"\",IF(VLOOKUP($B110,Scores,23,FALSE)=\"\",\"\",VLOOKUP($B110,Scores,23,FALSE)))","v":""},{"$f":"IF($B110=\"\",\"\",IF(VLOOKUP($B110,Scores,24,FALSE)=\"\",\"\",VLOOKUP($B110,Scores,24,FALSE)))","v":""},{"$f":"IF($B110=\"\",\"\",IF(VLOOKUP($B110,Scores,25,FALSE)=\"\",\"\",VLOOKUP($B110,Scores,25,FALSE)))","v":""},null,null,null,{"$f":"IF(OR(U109=\"\",U110=\"\"),\"\",IF(X111=\"E\",\"AS\",IF(X111>0,\"lost\",ABS(X111)&\" and \"&V111)))","v":""},{"$f":"IF(OR(U109=\"\",U110=\"\"),\"\",IF(Y110=\"1 and 0\",\"1-up\",IF(Y110=\"2 and 0\",\"2-up\",Y110)))","v":""}]
[null,"Score",null,{"$f":"IF(OR(D109=\"\",D110=\"\"),\"\", IF(D112>0,\"+\"&D112, IF(D112<0,D112,\"E\")))","v":""},"","","","","","","","","",{"$f":"IF(N109=\"\",\"\", IF(N110=\"\",\"\",IF(ABS(M112)>8,\"\", IF(N112>0,\"+\"&N112, IF(N112<0,N112,\"E\")))))","v":""},{"$f":"IF(O109=\"\",\"\", IF(O110=\"\",\"\",IF(ABS(N112)>7,\"\", IF(O112>0,\"+\"&O112, IF(O112<0,O112,\"E\")))))","v":""},{"$f":"IF(P109=\"\",\"\", IF(P110=\"\",\"\",IF(ABS(O112)>6,\"\", IF(P112>0,\"+\"&P112, IF(P112<0,P112,\"E\")))))","v":""},{"$f":"IF(Q109=\"\",\"\", IF(Q110=\"\",\"\",IF(ABS(P112)>5,\"\", IF(Q112>0,\"+\"&Q112, IF(Q112<0,Q112,\"E\")))))","v":""},{"$f":"IF(R109=\"\",\"\", IF(R110=\"\",\"\",IF(ABS(Q112)>4,\"\", IF(R112>0,\"+\"&R112, IF(R112<0,R112,\"E\")))))","v":""},{"$f":"IF(S109=\"\",\"\", IF(S110=\"\",\"\",IF(ABS(R112)>3,\"\", IF(S112>0,\"+\"&S112, IF(S112<0,S112,\"E\")))))","v":""},{"$f":"IF(T109=\"\",\"\", IF(T110=\"\",\"\",IF(ABS(S112)>2,\"\", IF(T112>0,\"+\"&T112, IF(T112<0,T112,\"E\")))))","v":""},{"$f":"IF(U109=\"\",\"\", IF(U110=\"\",\"\",IF(ABS(T112)>1,\"\", IF(U112>0,\"+\"&U112, IF(U112<0,U112,\"E\")))))","v":""},{"$f":"COUNTBLANK(M111:U111)","v":9},{"$f":"IF(U111<>\"\",U111,IF(T111<>\"\",T111,IF(S111<>\"\",S111,IF(R111<>\"\",R111,IF(Q111<>\"\",Q111,IF(P111<>\"\",P111,IF(O111<>\"\",O111,IF(N111<>\"\",N111,\"\"))))))))","v":""},{"$f":"IF(W111<>\"\",W111,M111)","v":""}]
[null,null,null,{"$f":"IF(D109<(D110+D113),1, IF(D109>(D110+D113),-1,0))","v":{"$error":"#VALUE!"}},{"$f":"IF(E109<(E110+E113),D112+1, IF(E109>(E110+E113),D112-1,D112))","v":{"$error":"#VALUE!"}},{"$error":"#VALUE!"},{"$error":"#VALUE!"},{"$error":"#VALUE!"},{"$error":"#VALUE!"},{"$error":"#VALUE!"},{"$error":"#VALUE!"},{"$error":"#VALUE!"},{"$error":"#VALUE!"},{"$error":"#VALUE!"},{"$error":"#VALUE!"},{"$error":"#VALUE!"},{"$error":"#VALUE!"},{"$error":"#VALUE!"},{"$error":"#VALUE!"},{"$error":"#VALUE!"},{"$error":"#VALUE!"}]
[null,null,null,{"$f":"IF($C109<$C110,-TRUNC(($C110-$C109-D$8+18)/18),TRUNC(($C109-$C110-D$8+18)/18))","v":{"$error":"#VALUE!"}},{"$f":"IF($C109<$C110,-TRUNC(($C110-$C109-E$8+18)/18),TRUNC(($C109-$C110-E$8+18)/18))","v":{"$error":"#VALUE!"}},{"$error":"#VALUE!"},{"$error":"#VALUE!"},{"$error":"#VALUE!"},{"$error":"#VALUE!"},{"$error":"#VALUE!"},{"$error":"#VALUE!"},{"$error":"#VALUE!"},{"$error":"#VALUE!"},{"$error":"#VALUE!"},{"$error":"#VALUE!"},{"$error":"#VALUE!"},{"$error":"#VALUE!"},{"$error":"#VALUE!"},{"$error":"#VALUE!"},{"$error":"#VALUE!"},{"$error":"#VALUE!"}]
[22,{"$f":"IF(Players!F125=\"\",\"\",Players!B125)","v":""},{"$f":"IF($B114=\"\",\"\",IF(VLOOKUP($B114,Members,9,FALSE)=\"\",\"\",(VLOOKUP($B114,Members,9,FALSE))))","v":""},{"$f":"IF($B114=\"\",\"\",IF(VLOOKUP($B114,Scores,7,FALSE)=\"\",\"\",VLOOKUP($B114,Scores,7,FALSE)))","v":""},{"$f":"IF($B114=\"\",\"\",IF(VLOOKUP($B114,Scores,8,FALSE)=\"\",\"\",VLOOKUP($B114,Scores,8,FALSE)))","v":""},{"$f":"IF($B114=\"\",\"\",IF(VLOOKUP($B114,Scores,9,FALSE)=\"\",\"\",VLOOKUP($B114,Scores,9,FALSE)))","v":""},{"$f":"IF($B114=\"\",\"\",IF(VLOOKUP($B114,Scores,10,FALSE)=\"\",\"\",VLOOKUP($B114,Scores,10,FALSE)))","v":""},{"$f":"IF($B114=\"\",\"\",IF(VLOOKUP($B114,Scores,11,FALSE)=\"\",\"\",VLOOKUP($B114,Scores,11,FALSE)))","v":""},{"$f":"IF($B114=\"\",\"\",IF(VLOOKUP($B114,Scores,12,FALSE)=\"\",\"\",VLOOKUP($B114,Scores,12,FALSE)))","v":""},{"$f":"IF($B114=\"\",\"\",IF(VLOOKUP($B114,Scores,13,FALSE)=\"\",\"\",VLOOKUP($B114,Scores,13,FALSE)))","v":""},{"$f":"IF($B114=\"\",\"\",IF(VLOOKUP($B114,Scores,14,FALSE)=\"\",\"\",VLOOKUP($B114,Scores,14,FALSE)))","v":""},{"$f":"IF($B114=\"\",\"\",IF(VLOOKUP($B114,Scores,15,FALSE)=\"\",\"\",VLOOKUP($B114,Scores,15,FALSE)))","v":""},{"$f":"IF($B114=\"\",\"\",IF(VLOOKUP($B114,Scores,17,FALSE)=\"\",\"\",VLOOKUP($B114,Scores,17,FALSE)))","v":""},{"$f":"IF($B114=\"\",\"\",IF(VLOOKUP($B114,Scores,18,FALSE)=\"\",\"\",VLOOKUP($B114,Scores,18,FALSE)))","v":""},{"$f":"IF($B114=\"\",\"\",IF(VLOOKUP($B114,Scores,19,FALSE)=\"\",\"\",VLOOKUP($B114,Scores,19,FALSE)))","v":""},{"$f":"IF($B114=\"\",\"\",IF(VLOOKUP($B114,Scores,20,FALSE)=\"\",\"\",VLOOKUP($B114,Scores,20,FALSE)))","v":""},{"$f":"IF($B114=\"\",\"\",IF(VLOOKUP($B114,Scores,21,FALSE)=\"\",\"\",VLOOKUP($B114,Scores,21,FALSE)))","v":""},{"$f":"IF($B114=\"\",\"\",IF(VLOOKUP($B114,Scores,22,FALSE)=\"\",\"\",VLOOKUP($B114,Scores,22,FALSE)))","v":""},{"$f":"IF($B114=\"\",\"\",IF(VLOOKUP($B114,Scores,23,FALSE)=\"\",\"\",VLOOKUP($B114,Scores,23,FALSE)))","v":""},{"$f":"IF($B114=\"\",\"\",IF(VLOOKUP($B114,Scores,24,FALSE)=\"\",\"\",VLOOKUP($B114,Scores,24,FALSE)))","v":""},{"$f":"IF($B114=\"\",\"\",IF(VLOOKUP($B114,Scores,25,FALSE)=\"\",\"\",VLOOKUP($B114,Scores,25,FALSE)))","v":""},null,null,null,{"$f":"IF(OR(U114=\"\",U115=\"\"),\"\",IF(X116=\"E\",\"AS\",IF(X116<0,\"lost\",ABS(X116)&\" and \"&V116)))","v":""},{"$f":"IF(OR(U114=\"\",U115=\"\"),\"\",IF(Y114=\"1 and 0\",\"1-up\",IF(Y114=\"2 and 0\",\"2-up\",Y114)))","v":""}]
[null,{"$f":"IF(B114=\"\",\"\",Players!F125)","v":""},{"$f":"IF($B115=\"\",\"\",IF(VLOOKUP($B115,Members,9,FALSE)=\"\",\"\",(VLOOKUP($B115,Members,9,FALSE))))","v":""},{"$f":"IF($B115=\"\",\"\",IF(VLOOKUP($B115,Scores,7,FALSE)=\"\",\"\",VLOOKUP($B115,Scores,7,FALSE)))","v":""},{"$f":"IF($B115=\"\",\"\",IF(VLOOKUP($B115,Scores,8,FALSE)=\"\",\"\",VLOOKUP($B115,Scores,8,FALSE)))","v":""},{"$f":"IF($B115=\"\",\"\",IF(VLOOKUP($B115,Scores,9,FALSE)=\"\",\"\",VLOOKUP($B115,Scores,9,FALSE)))","v":""},{"$f":"IF($B115=\"\",\"\",IF(VLOOKUP($B115,Scores,10,FALSE)=\"\",\"\",VLOOKUP($B115,Scores,10,FALSE)))","v":""},{"$f":"IF($B115=\"\",\"\",IF(VLOOKUP($B115,Scores,11,FALSE)=\"\",\"\",VLOOKUP($B115,Scores,11,FALSE)))","v":""},{"$f":"IF($B115=\"\",\"\",IF(VLOOKUP($B115,Scores,12,FALSE)=\"\",\"\",VLOOKUP($B115,Scores,12,FALSE)))","v":""},{"$f":"IF($B115=\"\",\"\",IF(VLOOKUP($B115,Scores,13,FALSE)=\"\",\"\",VLOOKUP($B115,Scores,13,FALSE)))","v":""},{"$f":"IF($B115=\"\",\"\",IF(VLOOKUP($B115,Scores,14,FALSE)=\"\",\"\",VLOOKUP($B115,Scores,14,FALSE)))","v":""},{"$f":"IF($B115=\"\",\"\",IF(VLOOKUP($B115,Scores,15,FALSE)=\"\",\"\",VLOOKUP($B115,Scores,15,FALSE)))","v":""},{"$f":"IF($B115=\"\",\"\",IF(VLOOKUP($B115,Scores,17,FALSE)=\"\",\"\",VLOOKUP($B115,Scores,17,FALSE)))","v":""},{"$f":"IF($B115=\"\",\"\",IF(VLOOKUP($B115,Scores,18,FALSE)=\"\",\"\",VLOOKUP($B115,Scores,18,FALSE)))","v":""},{"$f":"IF($B115=\"\",\"\",IF(VLOOKUP($B115,Scores,19,FALSE)=\"\",\"\",VLOOKUP($B115,Scores,19,FALSE)))","v":""},{"$f":"IF($B115=\"\",\"\",IF(VLOOKUP($B115,Scores,20,FALSE)=\"\",\"\",VLOOKUP($B115,Scores,20,FALSE)))","v":""},{"$f":"IF($B115=\"\",\"\",IF(VLOOKUP($B115,Scores,21,FALSE)=\"\",\"\",VLOOKUP($B115,Scores,21,FALSE)))","v":""},{"$f":"IF($B115=\"\",\"\",IF(VLOOKUP($B115,Scores,22,FALSE)=\"\",\"\",VLOOKUP($B115,Scores,22,FALSE)))","v":""},{"$f":"IF($B115=\"\",\"\",IF(VLOOKUP($B115,Scores,23,FALSE)=\"\",\"\",VLOOKUP($B115,Scores,23,FALSE)))","v":""},{"$f":"IF($B115=\"\",\"\",IF(VLOOKUP($B115,Scores,24,FALSE)=\"\",\"\",VLOOKUP($B115,Scores,24,FALSE)))","v":""},{"$f":"IF($B115=\"\",\"\",IF(VLOOKUP($B115,Scores,25,FALSE)=\"\",\"\",VLOOKUP($B115,Scores,25,FALSE)))","v":""},null,null,null,{"$f":"IF(OR(U114=\"\",U115=\"\"),\"\",IF(X116=\"E\",\"AS\",IF(X116>0,\"lost\",ABS(X116)&\" and \"&V116)))","v":""},{"$f":"IF(OR(U114=\"\",U115=\"\"),\"\",IF(Y115=\"1 and 0\",\"1-up\",IF(Y115=\"2 and 0\",\"2-up\",Y115)))","v":""}]
[null,"Score",null,{"$f":"IF(OR(D114=\"\",D115=\"\"),\"\", IF(D117>0,\"+\"&D117, IF(D117<0,D117,\"E\")))","v":""},"","","","","","","","","",{"$f":"IF(N114=\"\",\"\", IF(N115=\"\",\"\",IF(ABS(M117)>8,\"\", IF(N117>0,\"+\"&N117, IF(N117<0,N117,\"E\")))))","v":""},{"$f":"IF(O114=\"\",\"\", IF(O115=\"\",\"\",IF(ABS(N117)>7,\"\", IF(O117>0,\"+\"&O117, IF(O117<0,O117,\"E\")))))","v":""},{"$f":"IF(P114=\"\",\"\", IF(P115=\"\",\"\",IF(ABS(O117)>6,\"\", IF(P117>0,\"+\"&P117, IF(P117<0,P117,\"E\")))))","v":""},{"$f":"IF(Q114=\"\",\"\", IF(Q115=\"\",\"\",IF(ABS(P117)>5,\"\", IF(Q117>0,\"+\"&Q117, IF(Q117<0,Q117,\"E\")))))","v":""},{"$f":"IF(R114=\"\",\"\", IF(R115=\"\",\"\",IF(ABS(Q117)>4,\"\", IF(R117>0,\"+\"&R117, IF(R117<0,R117,\"E\")))))","v":""},{"$f":"IF(S114=\"\",\"\", IF(S115=\"\",\"\",IF(ABS(R117)>3,\"\", IF(S117>0,\"+\"&S117, IF(S117<0,S117,\"E\")))))","v":""},{"$f":"IF(T114=\"\",\"\", IF(T115=\"\",\"\",IF(ABS(S117)>2,\"\", IF(T117>0,\"+\"&T117, IF(T117<0,T117,\"E\")))))","v":""},{"$f":"IF(U114=\"\",\"\", IF(U115=\"\",\"\",IF(ABS(T117)>1,\"\", IF(U117>0,\"+\"&U117, IF(U117<0,U117,\"E\")))))","v":""},{"$f":"COUNTBLANK(M116:U116)","v":9},{"$f":"IF(U116<>\"\",U116,IF(T116<>\"\",T116,IF(S116<>\"\",S116,IF(R116<>\"\",R116,IF(Q116<>\"\",Q116,IF(P116<>\"\",P116,IF(O116<>\"\",O116,IF(N116<>\"\",N116,\"\"))))))))","v":""},{"$f":"IF(W116<>\"\",W116,M116)","v":""}]
[null,null,null,{"$f":"IF(D114<(D115+D118),1, IF(D114>(D115+D118),-1,0))","v":{"$error":"#VALUE!"}},{"$f":"IF(E114<(E115+E118),D117+1, IF(E114>(E115+E118),D117-1,D117))","v":{"$error":"#VALUE!"}},{"$error":"#VALUE!"},{"$error":"#VALUE!"},{"$error":"#VALUE!"},{"$error":"#VALUE!"},{"$error":"#VALUE!"},{"$error":"#VALUE!"},{"$error":"#VALUE!"},{"$error":"#VALUE!"},{"$error":"#VALUE!"},{"$error":"#VALUE!"},{"$error":"#VALUE!"},{"$error":"#VALUE!"},{"$error":"#VALUE!"},{"$error":"#VALUE!"},{"$error":"#VALUE!"},{"$error":"#VALUE!"}]
[null,null,null,{"$f":"IF($C114<$C115,-TRUNC(($C115-$C114-D$8+18)/18),TRUNC(($C114-$C115-D$8+18)/18))","v":{"$error":"#VALUE!"}},{"$f":"IF($C114<$C115,-TRUNC(($C115-$C114-E$8+18)/18),TRUNC(($C114-$C115-E$8+18)/18))","v":{"$error":"#VALUE!"}},{"$error":"#VALUE!"},{"$error":"#VALUE!"},{"$error":"#VALUE!"},{"$error":"#VALUE!"},{"$error":"#VALUE!"},{"$error":"#VALUE!"},{"$error":"#VALUE!"},{"$error":"#VALUE!"},{"$error":"#VALUE!"},{"$error":"#VALUE!"},{"$error":"#VALUE!"},{"$error":"#VALUE!"},{"$error":"#VALUE!"},{"$error":"#VALUE!"},{"$error":"#VALUE!"},{"$error":"#VALUE!"}]
[23,{"$f":"IF(Players!F127=\"\",\"\",Players!B127)","v":""},{"$f":"IF($B119=\"\",\"\",IF(VLOOKUP($B119,Members,9,FALSE)=\"\",\"\",(VLOOKUP($B119,Members,9,FALSE))))","v":""},{"$f":"IF($B119=\"\",\"\",IF(VLOOKUP($B119,Scores,7,FALSE)=\"\",\"\",VLOOKUP($B119,Scores,7,FALSE)))","v":""},{"$f":"IF($B119=\"\",\"\",IF(VLOOKUP($B119,Scores,8,FALSE)=\"\",\"\",VLOOKUP($B119,Scores,8,FALSE)))","v":""},{"$f":"IF($B119=\"\",\"\",IF(VLOOKUP($B119,Scores,9,FALSE)=\"\",\"\",VLOOKUP($B119,Scores,9,FALSE)))","v":""},{"$f":"IF($B119=\"\",\"\",IF(VLOOKUP($B119,Scores,10,FALSE)=\"\",\"\",VLOOKUP($B119,Scores,10,FALSE)))","v":""},{"$f":"IF($B119=\"\",\"\",IF(VLOOKUP($B119,Scores,11,FALSE)=\"\",\"\",VLOOKUP($B119,Scores,11,FALSE)))","v":""},{"$f":"IF($B119=\"\",\"\",IF(VLOOKUP($B119,Scores,12,FALSE)=\"\",\"\",VLOOKUP($B119,Scores,12,FALSE)))","v":""},{"$f":"IF($B119=\"\",\"\",IF(VLOOKUP($B119,Scores,13,FALSE)=\"\",\"\",VLOOKUP($B119,Scores,13,FALSE)))","v":""},{"$f":"IF($B119=\"\",\"\",IF(VLOOKUP($B119,Scores,14,FALSE)=\"\",\"\",VLOOKUP($B119,Scores,14,FALSE)))","v":""},{"$f":"IF($B119=\"\",\"\",IF(VLOOKUP($B119,Scores,15,FALSE)=\"\",\"\",VLOOKUP($B119,Scores,15,FALSE)))","v":""},{"$f":"IF($B119=\"\",\"\",IF(VLOOKUP($B119,Scores,17,FALSE)=\"\",\"\",VLOOKUP($B119,Scores,17,FALSE)))","v":""},{"$f":"IF($B119=\"\",\"\",IF(VLOOKUP($B119,Scores,18,FALSE)=\"\",\"\",VLOOKUP($B119,Scores,18,FALSE)))","v":""},{"$f":"IF($B119=\"\",\"\",IF(VLOOKUP($B119,Scores,19,FALSE)=\"\",\"\",VLOOKUP($B119,Scores,19,FALSE)))","v":""},{"$f":"IF($B119=\"\",\"\",IF(VLOOKUP($B119,Scores,20,FALSE)=\"\",\"\",VLOOKUP($B119,Scores,20,FALSE)))","v":""},{"$f":"IF($B119=\"\",\"\",IF(VLOOKUP($B119,Scores,21,FALSE)=\"\",\"\",VLOOKUP($B119,Scores,21,FALSE)))","v":""},{"$f":"IF($B119=\"\",\"\",IF(VLOOKUP($B119,Scores,22,FALSE)=\"\",\"\",VLOOKUP($B119,Scores,22,FALSE)))","v":""},{"$f":"IF($B119=\"\",\"\",IF(VLOOKUP($B119,Scores,23,FALSE)=\"\",\"\",VLOOKUP($B119,Scores,23,FALSE)))","v":""},{"$f":"IF($B119=\"\",\"\",IF(VLOOKUP($B119,Scores,24,FALSE)=\"\",\"\",VLOOKUP($B119,Scores,24,FALSE)))","v":""},{"$f":"IF($B119=\"\",\"\",IF(VLOOKUP($B119,Scores,25,FALSE)=\"\",\"\",VLOOKUP($B119,Scores,25,FALSE)))","v":""},null,null,null,{"$f":"IF(OR(U119=\"\",U120=\"\"),\"\",IF(X121=\"E\",\"AS\",IF(X121<0,\"lost\",ABS(X121)&\" and \"&V121)))","v":""},{"$f":"IF(OR(U119=\"\",U120=\"\"),\"\",IF(Y119=\"1 and 0\",\"1-up\",IF(Y119=\"2 and 0\",\"2-up\",Y119)))","v":""}]
[null,{"$f":"IF(B119=\"\",\"\",Players!F127)","v":""},{"$f":"IF($B120=\"\",\"\",IF(VLOOKUP($B120,Members,9,FALSE)=\"\",\"\",(VLOOKUP($B120,Members,9,FALSE))))","v":""},{"$f":"IF($B120=\"\",\"\",IF(VLOOKUP($B120,Scores,7,FALSE)=\"\",\"\",VLOOKUP($B120,Scores,7,FALSE)))","v":""},{"$f":"IF($B120=\"\",\"\",IF(VLOOKUP($B120,Scores,8,FALSE)=\"\",\"\",VLOOKUP($B120,Scores,8,FALSE)))","v":""},{"$f":"IF($B120=\"\",\"\",IF(VLOOKUP($B120,Scores,9,FALSE)=\"\",\"\",VLOOKUP($B120,Scores,9,FALSE)))","v":""},{"$f":"IF($B120=\"\",\"\",IF(VLOOKUP($B120,Scores,10,FALSE)=\"\",\"\",VLOOKUP($B120,Scores,10,FALSE)))","v":""},{"$f":"IF($B120=\"\",\"\",IF(VLOOKUP($B120,Scores,11,FALSE)=\"\",\"\",VLOOKUP($B120,Scores,11,FALSE)))","v":""},{"$f":"IF($B120=\"\",\"\",IF(VLOOKUP($B120,Scores,12,FALSE)=\"\",\"\",VLOOKUP($B120,Scores,12,FALSE)))","v":""},{"$f":"IF($B120=\"\",\"\",IF(VLOOKUP($B120,Scores,13,FALSE)=\"\",\"\",VLOOKUP($B120,Scores,13,FALSE)))","v":""},{"$f":"IF($B120=\"\",\"\",IF(VLOOKUP($B120,Scores,14,FALSE)=\"\",\"\",VLOOKUP($B120,Scores,14,FALSE)))","v":""},{"$f":"IF($B120=\"\",\"\",IF(VLOOKUP($B120,Scores,15,FALSE)=\"\",\"\",VLOOKUP($B120,Scores,15,FALSE)))","v":""},{"$f":"IF($B120=\"\",\"\",IF(VLOOKUP($B120,Scores,17,FALSE)=\"\",\"\",VLOOKUP($B120,Scores,17,FALSE)))","v":""},{"$f":"IF($B120=\"\",\"\",IF(VLOOKUP($B120,Scores,18,FALSE)=\"\",\"\",VLOOKUP($B120,Scores,18,FALSE)))","v":""},{"$f":"IF($B120=\"\",\"\",IF(VLOOKUP($B120,Scores,19,FALSE)=\"\",\"\",VLOOKUP($B120,Scores,19,FALSE)))","v":""},{"$f":"IF($B120=\"\",\"\",IF(VLOOKUP($B120,Scores,20,FALSE)=\"\",\"\",VLOOKUP($B120,Scores,20,FALSE)))","v":""},{"$f":"IF($B120=\"\",\"\",IF(VLOOKUP($B120,Scores,21,FALSE)=\"\",\"\",VLOOKUP($B120,Scores,21,FALSE)))","v":""},{"$f":"IF($B120=\"\",\"\",IF(VLOOKUP($B120,Scores,22,FALSE)=\"\",\"\",VLOOKUP($B120,Scores,22,FALSE)))","v":""},{"$f":"IF($B120=\"\",\"\",IF(VLOOKUP($B120,Scores,23,FALSE)=\"\",\"\",VLOOKUP($B120,Scores,23,FALSE)))","v":""},{"$f":"IF($B120=\"\",\"\",IF(VLOOKUP($B120,Scores,24,FALSE)=\"\",\"\",VLOOKUP($B120,Scores,24,FALSE)))","v":""},{"$f":"IF($B120=\"\",\"\",IF(VLOOKUP($B120,Scores,25,FALSE)=\"\",\"\",VLOOKUP($B120,Scores,25,FALSE)))","v":""},null,null,null,{"$f":"IF(OR(U119=\"\",U120=\"\"),\"\",IF(X121=\"E\",\"AS\",IF(X121>0,\"lost\",ABS(X121)&\" and \"&V121)))","v":""},{"$f":"IF(OR(U119=\"\",U120=\"\"),\"\",IF(Y120=\"1 and 0\",\"1-up\",IF(Y120=\"2 and 0\",\"2-up\",Y120)))","v":""}]
[null,"Score",null,{"$f":"IF(OR(D119=\"\",D120=\"\"),\"\", IF(D122>0,\"+\"&D122, IF(D122<0,D122,\"E\")))","v":""},"","","","","","","","","",{"$f":"IF(N119=\"\",\"\", IF(N120=\"\",\"\",IF(ABS(M122)>8,\"\", IF(N122>0,\"+\"&N122, IF(N122<0,N122,\"E\")))))","v":""},{"$f":"IF(O119=\"\",\"\", IF(O120=\"\",\"\",IF(ABS(N122)>7,\"\", IF(O122>0,\"+\"&O122, IF(O122<0,O122,\"E\")))))","v":""},{"$f":"IF(P119=\"\",\"\", IF(P120=\"\",\"\",IF(ABS(O122)>6,\"\", IF(P122>0,\"+\"&P122, IF(P122<0,P122,\"E\")))))","v":""},{"$f":"IF(Q119=\"\",\"\", IF(Q120=\"\",\"\",IF(ABS(P122)>5,\"\", IF(Q122>0,\"+\"&Q122, IF(Q122<0,Q122,\"E\")))))","v":""},{"$f":"IF(R119=\"\",\"\", IF(R120=\"\",\"\",IF(ABS(Q122)>4,\"\", IF(R122>0,\"+\"&R122, IF(R122<0,R122,\"E\")))))","v":""},{"$f":"IF(S119=\"\",\"\", IF(S120=\"\",\"\",IF(ABS(R122)>3,\"\", IF(S122>0,\"+\"&S122, IF(S122<0,S122,\"E\")))))","v":""},{"$f":"IF(T119=\"\",\"\", IF(T120=\"\",\"\",IF(ABS(S122)>2,\"\", IF(T122>0,\"+\"&T122, IF(T122<0,T122,\"E\")))))","v":""},{"$f":"IF(U119=\"\",\"\", IF(U120=\"\",\"\",IF(ABS(T122)>1,\"\", IF(U122>0,\"+\"&U122, IF(U122<0,U122,\"E\")))))","v":""},{"$f":"COUNTBLANK(M121:U121)","v":9},{"$f":"IF(U121<>\"\",U121,IF(T121<>\"\",T121,IF(S121<>\"\",S121,IF(R121<>\"\",R121,IF(Q121<>\"\",Q121,IF(P121<>\"\",P121,IF(O121<>\"\",O121,IF(N121<>\"\",N121,\"\"))))))))","v":""},{"$f":"IF(W121<>\"\",W121,M121)","v":""}]
[null,null,null,{"$f":"IF(D119<(D120+D123),1, IF(D119>(D120+D123),-1,0))","v":{"$error":"#VALUE!"}},{"$f":"IF(E119<(E120+E123),D122+1, IF(E119>(E120+E123),D122-1,D122))","v":{"$error":"#VALUE!"}},{"$error":"#VALUE!"},{"$error":"#VALUE!"},{"$error":"#VALUE!"},{"$error":"#VALUE!"},{"$error":"#VALUE!"},{"$error":"#VALUE!"},{"$error":"#VALUE!"},{"$error":"#VALUE!"},{"$error":"#VALUE!"},{"$error":"#VALUE!"},{"$error":"#VALUE!"},{"$error":"#VALUE!"},{"$error":"#VALUE!"},{"$error":"#VALUE!"},{"$error":"#VALUE!"},{"$error":"#VALUE!"}]
[null,null,null,{"$f":"IF($C119<$C120,-TRUNC(($C120-$C119-D$8+18)/18),TRUNC(($C119-$C120-D$8+18)/18))","v":{"$error":"#VALUE!"}},{"$f":"IF($C119<$C120,-TRUNC(($C120-$C119-E$8+18)/18),TRUNC(($C119-$C120-E$8+18)/18))","v":{"$error":"#VALUE!"}},{"$error":"#VALUE!"},{"$error":"#VALUE!"},{"$error":"#VALUE!"},{"$error":"#VALUE!"},{"$error":"#VALUE!"},{"$error":"#VALUE!"},{"$error":"#VALUE!"},{"$error":"#VALUE!"},{"$error":"#VALUE!"},{"$error":"#VALUE!"},{"$error":"#VALUE!"},{"$error":"#VALUE!"},{"$error":"#VALUE!"},{"$error":"#VALUE!"},{"$error":"#VALUE!"},{"$error":"#VALUE!"}]
[24,{"$f":"IF(Players!F129=\"\",\"\",Players!B129)","v":""},{"$f":"IF($B124=\"\",\"\",IF(VLOOKUP($B124,Members,9,FALSE)=\"\",\"\",(VLOOKUP($B124,Members,9,FALSE))))","v":""},{"$f":"IF($B124=\"\",\"\",IF(VLOOKUP($B124,Scores,7,FALSE)=\"\",\"\",VLOOKUP($B124,Scores,7,FALSE)))","v":""},{"$f":"IF($B124=\"\",\"\",IF(VLOOKUP($B124,Scores,8,FALSE)=\"\",\"\",VLOOKUP($B124,Scores,8,FALSE)))","v":""},{"$f":"IF($B124=\"\",\"\",IF(VLOOKUP($B124,Scores,9,FALSE)=\"\",\"\",VLOOKUP($B124,Scores,9,FALSE)))","v":""},{"$f":"IF($B124=\"\",\"\",IF(VLOOKUP($B124,Scores,10,FALSE)=\"\",\"\",VLOOKUP($B124,Scores,10,FALSE)))","v":""},{"$f":"IF($B124=\"\",\"\",IF(VLOOKUP($B124,Scores,11,FALSE)=\"\",\"\",VLOOKUP($B124,Scores,11,FALSE)))","v":""},{"$f":"IF($B124=\"\",\"\",IF(VLOOKUP($B124,Scores,12,FALSE)=\"\",\"\",VLOOKUP($B124,Scores,12,FALSE)))","v":""},{"$f":"IF($B124=\"\",\"\",IF(VLOOKUP($B124,Scores,13,FALSE)=\"\",\"\",VLOOKUP($B124,Scores,13,FALSE)))","v":""},{"$f":"IF($B124=\"\",\"\",IF(VLOOKUP($B124,Scores,14,FALSE)=\"\",\"\",VLOOKUP($B124,Scores,14,FALSE)))","v":""},{"$f":"IF($B124=\"\",\"\",IF(VLOOKUP($B124,Scores,15,FALSE)=\"\",\"\",VLOOKUP($B124,Scores,15,FALSE)))","v":""},{"$f":"IF($B124=\"\",\"\",IF(VLOOKUP($B124,Scores,17,FALSE)=\"\",\"\",VLOOKUP($B124,Scores,17,FALSE)))","v":""},{"$f":"IF($B124=\"\",\"\",IF(VLOOKUP($B124,Scores,18,FALSE)=\"\",\"\",VLOOKUP($B124,Scores,18,FALSE)))","v":""},{"$f":"IF($B124=\"\",\"\",IF(VLOOKUP($B124,Scores,19,FALSE)=\"\",\"\",VLOOKUP($B124,Scores,19,FALSE)))","v":""},{"$f":"IF($B124=\"\",\"\",IF(VLOOKUP($B124,Scores,20,FALSE)=\"\",\"\",VLOOKUP($B124,Scores,20,FALSE)))","v":""},{"$f":"IF($B124=\"\",\"\",IF(VLOOKUP($B124,Scores,21,FALSE)=\"\",\"\",VLOOKUP($B124,Scores,21,FALSE)))","v":""},{"$f":"IF($B124=\"\",\"\",IF(VLOOKUP($B124,Scores,22,FALSE)=\"\",\"\",VLOOKUP($B124,Scores,22,FALSE)))","v":""},{"$f":"IF($B124=\"\",\"\",IF(VLOOKUP($B124,Scores,23,FALSE)=\"\",\"\",VLOOKUP($B124,Scores,23,FALSE)))","v":""},{"$f":"IF($B124=\"\",\"\",IF(VLOOKUP($B124,Scores,24,FALSE)=\"\",\"\",VLOOKUP($B124,Scores,24,FALSE)))","v":""},{"$f":"IF($B124=\"\",\"\",IF(VLOOKUP($B124,Scores,25,FALSE)=\"\",\"\",VLOOKUP($B124,Scores,25,FALSE)))","v":""},null,null,null,{"$f":"IF(OR(U124=\"\",U125=\"\"),\"\",IF(X126=\"E\",\"AS\",IF(X126<0,\"lost\",ABS(X126)&\" and \"&V126)))","v":""},{"$f":"IF(OR(U124=\"\",U125=\"\"),\"\",IF(Y124=\"1 and 0\",\"1-up\",IF(Y124=\"2 and 0\",\"2-up\",Y124)))","v":""}]
[null,{"$f":"IF(B124=\"\",\"\",Players!F129)","v":""},{"$f":"IF($B125=\"\",\"\",IF(VLOOKUP($B125,Members,9,FALSE)=\"\",\"\",(VLOOKUP($B125,Members,9,FALSE))))","v":""},{"$f":"IF($B125=\"\",\"\",IF(VLOOKUP($B125,Scores,7,FALSE)=\"\",\"\",VLOOKUP($B125,Scores,7,FALSE)))","v":""},{"$f":"IF($B125=\"\",\"\",IF(VLOOKUP($B125,Scores,8,FALSE)=\"\",\"\",VLOOKUP($B125,Scores,8,FALSE)))","v":""},{"$f":"IF($B125=\"\",\"\",IF(VLOOKUP($B125,Scores,9,FALSE)=\"\",\"\",VLOOKUP($B125,Scores,9,FALSE)))","v":""},{"$f":"IF($B125=\"\",\"\",IF(VLOOKUP($B125,Scores,10,FALSE)=\"\",\"\",VLOOKUP($B125,Scores,10,FALSE)))","v":""},{"$f":"IF($B125=\"\",\"\",IF(VLOOKUP($B125,Scores,11,FALSE)=\"\",\"\",VLOOKUP($B125,Scores,11,FALSE)))","v":""},{"$f":"IF($B125=\"\",\"\",IF(VLOOKUP($B125,Scores,12,FALSE)=\"\",\"\",VLOOKUP($B125,Scores,12,FALSE)))","v":""},{"$f":"IF($B125=\"\",\"\",IF(VLOOKUP($B125,Scores,13,FALSE)=\"\",\"\",VLOOKUP($B125,Scores,13,FALSE)))","v":""},{"$f":"IF($B125=\"\",\"\",IF(VLOOKUP($B125,Scores,14,FALSE)=\"\",\"\",VLOOKUP($B125,Scores,14,FALSE)))","v":""},{"$f":"IF($B125=\"\",\"\",IF(VLOOKUP($B125,Scores,15,FALSE)=\"\",\"\",VLOOKUP($B125,Scores,15,FALSE)))","v":""},{"$f":"IF($B125=\"\",\"\",IF(VLOOKUP($B125,Scores,17,FALSE)=\"\",\"\",VLOOKUP($B125,Scores,17,FALSE)))","v":""},{"$f":"IF($B125=\"\",\"\",IF(VLOOKUP($B125,Scores,18,FALSE)=\"\",\"\",VLOOKUP($B125,Scores,18,FALSE)))","v":""},{"$f":"IF($B125=\"\",\"\",IF(VLOOKUP($B125,Scores,19,FALSE)=\"\",\"\",VLOOKUP($B125,Scores,19,FALSE)))","v":""},{"$f":"IF($B125=\"\",\"\",IF(VLOOKUP($B125,Scores,20,FALSE)=\"\",\"\",VLOOKUP($B125,Scores,20,FALSE)))","v":""},{"$f":"IF($B125=\"\",\"\",IF(VLOOKUP($B125,Scores,21,FALSE)=\"\",\"\",VLOOKUP($B125,Scores,21,FALSE)))","v":""},{"$f":"IF($B125=\"\",\"\",IF(VLOOKUP($B125,Scores,22,FALSE)=\"\",\"\",VLOOKUP($B125,Scores,22,FALSE)))","v":""},{"$f":"IF($B125=\"\",\"\",IF(VLOOKUP($B125,Scores,23,FALSE)=\"\",\"\",VLOOKUP($B125,Scores,23,FALSE)))","v":""},{"$f":"IF($B125=\"\",\"\",IF(VLOOKUP($B125,Scores,24,FALSE)=\"\",\"\",VLOOKUP($B125,Scores,24,FALSE)))","v":""},{"$f":"IF($B125=\"\",\"\",IF(VLOOKUP($B125,Scores,25,FALSE)=\"\",\"\",VLOOKUP($B125,Scores,25,FALSE)))","v":""},null,null,null,{"$f":"IF(OR(U124=\"\",U125=\"\"),\"\",IF(X126=\"E\",\"AS\",IF(X126>0,\"lost\",ABS(X126)&\" and \"&V126)))","v":""},{"$f":"IF(OR(U124=\"\",U125=\"\"),\"\",IF(Y125=\"1 and 0\",\"1-up\",IF(Y125=\"2 and 0\",\"2-up\",Y125)))","v":""}]
[null,"Score",null,{"$f":"IF(OR(D124=\"\",D125=\"\"),\"\", IF(D127>0,\"+\"&D127, IF(D127<0,D127,\"E\")))","v":""},"","","","","","","","","",{"$f":"IF(N124=\"\",\"\", IF(N125=\"\",\"\",IF(ABS(M127)>8,\"\", IF(N127>0,\"+\"&N127, IF(N127<0,N127,\"E\")))))","v":""},{"$f":"IF(O124=\"\",\"\", IF(O125=\"\",\"\",IF(ABS(N127)>7,\"\", IF(O127>0,\"+\"&O127, IF(O127<0,O127,\"E\")))))","v":""},{"$f":"IF(P124=\"\",\"\", IF(P125=\"\",\"\",IF(ABS(O127)>6,\"\", IF(P127>0,\"+\"&P127, IF(P127<0,P127,\"E\")))))","v":""},{"$f":"IF(Q124=\"\",\"\", IF(Q125=\"\",\"\",IF(ABS(P127)>5,\"\", IF(Q127>0,\"+\"&Q127, IF(Q127<0,Q127,\"E\")))))","v":""},{"$f":"IF(R124=\"\",\"\", IF(R125=\"\",\"\",IF(ABS(Q127)>4,\"\", IF(R127>0,\"+\"&R127, IF(R127<0,R127,\"E\")))))","v":""},{"$f":"IF(S124=\"\",\"\", IF(S125=\"\",\"\",IF(ABS(R127)>3,\"\", IF(S127>0,\"+\"&S127, IF(S127<0,S127,\"E\")))))","v":""},{"$f":"IF(T124=\"\",\"\", IF(T125=\"\",\"\",IF(ABS(S127)>2,\"\", IF(T127>0,\"+\"&T127, IF(T127<0,T127,\"E\")))))","v":""},{"$f":"IF(U124=\"\",\"\", IF(U125=\"\",\"\",IF(ABS(T127)>1,\"\", IF(U127>0,\"+\"&U127, IF(U127<0,U127,\"E\")))))","v":""},{"$f":"COUNTBLANK(M126:U126)","v":9},{"$f":"IF(U126<>\"\",U126,IF(T126<>\"\",T126,IF(S126<>\"\",S126,IF(R126<>\"\",R126,IF(Q126<>\"\",Q126,IF(P126<>\"\",P126,IF(O126<>\"\",O126,IF(N126<>\"\",N126,\"\"))))))))","v":""},{"$f":"IF(W126<>\"\",W126,M126)","v":""}]
[null,null,null,{"$f":"IF(D124<(D125+D128),1, IF(D124>(D125+D128),-1,0))","v":{"$error":"#VALUE!"}},{"$f":"IF(E124<(E125+E128),D127+1, IF(E124>(E125+E128),D127-1,D127))","v":{"$error":"#VALUE!"}},{"$error":"#VALUE!"},{"$error":"#VALUE!"},{"$error":"#VALUE!"},{"$error":"#VALUE!"},{"$error":"#VALUE!"},{"$error":"#VALUE!"},{"$error":"#VALUE!"},{"$error":"#VALUE!"},{"$error":"#VALUE!"},{"$error":"#VALUE!"},{"$error":"#VALUE!"},{"$error":"#VALUE!"},{"$error":"#VALUE!"},{"$error":"#VALUE!"},{"$error":"#VALUE!"},{"$error":"#VALUE!"}]
[null,null,null,{"$f":"IF($C124<$C125,-TRUNC(($C125-$C124-D$8+18)/18),TRUNC(($C124-$C125-D$8+18)/18))","v":{"$error":"#VALUE!"}},{"$f":"IF($C124<$C125,-TRUNC(($C125-$C124-E$8+18)/18),TRUNC(($C124-$C125-E$8+18)/18))","v":{"$error":"#VALUE!"}},{"$error":"#VALUE!"},{"$error":"#VALUE!"},{"$error":"#VALUE!"},{"$error":"#VALUE!"},{"$error":"#VALUE!"},{"$error":"#VALUE!"},{"$error":"#VALUE!"},{"$error":"#VALUE!"},{"$error":"#VALUE!"},{"$error":"#VALUE!"},{"$error":"#VALUE!"},{"$error":"#VALUE!"},{"$error":"#VALUE!"},{"$error":"#VALUE!"},{"$error":"#VALUE!"},{"$error":"#VALUE!"}]
[25,{"$f":"IF(Players!F131=\"\",\"\",Players!B131)","v":""},{"$f":"IF($B129=\"\",\"\",IF(VLOOKUP($B129,Members,9,FALSE)=\"\",\"\",(VLOOKUP($B129,Members,9,FALSE))))","v":""},{"$f":"IF($B129=\"\",\"\",IF(VLOOKUP($B129,Scores,7,FALSE)=\"\",\"\",VLOOKUP($B129,Scores,7,FALSE)))","v":""},{"$f":"IF($B129=\"\",\"\",IF(VLOOKUP($B129,Scores,8,FALSE)=\"\",\"\",VLOOKUP($B129,Scores,8,FALSE)))","v":""},{"$f":"IF($B129=\"\",\"\",IF(VLOOKUP($B129,Scores,9,FALSE)=\"\",\"\",VLOOKUP($B129,Scores,9,FALSE)))","v":""},{"$f":"IF($B129=\"\",\"\",IF(VLOOKUP($B129,Scores,10,FALSE)=\"\",\"\",VLOOKUP($B129,Scores,10,FALSE)))","v":""},{"$f":"IF($B129=\"\",\"\",IF(VLOOKUP($B129,Scores,11,FALSE)=\"\",\"\",VLOOKUP($B129,Scores,11,FALSE)))","v":""},{"$f":"IF($B129=\"\",\"\",IF(VLOOKUP($B129,Scores,12,FALSE)=\"\",\"\",VLOOKUP($B129,Scores,12,FALSE)))","v":""},{"$f":"IF($B129=\"\",\"\",IF(VLOOKUP($B129,Scores,13,FALSE)=\"\",\"\",VLOOKUP($B129,Scores,13,FALSE)))","v":""},{"$f":"IF($B129=\"\",\"\",IF(VLOOKUP($B129,Scores,14,FALSE)=\"\",\"\",VLOOKUP($B129,Scores,14,FALSE)))","v":""},{"$f":"IF($B129=\"\",\"\",IF(VLOOKUP($B129,Scores,15,FALSE)=\"\",\"\",VLOOKUP($B129,Scores,15,FALSE)))","v":""},{"$f":"IF($B129=\"\",\"\",IF(VLOOKUP($B129,Scores,17,FALSE)=\"\",\"\",VLOOKUP($B129,Scores,17,FALSE)))","v":""},{"$f":"IF($B129=\"\",\"\",IF(VLOOKUP($B129,Scores,18,FALSE)=\"\",\"\",VLOOKUP($B129,Scores,18,FALSE)))","v":""},{"$f":"IF($B129=\"\",\"\",IF(VLOOKUP($B129,Scores,19,FALSE)=\"\",\"\",VLOOKUP($B129,Scores,19,FALSE)))","v":""},{"$f":"IF($B129=\"\",\"\",IF(VLOOKUP($B129,Scores,20,FALSE)=\"\",\"\",VLOOKUP($B129,Scores,20,FALSE)))","v":""},{"$f":"IF($B129=\"\",\"\",IF(VLOOKUP($B129,Scores,21,FALSE)=\"\",\"\",VLOOKUP($B129,Scores,21,FALSE)))","v":""},{"$f":"IF($B129=\"\",\"\",IF(VLOOKUP($B129,Scores,22,FALSE)=\"\",\"\",VLOOKUP($B129,Scores,22,FALSE)))","v":""},{"$f":"IF($B129=\"\",\"\",IF(VLOOKUP($B129,Scores,23,FALSE)=\"\",\"\",VLOOKUP($B129,Scores,23,FALSE)))","v":""},{"$f":"IF($B129=\"\",\"\",IF(VLOOKUP($B129,Scores,24,FALSE)=\"\",\"\",VLOOKUP($B129,Scores,24,FALSE)))","v":""},{"$f":"IF($B129=\"\",\"\",IF(VLOOKUP($B129,Scores,25,FALSE)=\"\",\"\",VLOOKUP($B129,Scores,25,FALSE)))","v":""},null,null,null,{"$f":"IF(OR(U129=\"\",U130=\"\"),\"\",IF(X131=\"E\",\"AS\",IF(X131<0,\"lost\",ABS(X131)&\" and \"&V131)))","v":""},{"$f":"IF(OR(U129=\"\",U130=\"\"),\"\",IF(Y129=\"1 and 0\",\"1-up\",IF(Y129=\"2 and 0\",\"2-up\",Y129)))","v":""}]
[null,{"$f":"IF(B129=\"\",\"\",Players!F131)","v":""},{"$f":"IF($B130=\"\",\"\",IF(VLOOKUP($B130,Members,9,FALSE)=\"\",\"\",(VLOOKUP($B130,Members,9,FALSE))))","v":""},{"$f":"IF($B130=\"\",\"\",IF(VLOOKUP($B130,Scores,7,FALSE)=\"\",\"\",VLOOKUP($B130,Scores,7,FALSE)))","v":""},{"$f":"IF($B130=\"\",\"\",IF(VLOOKUP($B130,Scores,8,FALSE)=\"\",\"\",VLOOKUP($B130,Scores,8,FALSE)))","v":""},{"$f":"IF($B130=\"\",\"\",IF(VLOOKUP($B130,Scores,9,FALSE)=\"\",\"\",VLOOKUP($B130,Scores,9,FALSE)))","v":""},{"$f":"IF($B130=\"\",\"\",IF(VLOOKUP($B130,Scores,10,FALSE)=\"\",\"\",VLOOKUP($B130,Scores,10,FALSE)))","v":""},{"$f":"IF($B130=\"\",\"\",IF(VLOOKUP($B130,Scores,11,FALSE)=\"\",\"\",VLOOKUP($B130,Scores,11,FALSE)))","v":""},{"$f":"IF($B130=\"\",\"\",IF(VLOOKUP($B130,Scores,12,FALSE)=\"\",\"\",VLOOKUP($B130,Scores,12,FALSE)))","v":""},{"$f":"IF($B130=\"\",\"\",IF(VLOOKUP($B130,Scores,13,FALSE)=\"\",\"\",VLOOKUP($B130,Scores,13,FALSE)))","v":""},{"$f":"IF($B130=\"\",\"\",IF(VLOOKUP($B130,Scores,14,FALSE)=\"\",\"\",VLOOKUP($B130,Scores,14,FALSE)))","v":""},{"$f":"IF($B130=\"\",\"\",IF(VLOOKUP($B130,Scores,15,FALSE)=\"\",\"\",VLOOKUP($B130,Scores,15,FALSE)))","v":""},{"$f":"IF($B130=\"\",\"\",IF(VLOOKUP($B130,Scores,17,FALSE)=\"\",\"\",VLOOKUP($B130,Scores,17,FALSE)))","v":""},{"$f":"IF($B130=\"\",\"\",IF(VLOOKUP($B130,Scores,18,FALSE)=\"\",\"\",VLOOKUP($B130,Scores,18,FALSE)))","v":""},{"$f":"IF($B130=\"\",\"\",IF(VLOOKUP($B130,Scores,19,FALSE)=\"\",\"\",VLOOKUP($B130,Scores,19,FALSE)))","v":""},{"$f":"IF($B130=\"\",\"\",IF(VLOOKUP($B130,Scores,20,FALSE)=\"\",\"\",VLOOKUP($B130,Scores,20,FALSE)))","v":""},{"$f":"IF($B130=\"\",\"\",IF(VLOOKUP($B130,Scores,21,FALSE)=\"\",\"\",VLOOKUP($B130,Scores,21,FALSE)))","v":""},{"$f":"IF($B130=\"\",\"\",IF(VLOOKUP($B130,Scores,22,FALSE)=\"\",\"\",VLOOKUP($B130,Scores,22,FALSE)))","v":""},{"$f":"IF($B130=\"\",\"\",IF(VLOOKUP($B130,Scores,23,FALSE)=\"\",\"\",VLOOKUP($B130,Scores,23,FALSE)))","v":""},{"$f":"IF($B130=\"\",\"\",IF(VLOOKUP($B130,Scores,24,FALSE)=\"\",\"\",VLOOKUP($B130,Scores,24,FALSE)))","v":""},{"$f":"IF($B130=\"\",\"\",IF(VLOOKUP($B130,Scores,25,FALSE)=\"\",\"\",VLOOKUP($B130,Scores,25,FALSE)))","v":""},null,null,null,{"$f":"IF(OR(U129=\"\",U130=\"\"),\"\",IF(X131=\"E\",\"AS\",IF(X131>0,\"lost\",ABS(X131)&\" and \"&V131)))","v":""},{"$f":"IF(OR(U129=\"\",U130=\"\"),\"\",IF(Y130=\"1 and 0\",\"1-up\",IF(Y130=\"2 and 0\",\"2-up\",Y130)))","v":""}]
[null,"Score",null,{"$f":"IF(OR(D129=\"\",D130=\"\"),\"\", IF(D132>0,\"+\"&D132, IF(D132<0,D132,\"E\")))","v":""},"","","","","","","","","",{"$f":"IF(N129=\"\",\"\", IF(N130=\"\",\"\",IF(ABS(M132)>8,\"\", IF(N132>0,\"+\"&N132, IF(N132<0,N132,\"E\")))))","v":""},{"$f":"IF(O129=\"\",\"\", IF(O130=\"\",\"\",IF(ABS(N132)>7,\"\", IF(O132>0,\"+\"&O132, IF(O132<0,O132,\"E\")))))","v":""},{"$f":"IF(P129=\"\",\"\", IF(P130=\"\",\"\",IF(ABS(O132)>6,\"\", IF(P132>0,\"+\"&P132, IF(P132<0,P132,\"E\")))))","v":""},{"$f":"IF(Q129=\"\",\"\", IF(Q130=\"\",\"\",IF(ABS(P132)>5,\"\", IF(Q132>0,\"+\"&Q132, IF(Q132<0,Q132,\"E\")))))","v":""},{"$f":"IF(R129=\"\",\"\", IF(R130=\"\",\"\",IF(ABS(Q132)>4,\"\", IF(R132>0,\"+\"&R132, IF(R132<0,R132,\"E\")))))","v":""},{"$f":"IF(S129=\"\",\"\", IF(S130=\"\",\"\",IF(ABS(R132)>3,\"\", IF(S132>0,\"+\"&S132, IF(S132<0,S132,\"E\")))))","v":""},{"$f":"IF(T129=\"\",\"\", IF(T130=\"\",\"\",IF(ABS(S132)>2,\"\", IF(T132>0,\"+\"&T132, IF(T132<0,T132,\"E\")))))","v":""},{"$f":"IF(U129=\"\",\"\", IF(U130=\"\",\"\",IF(ABS(T132)>1,\"\", IF(U132>0,\"+\"&U132, IF(U132<0,U132,\"E\")))))","v":""},{"$f":"COUNTBLANK(M131:U131)","v":9},{"$f":"IF(U131<>\"\",U131,IF(T131<>\"\",T131,IF(S131<>\"\",S131,IF(R131<>\"\",R131,IF(Q131<>\"\",Q131,IF(P131<>\"\",P131,IF(O131<>\"\",O131,IF(N131<>\"\",N131,\"\"))))))))","v":""},{"$f":"IF(W131<>\"\",W131,M131)","v":""}]
[null,null,null,{"$f":"IF(D129<(D130+D133),1, IF(D129>(D130+D133),-1,0))","v":{"$error":"#VALUE!"}},{"$f":"IF(E129<(E130+E133),D132+1, IF(E129>(E130+E133),D132-1,D132))","v":{"$error":"#VALUE!"}},{"$error":"#VALUE!"},{"$error":"#VALUE!"},{"$error":"#VALUE!"},{"$error":"#VALUE!"},{"$error":"#VALUE!"},{"$error":"#VALUE!"},{"$error":"#VALUE!"},{"$error":"#VALUE!"},{"$error":"#VALUE!"},{"$error":"#VALUE!"},{"$error":"#VALUE!"},{"$error":"#VALUE!"},{"$error":"#VALUE!"},{"$error":"#VALUE!"},{"$error":"#VALUE!"},{"$error":"#VALUE!"}]
[null,null,null,{"$f":"IF($C129<$C130,-TRUNC(($C130-$C129-D$8+18)/18),TRUNC(($C129-$C130-D$8+18)/18))","v":{"$error":"#VALUE!"}},{"$f":"IF($C129<$C130,-TRUNC(($C130-$C129-E$8+18)/18),TRUNC(($C129-$C130-E$8+18)/18))","v":{"$error":"#VALUE!"}},{"$error":"#VALUE!"},{"$error":"#VALUE!"},{"$error":"#VALUE!"},{"$error":"#VALUE!"},{"$error":"#VALUE!"},{"$error":"#VALUE!"},{"$error":"#VALUE!"},{"$error":"#VALUE!"},{"$error":"#VALUE!"},{"$error":"#VALUE!"},{"$error":"#VALUE!"},{"$error":"#VALUE!"},{"$error":"#VALUE!"},{"$error":"#VALUE!"},{"$error":"#VALUE!"},{"$error":"#VALUE!"}]
[26,{"$f":"IF(Players!F133=\"\",\"\",Players!B133)","v":""},{"$f":"IF($B134=\"\",\"\",IF(VLOOKUP($B134,Members,9,FALSE)=\"\",\"\",(VLOOKUP($B134,Members,9,FALSE))))","v":""},{"$f":"IF($B134=\"\",\"\",IF(VLOOKUP($B134,Scores,7,FALSE)=\"\",\"\",VLOOKUP($B134,Scores,7,FALSE)))","v":""},{"$f":"IF($B134=\"\",\"\",IF(VLOOKUP($B134,Scores,8,FALSE)=\"\",\"\",VLOOKUP($B134,Scores,8,FALSE)))","v":""},{"$f":"IF($B134=\"\",\"\",IF(VLOOKUP($B134,Scores,9,FALSE)=\"\",\"\",VLOOKUP($B134,Scores,9,FALSE)))","v":""},{"$f":"IF($B134=\"\",\"\",IF(VLOOKUP($B134,Scores,10,FALSE)=\"\",\"\",VLOOKUP($B134,Scores,10,FALSE)))","v":""},{"$f":"IF($B134=\"\",\"\",IF(VLOOKUP($B134,Scores,11,FALSE)=\"\",\"\",VLOOKUP($B134,Scores,11,FALSE)))","v":""},{"$f":"IF($B134=\"\",\"\",IF(VLOOKUP($B134,Scores,12,FALSE)=\"\",\"\",VLOOKUP($B134,Scores,12,FALSE)))","v":""},{"$f":"IF($B134=\"\",\"\",IF(VLOOKUP($B134,Scores,13,FALSE)=\"\",\"\",VLOOKUP($B134,Scores,13,FALSE)))","v":""},{"$f":"IF($B134=\"\",\"\",IF(VLOOKUP($B134,Scores,14,FALSE)=\"\",\"\",VLOOKUP($B134,Scores,14,FALSE)))","v":""},{"$f":"IF($B134=\"\",\"\",IF(VLOOKUP($B134,Scores,15,FALSE)=\"\",\"\",VLOOKUP($B134,Scores,15,FALSE)))","v":""},{"$f":"IF($B134=\"\",\"\",IF(VLOOKUP($B134,Scores,17,FALSE)=\"\",\"\",VLOOKUP($B134,Scores,17,FALSE)))","v":""},{"$f":"IF($B134=\"\",\"\",IF(VLOOKUP($B134,Scores,18,FALSE)=\"\",\"\",VLOOKUP($B134,Scores,18,FALSE)))","v":""},{"$f":"IF($B134=\"\",\"\",IF(VLOOKUP($B134,Scores,19,FALSE)=\"\",\"\",VLOOKUP($B134,Scores,19,FALSE)))","v":""},{"$f":"IF($B134=\"\",\"\",IF(VLOOKUP($B134,Scores,20,FALSE)=\"\",\"\",VLOOKUP($B134,Scores,20,FALSE)))","v":""},{"$f":"IF($B134=\"\",\"\",IF(VLOOKUP($B134,Scores,21,FALSE)=\"\",\"\",VLOOKUP($B134,Scores,21,FALSE)))","v":""},{"$f":"IF($B134=\"\",\"\",IF(VLOOKUP($B134,Scores,22,FALSE)=\"\",\"\",VLOOKUP($B134,Scores,22,FALSE)))","v":""},{"$f":"IF($B134=\"\",\"\",IF(VLOOKUP($B134,Scores,23,FALSE)=\"\",\"\",VLOOKUP($B134,Scores,23,FALSE)))","v":""},{"$f":"IF($B134=\"\",\"\",IF(VLOOKUP($B134,Scores,24,FALSE)=\"\",\"\",VLOOKUP($B134,Scores,24,FALSE)))","v":""},{"$f":"IF($B134=\"\",\"\",IF(VLOOKUP($B134,Scores,25,FALSE)=\"\",\"\",VLOOKUP($B134,Scores,25,FALSE)))","v":""},null,null,null,{"$f":"IF(OR(U134=\"\",U135=\"\"),\"\",IF(X136=\"E\",\"AS\",IF(X136<0,\"lost\",ABS(X136)&\" and \"&V136)))","v":""},{"$f":"IF(OR(U134=\"\",U135=\"\"),\"\",IF(Y134=\"1 and 0\",\"1-up\",IF(Y134=\"2 and 0\",\"2-up\",Y134)))","v":""}]
[null,{"$f":"IF(B134=\"\",\"\",Players!F133)","v":""},{"$f":"IF($B135=\"\",\"\",IF(VLOOKUP($B135,Members,9,FALSE)=\"\",\"\",(VLOOKUP($B135,Members,9,FALSE))))","v":""},{"$f":"IF($B135=\"\",\"\",IF(VLOOKUP($B135,Scores,7,FALSE)=\"\",\"\",VLOOKUP($B135,Scores,7,FALSE)))","v":""},{"$f":"IF($B135=\"\",\"\",IF(VLOOKUP($B135,Scores,8,FALSE)=\"\",\"\",VLOOKUP($B135,Scores,8,FALSE)))","v":""},{"$f":"IF($B135=\"\",\"\",IF(VLOOKUP($B135,Scores,9,FALSE)=\"\",\"\",VLOOKUP($B135,Scores,9,FALSE)))","v":""},{"$f":"IF($B135=\"\",\"\",IF(VLOOKUP($B135,Scores,10,FALSE)=\"\",\"\",VLOOKUP($B135,Scores,10,FALSE)))","v":""},{"$f":"IF($B135=\"\",\"\",IF(VLOOKUP($B135,Scores,11,FALSE)=\"\",\"\",VLOOKUP($B135,Scores,11,FALSE)))","v":""},{"$f":"IF($B135=\"\",\"\",IF(VLOOKUP($B135,Scores,12,FALSE)=\"\",\"\",VLOOKUP($B135,Scores,12,FALSE)))","v":""},{"$f":"IF($B135=\"\",\"\",IF(VLOOKUP($B135,Scores,13,FALSE)=\"\",\"\",VLOOKUP($B135,Scores,13,FALSE)))","v":""},{"$f":"IF($B135=\"\",\"\",IF(VLOOKUP($B135,Scores,14,FALSE)=\"\",\"\",VLOOKUP($B135,Scores,14,FALSE)))","v":""},{"$f":"IF($B135=\"\",\"\",IF(VLOOKUP($B135,Scores,15,FALSE)=\"\",\"\",VLOOKUP($B135,Scores,15,FALSE)))","v":""},{"$f":"IF($B135=\"\",\"\",IF(VLOOKUP($B135,Scores,17,FALSE)=\"\",\"\",VLOOKUP($B135,Scores,17,FALSE)))","v":""},{"$f":"IF($B135=\"\",\"\",IF(VLOOKUP($B135,Scores,18,FALSE)=\"\",\"\",VLOOKUP($B135,Scores,18,FALSE)))","v":""},{"$f":"IF($B135=\"\",\"\",IF(VLOOKUP($B135,Scores,19,FALSE)=\"\",\"\",VLOOKUP($B135,Scores,19,FALSE)))","v":""},{"$f":"IF($B135=\"\",\"\",IF(VLOOKUP($B135,Scores,20,FALSE)=\"\",\"\",VLOOKUP($B135,Scores,20,FALSE)))","v":""},{"$f":"IF($B135=\"\",\"\",IF(VLOOKUP($B135,Scores,21,FALSE)=\"\",\"\",VLOOKUP($B135,Scores,21,FALSE)))","v":""},{"$f":"IF($B135=\"\",\"\",IF(VLOOKUP($B135,Scores,22,FALSE)=\"\",\"\",VLOOKUP($B135,Scores,22,FALSE)))","v":""},{"$f":"IF($B135=\"\",\"\",IF(VLOOKUP($B135,Scores,23,FALSE)=\"\",\"\",VLOOKUP($B135,Scores,23,FALSE)))","v":""},{"$f":"IF($B135=\"\",\"\",IF(VLOOKUP($B135,Scores,24,FALSE)=\"\",\"\",VLOOKUP($B135,Scores,24,FALSE)))","v":""},{"$f":"IF($B135=\"\",\"\",IF(VLOOKUP($B135,Scores,25,FALSE)=\"\",\"\",VLOOKUP($B135,Scores,25,FALSE)))","v":""},null,null,null,{"$f":"IF(OR(U134=\"\",U135=\"\"),\"\",IF(X136=\"E\",\"AS\",IF(X136>0,\"lost\",ABS(X136)&\" and \"&V136)))","v":""},{"$f":"IF(OR(U134=\"\",U135=\"\"),\"\",IF(Y135=\"1 and 0\",\"1-up\",IF(Y135=\"2 and 0\",\"2-up\",Y135)))","v":""}]
[null,"Score",null,{"$f":"IF(OR(D134=\"\",D135=\"\"),\"\", IF(D137>0,\"+\"&D137, IF(D137<0,D137,\"E\")))","v":""},"","","","","","","","","",{"$f":"IF(N134=\"\",\"\", IF(N135=\"\",\"\",IF(ABS(M137)>8,\"\", IF(N137>0,\"+\"&N137, IF(N137<0,N137,\"E\")))))","v":""},{"$f":"IF(O134=\"\",\"\", IF(O135=\"\",\"\",IF(ABS(N137)>7,\"\", IF(O137>0,\"+\"&O137, IF(O137<0,O137,\"E\")))))","v":""},{"$f":"IF(P134=\"\",\"\", IF(P135=\"\",\"\",IF(ABS(O137)>6,\"\", IF(P137>0,\"+\"&P137, IF(P137<0,P137,\"E\")))))","v":""},{"$f":"IF(Q134=\"\",\"\", IF(Q135=\"\",\"\",IF(ABS(P137)>5,\"\", IF(Q137>0,\"+\"&Q137, IF(Q137<0,Q137,\"E\")))))","v":""},{"$f":"IF(R134=\"\",\"\", IF(R135=\"\",\"\",IF(ABS(Q137)>4,\"\", IF(R137>0,\"+\"&R137, IF(R137<0,R137,\"E\")))))","v":""},{"$f":"IF(S134=\"\",\"\", IF(S135=\"\",\"\",IF(ABS(R137)>3,\"\", IF(S137>0,\"+\"&S137, IF(S137<0,S137,\"E\")))))","v":""},{"$f":"IF(T134=\"\",\"\", IF(T135=\"\",\"\",IF(ABS(S137)>2,\"\", IF(T137>0,\"+\"&T137, IF(T137<0,T137,\"E\")))))","v":""},{"$f":"IF(U134=\"\",\"\", IF(U135=\"\",\"\",IF(ABS(T137)>1,\"\", IF(U137>0,\"+\"&U137, IF(U137<0,U137,\"E\")))))","v":""},{"$f":"COUNTBLANK(M136:U136)","v":9},{"$f":"IF(U136<>\"\",U136,IF(T136<>\"\",T136,IF(S136<>\"\",S136,IF(R136<>\"\",R136,IF(Q136<>\"\",Q136,IF(P136<>\"\",P136,IF(O136<>\"\",O136,IF(N136<>\"\",N136,\"\"))))))))","v":""},{"$f":"IF(W136<>\"\",W136,M136)","v":""}]
[null,null,null,{"$f":"IF(D134<(D135+D138),1, IF(D134>(D135+D138),-1,0))","v":{"$error":"#VALUE!"}},{"$f":"IF(E134<(E135+E138),D137+1, IF(E134>(E135+E138),D137-1,D137))","v":{"$error":"#VALUE!"}},{"$error":"#VALUE!"},{"$error":"#VALUE!"},{"$error":"#VALUE!"},{"$error":"#VALUE!"},{"$error":"#VALUE!"},{"$error":"#VALUE!"},{"$error":"#VALUE!"},{"$error":"#VALUE!"},{"$error":"#VALUE!"},{"$error":"#VALUE!"},{"$error":"#VALUE!"},{"$error":"#VALUE!"},{"$error":"#VALUE!"},{"$error":"#VALUE!"},{"$error":"#VALUE!"},{"$error":"#VALUE!"}]
[null,null,null,{"$f":"IF($C134<$C135,-TRUNC(($C135-$C134-D$8+18)/18),TRUNC(($C134-$C135-D$8+18)/18))","v":{"$error":"#VALUE!"}},{"$f":"IF($C134<$C135,-TRUNC(($C135-$C134-E$8+18)/18),TRUNC(($C134-$C135-E$8+18)/18))","v":{"$error":"#VALUE!"}},{"$error":"#VALUE!"},{"$error":"#VALUE!"},{"$error":"#VALUE!"},{"$error":"#VALUE!"},{"$error":"#VALUE!"},{"$error":"#VALUE!"},{"$error":"#VALUE!"},{"$error":"#VALUE!"},{"$error":"#VALUE!"},{"$error":"#VALUE!"},{"$error":"#VALUE!"},{"$error":"#VALUE!"},{"$error":"#VALUE!"},{"$error":"#VALUE!"},{"$error":"#VALUE!"},{"$error":"#VALUE!"}]
[27,{"$f":"IF(Players!F135=\"\",\"\",Players!B135)","v":""},{"$f":"IF($B139=\"\",\"\",IF(VLOOKUP($B139,Members,9,FALSE)=\"\",\"\",(VLOOKUP($B139,Members,9,FALSE))))","v":""},{"$f":"IF($B139=\"\",\"\",IF(VLOOKUP($B139,Scores,7,FALSE)=\"\",\"\",VLOOKUP($B139,Scores,7,FALSE)))","v":""},{"$f":"IF($B139=\"\",\"\",IF(VLOOKUP($B139,Scores,8,FALSE)=\"\",\"\",VLOOKUP($B139,Scores,8,FALSE)))","v":""},{"$f":"IF($B139=\"\",\"\",IF(VLOOKUP($B139,Scores,9,FALSE)=\"\",\"\",VLOOKUP($B139,Scores,9,FALSE)))","v":""},{"$f":"IF($B139=\"\",\"\",IF(VLOOKUP($B139,Scores,10,FALSE)=\"\",\"\",VLOOKUP($B139,Scores,10,FALSE)))","v":""},{"$f":"IF($B139=\"\",\"\",IF(VLOOKUP($B139,Scores,11,FALSE)=\"\",\"\",VLOOKUP($B139,Scores,11,FALSE)))","v":""},{"$f":"IF($B139=\"\",\"\",IF(VLOOKUP($B139,Scores,12,FALSE)=\"\",\"\",VLOOKUP($B139,Scores,12,FALSE)))","v":""},{"$f":"IF($B139=\"\",\"\",IF(VLOOKUP($B139,Scores,13,FALSE)=\"\",\"\",VLOOKUP($B139,Scores,13,FALSE)))","v":""},{"$f":"IF($B139=\"\",\"\",IF(VLOOKUP($B139,Scores,14,FALSE)=\"\",\"\",VLOOKUP($B139,Scores,14,FALSE)))","v":""},{"$f":"IF($B139=\"\",\"\",IF(VLOOKUP($B139,Scores,15,FALSE)=\"\",\"\",VLOOKUP($B139,Scores,15,FALSE)))","v":""},{"$f":"IF($B139=\"\",\"\",IF(VLOOKUP($B139,Scores,17,FALSE)=\"\",\"\",VLOOKUP($B139,Scores,17,FALSE)))","v":""},{"$f":"IF($B139=\"\",\"\",IF(VLOOKUP($B139,Scores,18,FALSE)=\"\",\"\",VLOOKUP($B139,Scores,18,FALSE)))","v":""},{"$f":"IF($B139=\"\",\"\",IF(VLOOKUP($B139,Scores,19,FALSE)=\"\",\"\",VLOOKUP($B139,Scores,19,FALSE)))","v":""},{"$f":"IF($B139=\"\",\"\",IF(VLOOKUP($B139,Scores,20,FALSE)=\"\",\"\",VLOOKUP($B139,Scores,20,FALSE)))","v":""},{"$f":"IF($B139=\"\",\"\",IF(VLOOKUP($B139,Scores,21,FALSE)=\"\",\"\",VLOOKUP($B139,Scores,21,FALSE)))","v":""},{"$f":"IF($B139=\"\",\"\",IF(VLOOKUP($B139,Scores,22,FALSE)=\"\",\"\",VLOOKUP($B139,Scores,22,FALSE)))","v":""},{"$f":"IF($B139=\"\",\"\",IF(VLOOKUP($B139,Scores,23,FALSE)=\"\",\"\",VLOOKUP($B139,Scores,23,FALSE)))","v":""},{"$f":"IF($B139=\"\",\"\",IF(VLOOKUP($B139,Scores,24,FALSE)=\"\",\"\",VLOOKUP($B139,Scores,24,FALSE)))","v":""},{"$f":"IF($B139=\"\",\"\",IF(VLOOKUP($B139,Scores,25,FALSE)=\"\",\"\",VLOOKUP($B139,Scores,25,FALSE)))","v":""},null,null,null,{"$f":"IF(OR(U139=\"\",U140=\"\"),\"\",IF(X141=\"E\",\"AS\",IF(X141<0,\"lost\",ABS(X141)&\" and \"&V141)))","v":""},{"$f":"IF(OR(U139=\"\",U140=\"\"),\"\",IF(Y139=\"1 and 0\",\"1-up\",IF(Y139=\"2 and 0\",\"2-up\",Y139)))","v":""}]
[null,{"$f":"IF(B139=\"\",\"\",Players!F135)","v":""},{"$f":"IF($B140=\"\",\"\",IF(VLOOKUP($B140,Members,9,FALSE)=\"\",\"\",(VLOOKUP($B140,Members,9,FALSE))))","v":""},{"$f":"IF($B140=\"\",\"\",IF(VLOOKUP($B140,Scores,7,FALSE)=\"\",\"\",VLOOKUP($B140,Scores,7,FALSE)))","v":""},{"$f":"IF($B140=\"\",\"\",IF(VLOOKUP($B140,Scores,8,FALSE)=\"\",\"\",VLOOKUP($B140,Scores,8,FALSE)))","v":""},{"$f":"IF($B140=\"\",\"\",IF(VLOOKUP($B140,Scores,9,FALSE)=\"\",\"\",VLOOKUP($B140,Scores,9,FALSE)))","v":""},{"$f":"IF($B140=\"\",\"\",IF(VLOOKUP($B140,Scores,10,FALSE)=\"\",\"\",VLOOKUP($B140,Scores,10,FALSE)))","v":""},{"$f":"IF($B140=\"\",\"\",IF(VLOOKUP($B140,Scores,11,FALSE)=\"\",\"\",VLOOKUP($B140,Scores,11,FALSE)))","v":""},{"$f":"IF($B140=\"\",\"\",IF(VLOOKUP($B140,Scores,12,FALSE)=\"\",\"\",VLOOKUP($B140,Scores,12,FALSE)))","v":""},{"$f":"IF($B140=\"\",\"\",IF(VLOOKUP($B140,Scores,13,FALSE)=\"\",\"\",VLOOKUP($B140,Scores,13,FALSE)))","v":""},{"$f":"IF($B140=\"\",\"\",IF(VLOOKUP($B140,Scores,14,FALSE)=\"\",\"\",VLOOKUP($B140,Scores,14,FALSE)))","v":""},{"$f":"IF($B140=\"\",\"\",IF(VLOOKUP($B140,Scores,15,FALSE)=\"\",\"\",VLOOKUP($B140,Scores,15,FALSE)))","v":""},{"$f":"IF($B140=\"\",\"\",IF(VLOOKUP($B140,Scores,17,FALSE)=\"\",\"\",VLOOKUP($B140,Scores,17,FALSE)))","v":""},{"$f":"IF($B140=\"\",\"\",IF(VLOOKUP($B140,Scores,18,FALSE)=\"\",\"\",VLOOKUP($B140,Scores,18,FALSE)))","v":""},{"$f":"IF($B140=\"\",\"\",IF(VLOOKUP($B140,Scores,19,FALSE)=\"\",\"\",VLOOKUP($B140,Scores,19,FALSE)))","v":""},{"$f":"IF($B140=\"\",\"\",IF(VLOOKUP($B140,Scores,20,FALSE)=\"\",\"\",VLOOKUP($B140,Scores,20,FALSE)))","v":""},{"$f":"IF($B140=\"\",\"\",IF(VLOOKUP($B140,Scores,21,FALSE)=\"\",\"\",VLOOKUP($B140,Scores,21,FALSE)))","v":""},{"$f":"IF($B140=\"\",\"\",IF(VLOOKUP($B140,Scores,22,FALSE)=\"\",\"\",VLOOKUP($B140,Scores,22,FALSE)))","v":""},{"$f":"IF($B140=\"\",\"\",IF(VLOOKUP($B140,Scores,23,FALSE)=\"\",\"\",VLOOKUP($B140,Scores,23,FALSE)))","v":""},{"$f":"IF($B140=\"\",\"\",IF(VLOOKUP($B140,Scores,24,FALSE)=\"\",\"\",VLOOKUP($B140,Scores,24,FALSE)))","v":""},{"$f":"IF($B140=\"\",\"\",IF(VLOOKUP($B140,Scores,25,FALSE)=\"\",\"\",VLOOKUP($B140,Scores,25,FALSE)))","v":""},null,null,null,{"$f":"IF(OR(U139=\"\",U140=\"\"),\"\",IF(X141=\"E\",\"AS\",IF(X141>0,\"lost\",ABS(X141)&\" and \"&V141)))","v":""},{"$f":"IF(OR(U139=\"\",U140=\"\"),\"\",IF(Y140=\"1 and 0\",\"1-up\",IF(Y140=\"2 and 0\",\"2-up\",Y140)))","v":""}]
[null,"Score",null,{"$f":"IF(OR(D139=\"\",D140=\"\"),\"\", IF(D142>0,\"+\"&D142, IF(D142<0,D142,\"E\")))","v":""},"","","","","","","","","",{"$f":"IF(N139=\"\",\"\", IF(N140=\"\",\"\",IF(ABS(M142)>8,\"\", IF(N142>0,\"+\"&N142, IF(N142<0,N142,\"E\")))))","v":""},{"$f":"IF(O139=\"\",\"\", IF(O140=\"\",\"\",IF(ABS(N142)>7,\"\", IF(O142>0,\"+\"&O142, IF(O142<0,O142,\"E\")))))","v":""},{"$f":"IF(P139=\"\",\"\", IF(P140=\"\",\"\",IF(ABS(O142)>6,\"\", IF(P142>0,\"+\"&P142, IF(P142<0,P142,\"E\")))))","v":""},{"$f":"IF(Q139=\"\",\"\", IF(Q140=\"\",\"\",IF(ABS(P142)>5,\"\", IF(Q142>0,\"+\"&Q142, IF(Q142<0,Q142,\"E\")))))","v":""},{"$f":"IF(R139=\"\",\"\", IF(R140=\"\",\"\",IF(ABS(Q142)>4,\"\", IF(R142>0,\"+\"&R142, IF(R142<0,R142,\"E\")))))","v":""},{"$f":"IF(S139=\"\",\"\", IF(S140=\"\",\"\",IF(ABS(R142)>3,\"\", IF(S142>0,\"+\"&S142, IF(S142<0,S142,\"E\")))))","v":""},{"$f":"IF(T139=\"\",\"\", IF(T140=\"\",\"\",IF(ABS(S142)>2,\"\", IF(T142>0,\"+\"&T142, IF(T142<0,T142,\"E\")))))","v":""},{"$f":"IF(U139=\"\",\"\", IF(U140=\"\",\"\",IF(ABS(T142)>1,\"\", IF(U142>0,\"+\"&U142, IF(U142<0,U142,\"E\")))))","v":""},{"$f":"COUNTBLANK(M141:U141)","v":9},{"$f":"IF(U141<>\"\",U141,IF(T141<>\"\",T141,IF(S141<>\"\",S141,IF(R141<>\"\",R141,IF(Q141<>\"\",Q141,IF(P141<>\"\",P141,IF(O141<>\"\",O141,IF(N141<>\"\",N141,\"\"))))))))","v":""},{"$f":"IF(W141<>\"\",W141,M141)","v":""}]
[null,null,null,{"$f":"IF(D139<(D140+D143),1, IF(D139>(D140+D143),-1,0))","v":{"$error":"#VALUE!"}},{"$f":"IF(E139<(E140+E143),D142+1, IF(E139>(E140+E143),D142-1,D142))","v":{"$error":"#VALUE!"}},{"$error":"#VALUE!"},{"$error":"#VALUE!"},{"$error":"#VALUE!"},{"$error":"#VALUE!"},{"$error":"#VALUE!"},{"$error":"#VALUE!"},{"$error":"#VALUE!"},{"$error":"#VALUE!"},{"$error":"#VALUE!"},{"$error":"#VALUE!"},{"$error":"#VALUE!"},{"$error":"#VALUE!"},{"$error":"#VALUE!"},{"$error":"#VALUE!"},{"$error":"#VALUE!"},{"$error":"#VALUE!"}]
[null,null,null,{"$f":"IF($C139<$C140,-TRUNC(($C140-$C139-D$8+18)/18),TRUNC(($C139-$C140-D$8+18)/18))","v":{"$error":"#VALUE!"}},{"$f":"IF($C139<$C140,-TRUNC(($C140-$C139-E$8+18)/18),TRUNC(($C139-$C140-E$8+18)/18))","v":{"$error":"#VALUE!"}},{"$error":"#VALUE!"},{"$error":"#VALUE!"},{"$error":"#VALUE!"},{"$error":"#VALUE!"},{"$error":"#VALUE!"},{"$error":"#VALUE!"},{"$error":"#VALUE!"},{"$error":"#VALUE!"},{"$error":"#VALUE!"},{"$error":"#VALUE!"},{"$error":"#VALUE!"},{"$error":"#VALUE!"},{"$error":"#VALUE!"},{"$error":"#VALUE!"},{"$error":"#VALUE!"},{"$error":"#VALUE!"}]
[28,{"$f":"IF(Players!F137=\"\",\"\",Players!B137)","v":""},{"$f":"IF($B144=\"\",\"\",IF(VLOOKUP($B144,Members,9,FALSE)=\"\",\"\",(VLOOKUP($B144,Members,9,FALSE))))","v":""},{"$f":"IF($B144=\"\",\"\",IF(VLOOKUP($B144,Scores,7,FALSE)=\"\",\"\",VLOOKUP($B144,Scores,7,FALSE)))","v":""},{"$f":"IF($B144=\"\",\"\",IF(VLOOKUP($B144,Scores,8,FALSE)=\"\",\"\",VLOOKUP($B144,Scores,8,FALSE)))","v":""},{"$f":"IF($B144=\"\",\"\",IF(VLOOKUP($B144,Scores,9,FALSE)=\"\",\"\",VLOOKUP($B144,Scores,9,FALSE)))","v":""},{"$f":"IF($B144=\"\",\"\",IF(VLOOKUP($B144,Scores,10,FALSE)=\"\",\"\",VLOOKUP($B144,Scores,10,FALSE)))","v":""},{"$f":"IF($B144=\"\",\"\",IF(VLOOKUP($B144,Scores,11,FALSE)=\"\",\"\",VLOOKUP($B144,Scores,11,FALSE)))","v":""},{"$f":"IF($B144=\"\",\"\",IF(VLOOKUP($B144,Scores,12,FALSE)=\"\",\"\",VLOOKUP($B144,Scores,12,FALSE)))","v":""},{"$f":"IF($B144=\"\",\"\",IF(VLOOKUP($B144,Scores,13,FALSE)=\"\",\"\",VLOOKUP($B144,Scores,13,FALSE)))","v":""},{"$f":"IF($B144=\"\",\"\",IF(VLOOKUP($B144,Scores,14,FALSE)=\"\",\"\",VLOOKUP($B144,Scores,14,FALSE)))","v":""},{"$f":"IF($B144=\"\",\"\",IF(VLOOKUP($B144,Scores,15,FALSE)=\"\",\"\",VLOOKUP($B144,Scores,15,FALSE)))","v":""},{"$f":"IF($B144=\"\",\"\",IF(VLOOKUP($B144,Scores,17,FALSE)=\"\",\"\",VLOOKUP($B144,Scores,17,FALSE)))","v":""},{"$f":"IF($B144=\"\",\"\",IF(VLOOKUP($B144,Scores,18,FALSE)=\"\",\"\",VLOOKUP($B144,Scores,18,FALSE)))","v":""},{"$f":"IF($B144=\"\",\"\",IF(VLOOKUP($B144,Scores,19,FALSE)=\"\",\"\",VLOOKUP($B144,Scores,19,FALSE)))","v":""},{"$f":"IF($B144=\"\",\"\",IF(VLOOKUP($B144,Scores,20,FALSE)=\"\",\"\",VLOOKUP($B144,Scores,20,FALSE)))","v":""},{"$f":"IF($B144=\"\",\"\",IF(VLOOKUP($B144,Scores,21,FALSE)=\"\",\"\",VLOOKUP($B144,Scores,21,FALSE)))","v":""},{"$f":"IF($B144=\"\",\"\",IF(VLOOKUP($B144,Scores,22,FALSE)=\"\",\"\",VLOOKUP($B144,Scores,22,FALSE)))","v":""},{"$f":"IF($B144=\"\",\"\",IF(VLOOKUP($B144,Scores,23,FALSE)=\"\",\"\",VLOOKUP($B144,Scores,23,FALSE)))","v":""},{"$f":"IF($B144=\"\",\"\",IF(VLOOKUP($B144,Scores,24,FALSE)=\"\",\"\",VLOOKUP($B144,Scores,24,FALSE)))","v":""},{"$f":"IF($B144=\"\",\"\",IF(VLOOKUP($B144,Scores,25,FALSE)=\"\",\"\",VLOOKUP($B144,Scores,25,FALSE)))","v":""},null,null,null,{"$f":"IF(OR(U144=\"\",U145=\"\"),\"\",IF(X146=\"E\",\"AS\",IF(X146<0,\"lost\",ABS(X146)&\" and \"&V146)))","v":""},{"$f":"IF(OR(U144=\"\",U145=\"\"),\"\",IF(Y144=\"1 and 0\",\"1-up\",IF(Y144=\"2 and 0\",\"2-up\",Y144)))","v":""}]
[null,{"$f":"IF(B144=\"\",\"\",Players!F137)","v":""},{"$f":"IF($B145=\"\",\"\",IF(VLOOKUP($B145,Members,9,FALSE)=\"\",\"\",(VLOOKUP($B145,Members,9,FALSE))))","v":""},{"$f":"IF($B145=\"\",\"\",IF(VLOOKUP($B145,Scores,7,FALSE)=\"\",\"\",VLOOKUP($B145,Scores,7,FALSE)))","v":""},{"$f":"IF($B145=\"\",\"\",IF(VLOOKUP($B145,Scores,8,FALSE)=\"\",\"\",VLOOKUP($B145,Scores,8,FALSE)))","v":""},{"$f":"IF($B145=\"\",\"\",IF(VLOOKUP($B145,Scores,9,FALSE)=\"\",\"\",VLOOKUP($B145,Scores,9,FALSE)))","v":""},{"$f":"IF($B145=\"\",\"\",IF(VLOOKUP($B145,Scores,10,FALSE)=\"\",\"\",VLOOKUP($B145,Scores,10,FALSE)))","v":""},{"$f":"IF($B145=\"\",\"\",IF(VLOOKUP($B145,Scores,11,FALSE)=\"\",\"\",VLOOKUP($B145,Scores,11,FALSE)))","v":""},{"$f":"IF($B145=\"\",\"\",IF(VLOOKUP($B145,Scores,12,FALSE)=\"\",\"\",VLOOKUP($B145,Scores,12,FALSE)))","v":""},{"$f":"IF($B145=\"\",\"\",IF(VLOOKUP($B145,Scores,13,FALSE)=\"\",\"\",VLOOKUP($B145,Scores,13,FALSE)))","v":""},{"$f":"IF($B145=\"\",\"\",IF(VLOOKUP($B145,Scores,14,FALSE)=\"\",\"\",VLOOKUP($B145,Scores,14,FALSE)))","v":""},{"$f":"IF($B145=\"\",\"\",IF(VLOOKUP($B145,Scores,15,FALSE)=\"\",\"\",VLOOKUP($B145,Scores,15,FALSE)))","v":""},{"$f":"IF($B145=\"\",\"\",IF(VLOOKUP($B145,Scores,17,FALSE)=\"\",\"\",VLOOKUP($B145,Scores,17,FALSE)))","v":""},{"$f":"IF($B145=\"\",\"\",IF(VLOOKUP($B145,Scores,18,FALSE)=\"\",\"\",VLOOKUP($B145,Scores,18,FALSE)))","v":""},{"$f":"IF($B145=\"\",\"\",IF(VLOOKUP($B145,Scores,19,FALSE)=\"\",\"\",VLOOKUP($B145,Scores,19,FALSE)))","v":""},{"$f":"IF($B145=\"\",\"\",IF(VLOOKUP($B145,Scores,20,FALSE)=\"\",\"\",VLOOKUP($B145,Scores,20,FALSE)))","v":""},{"$f":"IF($B145=\"\",\"\",IF(VLOOKUP($B145,Scores,21,FALSE)=\"\",\"\",VLOOKUP($B145,Scores,21,FALSE)))","v":""},{"$f":"IF($B145=\"\",\"\",IF(VLOOKUP($B145,Scores,22,FALSE)=\"\",\"\",VLOOKUP($B145,Scores,22,FALSE)))","v":""},{"$f":"IF($B145=\"\",\"\",IF(VLOOKUP($B145,Scores,23,FALSE)=\"\",\"\",VLOOKUP($B145,Scores,23,FALSE)))","v":""},{"$f":"IF($B145=\"\",\"\",IF(VLOOKUP($B145,Scores,24,FALSE)=\"\",\"\",VLOOKUP($B145,Scores,24,FALSE)))","v":""},{"$f":"IF($B145=\"\",\"\",IF(VLOOKUP($B145,Scores,25,FALSE)=\"\",\"\",VLOOKUP($B145,Scores,25,FALSE)))","v":""},null,null,null,{"$f":"IF(OR(U144=\"\",U145=\"\"),\"\",IF(X146=\"E\",\"AS\",IF(X146>0,\"lost\",ABS(X146)&\" and \"&V146)))","v":""},{"$f":"IF(OR(U144=\"\",U145=\"\"),\"\",IF(Y145=\"1 and 0\",\"1-up\",IF(Y145=\"2 and 0\",\"2-up\",Y145)))","v":""}]
[null,"Score",null,{"$f":"IF(OR(D144=\"\",D145=\"\"),\"\", IF(D147>0,\"+\"&D147, IF(D147<0,D147,\"E\")))","v":""},"","","","","","","","","",{"$f":"IF(N144=\"\",\"\", IF(N145=\"\",\"\",IF(ABS(M147)>8,\"\", IF(N147>0,\"+\"&N147, IF(N147<0,N147,\"E\")))))","v":""},{"$f":"IF(O144=\"\",\"\", IF(O145=\"\",\"\",IF(ABS(N147)>7,\"\", IF(O147>0,\"+\"&O147, IF(O147<0,O147,\"E\")))))","v":""},{"$f":"IF(P144=\"\",\"\", IF(P145=\"\",\"\",IF(ABS(O147)>6,\"\", IF(P147>0,\"+\"&P147, IF(P147<0,P147,\"E\")))))","v":""},{"$f":"IF(Q144=\"\",\"\", IF(Q145=\"\",\"\",IF(ABS(P147)>5,\"\", IF(Q147>0,\"+\"&Q147, IF(Q147<0,Q147,\"E\")))))","v":""},{"$f":"IF(R144=\"\",\"\", IF(R145=\"\",\"\",IF(ABS(Q147)>4,\"\", IF(R147>0,\"+\"&R147, IF(R147<0,R147,\"E\")))))","v":""},{"$f":"IF(S144=\"\",\"\", IF(S145=\"\",\"\",IF(ABS(R147)>3,\"\", IF(S147>0,\"+\"&S147, IF(S147<0,S147,\"E\")))))","v":""},{"$f":"IF(T144=\"\",\"\", IF(T145=\"\",\"\",IF(ABS(S147)>2,\"\", IF(T147>0,\"+\"&T147, IF(T147<0,T147,\"E\")))))","v":""},{"$f":"IF(U144=\"\",\"\", IF(U145=\"\",\"\",IF(ABS(T147)>1,\"\", IF(U147>0,\"+\"&U147, IF(U147<0,U147,\"E\")))))","v":""},{"$f":"COUNTBLANK(M146:U146)","v":9},{"$f":"IF(U146<>\"\",U146,IF(T146<>\"\",T146,IF(S146<>\"\",S146,IF(R146<>\"\",R146,IF(Q146<>\"\",Q146,IF(P146<>\"\",P146,IF(O146<>\"\",O146,IF(N146<>\"\",N146,\"\"))))))))","v":""},{"$f":"IF(W146<>\"\",W146,M146)","v":""}]
[null,null,null,{"$f":"IF(D144<(D145+D148),1, IF(D144>(D145+D148),-1,0))","v":{"$error":"#VALUE!"}},{"$f":"IF(E144<(E145+E148),D147+1, IF(E144>(E145+E148),D147-1,D147))","v":{"$error":"#VALUE!"}},{"$error":"#VALUE!"},{"$error":"#VALUE!"},{"$error":"#VALUE!"},{"$error":"#VALUE!"},{"$error":"#VALUE!"},{"$error":"#VALUE!"},{"$error":"#VALUE!"},{"$error":"#VALUE!"},{"$error":"#VALUE!"},{"$error":"#VALUE!"},{"$error":"#VALUE!"},{"$error":"#VALUE!"},{"$error":"#VALUE!"},{"$error":"#VALUE!"},{"$error":"#VALUE!"},{"$error":"#VALUE!"}]
[null,null,null,{"$f":"IF($C144<$C145,-TRUNC(($C145-$C144-D$8+18)/18),TRUNC(($C144-$C145-D$8+18)/18))","v":{"$error":"#VALUE!"}},{"$f":"IF($C144<$C145,-TRUNC(($C145-$C144-E$8+18)/18),TRUNC(($C144-$C145-E$8+18)/18))","v":{"$error":"#VALUE!"}},{"$error":"#VALUE!"},{"$error":"#VALUE!"},{"$error":"#VALUE!"},{"$error":"#VALUE!"},{"$error":"#VALUE!"},{"$error":"#VALUE!"},{"$error":"#VALUE!"},{"$error":"#VALUE!"},{"$error":"#VALUE!"},{"$error":"#VALUE!"},{"$error":"#VALUE!"},{"$error":"#VALUE!"},{"$error":"#VALUE!"},{"$error":"#VALUE!"},{"$error":"#VALUE!"},{"$error":"#VALUE!"}]
[29,{"$f":"IF(Players!F139=\"\",\"\",Players!B139)","v":""},{"$f":"IF($B149=\"\",\"\",IF(VLOOKUP($B149,Members,9,FALSE)=\"\",\"\",(VLOOKUP($B149,Members,9,FALSE))))","v":""},{"$f":"IF($B149=\"\",\"\",IF(VLOOKUP($B149,Scores,7,FALSE)=\"\",\"\",VLOOKUP($B149,Scores,7,FALSE)))","v":""},{"$f":"IF($B149=\"\",\"\",IF(VLOOKUP($B149,Scores,8,FALSE)=\"\",\"\",VLOOKUP($B149,Scores,8,FALSE)))","v":""},{"$f":"IF($B149=\"\",\"\",IF(VLOOKUP($B149,Scores,9,FALSE)=\"\",\"\",VLOOKUP($B149,Scores,9,FALSE)))","v":""},{"$f":"IF($B149=\"\",\"\",IF(VLOOKUP($B149,Scores,10,FALSE)=\"\",\"\",VLOOKUP($B149,Scores,10,FALSE)))","v":""},{"$f":"IF($B149=\"\",\"\",IF(VLOOKUP($B149,Scores,11,FALSE)=\"\",\"\",VLOOKUP($B149,Scores,11,FALSE)))","v":""},{"$f":"IF($B149=\"\",\"\",IF(VLOOKUP($B149,Scores,12,FALSE)=\"\",\"\",VLOOKUP($B149,Scores,12,FALSE)))","v":""},{"$f":"IF($B149=\"\",\"\",IF(VLOOKUP($B149,Scores,13,FALSE)=\"\",\"\",VLOOKUP($B149,Scores,13,FALSE)))","v":""},{"$f":"IF($B149=\"\",\"\",IF(VLOOKUP($B149,Scores,14,FALSE)=\"\",\"\",VLOOKUP($B149,Scores,14,FALSE)))","v":""},{"$f":"IF($B149=\"\",\"\",IF(VLOOKUP($B149,Scores,15,FALSE)=\"\",\"\",VLOOKUP($B149,Scores,15,FALSE)))","v":""},{"$f":"IF($B149=\"\",\"\",IF(VLOOKUP($B149,Scores,17,FALSE)=\"\",\"\",VLOOKUP($B149,Scores,17,FALSE)))","v":""},{"$f":"IF($B149=\"\",\"\",IF(VLOOKUP($B149,Scores,18,FALSE)=\"\",\"\",VLOOKUP($B149,Scores,18,FALSE)))","v":""},{"$f":"IF($B149=\"\",\"\",IF(VLOOKUP($B149,Scores,19,FALSE)=\"\",\"\",VLOOKUP($B149,Scores,19,FALSE)))","v":""},{"$f":"IF($B149=\"\",\"\",IF(VLOOKUP($B149,Scores,20,FALSE)=\"\",\"\",VLOOKUP($B149,Scores,20,FALSE)))","v":""},{"$f":"IF($B149=\"\",\"\",IF(VLOOKUP($B149,Scores,21,FALSE)=\"\",\"\",VLOOKUP($B149,Scores,21,FALSE)))","v":""},{"$f":"IF($B149=\"\",\"\",IF(VLOOKUP($B149,Scores,22,FALSE)=\"\",\"\",VLOOKUP($B149,Scores,22,FALSE)))","v":""},{"$f":"IF($B149=\"\",\"\",IF(VLOOKUP($B149,Scores,23,FALSE)=\"\",\"\",VLOOKUP($B149,Scores,23,FALSE)))","v":""},{"$f":"IF($B149=\"\",\"\",IF(VLOOKUP($B149,Scores,24,FALSE)=\"\",\"\",VLOOKUP($B149,Scores,24,FALSE)))","v":""},{"$f":"IF($B149=\"\",\"\",IF(VLOOKUP($B149,Scores,25,FALSE)=\"\",\"\",VLOOKUP($B149,Scores,25,FALSE)))","v":""},null,null,null,{"$f":"IF(OR(U149=\"\",U150=\"\"),\"\",IF(X151=\"E\",\"AS\",IF(X151<0,\"lost\",ABS(X151)&\" and \"&V151)))","v":""},{"$f":"IF(OR(U149=\"\",U150=\"\"),\"\",IF(Y149=\"1 and 0\",\"1-up\",IF(Y149=\"2 and 0\",\"2-up\",Y149)))","v":""}]
[null,{"$f":"IF(B149=\"\",\"\",Players!F139)","v":""},{"$f":"IF($B150=\"\",\"\",IF(VLOOKUP($B150,Members,9,FALSE)=\"\",\"\",(VLOOKUP($B150,Members,9,FALSE))))","v":""},{"$f":"IF($B150=\"\",\"\",IF(VLOOKUP($B150,Scores,7,FALSE)=\"\",\"\",VLOOKUP($B150,Scores,7,FALSE)))","v":""},{"$f":"IF($B150=\"\",\"\",IF(VLOOKUP($B150,Scores,8,FALSE)=\"\",\"\",VLOOKUP($B150,Scores,8,FALSE)))","v":""},{"$f":"IF($B150=\"\",\"\",IF(VLOOKUP($B150,Scores,9,FALSE)=\"\",\"\",VLOOKUP($B150,Scores,9,FALSE)))","v":""},{"$f":"IF($B150=\"\",\"\",IF(VLOOKUP($B150,Scores,10,FALSE)=\"\",\"\",VLOOKUP($B150,Scores,10,FALSE)))","v":""},{"$f":"IF($B150=\"\",\"\",IF(VLOOKUP($B150,Scores,11,FALSE)=\"\",\"\",VLOOKUP($B150,Scores,11,FALSE)))","v":""},{"$f":"IF($B150=\"\",\"\",IF(VLOOKUP($B150,Scores,12,FALSE)=\"\",\"\",VLOOKUP($B150,Scores,12,FALSE)))","v":""},{"$f":"IF($B150=\"\",\"\",IF(VLOOKUP($B150,Scores,13,FALSE)=\"\",\"\",VLOOKUP($B150,Scores,13,FALSE)))","v":""},{"$f":"IF($B150=\"\",\"\",IF(VLOOKUP($B150,Scores,14,FALSE)=\"\",\"\",VLOOKUP($B150,Scores,14,FALSE)))","v":""},{"$f":"IF($B150=\"\",\"\",IF(VLOOKUP($B150,Scores,15,FALSE)=\"\",\"\",VLOOKUP($B150,Scores,15,FALSE)))","v":""},{"$f":"IF($B150=\"\",\"\",IF(VLOOKUP($B150,Scores,17,FALSE)=\"\",\"\",VLOOKUP($B150,Scores,17,FALSE)))","v":""},{"$f":"IF($B150=\"\",\"\",IF(VLOOKUP($B150,Scores,18,FALSE)=\"\",\"\",VLOOKUP($B150,Scores,18,FALSE)))","v":""},{"$f":"IF($B150=\"\",\"\",IF(VLOOKUP($B150,Scores,19,FALSE)=\"\",\"\",VLOOKUP($B150,Scores,19,FALSE)))","v":""},{"$f":"IF($B150=\"\",\"\",IF(VLOOKUP($B150,Scores,20,FALSE)=\"\",\"\",VLOOKUP($B150,Scores,20,FALSE)))","v":""},{"$f":"IF($B150=\"\",\"\",IF(VLOOKUP($B150,Scores,21,FALSE)=\"\",\"\",VLOOKUP($B150,Scores,21,FALSE)))","v":""},{"$f":"IF($B150=\"\",\"\",IF(VLOOKUP($B150,Scores,22,FALSE)=\"\",\"\",VLOOKUP($B150,Scores,22,FALSE)))","v":""},{"$f":"IF($B150=\"\",\"\",IF(VLOOKUP($B150,Scores,23,FALSE)=\"\",\"\",VLOOKUP($B150,Scores,23,FALSE)))","v":""},{"$f":"IF($B150=\"\",\"\",IF(VLOOKUP($B150,Scores,24,FALSE)=\"\",\"\",VLOOKUP($B150,Scores,24,FALSE)))","v":""},{"$f":"IF($B150=\"\",\"\",IF(VLOOKUP($B150,Scores,25,FALSE)=\"\",\"\",VLOOKUP($B150,Scores,25,FALSE)))","v":""},null,null,null,{"$f":"IF(OR(U149=\"\",U150=\"\"),\"\",IF(X151=\"E\",\"AS\",IF(X151>0,\"lost\",ABS(X151)&\" and \"&V151)))","v":""},{"$f":"IF(OR(U149=\"\",U150=\"\"),\"\",IF(Y150=\"1 and 0\",\"1-up\",IF(Y150=\"2 and 0\",\"2-up\",Y150)))","v":""}]
[null,"Score",null,{"$f":"IF(OR(D149=\"\",D150=\"\"),\"\", IF(D152>0,\"+\"&D152, IF(D152<0,D152,\"E\")))","v":""},"","","","","","","","","",{"$f":"IF(N149=\"\",\"\", IF(N150=\"\",\"\",IF(ABS(M152)>8,\"\", IF(N152>0,\"+\"&N152, IF(N152<0,N152,\"E\")))))","v":""},{"$f":"IF(O149=\"\",\"\", IF(O150=\"\",\"\",IF(ABS(N152)>7,\"\", IF(O152>0,\"+\"&O152, IF(O152<0,O152,\"E\")))))","v":""},{"$f":"IF(P149=\"\",\"\", IF(P150=\"\",\"\",IF(ABS(O152)>6,\"\", IF(P152>0,\"+\"&P152, IF(P152<0,P152,\"E\")))))","v":""},{"$f":"IF(Q149=\"\",\"\", IF(Q150=\"\",\"\",IF(ABS(P152)>5,\"\", IF(Q152>0,\"+\"&Q152, IF(Q152<0,Q152,\"E\")))))","v":""},{"$f":"IF(R149=\"\",\"\", IF(R150=\"\",\"\",IF(ABS(Q152)>4,\"\", IF(R152>0,\"+\"&R152, IF(R152<0,R152,\"E\")))))","v":""},{"$f":"IF(S149=\"\",\"\", IF(S150=\"\",\"\",IF(ABS(R152)>3,\"\", IF(S152>0,\"+\"&S152, IF(S152<0,S152,\"E\")))))","v":""},{"$f":"IF(T149=\"\",\"\", IF(T150=\"\",\"\",IF(ABS(S152)>2,\"\", IF(T152>0,\"+\"&T152, IF(T152<0,T152,\"E\")))))","v":""},{"$f":"IF(U149=\"\",\"\", IF(U150=\"\",\"\",IF(ABS(T152)>1,\"\", IF(U152>0,\"+\"&U152, IF(U152<0,U152,\"E\")))))","v":""},{"$f":"COUNTBLANK(M151:U151)","v":9},{"$f":"IF(U151<>\"\",U151,IF(T151<>\"\",T151,IF(S151<>\"\",S151,IF(R151<>\"\",R151,IF(Q151<>\"\",Q151,IF(P151<>\"\",P151,IF(O151<>\"\",O151,IF(N151<>\"\",N151,\"\"))))))))","v":""},{"$f":"IF(W151<>\"\",W151,M151)","v":""}]
[null,null,null,{"$f":"IF(D149<(D150+D153),1, IF(D149>(D150+D153),-1,0))","v":{"$error":"#VALUE!"}},{"$f":"IF(E149<(E150+E153),D152+1, IF(E149>(E150+E153),D152-1,D152))","v":{"$error":"#VALUE!"}},{"$error":"#VALUE!"},{"$error":"#VALUE!"},{"$error":"#VALUE!"},{"$error":"#VALUE!"},{"$error":"#VALUE!"},{"$error":"#VALUE!"},{"$error":"#VALUE!"},{"$error":"#VALUE!"},{"$error":"#VALUE!"},{"$error":"#VALUE!"},{"$error":"#VALUE!"},{"$error":"#VALUE!"},{"$error":"#VALUE!"},{"$error":"#VALUE!"},{"$error":"#VALUE!"},{"$error":"#VALUE!"}]
[null,null,null,{"$f":"IF($C149<$C150,-TRUNC(($C150-$C149-D$8+18)/18),TRUNC(($C149-$C150-D$8+18)/18))","v":{"$error":"#VALUE!"}},{"$f":"IF($C149<$C150,-TRUNC(($C150-$C149-E$8+18)/18),TRUNC(($C149-$C150-E$8+18)/18))","v":{"$error":"#VALUE!"}},{"$error":"#VALUE!"},{"$error":"#VALUE!"},{"$error":"#VALUE!"},{"$error":"#VALUE!"},{"$error":"#VALUE!"},{"$error":"#VALUE!"},{"$error":"#VALUE!"},{"$error":"#VALUE!"},{"$error":"#VALUE!"},{"$error":"#VALUE!"},{"$error":"#VALUE!"},{"$error":"#VALUE!"},{"$error":"#VALUE!"},{"$error":"#VALUE!"},{"$error":"#VALUE!"},{"$error":"#VALUE!"}]
[30,{"$f":"IF(Players!F141=\"\",\"\",Players!B141)","v":""},{"$f":"IF($B154=\"\",\"\",IF(VLOOKUP($B154,Members,9,FALSE)=\"\",\"\",(VLOOKUP($B154,Members,9,FALSE))))","v":""},{"$f":"IF($B154=\"\",\"\",IF(VLOOKUP($B154,Scores,7,FALSE)=\"\",\"\",VLOOKUP($B154,Scores,7,FALSE)))","v":""},{"$f":"IF($B154=\"\",\"\",IF(VLOOKUP($B154,Scores,8,FALSE)=\"\",\"\",VLOOKUP($B154,Scores,8,FALSE)))","v":""},{"$f":"IF($B154=\"\",\"\",IF(VLOOKUP($B154,Scores,9,FALSE)=\"\",\"\",VLOOKUP($B154,Scores,9,FALSE)))","v":""},{"$f":"IF($B154=\"\",\"\",IF(VLOOKUP($B154,Scores,10,FALSE)=\"\",\"\",VLOOKUP($B154,Scores,10,FALSE)))","v":""},{"$f":"IF($B154=\"\",\"\",IF(VLOOKUP($B154,Scores,11,FALSE)=\"\",\"\",VLOOKUP($B154,Scores,11,FALSE)))","v":""},{"$f":"IF($B154=\"\",\"\",IF(VLOOKUP($B154,Scores,12,FALSE)=\"\",\"\",VLOOKUP($B154,Scores,12,FALSE)))","v":""},{"$f":"IF($B154=\"\",\"\",IF(VLOOKUP($B154,Scores,13,FALSE)=\"\",\"\",VLOOKUP($B154,Scores,13,FALSE)))","v":""},{"$f":"IF($B154=\"\",\"\",IF(VLOOKUP($B154,Scores,14,FALSE)=\"\",\"\",VLOOKUP($B154,Scores,14,FALSE)))","v":""},{"$f":"IF($B154=\"\",\"\",IF(VLOOKUP($B154,Scores,15,FALSE)=\"\",\"\",VLOOKUP($B154,Scores,15,FALSE)))","v":""},{"$f":"IF($B154=\"\",\"\",IF(VLOOKUP($B154,Scores,17,FALSE)=\"\",\"\",VLOOKUP($B154,Scores,17,FALSE)))","v":""},{"$f":"IF($B154=\"\",\"\",IF(VLOOKUP($B154,Scores,18,FALSE)=\"\",\"\",VLOOKUP($B154,Scores,18,FALSE)))","v":""},{"$f":"IF($B154=\"\",\"\",IF(VLOOKUP($B154,Scores,19,FALSE)=\"\",\"\",VLOOKUP($B154,Scores,19,FALSE)))","v":""},{"$f":"IF($B154=\"\",\"\",IF(VLOOKUP($B154,Scores,20,FALSE)=\"\",\"\",VLOOKUP($B154,Scores,20,FALSE)))","v":""},{"$f":"IF($B154=\"\",\"\",IF(VLOOKUP($B154,Scores,21,FALSE)=\"\",\"\",VLOOKUP($B154,Scores,21,FALSE)))","v":""},{"$f":"IF($B154=\"\",\"\",IF(VLOOKUP($B154,Scores,22,FALSE)=\"\",\"\",VLOOKUP($B154,Scores,22,FALSE)))","v":""},{"$f":"IF($B154=\"\",\"\",IF(VLOOKUP($B154,Scores,23,FALSE)=\"\",\"\",VLOOKUP($B154,Scores,23,FALSE)))","v":""},{"$f":"IF($B154=\"\",\"\",IF(VLOOKUP($B154,Scores,24,FALSE)=\"\",\"\",VLOOKUP($B154,Scores,24,FALSE)))","v":""},{"$f":"IF($B154=\"\",\"\",IF(VLOOKUP($B154,Scores,25,FALSE)=\"\",\"\",VLOOKUP($B154,Scores,25,FALSE)))","v":""},null,null,null,{"$f":"IF(OR(U154=\"\",U155=\"\"),\"\",IF(X156=\"E\",\"AS\",IF(X156<0,\"lost\",ABS(X156)&\" and \"&V156)))","v":""},{"$f":"IF(OR(U154=\"\",U155=\"\"),\"\",IF(Y154=\"1 and 0\",\"1-up\",IF(Y154=\"2 and 0\",\"2-up\",Y154)))","v":""}]
[null,{"$f":"IF(B154=\"\",\"\",Players!F141)","v":""},{"$f":"IF($B155=\"\",\"\",IF(VLOOKUP($B155,Members,9,FALSE)=\"\",\"\",(VLOOKUP($B155,Members,9,FALSE))))","v":""},{"$f":"IF($B155=\"\",\"\",IF(VLOOKUP($B155,Scores,7,FALSE)=\"\",\"\",VLOOKUP($B155,Scores,7,FALSE)))","v":""},{"$f":"IF($B155=\"\",\"\",IF(VLOOKUP($B155,Scores,8,FALSE)=\"\",\"\",VLOOKUP($B155,Scores,8,FALSE)))","v":""},{"$f":"IF($B155=\"\",\"\",IF(VLOOKUP($B155,Scores,9,FALSE)=\"\",\"\",VLOOKUP($B155,Scores,9,FALSE)))","v":""},{"$f":"IF($B155=\"\",\"\",IF(VLOOKUP($B155,Scores,10,FALSE)=\"\",\"\",VLOOKUP($B155,Scores,10,FALSE)))","v":""},{"$f":"IF($B155=\"\",\"\",IF(VLOOKUP($B155,Scores,11,FALSE)=\"\",\"\",VLOOKUP($B155,Scores,11,FALSE)))","v":""},{"$f":"IF($B155=\"\",\"\",IF(VLOOKUP($B155,Scores,12,FALSE)=\"\",\"\",VLOOKUP($B155,Scores,12,FALSE)))","v":""},{"$f":"IF($B155=\"\",\"\",IF(VLOOKUP($B155,Scores,13,FALSE)=\"\",\"\",VLOOKUP($B155,Scores,13,FALSE)))","v":""},{"$f":"IF($B155=\"\",\"\",IF(VLOOKUP($B155,Scores,14,FALSE)=\"\",\"\",VLOOKUP($B155,Scores,14,FALSE)))","v":""},{"$f":"IF($B155=\"\",\"\",IF(VLOOKUP($B155,Scores,15,FALSE)=\"\",\"\",VLOOKUP($B155,Scores,15,FALSE)))","v":""},{"$f":"IF($B155=\"\",\"\",IF(VLOOKUP($B155,Scores,17,FALSE)=\"\",\"\",VLOOKUP($B155,Scores,17,FALSE)))","v":""},{"$f":"IF($B155=\"\",\"\",IF(VLOOKUP($B155,Scores,18,FALSE)=\"\",\"\",VLOOKUP($B155,Scores,18,FALSE)))","v":""},{"$f":"IF($B155=\"\",\"\",IF(VLOOKUP($B155,Scores,19,FALSE)=\"\",\"\",VLOOKUP($B155,Scores,19,FALSE)))","v":""},{"$f":"IF($B155=\"\",\"\",IF(VLOOKUP($B155,Scores,20,FALSE)=\"\",\"\",VLOOKUP($B155,Scores,20,FALSE)))","v":""},{"$f":"IF($B155=\"\",\"\",IF(VLOOKUP($B155,Scores,21,FALSE)=\"\",\"\",VLOOKUP($B155,Scores,21,FALSE)))","v":""},{"$f":"IF($B155=\"\",\"\",IF(VLOOKUP($B155,Scores,22,FALSE)=\"\",\"\",VLOOKUP($B155,Scores,22,FALSE)))","v":""},{"$f":"IF($B155=\"\",\"\",IF(VLOOKUP($B155,Scores,23,FALSE)=\"\",\"\",VLOOKUP($B155,Scores,23,FALSE)))","v":""},{"$f":"IF($B155=\"\",\"\",IF(VLOOKUP($B155,Scores,24,FALSE)=\"\",\"\",VLOOKUP($B155,Scores,24,FALSE)))","v":""},{"$f":"IF($B155=\"\",\"\",IF(VLOOKUP($B155,Scores,25,FALSE)=\"\",\"\",VLOOKUP($B155,Scores,25,FALSE)))","v":""},null,null,null,{"$f":"IF(OR(U154=\"\",U155=\"\"),\"\",IF(X156=\"E\",\"AS\",IF(X156>0,\"lost\",ABS(X156)&\" and \"&V156)))","v":""},{"$f":"IF(OR(U154=\"\",U155=\"\"),\"\",IF(Y155=\"1 and 0\",\"1-up\",IF(Y155=\"2 and 0\",\"2-up\",Y155)))","v":""}]
[null,"Score",null,{"$f":"IF(OR(D154=\"\",D155=\"\"),\"\", IF(D157>0,\"+\"&D157, IF(D157<0,D157,\"E\")))","v":""},"","","","","","","","","",{"$f":"IF(N154=\"\",\"\", IF(N155=\"\",\"\",IF(ABS(M157)>8,\"\", IF(N157>0,\"+\"&N157, IF(N157<0,N157,\"E\")))))","v":""},{"$f":"IF(O154=\"\",\"\", IF(O155=\"\",\"\",IF(ABS(N157)>7,\"\", IF(O157>0,\"+\"&O157, IF(O157<0,O157,\"E\")))))","v":""},{"$f":"IF(P154=\"\",\"\", IF(P155=\"\",\"\",IF(ABS(O157)>6,\"\", IF(P157>0,\"+\"&P157, IF(P157<0,P157,\"E\")))))","v":""},{"$f":"IF(Q154=\"\",\"\", IF(Q155=\"\",\"\",IF(ABS(P157)>5,\"\", IF(Q157>0,\"+\"&Q157, IF(Q157<0,Q157,\"E\")))))","v":""},{"$f":"IF(R154=\"\",\"\", IF(R155=\"\",\"\",IF(ABS(Q157)>4,\"\", IF(R157>0,\"+\"&R157, IF(R157<0,R157,\"E\")))))","v":""},{"$f":"IF(S154=\"\",\"\", IF(S155=\"\",\"\",IF(ABS(R157)>3,\"\", IF(S157>0,\"+\"&S157, IF(S157<0,S157,\"E\")))))","v":""},{"$f":"IF(T154=\"\",\"\", IF(T155=\"\",\"\",IF(ABS(S157)>2,\"\", IF(T157>0,\"+\"&T157, IF(T157<0,T157,\"E\")))))","v":""},{"$f":"IF(U154=\"\",\"\", IF(U155=\"\",\"\",IF(ABS(T157)>1,\"\", IF(U157>0,\"+\"&U157, IF(U157<0,U157,\"E\")))))","v":""},{"$f":"COUNTBLANK(M156:U156)","v":9},{"$f":"IF(U156<>\"\",U156,IF(T156<>\"\",T156,IF(S156<>\"\",S156,IF(R156<>\"\",R156,IF(Q156<>\"\",Q156,IF(P156<>\"\",P156,IF(O156<>\"\",O156,IF(N156<>\"\",N156,\"\"))))))))","v":""},{"$f":"IF(W156<>\"\",W156,M156)","v":""}]
[null,null,null,{"$f":"IF(D154<(D155+D158),1, IF(D154>(D155+D158),-1,0))","v":{"$error":"#VALUE!"}},{"$f":"IF(E154<(E155+E158),D157+1, IF(E154>(E155+E158),D157-1,D157))","v":{"$error":"#VALUE!"}},{"$error":"#VALUE!"},{"$error":"#VALUE!"},{"$error":"#VALUE!"},{"$error":"#VALUE!"},{"$error":"#VALUE!"},{"$error":"#VALUE!"},{"$error":"#VALUE!"},{"$error":"#VALUE!"},{"$error":"#VALUE!"},{"$error":"#VALUE!"},{"$error":"#VALUE!"},{"$error":"#VALUE!"},{"$error":"#VALUE!"},{"$error":"#VALUE!"},{"$error":"#VALUE!"},{"$error":"#VALUE!"}]
[null,null,null,{"$f":"IF($C154<$C155,-TRUNC(($C155-$C154-D$8+18)/18),TRUNC(($C154-$C155-D$8+18)/18))","v":{"$error":"#VALUE!"}},{"$f":"IF($C154<$C155,-TRUNC(($C155-$C154-E$8+18)/18),TRUNC(($C154-$C155-E$8+18)/18))","v":{"$error":"#VALUE!"}},{"$error":"#VALUE!"},{"$error":"#VALUE!"},{"$error":"#VALUE!"},{"$error":"#VALUE!"},{"$error":"#VALUE!"},{"$error":"#VALUE!"},{"$error":"#VALUE!"},{"$error":"#VALUE!"},{"$error":"#VALUE!"},{"$error":"#VALUE!"},{"$error":"#VALUE!"},{"$error":"#VALUE!"},{"$error":"#VALUE!"},{"$error":"#VALUE!"},{"$error":"#VALUE!"},{"$error":"#VALUE!"}]
[31,{"$f":"IF(Players!F143=\"\",\"\",Players!B143)","v":""},{"$f":"IF($B159=\"\",\"\",IF(VLOOKUP($B159,Members,9,FALSE)=\"\",\"\",(VLOOKUP($B159,Members,9,FALSE))))","v":""},{"$f":"IF($B159=\"\",\"\",IF(VLOOKUP($B159,Scores,7,FALSE)=\"\",\"\",VLOOKUP($B159,Scores,7,FALSE)))","v":""},{"$f":"IF($B159=\"\",\"\",IF(VLOOKUP($B159,Scores,8,FALSE)=\"\",\"\",VLOOKUP($B159,Scores,8,FALSE)))","v":""},{"$f":"IF($B159=\"\",\"\",IF(VLOOKUP($B159,Scores,9,FALSE)=\"\",\"\",VLOOKUP($B159,Scores,9,FALSE)))","v":""},{"$f":"IF($B159=\"\",\"\",IF(VLOOKUP($B159,Scores,10,FALSE)=\"\",\"\",VLOOKUP($B159,Scores,10,FALSE)))","v":""},{"$f":"IF($B159=\"\",\"\",IF(VLOOKUP($B159,Scores,11,FALSE)=\"\",\"\",VLOOKUP($B159,Scores,11,FALSE)))","v":""},{"$f":"IF($B159=\"\",\"\",IF(VLOOKUP($B159,Scores,12,FALSE)=\"\",\"\",VLOOKUP($B159,Scores,12,FALSE)))","v":""},{"$f":"IF($B159=\"\",\"\",IF(VLOOKUP($B159,Scores,13,FALSE)=\"\",\"\",VLOOKUP($B159,Scores,13,FALSE)))","v":""},{"$f":"IF($B159=\"\",\"\",IF(VLOOKUP($B159,Scores,14,FALSE)=\"\",\"\",VLOOKUP($B159,Scores,14,FALSE)))","v":""},{"$f":"IF($B159=\"\",\"\",IF(VLOOKUP($B159,Scores,15,FALSE)=\"\",\"\",VLOOKUP($B159,Scores,15,FALSE)))","v":""},{"$f":"IF($B159=\"\",\"\",IF(VLOOKUP($B159,Scores,17,FALSE)=\"\",\"\",VLOOKUP($B159,Scores,17,FALSE)))","v":""},{"$f":"IF($B159=\"\",\"\",IF(VLOOKUP($B159,Scores,18,FALSE)=\"\",\"\",VLOOKUP($B159,Scores,18,FALSE)))","v":""},{"$f":"IF($B159=\"\",\"\",IF(VLOOKUP($B159,Scores,19,FALSE)=\"\",\"\",VLOOKUP($B159,Scores,19,FALSE)))","v":""},{"$f":"IF($B159=\"\",\"\",IF(VLOOKUP($B159,Scores,20,FALSE)=\"\",\"\",VLOOKUP($B159,Scores,20,FALSE)))","v":""},{"$f":"IF($B159=\"\",\"\",IF(VLOOKUP($B159,Scores,21,FALSE)=\"\",\"\",VLOOKUP($B159,Scores,21,FALSE)))","v":""},{"$f":"IF($B159=\"\",\"\",IF(VLOOKUP($B159,Scores,22,FALSE)=\"\",\"\",VLOOKUP($B159,Scores,22,FALSE)))","v":""},{"$f":"IF($B159=\"\",\"\",IF(VLOOKUP($B159,Scores,23,FALSE)=\"\",\"\",VLOOKUP($B159,Scores,23,FALSE)))","v":""},{"$f":"IF($B159=\"\",\"\",IF(VLOOKUP($B159,Scores,24,FALSE)=\"\",\"\",VLOOKUP($B159,Scores,24,FALSE)))","v":""},{"$f":"IF($B159=\"\",\"\",IF(VLOOKUP($B159,Scores,25,FALSE)=\"\",\"\",VLOOKUP($B159,Scores,25,FALSE)))","v":""},null,null,null,{"$f":"IF(OR(U159=\"\",U160=\"\"),\"\",IF(X161=\"E\",\"AS\",IF(X161<0,\"lost\",ABS(X161)&\" and \"&V161)))","v":""},{"$f":"IF(OR(U159=\"\",U160=\"\"),\"\",IF(Y159=\"1 and 0\",\"1-up\",IF(Y159=\"2 and 0\",\"2-up\",Y159)))","v":""}]
[null,{"$f":"IF(B159=\"\",\"\",Players!F143)","v":""},{"$f":"IF($B160=\"\",\"\",IF(VLOOKUP($B160,Members,9,FALSE)=\"\",\"\",(VLOOKUP($B160,Members,9,FALSE))))","v":""},{"$f":"IF($B160=\"\",\"\",IF(VLOOKUP($B160,Scores,7,FALSE)=\"\",\"\",VLOOKUP($B160,Scores,7,FALSE)))","v":""},{"$f":"IF($B160=\"\",\"\",IF(VLOOKUP($B160,Scores,8,FALSE)=\"\",\"\",VLOOKUP($B160,Scores,8,FALSE)))","v":""},{"$f":"IF($B160=\"\",\"\",IF(VLOOKUP($B160,Scores,9,FALSE)=\"\",\"\",VLOOKUP($B160,Scores,9,FALSE)))","v":""},{"$f":"IF($B160=\"\",\"\",IF(VLOOKUP($B160,Scores,10,FALSE)=\"\",\"\",VLOOKUP($B160,Scores,10,FALSE)))","v":""},{"$f":"IF($B160=\"\",\"\",IF(VLOOKUP($B160,Scores,11,FALSE)=\"\",\"\",VLOOKUP($B160,Scores,11,FALSE)))","v":""},{"$f":"IF($B160=\"\",\"\",IF(VLOOKUP($B160,Scores,12,FALSE)=\"\",\"\",VLOOKUP($B160,Scores,12,FALSE)))","v":""},{"$f":"IF($B160=\"\",\"\",IF(VLOOKUP($B160,Scores,13,FALSE)=\"\",\"\",VLOOKUP($B160,Scores,13,FALSE)))","v":""},{"$f":"IF($B160=\"\",\"\",IF(VLOOKUP($B160,Scores,14,FALSE)=\"\",\"\",VLOOKUP($B160,Scores,14,FALSE)))","v":""},{"$f":"IF($B160=\"\",\"\",IF(VLOOKUP($B160,Scores,15,FALSE)=\"\",\"\",VLOOKUP($B160,Scores,15,FALSE)))","v":""},{"$f":"IF($B160=\"\",\"\",IF(VLOOKUP($B160,Scores,17,FALSE)=\"\",\"\",VLOOKUP($B160,Scores,17,FALSE)))","v":""},{"$f":"IF($B160=\"\",\"\",IF(VLOOKUP($B160,Scores,18,FALSE)=\"\",\"\",VLOOKUP($B160,Scores,18,FALSE)))","v":""},{"$f":"IF($B160=\"\",\"\",IF(VLOOKUP($B160,Scores,19,FALSE)=\"\",\"\",VLOOKUP($B160,Scores,19,FALSE)))","v":""},{"$f":"IF($B160=\"\",\"\",IF(VLOOKUP($B160,Scores,20,FALSE)=\"\",\"\",VLOOKUP($B160,Scores,20,FALSE)))","v":""},{"$f":"IF($B160=\"\",\"\",IF(VLOOKUP($B160,Scores,21,FALSE)=\"\",\"\",VLOOKUP($B160,Scores,21,FALSE)))","v":""},{"$f":"IF($B160=\"\",\"\",IF(VLOOKUP($B160,Scores,22,FALSE)=\"\",\"\",VLOOKUP($B160,Scores,22,FALSE)))","v":""},{"$f":"IF($B160=\"\",\"\",IF(VLOOKUP($B160,Scores,23,FALSE)=\"\",\"\",VLOOKUP($B160,Scores,23,FALSE)))","v":""},{"$f":"IF($B160=\"\",\"\",IF(VLOOKUP($B160,Scores,24,FALSE)=\"\",\"\",VLOOKUP($B160,Scores,24,FALSE)))","v":""},{"$f":"IF($B160=\"\",\"\",IF(VLOOKUP($B160,Scores,25,FALSE)=\"\",\"\",VLOOKUP($B160,Scores,25,FALSE)))","v":""},null,null,null,{"$f":"IF(OR(U159=\"\",U160=\"\"),\"\",IF(X161=\"E\",\"AS\",IF(X161>0,\"lost\",ABS(X161)&\" and \"&V161)))","v":""},{"$f":"IF(OR(U159=\"\",U160=\"\"),\"\",IF(Y160=\"1 and 0\",\"1-up\",IF(Y160=\"2 and 0\",\"2-up\",Y160)))","v":""}]
[null,"Score",null,{"$f":"IF(OR(D159=\"\",D160=\"\"),\"\", IF(D162>0,\"+\"&D162, IF(D162<0,D162,\"E\")))","v":""},"","","","","","","","","",{"$f":"IF(N159=\"\",\"\", IF(N160=\"\",\"\",IF(ABS(M162)>8,\"\", IF(N162>0,\"+\"&N162, IF(N162<0,N162,\"E\")))))","v":""},{"$f":"IF(O159=\"\",\"\", IF(O160=\"\",\"\",IF(ABS(N162)>7,\"\", IF(O162>0,\"+\"&O162, IF(O162<0,O162,\"E\")))))","v":""},{"$f":"IF(P159=\"\",\"\", IF(P160=\"\",\"\",IF(ABS(O162)>6,\"\", IF(P162>0,\"+\"&P162, IF(P162<0,P162,\"E\")))))","v":""},{"$f":"IF(Q159=\"\",\"\", IF(Q160=\"\",\"\",IF(ABS(P162)>5,\"\", IF(Q162>0,\"+\"&Q162, IF(Q162<0,Q162,\"E\")))))","v":""},{"$f":"IF(R159=\"\",\"\", IF(R160=\"\",\"\",IF(ABS(Q162)>4,\"\", IF(R162>0,\"+\"&R162, IF(R162<0,R162,\"E\")))))","v":""},{"$f":"IF(S159=\"\",\"\", IF(S160=\"\",\"\",IF(ABS(R162)>3,\"\", IF(S162>0,\"+\"&S162, IF(S162<0,S162,\"E\")))))","v":""},{"$f":"IF(T159=\"\",\"\", IF(T160=\"\",\"\",IF(ABS(S162)>2,\"\", IF(T162>0,\"+\"&T162, IF(T162<0,T162,\"E\")))))","v":""},{"$f":"IF(U159=\"\",\"\", IF(U160=\"\",\"\",IF(ABS(T162)>1,\"\", IF(U162>0,\"+\"&U162, IF(U162<0,U162,\"E\")))))","v":""},{"$f":"COUNTBLANK(M161:U161)","v":9},{"$f":"IF(U161<>\"\",U161,IF(T161<>\"\",T161,IF(S161<>\"\",S161,IF(R161<>\"\",R161,IF(Q161<>\"\",Q161,IF(P161<>\"\",P161,IF(O161<>\"\",O161,IF(N161<>\"\",N161,\"\"))))))))","v":""},{"$f":"IF(W161<>\"\",W161,M161)","v":""}]
[null,null,null,{"$f":"IF(D159<(D160+D163),1, IF(D159>(D160+D163),-1,0))","v":{"$error":"#VALUE!"}},{"$f":"IF(E159<(E160+E163),D162+1, IF(E159>(E160+E163),D162-1,D162))","v":{"$error":"#VALUE!"}},{"$error":"#VALUE!"},{"$error":"#VALUE!"},{"$error":"#VALUE!"},{"$error":"#VALUE!"},{"$error":"#VALUE!"},{"$error":"#VALUE!"},{"$error":"#VALUE!"},{"$error":"#VALUE!"},{"$error":"#VALUE!"},{"$error":"#VALUE!"},{"$error":"#VALUE!"},{"$error":"#VALUE!"},{"$error":"#VALUE!"},{"$error":"#VALUE!"},{"$error":"#VALUE!"},{"$error":"#VALUE!"}]
[null,null,null,{"$f":"IF($C159<$C160,-TRUNC(($C160-$C159-D$8+18)/18),TRUNC(($C159-$C160-D$8+18)/18))","v":{"$error":"#VALUE!"}},{"$f":"IF($C159<$C160,-TRUNC(($C160-$C159-E$8+18)/18),TRUNC(($C159-$C160-E$8+18)/18))","v":{"$error":"#VALUE!"}},{"$error":"#VALUE!"},{"$error":"#VALUE!"},{"$error":"#VALUE!"},{"$error":"#VALUE!"},{"$error":"#VALUE!"},{"$error":"#VALUE!"},{"$error":"#VALUE!"},{"$error":"#VALUE!"},{"$error":"#VALUE!"},{"$error":"#VALUE!"},{"$error":"#VALUE!"},{"$error":"#VALUE!"},{"$error":"#VALUE!"},{"$error":"#VALUE!"},{"$error":"#VALUE!"},{"$error":"#VALUE!"}]
[32,{"$f":"IF(Players!F145=\"\",\"\",Players!B145)","v":""},{"$f":"IF($B164=\"\",\"\",IF(VLOOKUP($B164,Members,9,FALSE)=\"\",\"\",(VLOOKUP($B164,Members,9,FALSE))))","v":""},{"$f":"IF($B164=\"\",\"\",IF(VLOOKUP($B164,Scores,7,FALSE)=\"\",\"\",VLOOKUP($B164,Scores,7,FALSE)))","v":""},{"$f":"IF($B164=\"\",\"\",IF(VLOOKUP($B164,Scores,8,FALSE)=\"\",\"\",VLOOKUP($B164,Scores,8,FALSE)))","v":""},{"$f":"IF($B164=\"\",\"\",IF(VLOOKUP($B164,Scores,9,FALSE)=\"\",\"\",VLOOKUP($B164,Scores,9,FALSE)))","v":""},{"$f":"IF($B164=\"\",\"\",IF(VLOOKUP($B164,Scores,10,FALSE)=\"\",\"\",VLOOKUP($B164,Scores,10,FALSE)))","v":""},{"$f":"IF($B164=\"\",\"\",IF(VLOOKUP($B164,Scores,11,FALSE)=\"\",\"\",VLOOKUP($B164,Scores,11,FALSE)))","v":""},{"$f":"IF($B164=\"\",\"\",IF(VLOOKUP($B164,Scores,12,FALSE)=\"\",\"\",VLOOKUP($B164,Scores,12,FALSE)))","v":""},{"$f":"IF($B164=\"\",\"\",IF(VLOOKUP($B164,Scores,13,FALSE)=\"\",\"\",VLOOKUP($B164,Scores,13,FALSE)))","v":""},{"$f":"IF($B164=\"\",\"\",IF(VLOOKUP($B164,Scores,14,FALSE)=\"\",\"\",VLOOKUP($B164,Scores,14,FALSE)))","v":""},{"$f":"IF($B164=\"\",\"\",IF(VLOOKUP($B164,Scores,15,FALSE)=\"\",\"\",VLOOKUP($B164,Scores,15,FALSE)))","v":""},{"$f":"IF($B164=\"\",\"\",IF(VLOOKUP($B164,Scores,17,FALSE)=\"\",\"\",VLOOKUP($B164,Scores,17,FALSE)))","v":""},{"$f":"IF($B164=\"\",\"\",IF(VLOOKUP($B164,Scores,18,FALSE)=\"\",\"\",VLOOKUP($B164,Scores,18,FALSE)))","v":""},{"$f":"IF($B164=\"\",\"\",IF(VLOOKUP($B164,Scores,19,FALSE)=\"\",\"\",VLOOKUP($B164,Scores,19,FALSE)))","v":""},{"$f":"IF($B164=\"\",\"\",IF(VLOOKUP($B164,Scores,20,FALSE)=\"\",\"\",VLOOKUP($B164,Scores,20,FALSE)))","v":""},{"$f":"IF($B164=\"\",\"\",IF(VLOOKUP($B164,Scores,21,FALSE)=\"\",\"\",VLOOKUP($B164,Scores,21,FALSE)))","v":""},{"$f":"IF($B164=\"\",\"\",IF(VLOOKUP($B164,Scores,22,FALSE)=\"\",\"\",VLOOKUP($B164,Scores,22,FALSE)))","v":""},{"$f":"IF($B164=\"\",\"\",IF(VLOOKUP($B164,Scores,23,FALSE)=\"\",\"\",VLOOKUP($B164,Scores,23,FALSE)))","v":""},{"$f":"IF($B164=\"\",\"\",IF(VLOOKUP($B164,Scores,24,FALSE)=\"\",\"\",VLOOKUP($B164,Scores,24,FALSE)))","v":""},{"$f":"IF($B164=\"\",\"\",IF(VLOOKUP($B164,Scores,25,FALSE)=\"\",\"\",VLOOKUP($B164,Scores,25,FALSE)))","v":""},null,null,null,{"$f":"IF(OR(U164=\"\",U165=\"\"),\"\",IF(X166=\"E\",\"AS\",IF(X166<0,\"lost\",ABS(X166)&\" and \"&V166)))","v":""},{"$f":"IF(OR(U164=\"\",U165=\"\"),\"\",IF(Y164=\"1 and 0\",\"1-up\",IF(Y164=\"2 and 0\",\"2-up\",Y164)))","v":""}]
[null,{"$f":"IF(B164=\"\",\"\",Players!F145)","v":""},{"$f":"IF($B165=\"\",\"\",IF(VLOOKUP($B165,Members,9,FALSE)=\"\",\"\",(VLOOKUP($B165,Members,9,FALSE))))","v":""},{"$f":"IF($B165=\"\",\"\",IF(VLOOKUP($B165,Scores,7,FALSE)=\"\",\"\",VLOOKUP($B165,Scores,7,FALSE)))","v":""},{"$f":"IF($B165=\"\",\"\",IF(VLOOKUP($B165,Scores,8,FALSE)=\"\",\"\",VLOOKUP($B165,Scores,8,FALSE)))","v":""},{"$f":"IF($B165=\"\",\"\",IF(VLOOKUP($B165,Scores,9,FALSE)=\"\",\"\",VLOOKUP($B165,Scores,9,FALSE)))","v":""},{"$f":"IF($B165=\"\",\"\",IF(VLOOKUP($B165,Scores,10,FALSE)=\"\",\"\",VLOOKUP($B165,Scores,10,FALSE)))","v":""},{"$f":"IF($B165=\"\",\"\",IF(VLOOKUP($B165,Scores,11,FALSE)=\"\",\"\",VLOOKUP($B165,Scores,11,FALSE)))","v":""},{"$f":"IF($B165=\"\",\"\",IF(VLOOKUP($B165,Scores,12,FALSE)=\"\",\"\",VLOOKUP($B165,Scores,12,FALSE)))","v":""},{"$f":"IF($B165=\"\",\"\",IF(VLOOKUP($B165,Scores,13,FALSE)=\"\",\"\",VLOOKUP($B165,Scores,13,FALSE)))","v":""},{"$f":"IF($B165=\"\",\"\",IF(VLOOKUP($B165,Scores,14,FALSE)=\"\",\"\",VLOOKUP($B165,Scores,14,FALSE)))","v":""},{"$f":"IF($B165=\"\",\"\",IF(VLOOKUP($B165,Scores,15,FALSE)=\"\",\"\",VLOOKUP($B165,Scores,15,FALSE)))","v":""},{"$f":"IF($B165=\"\",\"\",IF(VLOOKUP($B165,Scores,17,FALSE)=\"\",\"\",VLOOKUP($B165,Scores,17,FALSE)))","v":""},{"$f":"IF($B165=\"\",\"\",IF(VLOOKUP($B165,Scores,18,FALSE)=\"\",\"\",VLOOKUP($B165,Scores,18,FALSE)))","v":""},{"$f":"IF($B165=\"\",\"\",IF(VLOOKUP($B165,Scores,19,FALSE)=\"\",\"\",VLOOKUP($B165,Scores,19,FALSE)))","v":""},{"$f":"IF($B165=\"\",\"\",IF(VLOOKUP($B165,Scores,20,FALSE)=\"\",\"\",VLOOKUP($B165,Scores,20,FALSE)))","v":""},{"$f":"IF($B165=\"\",\"\",IF(VLOOKUP($B165,Scores,21,FALSE)=\"\",\"\",VLOOKUP($B165,Scores,21,FALSE)))","v":""},{"$f":"IF($B165=\"\",\"\",IF(VLOOKUP($B165,Scores,22,FALSE)=\"\",\"\",VLOOKUP($B165,Scores,22,FALSE)))","v":""},{"$f":"IF($B165=\"\",\"\",IF(VLOOKUP($B165,Scores,23,FALSE)=\"\",\"\",VLOOKUP($B165,Scores,23,FALSE)))","v":""},{"$f":"IF($B165=\"\",\"\",IF(VLOOKUP($B165,Scores,24,FALSE)=\"\",\"\",VLOOKUP($B165,Scores,24,FALSE)))","v":""},{"$f":"IF($B165=\"\",\"\",IF(VLOOKUP($B165,Scores,25,FALSE)=\"\",\"\",VLOOKUP($B165,Scores,25,FALSE)))","v":""},null,null,null,{"$f":"IF(OR(U164=\"\",U165=\"\"),\"\",IF(X166=\"E\",\"AS\",IF(X166>0,\"lost\",ABS(X166)&\" and \"&V166)))","v":""},{"$f":"IF(OR(U164=\"\",U165=\"\"),\"\",IF(Y165=\"1 and 0\",\"1-up\",IF(Y165=\"2 and 0\",\"2-up\",Y165)))","v":""}]
[null,"Score",null,{"$f":"IF(OR(D164=\"\",D165=\"\"),\"\", IF(D167>0,\"+\"&D167, IF(D167<0,D167,\"E\")))","v":""},"","","","","","","","","",{"$f":"IF(N164=\"\",\"\", IF(N165=\"\",\"\",IF(ABS(M167)>8,\"\", IF(N167>0,\"+\"&N167, IF(N167<0,N167,\"E\")))))","v":""},{"$f":"IF(O164=\"\",\"\", IF(O165=\"\",\"\",IF(ABS(N167)>7,\"\", IF(O167>0,\"+\"&O167, IF(O167<0,O167,\"E\")))))","v":""},{"$f":"IF(P164=\"\",\"\", IF(P165=\"\",\"\",IF(ABS(O167)>6,\"\", IF(P167>0,\"+\"&P167, IF(P167<0,P167,\"E\")))))","v":""},{"$f":"IF(Q164=\"\",\"\", IF(Q165=\"\",\"\",IF(ABS(P167)>5,\"\", IF(Q167>0,\"+\"&Q167, IF(Q167<0,Q167,\"E\")))))","v":""},{"$f":"IF(R164=\"\",\"\", IF(R165=\"\",\"\",IF(ABS(Q167)>4,\"\", IF(R167>0,\"+\"&R167, IF(R167<0,R167,\"E\")))))","v":""},{"$f":"IF(S164=\"\",\"\", IF(S165=\"\",\"\",IF(ABS(R167)>3,\"\", IF(S167>0,\"+\"&S167, IF(S167<0,S167,\"E\")))))","v":""},{"$f":"IF(T164=\"\",\"\", IF(T165=\"\",\"\",IF(ABS(S167)>2,\"\", IF(T167>0,\"+\"&T167, IF(T167<0,T167,\"E\")))))","v":""},{"$f":"IF(U164=\"\",\"\", IF(U165=\"\",\"\",IF(ABS(T167)>1,\"\", IF(U167>0,\"+\"&U167, IF(U167<0,U167,\"E\")))))","v":""},{"$f":"COUNTBLANK(M166:U166)","v":9},{"$f":"IF(U166<>\"\",U166,IF(T166<>\"\",T166,IF(S166<>\"\",S166,IF(R166<>\"\",R166,IF(Q166<>\"\",Q166,IF(P166<>\"\",P166,IF(O166<>\"\",O166,IF(N166<>\"\",N166,\"\"))))))))","v":""},{"$f":"IF(W166<>\"\",W166,M166)","v":""}]
[null,null,null,{"$f":"IF(D164<(D165+D168),1, IF(D164>(D165+D168),-1,0))","v":{"$error":"#VALUE!"}},{"$f":"IF(E164<(E165+E168),D167+1, IF(E164>(E165+E168),D167-1,D167))","v":{"$error":"#VALUE!"}},{"$error":"#VALUE!"},{"$error":"#VALUE!"},{"$error":"#VALUE!"},{"$error":"#VALUE!"},{"$error":"#VALUE!"},{"$error":"#VALUE!"},{"$error":"#VALUE!"},{"$error":"#VALUE!"},{"$error":"#VALUE!"},{"$error":"#VALUE!"},{"$error":"#VALUE!"},{"$error":"#VALUE!"},{"$error":"#VALUE!"},{"$error":"#VALUE!"},{"$error":"#VALUE!"},{"$error":"#VALUE!"}]
[null,null,null,{"$f":"IF($C164<$C165,-TRUNC(($C165-$C164-D$8+18)/18),TRUNC(($C164-$C165-D$8+18)/18))","v":{"$error":"#VALUE!"}},{"$f":"IF($C164<$C165,-TRUNC(($C165-$C164-E$8+18)/18),TRUNC(($C164-$C165-E$8+18)/18))","v":{"$error":"#VALUE!"}},{"$error":"#VALUE!"},{"$error":"#VALUE!"},{"$error":"#VALUE!"},{"$error":"#VALUE!"},{"$error":"#VALUE!"},{"$error":"#VALUE!"},{"$error":"#VALUE!"},{"$error":"#VALUE!"},{"$error":"#VALUE!"},{"$error":"#VALUE!"},{"$error":"#VALUE!"},{"$error":"#VALUE!"},{"$error":"#VALUE!"},{"$error":"#VALUE!"},{"$error":"#VALUE!"},{"$error":"#VALUE!"}]
[33,{"$f":"IF(Players!F147=\"\",\"\",Players!B147)","v":""},{"$f":"IF($B169=\"\",\"\",IF(VLOOKUP($B169,Members,9,FALSE)=\"\",\"\",(VLOOKUP($B169,Members,9,FALSE))))","v":""},{"$f":"IF($B169=\"\",\"\",IF(VLOOKUP($B169,Scores,7,FALSE)=\"\",\"\",VLOOKUP($B169,Scores,7,FALSE)))","v":""},{"$f":"IF($B169=\"\",\"\",IF(VLOOKUP($B169,Scores,8,FALSE)=\"\",\"\",VLOOKUP($B169,Scores,8,FALSE)))","v":""},{"$f":"IF($B169=\"\",\"\",IF(VLOOKUP($B169,Scores,9,FALSE)=\"\",\"\",VLOOKUP($B169,Scores,9,FALSE)))","v":""},{"$f":"IF($B169=\"\",\"\",IF(VLOOKUP($B169,Scores,10,FALSE)=\"\",\"\",VLOOKUP($B169,Scores,10,FALSE)))","v":""},{"$f":"IF($B169=\"\",\"\",IF(VLOOKUP($B169,Scores,11,FALSE)=\"\",\"\",VLOOKUP($B169,Scores,11,FALSE)))","v":""},{"$f":"IF($B169=\"\",\"\",IF(VLOOKUP($B169,Scores,12,FALSE)=\"\",\"\",VLOOKUP($B169,Scores,12,FALSE)))","v":""},{"$f":"IF($B169=\"\",\"\",IF(VLOOKUP($B169,Scores,13,FALSE)=\"\",\"\",VLOOKUP($B169,Scores,13,FALSE)))","v":""},{"$f":"IF($B169=\"\",\"\",IF(VLOOKUP($B169,Scores,14,FALSE)=\"\",\"\",VLOOKUP($B169,Scores,14,FALSE)))","v":""},{"$f":"IF($B169=\"\",\"\",IF(VLOOKUP($B169,Scores,15,FALSE)=\"\",\"\",VLOOKUP($B169,Scores,15,FALSE)))","v":""},{"$f":"IF($B169=\"\",\"\",IF(VLOOKUP($B169,Scores,17,FALSE)=\"\",\"\",VLOOKUP($B169,Scores,17,FALSE)))","v":""},{"$f":"IF($B169=\"\",\"\",IF(VLOOKUP($B169,Scores,18,FALSE)=\"\",\"\",VLOOKUP($B169,Scores,18,FALSE)))","v":""},{"$f":"IF($B169=\"\",\"\",IF(VLOOKUP($B169,Scores,19,FALSE)=\"\",\"\",VLOOKUP($B169,Scores,19,FALSE)))","v":""},{"$f":"IF($B169=\"\",\"\",IF(VLOOKUP($B169,Scores,20,FALSE)=\"\",\"\",VLOOKUP($B169,Scores,20,FALSE)))","v":""},{"$f":"IF($B169=\"\",\"\",IF(VLOOKUP($B169,Scores,21,FALSE)=\"\",\"\",VLOOKUP($B169,Scores,21,FALSE)))","v":""},{"$f":"IF($B169=\"\",\"\",IF(VLOOKUP($B169,Scores,22,FALSE)=\"\",\"\",VLOOKUP($B169,Scores,22,FALSE)))","v":""},{"$f":"IF($B169=\"\",\"\",IF(VLOOKUP($B169,Scores,23,FALSE)=\"\",\"\",VLOOKUP($B169,Scores,23,FALSE)))","v":""},{"$f":"IF($B169=\"\",\"\",IF(VLOOKUP($B169,Scores,24,FALSE)=\"\",\"\",VLOOKUP($B169,Scores,24,FALSE)))","v":""},{"$f":"IF($B169=\"\",\"\",IF(VLOOKUP($B169,Scores,25,FALSE)=\"\",\"\",VLOOKUP($B169,Scores,25,FALSE)))","v":""},null,null,null,{"$f":"IF(OR(U169=\"\",U170=\"\"),\"\",IF(X171=\"E\",\"AS\",IF(X171<0,\"lost\",ABS(X171)&\" and \"&V171)))","v":""},{"$f":"IF(OR(U169=\"\",U170=\"\"),\"\",IF(Y169=\"1 and 0\",\"1-up\",IF(Y169=\"2 and 0\",\"2-up\",Y169)))","v":""}]
[null,{"$f":"IF(B169=\"\",\"\",Players!F147)","v":""},{"$f":"IF($B170=\"\",\"\",IF(VLOOKUP($B170,Members,9,FALSE)=\"\",\"\",(VLOOKUP($B170,Members,9,FALSE))))","v":""},{"$f":"IF($B170=\"\",\"\",IF(VLOOKUP($B170,Scores,7,FALSE)=\"\",\"\",VLOOKUP($B170,Scores,7,FALSE)))","v":""},{"$f":"IF($B170=\"\",\"\",IF(VLOOKUP($B170,Scores,8,FALSE)=\"\",\"\",VLOOKUP($B170,Scores,8,FALSE)))","v":""},{"$f":"IF($B170=\"\",\"\",IF(VLOOKUP($B170,Scores,9,FALSE)=\"\",\"\",VLOOKUP($B170,Scores,9,FALSE)))","v":""},{"$f":"IF($B170=\"\",\"\",IF(VLOOKUP($B170,Scores,10,FALSE)=\"\",\"\",VLOOKUP($B170,Scores,10,FALSE)))","v":""},{"$f":"IF($B170=\"\",\"\",IF(VLOOKUP($B170,Scores,11,FALSE)=\"\",\"\",VLOOKUP($B170,Scores,11,FALSE)))","v":""},{"$f":"IF($B170=\"\",\"\",IF(VLOOKUP($B170,Scores,12,FALSE)=\"\",\"\",VLOOKUP($B170,Scores,12,FALSE)))","v":""},{"$f":"IF($B170=\"\",\"\",IF(VLOOKUP($B170,Scores,13,FALSE)=\"\",\"\",VLOOKUP($B170,Scores,13,FALSE)))","v":""},{"$f":"IF($B170=\"\",\"\",IF(VLOOKUP($B170,Scores,14,FALSE)=\"\",\"\",VLOOKUP($B170,Scores,14,FALSE)))","v":""},{"$f":"IF($B170=\"\",\"\",IF(VLOOKUP($B170,Scores,15,FALSE)=\"\",\"\",VLOOKUP($B170,Scores,15,FALSE)))","v":""},{"$f":"IF($B170=\"\",\"\",IF(VLOOKUP($B170,Scores,17,FALSE)=\"\",\"\",VLOOKUP($B170,Scores,17,FALSE)))","v":""},{"$f":"IF($B170=\"\",\"\",IF(VLOOKUP($B170,Scores,18,FALSE)=\"\",\"\",VLOOKUP($B170,Scores,18,FALSE)))","v":""},{"$f":"IF($B170=\"\",\"\",IF(VLOOKUP($B170,Scores,19,FALSE)=\"\",\"\",VLOOKUP($B170,Scores,19,FALSE)))","v":""},{"$f":"IF($B170=\"\",\"\",IF(VLOOKUP($B170,Scores,20,FALSE)=\"\",\"\",VLOOKUP($B170,Scores,20,FALSE)))","v":""},{"$f":"IF($B170=\"\",\"\",IF(VLOOKUP($B170,Scores,21,FALSE)=\"\",\"\",VLOOKUP($B170,Scores,21,FALSE)))","v":""},{"$f":"IF($B170=\"\",\"\",IF(VLOOKUP($B170,Scores,22,FALSE)=\"\",\"\",VLOOKUP($B170,Scores,22,FALSE)))","v":""},{"$f":"IF($B170=\"\",\"\",IF(VLOOKUP($B170,Scores,23,FALSE)=\"\",\"\",VLOOKUP($B170,Scores,23,FALSE)))","v":""},{"$f":"IF($B170=\"\",\"\",IF(VLOOKUP($B170,Scores,24,FALSE)=\"\",\"\",VLOOKUP($B170,Scores,24,FALSE)))","v":""},{"$f":"IF($B170=\"\",\"\",IF(VLOOKUP($B170,Scores,25,FALSE)=\"\",\"\",VLOOKUP($B170,Scores,25,FALSE)))","v":""},null,null,null,{"$f":"IF(OR(U169=\"\",U170=\"\"),\"\",IF(X171=\"E\",\"AS\",IF(X171>0,\"lost\",ABS(X171)&\" and \"&V171)))","v":""},{"$f":"IF(OR(U169=\"\",U170=\"\"),\"\",IF(Y170=\"1 and 0\",\"1-up\",IF(Y170=\"2 and 0\",\"2-up\",Y170)))","v":""}]
[null,"Score",null,{"$f":"IF(OR(D169=\"\",D170=\"\"),\"\", IF(D172>0,\"+\"&D172, IF(D172<0,D172,\"E\")))","v":""},"","","","","","","","","",{"$f":"IF(N169=\"\",\"\", IF(N170=\"\",\"\",IF(ABS(M172)>8,\"\", IF(N172>0,\"+\"&N172, IF(N172<0,N172,\"E\")))))","v":""},{"$f":"IF(O169=\"\",\"\", IF(O170=\"\",\"\",IF(ABS(N172)>7,\"\", IF(O172>0,\"+\"&O172, IF(O172<0,O172,\"E\")))))","v":""},{"$f":"IF(P169=\"\",\"\", IF(P170=\"\",\"\",IF(ABS(O172)>6,\"\", IF(P172>0,\"+\"&P172, IF(P172<0,P172,\"E\")))))","v":""},{"$f":"IF(Q169=\"\",\"\", IF(Q170=\"\",\"\",IF(ABS(P172)>5,\"\", IF(Q172>0,\"+\"&Q172, IF(Q172<0,Q172,\"E\")))))","v":""},{"$f":"IF(R169=\"\",\"\", IF(R170=\"\",\"\",IF(ABS(Q172)>4,\"\", IF(R172>0,\"+\"&R172, IF(R172<0,R172,\"E\")))))","v":""},{"$f":"IF(S169=\"\",\"\", IF(S170=\"\",\"\",IF(ABS(R172)>3,\"\", IF(S172>0,\"+\"&S172, IF(S172<0,S172,\"E\")))))","v":""},{"$f":"IF(T169=\"\",\"\", IF(T170=\"\",\"\",IF(ABS(S172)>2,\"\", IF(T172>0,\"+\"&T172, IF(T172<0,T172,\"E\")))))","v":""},{"$f":"IF(U169=\"\",\"\", IF(U170=\"\",\"\",IF(ABS(T172)>1,\"\", IF(U172>0,\"+\"&U172, IF(U172<0,U172,\"E\")))))","v":""},{"$f":"COUNTBLANK(M171:U171)","v":9},{"$f":"IF(U171<>\"\",U171,IF(T171<>\"\",T171,IF(S171<>\"\",S171,IF(R171<>\"\",R171,IF(Q171<>\"\",Q171,IF(P171<>\"\",P171,IF(O171<>\"\",O171,IF(N171<>\"\",N171,\"\"))))))))","v":""},{"$f":"IF(W171<>\"\",W171,M171)","v":""}]
[null,null,null,{"$f":"IF(D169<(D170+D173),1, IF(D169>(D170+D173),-1,0))","v":{"$error":"#VALUE!"}},{"$f":"IF(E169<(E170+E173),D172+1, IF(E169>(E170+E173),D172-1,D172))","v":{"$error":"#VALUE!"}},{"$error":"#VALUE!"},{"$error":"#VALUE!"},{"$error":"#VALUE!"},{"$error":"#VALUE!"},{"$error":"#VALUE!"},{"$error":"#VALUE!"},{"$error":"#VALUE!"},{"$error":"#VALUE!"},{"$error":"#VALUE!"},{"$error":"#VALUE!"},{"$error":"#VALUE!"},{"$error":"#VALUE!"},{"$error":"#VALUE!"},{"$error":"#VALUE!"},{"$error":"#VALUE!"},{"$error":"#VALUE!"}]
[null,null,null,{"$f":"IF($C169<$C170,-TRUNC(($C170-$C169-D$8+18)/18),TRUNC(($C169-$C170-D$8+18)/18))","v":{"$error":"#VALUE!"}},{"$f":"IF($C169<$C170,-TRUNC(($C170-$C169-E$8+18)/18),TRUNC(($C169-$C170-E$8+18)/18))","v":{"$error":"#VALUE!"}},{"$error":"#VALUE!"},{"$error":"#VALUE!"},{"$error":"#VALUE!"},{"$error":"#VALUE!"},{"$error":"#VALUE!"},{"$error":"#VALUE!"},{"$error":"#VALUE!"},{"$error":"#VALUE!"},{"$error":"#VALUE!"},{"$error":"#VALUE!"},{"$error":"#VALUE!"},{"$error":"#VALUE!"},{"$error":"#VALUE!"},{"$error":"#VALUE!"},{"$error":"#VALUE!"},{"$error":"#VALUE!"}]
[34,{"$f":"IF(Players!F149=\"\",\"\",Players!B149)","v":""},{"$f":"IF($B174=\"\",\"\",IF(VLOOKUP($B174,Members,9,FALSE)=\"\",\"\",(VLOOKUP($B174,Members,9,FALSE))))","v":""},{"$f":"IF($B174=\"\",\"\",IF(VLOOKUP($B174,Scores,7,FALSE)=\"\",\"\",VLOOKUP($B174,Scores,7,FALSE)))","v":""},{"$f":"IF($B174=\"\",\"\",IF(VLOOKUP($B174,Scores,8,FALSE)=\"\",\"\",VLOOKUP($B174,Scores,8,FALSE)))","v":""},{"$f":"IF($B174=\"\",\"\",IF(VLOOKUP($B174,Scores,9,FALSE)=\"\",\"\",VLOOKUP($B174,Scores,9,FALSE)))","v":""},{"$f":"IF($B174=\"\",\"\",IF(VLOOKUP($B174,Scores,10,FALSE)=\"\",\"\",VLOOKUP($B174,Scores,10,FALSE)))","v":""},{"$f":"IF($B174=\"\",\"\",IF(VLOOKUP($B174,Scores,11,FALSE)=\"\",\"\",VLOOKUP($B174,Scores,11,FALSE)))","v":""},{"$f":"IF($B174=\"\",\"\",IF(VLOOKUP($B174,Scores,12,FALSE)=\"\",\"\",VLOOKUP($B174,Scores,12,FALSE)))","v":""},{"$f":"IF($B174=\"\",\"\",IF(VLOOKUP($B174,Scores,13,FALSE)=\"\",\"\",VLOOKUP($B174,Scores,13,FALSE)))","v":""},{"$f":"IF($B174=\"\",\"\",IF(VLOOKUP($B174,Scores,14,FALSE)=\"\",\"\",VLOOKUP($B174,Scores,14,FALSE)))","v":""},{"$f":"IF($B174=\"\",\"\",IF(VLOOKUP($B174,Scores,15,FALSE)=\"\",\"\",VLOOKUP($B174,Scores,15,FALSE)))","v":""},{"$f":"IF($B174=\"\",\"\",IF(VLOOKUP($B174,Scores,17,FALSE)=\"\",\"\",VLOOKUP($B174,Scores,17,FALSE)))","v":""},{"$f":"IF($B174=\"\",\"\",IF(VLOOKUP($B174,Scores,18,FALSE)=\"\",\"\",VLOOKUP($B174,Scores,18,FALSE)))","v":""},{"$f":"IF($B174=\"\",\"\",IF(VLOOKUP($B174,Scores,19,FALSE)=\"\",\"\",VLOOKUP($B174,Scores,19,FALSE)))","v":""},{"$f":"IF($B174=\"\",\"\",IF(VLOOKUP($B174,Scores,20,FALSE)=\"\",\"\",VLOOKUP($B174,Scores,20,FALSE)))","v":""},{"$f":"IF($B174=\"\",\"\",IF(VLOOKUP($B174,Scores,21,FALSE)=\"\",\"\",VLOOKUP($B174,Scores,21,FALSE)))","v":""},{"$f":"IF($B174=\"\",\"\",IF(VLOOKUP($B174,Scores,22,FALSE)=\"\",\"\",VLOOKUP($B174,Scores,22,FALSE)))","v":""},{"$f":"IF($B174=\"\",\"\",IF(VLOOKUP($B174,Scores,23,FALSE)=\"\",\"\",VLOOKUP($B174,Scores,23,FALSE)))","v":""},{"$f":"IF($B174=\"\",\"\",IF(VLOOKUP($B174,Scores,24,FALSE)=\"\",\"\",VLOOKUP($B174,Scores,24,FALSE)))","v":""},{"$f":"IF($B174=\"\",\"\",IF(VLOOKUP($B174,Scores,25,FALSE)=\"\",\"\",VLOOKUP($B174,Scores,25,FALSE)))","v":""},null,null,null,{"$f":"IF(OR(U174=\"\",U175=\"\"),\"\",IF(X176=\"E\",\"AS\",IF(X176<0,\"lost\",ABS(X176)&\" and \"&V176)))","v":""},{"$f":"IF(OR(U174=\"\",U175=\"\"),\"\",IF(Y174=\"1 and 0\",\"1-up\",IF(Y174=\"2 and 0\",\"2-up\",Y174)))","v":""}]
[null,{"$f":"IF(B174=\"\",\"\",Players!F149)","v":""},{"$f":"IF($B175=\"\",\"\",IF(VLOOKUP($B175,Members,9,FALSE)=\"\",\"\",(VLOOKUP($B175,Members,9,FALSE))))","v":""},{"$f":"IF($B175=\"\",\"\",IF(VLOOKUP($B175,Scores,7,FALSE)=\"\",\"\",VLOOKUP($B175,Scores,7,FALSE)))","v":""},{"$f":"IF($B175=\"\",\"\",IF(VLOOKUP($B175,Scores,8,FALSE)=\"\",\"\",VLOOKUP($B175,Scores,8,FALSE)))","v":""},{"$f":"IF($B175=\"\",\"\",IF(VLOOKUP($B175,Scores,9,FALSE)=\"\",\"\",VLOOKUP($B175,Scores,9,FALSE)))","v":""},{"$f":"IF($B175=\"\",\"\",IF(VLOOKUP($B175,Scores,10,FALSE)=\"\",\"\",VLOOKUP($B175,Scores,10,FALSE)))","v":""},{"$f":"IF($B175=\"\",\"\",IF(VLOOKUP($B175,Scores,11,FALSE)=\"\",\"\",VLOOKUP($B175,Scores,11,FALSE)))","v":""},{"$f":"IF($B175=\"\",\"\",IF(VLOOKUP($B175,Scores,12,FALSE)=\"\",\"\",VLOOKUP($B175,Scores,12,FALSE)))","v":""},{"$f":"IF($B175=\"\",\"\",IF(VLOOKUP($B175,Scores,13,FALSE)=\"\",\"\",VLOOKUP($B175,Scores,13,FALSE)))","v":""},{"$f":"IF($B175=\"\",\"\",IF(VLOOKUP($B175,Scores,14,FALSE)=\"\",\"\",VLOOKUP($B175,Scores,14,FALSE)))","v":""},{"$f":"IF($B175=\"\",\"\",IF(VLOOKUP($B175,Scores,15,FALSE)=\"\",\"\",VLOOKUP($B175,Scores,15,FALSE)))","v":""},{"$f":"IF($B175=\"\",\"\",IF(VLOOKUP($B175,Scores,17,FALSE)=\"\",\"\",VLOOKUP($B175,Scores,17,FALSE)))","v":""},{"$f":"IF($B175=\"\",\"\",IF(VLOOKUP($B175,Scores,18,FALSE)=\"\",\"\",VLOOKUP($B175,Scores,18,FALSE)))","v":""},{"$f":"IF($B175=\"\",\"\",IF(VLOOKUP($B175,Scores,19,FALSE)=\"\",\"\",VLOOKUP($B175,Scores,19,FALSE)))","v":""},{"$f":"IF($B175=\"\",\"\",IF(VLOOKUP($B175,Scores,20,FALSE)=\"\",\"\",VLOOKUP($B175,Scores,20,FALSE)))","v":""},{"$f":"IF($B175=\"\",\"\",IF(VLOOKUP($B175,Scores,21,FALSE)=\"\",\"\",VLOOKUP($B175,Scores,21,FALSE)))","v":""},{"$f":"IF($B175=\"\",\"\",IF(VLOOKUP($B175,Scores,22,FALSE)=\"\",\"\",VLOOKUP($B175,Scores,22,FALSE)))","v":""},{"$f":"IF($B175=\"\",\"\",IF(VLOOKUP($B175,Scores,23,FALSE)=\"\",\"\",VLOOKUP($B175,Scores,23,FALSE)))","v":""},{"$f":"IF($B175=\"\",\"\",IF(VLOOKUP($B175,Scores,24,FALSE)=\"\",\"\",VLOOKUP($B175,Scores,24,FALSE)))","v":""},{"$f":"IF($B175=\"\",\"\",IF(VLOOKUP($B175,Scores,25,FALSE)=\"\",\"\",VLOOKUP($B175,Scores,25,FALSE)))","v":""},null,null,null,{"$f":"IF(OR(U174=\"\",U175=\"\"),\"\",IF(X176=\"E\",\"AS\",IF(X176>0,\"lost\",ABS(X176)&\" and \"&V176)))","v":""},{"$f":"IF(OR(U174=\"\",U175=\"\"),\"\",IF(Y175=\"1 and 0\",\"1-up\",IF(Y175=\"2 and 0\",\"2-up\",Y175)))","v":""}]
[null,"Score",null,{"$f":"IF(OR(D174=\"\",D175=\"\"),\"\", IF(D177>0,\"+\"&D177, IF(D177<0,D177,\"E\")))","v":""},"","","","","","","","","",{"$f":"IF(N174=\"\",\"\", IF(N175=\"\",\"\",IF(ABS(M177)>8,\"\", IF(N177>0,\"+\"&N177, IF(N177<0,N177,\"E\")))))","v":""},{"$f":"IF(O174=\"\",\"\", IF(O175=\"\",\"\",IF(ABS(N177)>7,\"\", IF(O177>0,\"+\"&O177, IF(O177<0,O177,\"E\")))))","v":""},{"$f":"IF(P174=\"\",\"\", IF(P175=\"\",\"\",IF(ABS(O177)>6,\"\", IF(P177>0,\"+\"&P177, IF(P177<0,P177,\"E\")))))","v":""},{"$f":"IF(Q174=\"\",\"\", IF(Q175=\"\",\"\",IF(ABS(P177)>5,\"\", IF(Q177>0,\"+\"&Q177, IF(Q177<0,Q177,\"E\")))))","v":""},{"$f":"IF(R174=\"\",\"\", IF(R175=\"\",\"\",IF(ABS(Q177)>4,\"\", IF(R177>0,\"+\"&R177, IF(R177<0,R177,\"E\")))))","v":""},{"$f":"IF(S174=\"\",\"\", IF(S175=\"\",\"\",IF(ABS(R177)>3,\"\", IF(S177>0,\"+\"&S177, IF(S177<0,S177,\"E\")))))","v":""},{"$f":"IF(T174=\"\",\"\", IF(T175=\"\",\"\",IF(ABS(S177)>2,\"\", IF(T177>0,\"+\"&T177, IF(T177<0,T177,\"E\")))))","v":""},{"$f":"IF(U174=\"\",\"\", IF(U175=\"\",\"\",IF(ABS(T177)>1,\"\", IF(U177>0,\"+\"&U177, IF(U177<0,U177,\"E\")))))","v":""},{"$f":"COUNTBLANK(M176:U176)","v":9},{"$f":"IF(U176<>\"\",U176,IF(T176<>\"\",T176,IF(S176<>\"\",S176,IF(R176<>\"\",R176,IF(Q176<>\"\",Q176,IF(P176<>\"\",P176,IF(O176<>\"\",O176,IF(N176<>\"\",N176,\"\"))))))))","v":""},{"$f":"IF(W176<>\"\",W176,M176)","v":""}]
[null,null,null,{"$f":"IF(D174<(D175+D178),1, IF(D174>(D175+D178),-1,0))","v":{"$error":"#VALUE!"}},{"$f":"IF(E174<(E175+E178),D177+1, IF(E174>(E175+E178),D177-1,D177))","v":{"$error":"#VALUE!"}},{"$error":"#VALUE!"},{"$error":"#VALUE!"},{"$error":"#VALUE!"},{"$error":"#VALUE!"},{"$error":"#VALUE!"},{"$error":"#VALUE!"},{"$error":"#VALUE!"},{"$error":"#VALUE!"},{"$error":"#VALUE!"},{"$error":"#VALUE!"},{"$error":"#VALUE!"},{"$error":"#VALUE!"},{"$error":"#VALUE!"},{"$error":"#VALUE!"},{"$error":"#VALUE!"},{"$error":"#VALUE!"}]
[null,null,null,{"$f":"IF($C174<$C175,-TRUNC(($C175-$C174-D$8+18)/18),TRUNC(($C174-$C175-D$8+18)/18))","v":{"$error":"#VALUE!"}},{"$f":"IF($C174<$C175,-TRUNC(($C175-$C174-E$8+18)/18),TRUNC(($C174-$C175-E$8+18)/18))","v":{"$error":"#VALUE!"}},{"$error":"#VALUE!"},{"$error":"#VALUE!"},{"$error":"#VALUE!"},{"$error":"#VALUE!"},{"$error":"#VALUE!"},{"$error":"#VALUE!"},{"$error":"#VALUE!"},{"$error":"#VALUE!"},{"$error":"#VALUE!"},{"$error":"#VALUE!"},{"$error":"#VALUE!"},{"$error":"#VALUE!"},{"$error":"#VALUE!"},{"$error":"#VALUE!"},{"$error":"#VALUE!"},{"$error":"#VALUE!"}]
[35,{"$f":"IF(Players!F151=\"\",\"\",Players!B151)","v":""},{"$f":"IF($B179=\"\",\"\",IF(VLOOKUP($B179,Members,9,FALSE)=\"\",\"\",(VLOOKUP($B179,Members,9,FALSE))))","v":""},{"$f":"IF($B179=\"\",\"\",IF(VLOOKUP($B179,Scores,7,FALSE)=\"\",\"\",VLOOKUP($B179,Scores,7,FALSE)))","v":""},{"$f":"IF($B179=\"\",\"\",IF(VLOOKUP($B179,Scores,8,FALSE)=\"\",\"\",VLOOKUP($B179,Scores,8,FALSE)))","v":""},{"$f":"IF($B179=\"\",\"\",IF(VLOOKUP($B179,Scores,9,FALSE)=\"\",\"\",VLOOKUP($B179,Scores,9,FALSE)))","v":""},{"$f":"IF($B179=\"\",\"\",IF(VLOOKUP($B179,Scores,10,FALSE)=\"\",\"\",VLOOKUP($B179,Scores,10,FALSE)))","v":""},{"$f":"IF($B179=\"\",\"\",IF(VLOOKUP($B179,Scores,11,FALSE)=\"\",\"\",VLOOKUP($B179,Scores,11,FALSE)))","v":""},{"$f":"IF($B179=\"\",\"\",IF(VLOOKUP($B179,Scores,12,FALSE)=\"\",\"\",VLOOKUP($B179,Scores,12,FALSE)))","v":""},{"$f":"IF($B179=\"\",\"\",IF(VLOOKUP($B179,Scores,13,FALSE)=\"\",\"\",VLOOKUP($B179,Scores,13,FALSE)))","v":""},{"$f":"IF($B179=\"\",\"\",IF(VLOOKUP($B179,Scores,14,FALSE)=\"\",\"\",VLOOKUP($B179,Scores,14,FALSE)))","v":""},{"$f":"IF($B179=\"\",\"\",IF(VLOOKUP($B179,Scores,15,FALSE)=\"\",\"\",VLOOKUP($B179,Scores,15,FALSE)))","v":""},{"$f":"IF($B179=\"\",\"\",IF(VLOOKUP($B179,Scores,17,FALSE)=\"\",\"\",VLOOKUP($B179,Scores,17,FALSE)))","v":""},{"$f":"IF($B179=\"\",\"\",IF(VLOOKUP($B179,Scores,18,FALSE)=\"\",\"\",VLOOKUP($B179,Scores,18,FALSE)))","v":""},{"$f":"IF($B179=\"\",\"\",IF(VLOOKUP($B179,Scores,19,FALSE)=\"\",\"\",VLOOKUP($B179,Scores,19,FALSE)))","v":""},{"$f":"IF($B179=\"\",\"\",IF(VLOOKUP($B179,Scores,20,FALSE)=\"\",\"\",VLOOKUP($B179,Scores,20,FALSE)))","v":""},{"$f":"IF($B179=\"\",\"\",IF(VLOOKUP($B179,Scores,21,FALSE)=\"\",\"\",VLOOKUP($B179,Scores,21,FALSE)))","v":""},{"$f":"IF($B179=\"\",\"\",IF(VLOOKUP($B179,Scores,22,FALSE)=\"\",\"\",VLOOKUP($B179,Scores,22,FALSE)))","v":""},{"$f":"IF($B179=\"\",\"\",IF(VLOOKUP($B179,Scores,23,FALSE)=\"\",\"\",VLOOKUP($B179,Scores,23,FALSE)))","v":""},{"$f":"IF($B179=\"\",\"\",IF(VLOOKUP($B179,Scores,24,FALSE)=\"\",\"\",VLOOKUP($B179,Scores,24,FALSE)))","v":""},{"$f":"IF($B179=\"\",\"\",IF(VLOOKUP($B179,Scores,25,FALSE)=\"\",\"\",VLOOKUP($B179,Scores,25,FALSE)))","v":""},null,null,null,{"$f":"IF(OR(U179=\"\",U180=\"\"),\"\",IF(X181=\"E\",\"AS\",IF(X181<0,\"lost\",ABS(X181)&\" and \"&V181)))","v":""},{"$f":"IF(OR(U179=\"\",U180=\"\"),\"\",IF(Y179=\"1 and 0\",\"1-up\",IF(Y179=\"2 and 0\",\"2-up\",Y179)))","v":""}]
[null,{"$f":"IF(B179=\"\",\"\",Players!F151)","v":""},{"$f":"IF($B180=\"\",\"\",IF(VLOOKUP($B180,Members,9,FALSE)=\"\",\"\",(VLOOKUP($B180,Members,9,FALSE))))","v":""},{"$f":"IF($B180=\"\",\"\",IF(VLOOKUP($B180,Scores,7,FALSE)=\"\",\"\",VLOOKUP($B180,Scores,7,FALSE)))","v":""},{"$f":"IF($B180=\"\",\"\",IF(VLOOKUP($B180,Scores,8,FALSE)=\"\",\"\",VLOOKUP($B180,Scores,8,FALSE)))","v":""},{"$f":"IF($B180=\"\",\"\",IF(VLOOKUP($B180,Scores,9,FALSE)=\"\",\"\",VLOOKUP($B180,Scores,9,FALSE)))","v":""},{"$f":"IF($B180=\"\",\"\",IF(VLOOKUP($B180,Scores,10,FALSE)=\"\",\"\",VLOOKUP($B180,Scores,10,FALSE)))","v":""},{"$f":"IF($B180=\"\",\"\",IF(VLOOKUP($B180,Scores,11,FALSE)=\"\",\"\",VLOOKUP($B180,Scores,11,FALSE)))","v":""},{"$f":"IF($B180=\"\",\"\",IF(VLOOKUP($B180,Scores,12,FALSE)=\"\",\"\",VLOOKUP($B180,Scores,12,FALSE)))","v":""},{"$f":"IF($B180=\"\",\"\",IF(VLOOKUP($B180,Scores,13,FALSE)=\"\",\"\",VLOOKUP($B180,Scores,13,FALSE)))","v":""},{"$f":"IF($B180=\"\",\"\",IF(VLOOKUP($B180,Scores,14,FALSE)=\"\",\"\",VLOOKUP($B180,Scores,14,FALSE)))","v":""},{"$f":"IF($B180=\"\",\"\",IF(VLOOKUP($B180,Scores,15,FALSE)=\"\",\"\",VLOOKUP($B180,Scores,15,FALSE)))","v":""},{"$f":"IF($B180=\"\",\"\",IF(VLOOKUP($B180,Scores,17,FALSE)=\"\",\"\",VLOOKUP($B180,Scores,17,FALSE)))","v":""},{"$f":"IF($B180=\"\",\"\",IF(VLOOKUP($B180,Scores,18,FALSE)=\"\",\"\",VLOOKUP($B180,Scores,18,FALSE)))","v":""},{"$f":"IF($B180=\"\",\"\",IF(VLOOKUP($B180,Scores,19,FALSE)=\"\",\"\",VLOOKUP($B180,Scores,19,FALSE)))","v":""},{"$f":"IF($B180=\"\",\"\",IF(VLOOKUP($B180,Scores,20,FALSE)=\"\",\"\",VLOOKUP($B180,Scores,20,FALSE)))","v":""},{"$f":"IF($B180=\"\",\"\",IF(VLOOKUP($B180,Scores,21,FALSE)=\"\",\"\",VLOOKUP($B180,Scores,21,FALSE)))","v":""},{"$f":"IF($B180=\"\",\"\",IF(VLOOKUP($B180,Scores,22,FALSE)=\"\",\"\",VLOOKUP($B180,Scores,22,FALSE)))","v":""},{"$f":"IF($B180=\"\",\"\",IF(VLOOKUP($B180,Scores,23,FALSE)=\"\",\"\",VLOOKUP($B180,Scores,23,FALSE)))","v":""},{"$f":"IF($B180=\"\",\"\",IF(VLOOKUP($B180,Scores,24,FALSE)=\"\",\"\",VLOOKUP($B180,Scores,24,FALSE)))","v":""},{"$f":"IF($B180=\"\",\"\",IF(VLOOKUP($B180,Scores,25,FALSE)=\"\",\"\",VLOOKUP($B180,Scores,25,FALSE)))","v":""},null,null,null,{"$f":"IF(OR(U179=\"\",U180=\"\"),\"\",IF(X181=\"E\",\"AS\",IF(X181>0,\"lost\",ABS(X181)&\" and \"&V181)))","v":""},{"$f":"IF(OR(U179=\"\",U180=\"\"),\"\",IF(Y180=\"1 and 0\",\"1-up\",IF(Y180=\"2 and 0\",\"2-up\",Y180)))","v":""}]
[null,"Score",null,{"$f":"IF(OR(D179=\"\",D180=\"\"),\"\", IF(D182>0,\"+\"&D182, IF(D182<0,D182,\"E\")))","v":""},"","","","","","","","","",{"$f":"IF(N179=\"\",\"\", IF(N180=\"\",\"\",IF(ABS(M182)>8,\"\", IF(N182>0,\"+\"&N182, IF(N182<0,N182,\"E\")))))","v":""},{"$f":"IF(O179=\"\",\"\", IF(O180=\"\",\"\",IF(ABS(N182)>7,\"\", IF(O182>0,\"+\"&O182, IF(O182<0,O182,\"E\")))))","v":""},{"$f":"IF(P179=\"\",\"\", IF(P180=\"\",\"\",IF(ABS(O182)>6,\"\", IF(P182>0,\"+\"&P182, IF(P182<0,P182,\"E\")))))","v":""},{"$f":"IF(Q179=\"\",\"\", IF(Q180=\"\",\"\",IF(ABS(P182)>5,\"\", IF(Q182>0,\"+\"&Q182, IF(Q182<0,Q182,\"E\")))))","v":""},{"$f":"IF(R179=\"\",\"\", IF(R180=\"\",\"\",IF(ABS(Q182)>4,\"\", IF(R182>0,\"+\"&R182, IF(R182<0,R182,\"E\")))))","v":""},{"$f":"IF(S179=\"\",\"\", IF(S180=\"\",\"\",IF(ABS(R182)>3,\"\", IF(S182>0,\"+\"&S182, IF(S182<0,S182,\"E\")))))","v":""},{"$f":"IF(T179=\"\",\"\", IF(T180=\"\",\"\",IF(ABS(S182)>2,\"\", IF(T182>0,\"+\"&T182, IF(T182<0,T182,\"E\")))))","v":""},{"$f":"IF(U179=\"\",\"\", IF(U180=\"\",\"\",IF(ABS(T182)>1,\"\", IF(U182>0,\"+\"&U182, IF(U182<0,U182,\"E\")))))","v":""},{"$f":"COUNTBLANK(M181:U181)","v":9},{"$f":"IF(U181<>\"\",U181,IF(T181<>\"\",T181,IF(S181<>\"\",S181,IF(R181<>\"\",R181,IF(Q181<>\"\",Q181,IF(P181<>\"\",P181,IF(O181<>\"\",O181,IF(N181<>\"\",N181,\"\"))))))))","v":""},{"$f":"IF(W181<>\"\",W181,M181)","v":""}]
[null,null,null,{"$f":"IF(D179<(D180+D183),1, IF(D179>(D180+D183),-1,0))","v":{"$error":"#VALUE!"}},{"$f":"IF(E179<(E180+E183),D182+1, IF(E179>(E180+E183),D182-1,D182))","v":{"$error":"#VALUE!"}},{"$error":"#VALUE!"},{"$error":"#VALUE!"},{"$error":"#VALUE!"},{"$error":"#VALUE!"},{"$error":"#VALUE!"},{"$error":"#VALUE!"},{"$error":"#VALUE!"},{"$error":"#VALUE!"},{"$error":"#VALUE!"},{"$error":"#VALUE!"},{"$error":"#VALUE!"},{"$error":"#VALUE!"},{"$error":"#VALUE!"},{"$error":"#VALUE!"},{"$error":"#VALUE!"},{"$error":"#VALUE!"}]
[null,null,null,{"$f":"IF($C179<$C180,-TRUNC(($C180-$C179-D$8+18)/18),TRUNC(($C179-$C180-D$8+18)/18))","v":{"$error":"#VALUE!"}},{"$f":"IF($C179<$C180,-TRUNC(($C180-$C179-E$8+18)/18),TRUNC(($C179-$C180-E$8+18)/18))","v":{"$error":"#VALUE!"}},{"$error":"#VALUE!"},{"$error":"#VALUE!"},{"$error":"#VALUE!"},{"$error":"#VALUE!"},{"$error":"#VALUE!"},{"$error":"#VALUE!"},{"$error":"#VALUE!"},{"$error":"#VALUE!"},{"$error":"#VALUE!"},{"$error":"#VALUE!"},{"$error":"#VALUE!"},{"$error":"#VALUE!"},{"$error":"#VALUE!"},{"$error":"#VALUE!"},{"$error":"#VALUE!"},{"$error":"#VALUE!"}]
[36,{"$f":"IF(Players!F153=\"\",\"\",Players!B153)","v":""},{"$f":"IF($B184=\"\",\"\",IF(VLOOKUP($B184,Members,9,FALSE)=\"\",\"\",(VLOOKUP($B184,Members,9,FALSE))))","v":""},{"$f":"IF($B184=\"\",\"\",IF(VLOOKUP($B184,Scores,7,FALSE)=\"\",\"\",VLOOKUP($B184,Scores,7,FALSE)))","v":""},{"$f":"IF($B184=\"\",\"\",IF(VLOOKUP($B184,Scores,8,FALSE)=\"\",\"\",VLOOKUP($B184,Scores,8,FALSE)))","v":""},{"$f":"IF($B184=\"\",\"\",IF(VLOOKUP($B184,Scores,9,FALSE)=\"\",\"\",VLOOKUP($B184,Scores,9,FALSE)))","v":""},{"$f":"IF($B184=\"\",\"\",IF(VLOOKUP($B184,Scores,10,FALSE)=\"\",\"\",VLOOKUP($B184,Scores,10,FALSE)))","v":""},{"$f":"IF($B184=\"\",\"\",IF(VLOOKUP($B184,Scores,11,FALSE)=\"\",\"\",VLOOKUP($B184,Scores,11,FALSE)))","v":""},{"$f":"IF($B184=\"\",\"\",IF(VLOOKUP($B184,Scores,12,FALSE)=\"\",\"\",VLOOKUP($B184,Scores,12,FALSE)))","v":""},{"$f":"IF($B184=\"\",\"\",IF(VLOOKUP($B184,Scores,13,FALSE)=\"\",\"\",VLOOKUP($B184,Scores,13,FALSE)))","v":""},{"$f":"IF($B184=\"\",\"\",IF(VLOOKUP($B184,Scores,14,FALSE)=\"\",\"\",VLOOKUP($B184,Scores,14,FALSE)))","v":""},{"$f":"IF($B184=\"\",\"\",IF(VLOOKUP($B184,Scores,15,FALSE)=\"\",\"\",VLOOKUP($B184,Scores,15,FALSE)))","v":""},{"$f":"IF($B184=\"\",\"\",IF(VLOOKUP($B184,Scores,17,FALSE)=\"\",\"\",VLOOKUP($B184,Scores,17,FALSE)))","v":""},{"$f":"IF($B184=\"\",\"\",IF(VLOOKUP($B184,Scores,18,FALSE)=\"\",\"\",VLOOKUP($B184,Scores,18,FALSE)))","v":""},{"$f":"IF($B184=\"\",\"\",IF(VLOOKUP($B184,Scores,19,FALSE)=\"\",\"\",VLOOKUP($B184,Scores,19,FALSE)))","v":""},{"$f":"IF($B184=\"\",\"\",IF(VLOOKUP($B184,Scores,20,FALSE)=\"\",\"\",VLOOKUP($B184,Scores,20,FALSE)))","v":""},{"$f":"IF($B184=\"\",\"\",IF(VLOOKUP($B184,Scores,21,FALSE)=\"\",\"\",VLOOKUP($B184,Scores,21,FALSE)))","v":""},{"$f":"IF($B184=\"\",\"\",IF(VLOOKUP($B184,Scores,22,FALSE)=\"\",\"\",VLOOKUP($B184,Scores,22,FALSE)))","v":""},{"$f":"IF($B184=\"\",\"\",IF(VLOOKUP($B184,Scores,23,FALSE)=\"\",\"\",VLOOKUP($B184,Scores,23,FALSE)))","v":""},{"$f":"IF($B184=\"\",\"\",IF(VLOOKUP($B184,Scores,24,FALSE)=\"\",\"\",VLOOKUP($B184,Scores,24,FALSE)))","v":""},{"$f":"IF($B184=\"\",\"\",IF(VLOOKUP($B184,Scores,25,FALSE)=\"\",\"\",VLOOKUP($B184,Scores,25,FALSE)))","v":""},null,null,null,{"$f":"IF(OR(U184=\"\",U185=\"\"),\"\",IF(X186=\"E\",\"AS\",IF(X186<0,\"lost\",ABS(X186)&\" and \"&V186)))","v":""},{"$f":"IF(OR(U184=\"\",U185=\"\"),\"\",IF(Y184=\"1 and 0\",\"1-up\",IF(Y184=\"2 and 0\",\"2-up\",Y184)))","v":""}]
[null,{"$f":"IF(B184=\"\",\"\",Players!F153)","v":""},{"$f":"IF($B185=\"\",\"\",IF(VLOOKUP($B185,Members,9,FALSE)=\"\",\"\",(VLOOKUP($B185,Members,9,FALSE))))","v":""},{"$f":"IF($B185=\"\",\"\",IF(VLOOKUP($B185,Scores,7,FALSE)=\"\",\"\",VLOOKUP($B185,Scores,7,FALSE)))","v":""},{"$f":"IF($B185=\"\",\"\",IF(VLOOKUP($B185,Scores,8,FALSE)=\"\",\"\",VLOOKUP($B185,Scores,8,FALSE)))","v":""},{"$f":"IF($B185=\"\",\"\",IF(VLOOKUP($B185,Scores,9,FALSE)=\"\",\"\",VLOOKUP($B185,Scores,9,FALSE)))","v":""},{"$f":"IF($B185=\"\",\"\",IF(VLOOKUP($B185,Scores,10,FALSE)=\"\",\"\",VLOOKUP($B185,Scores,10,FALSE)))","v":""},{"$f":"IF($B185=\"\",\"\",IF(VLOOKUP($B185,Scores,11,FALSE)=\"\",\"\",VLOOKUP($B185,Scores,11,FALSE)))","v":""},{"$f":"IF($B185=\"\",\"\",IF(VLOOKUP($B185,Scores,12,FALSE)=\"\",\"\",VLOOKUP($B185,Scores,12,FALSE)))","v":""},{"$f":"IF($B185=\"\",\"\",IF(VLOOKUP($B185,Scores,13,FALSE)=\"\",\"\",VLOOKUP($B185,Scores,13,FALSE)))","v":""},{"$f":"IF($B185=\"\",\"\",IF(VLOOKUP($B185,Scores,14,FALSE)=\"\",\"\",VLOOKUP($B185,Scores,14,FALSE)))","v":""},{"$f":"IF($B185=\"\",\"\",IF(VLOOKUP($B185,Scores,15,FALSE)=\"\",\"\",VLOOKUP($B185,Scores,15,FALSE)))","v":""},{"$f":"IF($B185=\"\",\"\",IF(VLOOKUP($B185,Scores,17,FALSE)=\"\",\"\",VLOOKUP($B185,Scores,17,FALSE)))","v":""},{"$f":"IF($B185=\"\",\"\",IF(VLOOKUP($B185,Scores,18,FALSE)=\"\",\"\",VLOOKUP($B185,Scores,18,FALSE)))","v":""},{"$f":"IF($B185=\"\",\"\",IF(VLOOKUP($B185,Scores,19,FALSE)=\"\",\"\",VLOOKUP($B185,Scores,19,FALSE)))","v":""},{"$f":"IF($B185=\"\",\"\",IF(VLOOKUP($B185,Scores,20,FALSE)=\"\",\"\",VLOOKUP($B185,Scores,20,FALSE)))","v":""},{"$f":"IF($B185=\"\",\"\",IF(VLOOKUP($B185,Scores,21,FALSE)=\"\",\"\",VLOOKUP($B185,Scores,21,FALSE)))","v":""},{"$f":"IF($B185=\"\",\"\",IF(VLOOKUP($B185,Scores,22,FALSE)=\"\",\"\",VLOOKUP($B185,Scores,22,FALSE)))","v":""},{"$f":"IF($B185=\"\",\"\",IF(VLOOKUP($B185,Scores,23,FALSE)=\"\",\"\",VLOOKUP($B185,Scores,23,FALSE)))","v":""},{"$f":"IF($B185=\"\",\"\",IF(VLOOKUP($B185,Scores,24,FALSE)=\"\",\"\",VLOOKUP($B185,Scores,24,FALSE)))","v":""},{"$f":"IF($B185=\"\",\"\",IF(VLOOKUP($B185,Scores,25,FALSE)=\"\",\"\",VLOOKUP($B185,Scores,25,FALSE)))","v":""},null,null,null,{"$f":"IF(OR(U184=\"\",U185=\"\"),\"\",IF(X186=\"E\",\"AS\",IF(X186>0,\"lost\",ABS(X186)&\" and \"&V186)))","v":""},{"$f":"IF(OR(U184=\"\",U185=\"\"),\"\",IF(Y185=\"1 and 0\",\"1-up\",IF(Y185=\"2 and 0\",\"2-up\",Y185)))","v":""}]
[null,"Score",null,{"$f":"IF(OR(D184=\"\",D185=\"\"),\"\", IF(D187>0,\"+\"&D187, IF(D187<0,D187,\"E\")))","v":""},"","","","","","","","","",{"$f":"IF(N184=\"\",\"\", IF(N185=\"\",\"\",IF(ABS(M187)>8,\"\", IF(N187>0,\"+\"&N187, IF(N187<0,N187,\"E\")))))","v":""},{"$f":"IF(O184=\"\",\"\", IF(O185=\"\",\"\",IF(ABS(N187)>7,\"\", IF(O187>0,\"+\"&O187, IF(O187<0,O187,\"E\")))))","v":""},{"$f":"IF(P184=\"\",\"\", IF(P185=\"\",\"\",IF(ABS(O187)>6,\"\", IF(P187>0,\"+\"&P187, IF(P187<0,P187,\"E\")))))","v":""},{"$f":"IF(Q184=\"\",\"\", IF(Q185=\"\",\"\",IF(ABS(P187)>5,\"\", IF(Q187>0,\"+\"&Q187, IF(Q187<0,Q187,\"E\")))))","v":""},{"$f":"IF(R184=\"\",\"\", IF(R185=\"\",\"\",IF(ABS(Q187)>4,\"\", IF(R187>0,\"+\"&R187, IF(R187<0,R187,\"E\")))))","v":""},{"$f":"IF(S184=\"\",\"\", IF(S185=\"\",\"\",IF(ABS(R187)>3,\"\", IF(S187>0,\"+\"&S187, IF(S187<0,S187,\"E\")))))","v":""},{"$f":"IF(T184=\"\",\"\", IF(T185=\"\",\"\",IF(ABS(S187)>2,\"\", IF(T187>0,\"+\"&T187, IF(T187<0,T187,\"E\")))))","v":""},{"$f":"IF(U184=\"\",\"\", IF(U185=\"\",\"\",IF(ABS(T187)>1,\"\", IF(U187>0,\"+\"&U187, IF(U187<0,U187,\"E\")))))","v":""},{"$f":"COUNTBLANK(M186:U186)","v":9},{"$f":"IF(U186<>\"\",U186,IF(T186<>\"\",T186,IF(S186<>\"\",S186,IF(R186<>\"\",R186,IF(Q186<>\"\",Q186,IF(P186<>\"\",P186,IF(O186<>\"\",O186,IF(N186<>\"\",N186,\"\"))))))))","v":""},{"$f":"IF(W186<>\"\",W186,M186)","v":""}]
[null,null,null,{"$f":"IF(D184<(D185+D188),1, IF(D184>(D185+D188),-1,0))","v":{"$error":"#VALUE!"}},{"$f":"IF(E184<(E185+E188),D187+1, IF(E184>(E185+E188),D187-1,D187))","v":{"$error":"#VALUE!"}},{"$error":"#VALUE!"},{"$error":"#VALUE!"},{"$error":"#VALUE!"},{"$error":"#VALUE!"},{"$error":"#VALUE!"},{"$error":"#VALUE!"},{"$error":"#VALUE!"},{"$error":"#VALUE!"},{"$error":"#VALUE!"},{"$error":"#VALUE!"},{"$error":"#VALUE!"},{"$error":"#VALUE!"},{"$error":"#VALUE!"},{"$error":"#VALUE!"},{"$error":"#VALUE!"},{"$error":"#VALUE!"}]
[null,null,null,{"$f":"IF($C184<$C185,-TRUNC(($C185-$C184-D$8+18)/18),TRUNC(($C184-$C185-D$8+18)/18))","v":{"$error":"#VALUE!"}},{"$f":"IF($C184<$C185,-TRUNC(($C185-$C184-E$8+18)/18),TRUNC(($C184-$C185-E$8+18)/18))","v":{"$error":"#VALUE!"}},{"$error":"#VALUE!"},{"$error":"#VALUE!"},{"$error":"#VALUE!"},{"$error":"#VALUE!"},{"$error":"#VALUE!"},{"$error":"#VALUE!"},{"$error":"#VALUE!"},{"$error":"#VALUE!"},{"$error":"#VALUE!"},{"$error":"#VALUE!"},{"$error":"#VALUE!"},{"$error":"#VALUE!"},{"$error":"#VALUE!"},{"$error":"#VALUE!"},{"$error":"#VALUE!"},{"$error":"#VALUE!"}]
[37,{"$f":"IF(Players!F155=\"\",\"\",Players!B155)","v":""},{"$f":"IF($B189=\"\",\"\",IF(VLOOKUP($B189,Members,9,FALSE)=\"\",\"\",(VLOOKUP($B189,Members,9,FALSE))))","v":""},{"$f":"IF($B189=\"\",\"\",IF(VLOOKUP($B189,Scores,7,FALSE)=\"\",\"\",VLOOKUP($B189,Scores,7,FALSE)))","v":""},{"$f":"IF($B189=\"\",\"\",IF(VLOOKUP($B189,Scores,8,FALSE)=\"\",\"\",VLOOKUP($B189,Scores,8,FALSE)))","v":""},{"$f":"IF($B189=\"\",\"\",IF(VLOOKUP($B189,Scores,9,FALSE)=\"\",\"\",VLOOKUP($B189,Scores,9,FALSE)))","v":""},{"$f":"IF($B189=\"\",\"\",IF(VLOOKUP($B189,Scores,10,FALSE)=\"\",\"\",VLOOKUP($B189,Scores,10,FALSE)))","v":""},{"$f":"IF($B189=\"\",\"\",IF(VLOOKUP($B189,Scores,11,FALSE)=\"\",\"\",VLOOKUP($B189,Scores,11,FALSE)))","v":""},{"$f":"IF($B189=\"\",\"\",IF(VLOOKUP($B189,Scores,12,FALSE)=\"\",\"\",VLOOKUP($B189,Scores,12,FALSE)))","v":""},{"$f":"IF($B189=\"\",\"\",IF(VLOOKUP($B189,Scores,13,FALSE)=\"\",\"\",VLOOKUP($B189,Scores,13,FALSE)))","v":""},{"$f":"IF($B189=\"\",\"\",IF(VLOOKUP($B189,Scores,14,FALSE)=\"\",\"\",VLOOKUP($B189,Scores,14,FALSE)))","v":""},{"$f":"IF($B189=\"\",\"\",IF(VLOOKUP($B189,Scores,15,FALSE)=\"\",\"\",VLOOKUP($B189,Scores,15,FALSE)))","v":""},{"$f":"IF($B189=\"\",\"\",IF(VLOOKUP($B189,Scores,17,FALSE)=\"\",\"\",VLOOKUP($B189,Scores,17,FALSE)))","v":""},{"$f":"IF($B189=\"\",\"\",IF(VLOOKUP($B189,Scores,18,FALSE)=\"\",\"\",VLOOKUP($B189,Scores,18,FALSE)))","v":""},{"$f":"IF($B189=\"\",\"\",IF(VLOOKUP($B189,Scores,19,FALSE)=\"\",\"\",VLOOKUP($B189,Scores,19,FALSE)))","v":""},{"$f":"IF($B189=\"\",\"\",IF(VLOOKUP($B189,Scores,20,FALSE)=\"\",\"\",VLOOKUP($B189,Scores,20,FALSE)))","v":""},{"$f":"IF($B189=\"\",\"\",IF(VLOOKUP($B189,Scores,21,FALSE)=\"\",\"\",VLOOKUP($B189,Scores,21,FALSE)))","v":""},{"$f":"IF($B189=\"\",\"\",IF(VLOOKUP($B189,Scores,22,FALSE)=\"\",\"\",VLOOKUP($B189,Scores,22,FALSE)))","v":""},{"$f":"IF($B189=\"\",\"\",IF(VLOOKUP($B189,Scores,23,FALSE)=\"\",\"\",VLOOKUP($B189,Scores,23,FALSE)))","v":""},{"$f":"IF($B189=\"\",\"\",IF(VLOOKUP($B189,Scores,24,FALSE)=\"\",\"\",VLOOKUP($B189,Scores,24,FALSE)))","v":""},{"$f":"IF($B189=\"\",\"\",IF(VLOOKUP($B189,Scores,25,FALSE)=\"\",\"\",VLOOKUP($B189,Scores,25,FALSE)))","v":""},null,null,null,{"$f":"IF(OR(U189=\"\",U190=\"\"),\"\",IF(X191=\"E\",\"AS\",IF(X191<0,\"lost\",ABS(X191)&\" and \"&V191)))","v":""},{"$f":"IF(OR(U189=\"\",U190=\"\"),\"\",IF(Y189=\"1 and 0\",\"1-up\",IF(Y189=\"2 and 0\",\"2-up\",Y189)))","v":""}]
[null,{"$f":"IF(B189=\"\",\"\",Players!F155)","v":""},{"$f":"IF($B190=\"\",\"\",IF(VLOOKUP($B190,Members,9,FALSE)=\"\",\"\",(VLOOKUP($B190,Members,9,FALSE))))","v":""},{"$f":"IF($B190=\"\",\"\",IF(VLOOKUP($B190,Scores,7,FALSE)=\"\",\"\",VLOOKUP($B190,Scores,7,FALSE)))","v":""},{"$f":"IF($B190=\"\",\"\",IF(VLOOKUP($B190,Scores,8,FALSE)=\"\",\"\",VLOOKUP($B190,Scores,8,FALSE)))","v":""},{"$f":"IF($B190=\"\",\"\",IF(VLOOKUP($B190,Scores,9,FALSE)=\"\",\"\",VLOOKUP($B190,Scores,9,FALSE)))","v":""},{"$f":"IF($B190=\"\",\"\",IF(VLOOKUP($B190,Scores,10,FALSE)=\"\",\"\",VLOOKUP($B190,Scores,10,FALSE)))","v":""},{"$f":"IF($B190=\"\",\"\",IF(VLOOKUP($B190,Scores,11,FALSE)=\"\",\"\",VLOOKUP($B190,Scores,11,FALSE)))","v":""},{"$f":"IF($B190=\"\",\"\",IF(VLOOKUP($B190,Scores,12,FALSE)=\"\",\"\",VLOOKUP($B190,Scores,12,FALSE)))","v":""},{"$f":"IF($B190=\"\",\"\",IF(VLOOKUP($B190,Scores,13,FALSE)=\"\",\"\",VLOOKUP($B190,Scores,13,FALSE)))","v":""},{"$f":"IF($B190=\"\",\"\",IF(VLOOKUP($B190,Scores,14,FALSE)=\"\",\"\",VLOOKUP($B190,Scores,14,FALSE)))","v":""},{"$f":"IF($B190=\"\",\"\",IF(VLOOKUP($B190,Scores,15,FALSE)=\"\",\"\",VLOOKUP($B190,Scores,15,FALSE)))","v":""},{"$f":"IF($B190=\"\",\"\",IF(VLOOKUP($B190,Scores,17,FALSE)=\"\",\"\",VLOOKUP($B190,Scores,17,FALSE)))","v":""},{"$f":"IF($B190=\"\",\"\",IF(VLOOKUP($B190,Scores,18,FALSE)=\"\",\"\",VLOOKUP($B190,Scores,18,FALSE)))","v":""},{"$f":"IF($B190=\"\",\"\",IF(VLOOKUP($B190,Scores,19,FALSE)=\"\",\"\",VLOOKUP($B190,Scores,19,FALSE)))","v":""},{"$f":"IF($B190=\"\",\"\",IF(VLOOKUP($B190,Scores,20,FALSE)=\"\",\"\",VLOOKUP($B190,Scores,20,FALSE)))","v":""},{"$f":"IF($B190=\"\",\"\",IF(VLOOKUP($B190,Scores,21,FALSE)=\"\",\"\",VLOOKUP($B190,Scores,21,FALSE)))","v":""},{"$f":"IF($B190=\"\",\"\",IF(VLOOKUP($B190,Scores,22,FALSE)=\"\",\"\",VLOOKUP($B190,Scores,22,FALSE)))","v":""},{"$f":"IF($B190=\"\",\"\",IF(VLOOKUP($B190,Scores,23,FALSE)=\"\",\"\",VLOOKUP($B190,Scores,23,FALSE)))","v":""},{"$f":"IF($B190=\"\",\"\",IF(VLOOKUP($B190,Scores,24,FALSE)=\"\",\"\",VLOOKUP($B190,Scores,24,FALSE)))","v":""},{"$f":"IF($B190=\"\",\"\",IF(VLOOKUP($B190,Scores,25,FALSE)=\"\",\"\",VLOOKUP($B190,Scores,25,FALSE)))","v":""},null,null,null,{"$f":"IF(OR(U189=\"\",U190=\"\"),\"\",IF(X191=\"E\",\"AS\",IF(X191>0,\"lost\",ABS(X191)&\" and \"&V191)))","v":""},{"$f":"IF(OR(U189=\"\",U190=\"\"),\"\",IF(Y190=\"1 and 0\",\"1-up\",IF(Y190=\"2 and 0\",\"2-up\",Y190)))","v":""}]
[null,"Score",null,{"$f":"IF(OR(D189=\"\",D190=\"\"),\"\", IF(D192>0,\"+\"&D192, IF(D192<0,D192,\"E\")))","v":""},"","","","","","","","","",{"$f":"IF(N189=\"\",\"\", IF(N190=\"\",\"\",IF(ABS(M192)>8,\"\", IF(N192>0,\"+\"&N192, IF(N192<0,N192,\"E\")))))","v":""},{"$f":"IF(O189=\"\",\"\", IF(O190=\"\",\"\",IF(ABS(N192)>7,\"\", IF(O192>0,\"+\"&O192, IF(O192<0,O192,\"E\")))))","v":""},{"$f":"IF(P189=\"\",\"\", IF(P190=\"\",\"\",IF(ABS(O192)>6,\"\", IF(P192>0,\"+\"&P192, IF(P192<0,P192,\"E\")))))","v":""},{"$f":"IF(Q189=\"\",\"\", IF(Q190=\"\",\"\",IF(ABS(P192)>5,\"\", IF(Q192>0,\"+\"&Q192, IF(Q192<0,Q192,\"E\")))))","v":""},{"$f":"IF(R189=\"\",\"\", IF(R190=\"\",\"\",IF(ABS(Q192)>4,\"\", IF(R192>0,\"+\"&R192, IF(R192<0,R192,\"E\")))))","v":""},{"$f":"IF(S189=\"\",\"\", IF(S190=\"\",\"\",IF(ABS(R192)>3,\"\", IF(S192>0,\"+\"&S192, IF(S192<0,S192,\"E\")))))","v":""},{"$f":"IF(T189=\"\",\"\", IF(T190=\"\",\"\",IF(ABS(S192)>2,\"\", IF(T192>0,\"+\"&T192, IF(T192<0,T192,\"E\")))))","v":""},{"$f":"IF(U189=\"\",\"\", IF(U190=\"\",\"\",IF(ABS(T192)>1,\"\", IF(U192>0,\"+\"&U192, IF(U192<0,U192,\"E\")))))","v":""},{"$f":"COUNTBLANK(M191:U191)","v":9},{"$f":"IF(U191<>\"\",U191,IF(T191<>\"\",T191,IF(S191<>\"\",S191,IF(R191<>\"\",R191,IF(Q191<>\"\",Q191,IF(P191<>\"\",P191,IF(O191<>\"\",O191,IF(N191<>\"\",N191,\"\"))))))))","v":""},{"$f":"IF(W191<>\"\",W191,M191)","v":""}]
[null,null,null,{"$f":"IF(D189<(D190+D193),1, IF(D189>(D190+D193),-1,0))","v":{"$error":"#VALUE!"}},{"$f":"IF(E189<(E190+E193),D192+1, IF(E189>(E190+E193),D192-1,D192))","v":{"$error":"#VALUE!"}},{"$error":"#VALUE!"},{"$error":"#VALUE!"},{"$error":"#VALUE!"},{"$error":"#VALUE!"},{"$error":"#VALUE!"},{"$error":"#VALUE!"},{"$error":"#VALUE!"},{"$error":"#VALUE!"},{"$error":"#VALUE!"},{"$error":"#VALUE!"},{"$error":"#VALUE!"},{"$error":"#VALUE!"},{"$error":"#VALUE!"},{"$error":"#VALUE!"},{"$error":"#VALUE!"},{"$error":"#VALUE!"}]
[null,null,null,{"$f":"IF($C189<$C190,-TRUNC(($C190-$C189-D$8+18)/18),TRUNC(($C189-$C190-D$8+18)/18))","v":{"$error":"#VALUE!"}},{"$f":"IF($C189<$C190,-TRUNC(($C190-$C189-E$8+18)/18),TRUNC(($C189-$C190-E$8+18)/18))","v":{"$error":"#VALUE!"}},{"$error":"#VALUE!"},{"$error":"#VALUE!"},{"$error":"#VALUE!"},{"$error":"#VALUE!"},{"$error":"#VALUE!"},{"$error":"#VALUE!"},{"$error":"#VALUE!"},{"$error":"#VALUE!"},{"$error":"#VALUE!"},{"$error":"#VALUE!"},{"$error":"#VALUE!"},{"$error":"#VALUE!"},{"$error":"#VALUE!"},{"$error":"#VALUE!"},{"$error":"#VALUE!"},{"$error":"#VALUE!"}]
[38,{"$f":"IF(Players!F157=\"\",\"\",Players!B157)","v":""},{"$f":"IF($B194=\"\",\"\",IF(VLOOKUP($B194,Members,9,FALSE)=\"\",\"\",(VLOOKUP($B194,Members,9,FALSE))))","v":""},{"$f":"IF($B194=\"\",\"\",IF(VLOOKUP($B194,Scores,7,FALSE)=\"\",\"\",VLOOKUP($B194,Scores,7,FALSE)))","v":""},{"$f":"IF($B194=\"\",\"\",IF(VLOOKUP($B194,Scores,8,FALSE)=\"\",\"\",VLOOKUP($B194,Scores,8,FALSE)))","v":""},{"$f":"IF($B194=\"\",\"\",IF(VLOOKUP($B194,Scores,9,FALSE)=\"\",\"\",VLOOKUP($B194,Scores,9,FALSE)))","v":""},{"$f":"IF($B194=\"\",\"\",IF(VLOOKUP($B194,Scores,10,FALSE)=\"\",\"\",VLOOKUP($B194,Scores,10,FALSE)))","v":""},{"$f":"IF($B194=\"\",\"\",IF(VLOOKUP($B194,Scores,11,FALSE)=\"\",\"\",VLOOKUP($B194,Scores,11,FALSE)))","v":""},{"$f":"IF($B194=\"\",\"\",IF(VLOOKUP($B194,Scores,12,FALSE)=\"\",\"\",VLOOKUP($B194,Scores,12,FALSE)))","v":""},{"$f":"IF($B194=\"\",\"\",IF(VLOOKUP($B194,Scores,13,FALSE)=\"\",\"\",VLOOKUP($B194,Scores,13,FALSE)))","v":""},{"$f":"IF($B194=\"\",\"\",IF(VLOOKUP($B194,Scores,14,FALSE)=\"\",\"\",VLOOKUP($B194,Scores,14,FALSE)))","v":""},{"$f":"IF($B194=\"\",\"\",IF(VLOOKUP($B194,Scores,15,FALSE)=\"\",\"\",VLOOKUP($B194,Scores,15,FALSE)))","v":""},{"$f":"IF($B194=\"\",\"\",IF(VLOOKUP($B194,Scores,17,FALSE)=\"\",\"\",VLOOKUP($B194,Scores,17,FALSE)))","v":""},{"$f":"IF($B194=\"\",\"\",IF(VLOOKUP($B194,Scores,18,FALSE)=\"\",\"\",VLOOKUP($B194,Scores,18,FALSE)))","v":""},{"$f":"IF($B194=\"\",\"\",IF(VLOOKUP($B194,Scores,19,FALSE)=\"\",\"\",VLOOKUP($B194,Scores,19,FALSE)))","v":""},{"$f":"IF($B194=\"\",\"\",IF(VLOOKUP($B194,Scores,20,FALSE)=\"\",\"\",VLOOKUP($B194,Scores,20,FALSE)))","v":""},{"$f":"IF($B194=\"\",\"\",IF(VLOOKUP($B194,Scores,21,FALSE)=\"\",\"\",VLOOKUP($B194,Scores,21,FALSE)))","v":""},{"$f":"IF($B194=\"\",\"\",IF(VLOOKUP($B194,Scores,22,FALSE)=\"\",\"\",VLOOKUP($B194,Scores,22,FALSE)))","v":""},{"$f":"IF($B194=\"\",\"\",IF(VLOOKUP($B194,Scores,23,FALSE)=\"\",\"\",VLOOKUP($B194,Scores,23,FALSE)))","v":""},{"$f":"IF($B194=\"\",\"\",IF(VLOOKUP($B194,Scores,24,FALSE)=\"\",\"\",VLOOKUP($B194,Scores,24,FALSE)))","v":""},{"$f":"IF($B194=\"\",\"\",IF(VLOOKUP($B194,Scores,25,FALSE)=\"\",\"\",VLOOKUP($B194,Scores,25,FALSE)))","v":""},null,null,null,{"$f":"IF(OR(U194=\"\",U195=\"\"),\"\",IF(X196=\"E\",\"AS\",IF(X196<0,\"lost\",ABS(X196)&\" and \"&V196)))","v":""},{"$f":"IF(OR(U194=\"\",U195=\"\"),\"\",IF(Y194=\"1 and 0\",\"1-up\",IF(Y194=\"2 and 0\",\"2-up\",Y194)))","v":""}]
[null,{"$f":"IF(B194=\"\",\"\",Players!F157)","v":""},{"$f":"IF($B195=\"\",\"\",IF(VLOOKUP($B195,Members,9,FALSE)=\"\",\"\",(VLOOKUP($B195,Members,9,FALSE))))","v":""},{"$f":"IF($B195=\"\",\"\",IF(VLOOKUP($B195,Scores,7,FALSE)=\"\",\"\",VLOOKUP($B195,Scores,7,FALSE)))","v":""},{"$f":"IF($B195=\"\",\"\",IF(VLOOKUP($B195,Scores,8,FALSE)=\"\",\"\",VLOOKUP($B195,Scores,8,FALSE)))","v":""},{"$f":"IF($B195=\"\",\"\",IF(VLOOKUP($B195,Scores,9,FALSE)=\"\",\"\",VLOOKUP($B195,Scores,9,FALSE)))","v":""},{"$f":"IF($B195=\"\",\"\",IF(VLOOKUP($B195,Scores,10,FALSE)=\"\",\"\",VLOOKUP($B195,Scores,10,FALSE)))","v":""},{"$f":"IF($B195=\"\",\"\",IF(VLOOKUP($B195,Scores,11,FALSE)=\"\",\"\",VLOOKUP($B195,Scores,11,FALSE)))","v":""},{"$f":"IF($B195=\"\",\"\",IF(VLOOKUP($B195,Scores,12,FALSE)=\"\",\"\",VLOOKUP($B195,Scores,12,FALSE)))","v":""},{"$f":"IF($B195=\"\",\"\",IF(VLOOKUP($B195,Scores,13,FALSE)=\"\",\"\",VLOOKUP($B195,Scores,13,FALSE)))","v":""},{"$f":"IF($B195=\"\",\"\",IF(VLOOKUP($B195,Scores,14,FALSE)=\"\",\"\",VLOOKUP($B195,Scores,14,FALSE)))","v":""},{"$f":"IF($B195=\"\",\"\",IF(VLOOKUP($B195,Scores,15,FALSE)=\"\",\"\",VLOOKUP($B195,Scores,15,FALSE)))","v":""},{"$f":"IF($B195=\"\",\"\",IF(VLOOKUP($B195,Scores,17,FALSE)=\"\",\"\",VLOOKUP($B195,Scores,17,FALSE)))","v":""},{"$f":"IF($B195=\"\",\"\",IF(VLOOKUP($B195,Scores,18,FALSE)=\"\",\"\",VLOOKUP($B195,Scores,18,FALSE)))","v":""},{"$f":"IF($B195=\"\",\"\",IF(VLOOKUP($B195,Scores,19,FALSE)=\"\",\"\",VLOOKUP($B195,Scores,19,FALSE)))","v":""},{"$f":"IF($B195=\"\",\"\",IF(VLOOKUP($B195,Scores,20,FALSE)=\"\",\"\",VLOOKUP($B195,Scores,20,FALSE)))","v":""},{"$f":"IF($B195=\"\",\"\",IF(VLOOKUP($B195,Scores,21,FALSE)=\"\",\"\",VLOOKUP($B195,Scores,21,FALSE)))","v":""},{"$f":"IF($B195=\"\",\"\",IF(VLOOKUP($B195,Scores,22,FALSE)=\"\",\"\",VLOOKUP($B195,Scores,22,FALSE)))","v":""},{"$f":"IF($B195=\"\",\"\",IF(VLOOKUP($B195,Scores,23,FALSE)=\"\",\"\",VLOOKUP($B195,Scores,23,FALSE)))","v":""},{"$f":"IF($B195=\"\",\"\",IF(VLOOKUP($B195,Scores,24,FALSE)=\"\",\"\",VLOOKUP($B195,Scores,24,FALSE)))","v":""},{"$f":"IF($B195=\"\",\"\",IF(VLOOKUP($B195,Scores,25,FALSE)=\"\",\"\",VLOOKUP($B195,Scores,25,FALSE)))","v":""},null,null,null,{"$f":"IF(OR(U194=\"\",U195=\"\"),\"\",IF(X196=\"E\",\"AS\",IF(X196>0,\"lost\",ABS(X196)&\" and \"&V196)))","v":""},{"$f":"IF(OR(U194=\"\",U195=\"\"),\"\",IF(Y195=\"1 and 0\",\"1-up\",IF(Y195=\"2 and 0\",\"2-up\",Y195)))","v":""}]
[null,"Score",null,{"$f":"IF(OR(D194=\"\",D195=\"\"),\"\", IF(D197>0,\"+\"&D197, IF(D197<0,D197,\"E\")))","v":""},"","","","","","","","","",{"$f":"IF(N194=\"\",\"\", IF(N195=\"\",\"\",IF(ABS(M197)>8,\"\", IF(N197>0,\"+\"&N197, IF(N197<0,N197,\"E\")))))","v":""},{"$f":"IF(O194=\"\",\"\", IF(O195=\"\",\"\",IF(ABS(N197)>7,\"\", IF(O197>0,\"+\"&O197, IF(O197<0,O197,\"E\")))))","v":""},{"$f":"IF(P194=\"\",\"\", IF(P195=\"\",\"\",IF(ABS(O197)>6,\"\", IF(P197>0,\"+\"&P197, IF(P197<0,P197,\"E\")))))","v":""},{"$f":"IF(Q194=\"\",\"\", IF(Q195=\"\",\"\",IF(ABS(P197)>5,\"\", IF(Q197>0,\"+\"&Q197, IF(Q197<0,Q197,\"E\")))))","v":""},{"$f":"IF(R194=\"\",\"\", IF(R195=\"\",\"\",IF(ABS(Q197)>4,\"\", IF(R197>0,\"+\"&R197, IF(R197<0,R197,\"E\")))))","v":""},{"$f":"IF(S194=\"\",\"\", IF(S195=\"\",\"\",IF(ABS(R197)>3,\"\", IF(S197>0,\"+\"&S197, IF(S197<0,S197,\"E\")))))","v":""},{"$f":"IF(T194=\"\",\"\", IF(T195=\"\",\"\",IF(ABS(S197)>2,\"\", IF(T197>0,\"+\"&T197, IF(T197<0,T197,\"E\")))))","v":""},{"$f":"IF(U194=\"\",\"\", IF(U195=\"\",\"\",IF(ABS(T197)>1,\"\", IF(U197>0,\"+\"&U197, IF(U197<0,U197,\"E\")))))","v":""},{"$f":"COUNTBLANK(M196:U196)","v":9},{"$f":"IF(U196<>\"\",U196,IF(T196<>\"\",T196,IF(S196<>\"\",S196,IF(R196<>\"\",R196,IF(Q196<>\"\",Q196,IF(P196<>\"\",P196,IF(O196<>\"\",O196,IF(N196<>\"\",N196,\"\"))))))))","v":""},{"$f":"IF(W196<>\"\",W196,M196)","v":""}]
[null,null,null,{"$f":"IF(D194<(D195+D198),1, IF(D194>(D195+D198),-1,0))","v":{"$error":"#VALUE!"}},{"$f":"IF(E194<(E195+E198),D197+1, IF(E194>(E195+E198),D197-1,D197))","v":{"$error":"#VALUE!"}},{"$error":"#VALUE!"},{"$error":"#VALUE!"},{"$error":"#VALUE!"},{"$error":"#VALUE!"},{"$error":"#VALUE!"},{"$error":"#VALUE!"},{"$error":"#VALUE!"},{"$error":"#VALUE!"},{"$error":"#VALUE!"},{"$error":"#VALUE!"},{"$error":"#VALUE!"},{"$error":"#VALUE!"},{"$error":"#VALUE!"},{"$error":"#VALUE!"},{"$error":"#VALUE!"},{"$error":"#VALUE!"}]
[null,null,null,{"$f":"IF($C194<$C195,-TRUNC(($C195-$C194-D$8+18)/18),TRUNC(($C194-$C195-D$8+18)/18))","v":{"$error":"#VALUE!"}},{"$f":"IF($C194<$C195,-TRUNC(($C195-$C194-E$8+18)/18),TRUNC(($C194-$C195-E$8+18)/18))","v":{"$error":"#VALUE!"}},{"$error":"#VALUE!"},{"$error":"#VALUE!"},{"$error":"#VALUE!"},{"$error":"#VALUE!"},{"$error":"#VALUE!"},{"$error":"#VALUE!"},{"$error":"#VALUE!"},{"$error":"#VALUE!"},{"$error":"#VALUE!"},{"$error":"#VALUE!"},{"$error":"#VALUE!"},{"$error":"#VALUE!"},{"$error":"#VALUE!"},{"$error":"#VALUE!"},{"$error":"#VALUE!"},{"$error":"#VALUE!"}]
[39,{"$f":"IF(Players!F159=\"\",\"\",Players!B159)","v":""},{"$f":"IF($B199=\"\",\"\",IF(VLOOKUP($B199,Members,9,FALSE)=\"\",\"\",(VLOOKUP($B199,Members,9,FALSE))))","v":""},{"$f":"IF($B199=\"\",\"\",IF(VLOOKUP($B199,Scores,7,FALSE)=\"\",\"\",VLOOKUP($B199,Scores,7,FALSE)))","v":""},{"$f":"IF($B199=\"\",\"\",IF(VLOOKUP($B199,Scores,8,FALSE)=\"\",\"\",VLOOKUP($B199,Scores,8,FALSE)))","v":""},{"$f":"IF($B199=\"\",\"\",IF(VLOOKUP($B199,Scores,9,FALSE)=\"\",\"\",VLOOKUP($B199,Scores,9,FALSE)))","v":""},{"$f":"IF($B199=\"\",\"\",IF(VLOOKUP($B199,Scores,10,FALSE)=\"\",\"\",VLOOKUP($B199,Scores,10,FALSE)))","v":""},{"$f":"IF($B199=\"\",\"\",IF(VLOOKUP($B199,Scores,11,FALSE)=\"\",\"\",VLOOKUP($B199,Scores,11,FALSE)))","v":""},{"$f":"IF($B199=\"\",\"\",IF(VLOOKUP($B199,Scores,12,FALSE)=\"\",\"\",VLOOKUP($B199,Scores,12,FALSE)))","v":""},{"$f":"IF($B199=\"\",\"\",IF(VLOOKUP($B199,Scores,13,FALSE)=\"\",\"\",VLOOKUP($B199,Scores,13,FALSE)))","v":""},{"$f":"IF($B199=\"\",\"\",IF(VLOOKUP($B199,Scores,14,FALSE)=\"\",\"\",VLOOKUP($B199,Scores,14,FALSE)))","v":""},{"$f":"IF($B199=\"\",\"\",IF(VLOOKUP($B199,Scores,15,FALSE)=\"\",\"\",VLOOKUP($B199,Scores,15,FALSE)))","v":""},{"$f":"IF($B199=\"\",\"\",IF(VLOOKUP($B199,Scores,17,FALSE)=\"\",\"\",VLOOKUP($B199,Scores,17,FALSE)))","v":""},{"$f":"IF($B199=\"\",\"\",IF(VLOOKUP($B199,Scores,18,FALSE)=\"\",\"\",VLOOKUP($B199,Scores,18,FALSE)))","v":""},{"$f":"IF($B199=\"\",\"\",IF(VLOOKUP($B199,Scores,19,FALSE)=\"\",\"\",VLOOKUP($B199,Scores,19,FALSE)))","v":""},{"$f":"IF($B199=\"\",\"\",IF(VLOOKUP($B199,Scores,20,FALSE)=\"\",\"\",VLOOKUP($B199,Scores,20,FALSE)))","v":""},{"$f":"IF($B199=\"\",\"\",IF(VLOOKUP($B199,Scores,21,FALSE)=\"\",\"\",VLOOKUP($B199,Scores,21,FALSE)))","v":""},{"$f":"IF($B199=\"\",\"\",IF(VLOOKUP($B199,Scores,22,FALSE)=\"\",\"\",VLOOKUP($B199,Scores,22,FALSE)))","v":""},{"$f":"IF($B199=\"\",\"\",IF(VLOOKUP($B199,Scores,23,FALSE)=\"\",\"\",VLOOKUP($B199,Scores,23,FALSE)))","v":""},{"$f":"IF($B199=\"\",\"\",IF(VLOOKUP($B199,Scores,24,FALSE)=\"\",\"\",VLOOKUP($B199,Scores,24,FALSE)))","v":""},{"$f":"IF($B199=\"\",\"\",IF(VLOOKUP($B199,Scores,25,FALSE)=\"\",\"\",VLOOKUP($B199,Scores,25,FALSE)))","v":""},null,null,null,{"$f":"IF(OR(U199=\"\",U200=\"\"),\"\",IF(X201=\"E\",\"AS\",IF(X201<0,\"lost\",ABS(X201)&\" and \"&V201)))","v":""},{"$f":"IF(OR(U199=\"\",U200=\"\"),\"\",IF(Y199=\"1 and 0\",\"1-up\",IF(Y199=\"2 and 0\",\"2-up\",Y199)))","v":""}]
[null,{"$f":"IF(B199=\"\",\"\",Players!F159)","v":""},{"$f":"IF($B200=\"\",\"\",IF(VLOOKUP($B200,Members,9,FALSE)=\"\",\"\",(VLOOKUP($B200,Members,9,FALSE))))","v":""},{"$f":"IF($B200=\"\",\"\",IF(VLOOKUP($B200,Scores,7,FALSE)=\"\",\"\",VLOOKUP($B200,Scores,7,FALSE)))","v":""},{"$f":"IF($B200=\"\",\"\",IF(VLOOKUP($B200,Scores,8,FALSE)=\"\",\"\",VLOOKUP($B200,Scores,8,FALSE)))","v":""},{"$f":"IF($B200=\"\",\"\",IF(VLOOKUP($B200,Scores,9,FALSE)=\"\",\"\",VLOOKUP($B200,Scores,9,FALSE)))","v":""},{"$f":"IF($B200=\"\",\"\",IF(VLOOKUP($B200,Scores,10,FALSE)=\"\",\"\",VLOOKUP($B200,Scores,10,FALSE)))","v":""},{"$f":"IF($B200=\"\",\"\",IF(VLOOKUP($B200,Scores,11,FALSE)=\"\",\"\",VLOOKUP($B200,Scores,11,FALSE)))","v":""},{"$f":"IF($B200=\"\",\"\",IF(VLOOKUP($B200,Scores,12,FALSE)=\"\",\"\",VLOOKUP($B200,Scores,12,FALSE)))","v":""},{"$f":"IF($B200=\"\",\"\",IF(VLOOKUP($B200,Scores,13,FALSE)=\"\",\"\",VLOOKUP($B200,Scores,13,FALSE)))","v":""},{"$f":"IF($B200=\"\",\"\",IF(VLOOKUP($B200,Scores,14,FALSE)=\"\",\"\",VLOOKUP($B200,Scores,14,FALSE)))","v":""},{"$f":"IF($B200=\"\",\"\",IF(VLOOKUP($B200,Scores,15,FALSE)=\"\",\"\",VLOOKUP($B200,Scores,15,FALSE)))","v":""},{"$f":"IF($B200=\"\",\"\",IF(VLOOKUP($B200,Scores,17,FALSE)=\"\",\"\",VLOOKUP($B200,Scores,17,FALSE)))","v":""},{"$f":"IF($B200=\"\",\"\",IF(VLOOKUP($B200,Scores,18,FALSE)=\"\",\"\",VLOOKUP($B200,Scores,18,FALSE)))","v":""},{"$f":"IF($B200=\"\",\"\",IF(VLOOKUP($B200,Scores,19,FALSE)=\"\",\"\",VLOOKUP($B200,Scores,19,FALSE)))","v":""},{"$f":"IF($B200=\"\",\"\",IF(VLOOKUP($B200,Scores,20,FALSE)=\"\",\"\",VLOOKUP($B200,Scores,20,FALSE)))","v":""},{"$f":"IF($B200=\"\",\"\",IF(VLOOKUP($B200,Scores,21,FALSE)=\"\",\"\",VLOOKUP($B200,Scores,21,FALSE)))","v":""},{"$f":"IF($B200=\"\",\"\",IF(VLOOKUP($B200,Scores,22,FALSE)=\"\",\"\",VLOOKUP($B200,Scores,22,FALSE)))","v":""},{"$f":"IF($B200=\"\",\"\",IF(VLOOKUP($B200,Scores,23,FALSE)=\"\",\"\",VLOOKUP($B200,Scores,23,FALSE)))","v":""},{"$f":"IF($B200=\"\",\"\",IF(VLOOKUP($B200,Scores,24,FALSE)=\"\",\"\",VLOOKUP($B200,Scores,24,FALSE)))","v":""},{"$f":"IF($B200=\"\",\"\",IF(VLOOKUP($B200,Scores,25,FALSE)=\"\",\"\",VLOOKUP($B200,Scores,25,FALSE)))","v":""},null,null,null,{"$f":"IF(OR(U199=\"\",U200=\"\"),\"\",IF(X201=\"E\",\"AS\",IF(X201>0,\"lost\",ABS(X201)&\" and \"&V201)))","v":""},{"$f":"IF(OR(U199=\"\",U200=\"\"),\"\",IF(Y200=\"1 and 0\",\"1-up\",IF(Y200=\"2 and 0\",\"2-up\",Y200)))","v":""}]
[null,"Score",null,{"$f":"IF(OR(D199=\"\",D200=\"\"),\"\", IF(D202>0,\"+\"&D202, IF(D202<0,D202,\"E\")))","v":""},"","","","","","","","","",{"$f":"IF(N199=\"\",\"\", IF(N200=\"\",\"\",IF(ABS(M202)>8,\"\", IF(N202>0,\"+\"&N202, IF(N202<0,N202,\"E\")))))","v":""},{"$f":"IF(O199=\"\",\"\", IF(O200=\"\",\"\",IF(ABS(N202)>7,\"\", IF(O202>0,\"+\"&O202, IF(O202<0,O202,\"E\")))))","v":""},{"$f":"IF(P199=\"\",\"\", IF(P200=\"\",\"\",IF(ABS(O202)>6,\"\", IF(P202>0,\"+\"&P202, IF(P202<0,P202,\"E\")))))","v":""},{"$f":"IF(Q199=\"\",\"\", IF(Q200=\"\",\"\",IF(ABS(P202)>5,\"\", IF(Q202>0,\"+\"&Q202, IF(Q202<0,Q202,\"E\")))))","v":""},{"$f":"IF(R199=\"\",\"\", IF(R200=\"\",\"\",IF(ABS(Q202)>4,\"\", IF(R202>0,\"+\"&R202, IF(R202<0,R202,\"E\")))))","v":""},{"$f":"IF(S199=\"\",\"\", IF(S200=\"\",\"\",IF(ABS(R202)>3,\"\", IF(S202>0,\"+\"&S202, IF(S202<0,S202,\"E\")))))","v":""},{"$f":"IF(T199=\"\",\"\", IF(T200=\"\",\"\",IF(ABS(S202)>2,\"\", IF(T202>0,\"+\"&T202, IF(T202<0,T202,\"E\")))))","v":""},{"$f":"IF(U199=\"\",\"\", IF(U200=\"\",\"\",IF(ABS(T202)>1,\"\", IF(U202>0,\"+\"&U202, IF(U202<0,U202,\"E\")))))","v":""},{"$f":"COUNTBLANK(M201:U201)","v":9},{"$f":"IF(U201<>\"\",U201,IF(T201<>\"\",T201,IF(S201<>\"\",S201,IF(R201<>\"\",R201,IF(Q201<>\"\",Q201,IF(P201<>\"\",P201,IF(O201<>\"\",O201,IF(N201<>\"\",N201,\"\"))))))))","v":""},{"$f":"IF(W201<>\"\",W201,M201)","v":""}]
[null,null,null,{"$f":"IF(D199<(D200+D203),1, IF(D199>(D200+D203),-1,0))","v":{"$error":"#VALUE!"}},{"$f":"IF(E199<(E200+E203),D202+1, IF(E199>(E200+E203),D202-1,D202))","v":{"$error":"#VALUE!"}},{"$error":"#VALUE!"},{"$error":"#VALUE!"},{"$error":"#VALUE!"},{"$error":"#VALUE!"},{"$error":"#VALUE!"},{"$error":"#VALUE!"},{"$error":"#VALUE!"},{"$error":"#VALUE!"},{"$error":"#VALUE!"},{"$error":"#VALUE!"},{"$error":"#VALUE!"},{"$error":"#VALUE!"},{"$error":"#VALUE!"},{"$error":"#VALUE!"},{"$error":"#VALUE!"},{"$error":"#VALUE!"}]
[null,null,null,{"$f":"IF($C199<$C200,-TRUNC(($C200-$C199-D$8+18)/18),TRUNC(($C199-$C200-D$8+18)/18))","v":{"$error":"#VALUE!"}},{"$f":"IF($C199<$C200,-TRUNC(($C200-$C199-E$8+18)/18),TRUNC(($C199-$C200-E$8+18)/18))","v":{"$error":"#VALUE!"}},{"$error":"#VALUE!"},{"$error":"#VALUE!"},{"$error":"#VALUE!"},{"$error":"#VALUE!"},{"$error":"#VALUE!"},{"$error":"#VALUE!"},{"$error":"#VALUE!"},{"$error":"#VALUE!"},{"$error":"#VALUE!"},{"$error":"#VALUE!"},{"$error":"#VALUE!"},{"$error":"#VALUE!"},{"$error":"#VALUE!"},{"$error":"#VALUE!"},{"$error":"#VALUE!"},{"$error":"#VALUE!"}]
[40,{"$f":"IF(Players!F161=\"\",\"\",Players!B161)","v":""},{"$f":"IF($B204=\"\",\"\",IF(VLOOKUP($B204,Members,9,FALSE)=\"\",\"\",(VLOOKUP($B204,Members,9,FALSE))))","v":""},{"$f":"IF($B204=\"\",\"\",IF(VLOOKUP($B204,Scores,7,FALSE)=\"\",\"\",VLOOKUP($B204,Scores,7,FALSE)))","v":""},{"$f":"IF($B204=\"\",\"\",IF(VLOOKUP($B204,Scores,8,FALSE)=\"\",\"\",VLOOKUP($B204,Scores,8,FALSE)))","v":""},{"$f":"IF($B204=\"\",\"\",IF(VLOOKUP($B204,Scores,9,FALSE)=\"\",\"\",VLOOKUP($B204,Scores,9,FALSE)))","v":""},{"$f":"IF($B204=\"\",\"\",IF(VLOOKUP($B204,Scores,10,FALSE)=\"\",\"\",VLOOKUP($B204,Scores,10,FALSE)))","v":""},{"$f":"IF($B204=\"\",\"\",IF(VLOOKUP($B204,Scores,11,FALSE)=\"\",\"\",VLOOKUP($B204,Scores,11,FALSE)))","v":""},{"$f":"IF($B204=\"\",\"\",IF(VLOOKUP($B204,Scores,12,FALSE)=\"\",\"\",VLOOKUP($B204,Scores,12,FALSE)))","v":""},{"$f":"IF($B204=\"\",\"\",IF(VLOOKUP($B204,Scores,13,FALSE)=\"\",\"\",VLOOKUP($B204,Scores,13,FALSE)))","v":""},{"$f":"IF($B204=\"\",\"\",IF(VLOOKUP($B204,Scores,14,FALSE)=\"\",\"\",VLOOKUP($B204,Scores,14,FALSE)))","v":""},{"$f":"IF($B204=\"\",\"\",IF(VLOOKUP($B204,Scores,15,FALSE)=\"\",\"\",VLOOKUP($B204,Scores,15,FALSE)))","v":""},{"$f":"IF($B204=\"\",\"\",IF(VLOOKUP($B204,Scores,17,FALSE)=\"\",\"\",VLOOKUP($B204,Scores,17,FALSE)))","v":""},{"$f":"IF($B204=\"\",\"\",IF(VLOOKUP($B204,Scores,18,FALSE)=\"\",\"\",VLOOKUP($B204,Scores,18,FALSE)))","v":""},{"$f":"IF($B204=\"\",\"\",IF(VLOOKUP($B204,Scores,19,FALSE)=\"\",\"\",VLOOKUP($B204,Scores,19,FALSE)))","v":""},{"$f":"IF($B204=\"\",\"\",IF(VLOOKUP($B204,Scores,20,FALSE)=\"\",\"\",VLOOKUP($B204,Scores,20,FALSE)))","v":""},{"$f":"IF($B204=\"\",\"\",IF(VLOOKUP($B204,Scores,21,FALSE)=\"\",\"\",VLOOKUP($B204,Scores,21,FALSE)))","v":""},{"$f":"IF($B204=\"\",\"\",IF(VLOOKUP($B204,Scores,22,FALSE)=\"\",\"\",VLOOKUP($B204,Scores,22,FALSE)))","v":""},{"$f":"IF($B204=\"\",\"\",IF(VLOOKUP($B204,Scores,23,FALSE)=\"\",\"\",VLOOKUP($B204,Scores,23,FALSE)))","v":""},{"$f":"IF($B204=\"\",\"\",IF(VLOOKUP($B204,Scores,24,FALSE)=\"\",\"\",VLOOKUP($B204,Scores,24,FALSE)))","v":""},{"$f":"IF($B204=\"\",\"\",IF(VLOOKUP($B204,Scores,25,FALSE)=\"\",\"\",VLOOKUP($B204,Scores,25,FALSE)))","v":""},null,null,null,{"$f":"IF(OR(U204=\"\",U205=\"\"),\"\",IF(X206=\"E\",\"AS\",IF(X206<0,\"lost\",ABS(X206)&\" and \"&V206)))","v":""},{"$f":"IF(OR(U204=\"\",U205=\"\"),\"\",IF(Y204=\"1 and 0\",\"1-up\",IF(Y204=\"2 and 0\",\"2-up\",Y204)))","v":""}]
[null,{"$f":"IF(B204=\"\",\"\",Players!F161)","v":""},{"$f":"IF($B205=\"\",\"\",IF(VLOOKUP($B205,Members,9,FALSE)=\"\",\"\",(VLOOKUP($B205,Members,9,FALSE))))","v":""},{"$f":"IF($B205=\"\",\"\",IF(VLOOKUP($B205,Scores,7,FALSE)=\"\",\"\",VLOOKUP($B205,Scores,7,FALSE)))","v":""},{"$f":"IF($B205=\"\",\"\",IF(VLOOKUP($B205,Scores,8,FALSE)=\"\",\"\",VLOOKUP($B205,Scores,8,FALSE)))","v":""},{"$f":"IF($B205=\"\",\"\",IF(VLOOKUP($B205,Scores,9,FALSE)=\"\",\"\",VLOOKUP($B205,Scores,9,FALSE)))","v":""},{"$f":"IF($B205=\"\",\"\",IF(VLOOKUP($B205,Scores,10,FALSE)=\"\",\"\",VLOOKUP($B205,Scores,10,FALSE)))","v":""},{"$f":"IF($B205=\"\",\"\",IF(VLOOKUP($B205,Scores,11,FALSE)=\"\",\"\",VLOOKUP($B205,Scores,11,FALSE)))","v":""},{"$f":"IF($B205=\"\",\"\",IF(VLOOKUP($B205,Scores,12,FALSE)=\"\",\"\",VLOOKUP($B205,Scores,12,FALSE)))","v":""},{"$f":"IF($B205=\"\",\"\",IF(VLOOKUP($B205,Scores,13,FALSE)=\"\",\"\",VLOOKUP($B205,Scores,13,FALSE)))","v":""},{"$f":"IF($B205=\"\",\"\",IF(VLOOKUP($B205,Scores,14,FALSE)=\"\",\"\",VLOOKUP($B205,Scores,14,FALSE)))","v":""},{"$f":"IF($B205=\"\",\"\",IF(VLOOKUP($B205,Scores,15,FALSE)=\"\",\"\",VLOOKUP($B205,Scores,15,FALSE)))","v":""},{"$f":"IF($B205=\"\",\"\",IF(VLOOKUP($B205,Scores,17,FALSE)=\"\",\"\",VLOOKUP($B205,Scores,17,FALSE)))","v":""},{"$f":"IF($B205=\"\",\"\",IF(VLOOKUP($B205,Scores,18,FALSE)=\"\",\"\",VLOOKUP($B205,Scores,18,FALSE)))","v":""},{"$f":"IF($B205=\"\",\"\",IF(VLOOKUP($B205,Scores,19,FALSE)=\"\",\"\",VLOOKUP($B205,Scores,19,FALSE)))","v":""},{"$f":"IF($B205=\"\",\"\",IF(VLOOKUP($B205,Scores,20,FALSE)=\"\",\"\",VLOOKUP($B205,Scores,20,FALSE)))","v":""},{"$f":"IF($B205=\"\",\"\",IF(VLOOKUP($B205,Scores,21,FALSE)=\"\",\"\",VLOOKUP($B205,Scores,21,FALSE)))","v":""},{"$f":"IF($B205=\"\",\"\",IF(VLOOKUP($B205,Scores,22,FALSE)=\"\",\"\",VLOOKUP($B205,Scores,22,FALSE)))","v":""},{"$f":"IF($B205=\"\",\"\",IF(VLOOKUP($B205,Scores,23,FALSE)=\"\",\"\",VLOOKUP($B205,Scores,23,FALSE)))","v":""},{"$f":"IF($B205=\"\",\"\",IF(VLOOKUP($B205,Scores,24,FALSE)=\"\",\"\",VLOOKUP($B205,Scores,24,FALSE)))","v":""},{"$f":"IF($B205=\"\",\"\",IF(VLOOKUP($B205,Scores,25,FALSE)=\"\",\"\",VLOOKUP($B205,Scores,25,FALSE)))","v":""},null,null,null,{"$f":"IF(OR(U204=\"\",U205=\"\"),\"\",IF(X206=\"E\",\"AS\",IF(X206>0,\"lost\",ABS(X206)&\" and \"&V206)))","v":""},{"$f":"IF(OR(U204=\"\",U205=\"\"),\"\",IF(Y205=\"1 and 0\",\"1-up\",IF(Y205=\"2 and 0\",\"2-up\",Y205)))","v":""}]
[null,"Score",null,{"$f":"IF(OR(D204=\"\",D205=\"\"),\"\", IF(D207>0,\"+\"&D207, IF(D207<0,D207,\"E\")))","v":""},"","","","","","","","","",{"$f":"IF(N204=\"\",\"\", IF(N205=\"\",\"\",IF(ABS(M207)>8,\"\", IF(N207>0,\"+\"&N207, IF(N207<0,N207,\"E\")))))","v":""},{"$f":"IF(O204=\"\",\"\", IF(O205=\"\",\"\",IF(ABS(N207)>7,\"\", IF(O207>0,\"+\"&O207, IF(O207<0,O207,\"E\")))))","v":""},{"$f":"IF(P204=\"\",\"\", IF(P205=\"\",\"\",IF(ABS(O207)>6,\"\", IF(P207>0,\"+\"&P207, IF(P207<0,P207,\"E\")))))","v":""},{"$f":"IF(Q204=\"\",\"\", IF(Q205=\"\",\"\",IF(ABS(P207)>5,\"\", IF(Q207>0,\"+\"&Q207, IF(Q207<0,Q207,\"E\")))))","v":""},{"$f":"IF(R204=\"\",\"\", IF(R205=\"\",\"\",IF(ABS(Q207)>4,\"\", IF(R207>0,\"+\"&R207, IF(R207<0,R207,\"E\")))))","v":""},{"$f":"IF(S204=\"\",\"\", IF(S205=\"\",\"\",IF(ABS(R207)>3,\"\", IF(S207>0,\"+\"&S207, IF(S207<0,S207,\"E\")))))","v":""},{"$f":"IF(T204=\"\",\"\", IF(T205=\"\",\"\",IF(ABS(S207)>2,\"\", IF(T207>0,\"+\"&T207, IF(T207<0,T207,\"E\")))))","v":""},{"$f":"IF(U204=\"\",\"\", IF(U205=\"\",\"\",IF(ABS(T207)>1,\"\", IF(U207>0,\"+\"&U207, IF(U207<0,U207,\"E\")))))","v":""},{"$f":"COUNTBLANK(M206:U206)","v":9},{"$f":"IF(U206<>\"\",U206,IF(T206<>\"\",T206,IF(S206<>\"\",S206,IF(R206<>\"\",R206,IF(Q206<>\"\",Q206,IF(P206<>\"\",P206,IF(O206<>\"\",O206,IF(N206<>\"\",N206,\"\"))))))))","v":""},{"$f":"IF(W206<>\"\",W206,M206)","v":""}]
[null,null,null,{"$f":"IF(D204<(D205+D208),1, IF(D204>(D205+D208),-1,0))","v":{"$error":"#VALUE!"}},{"$f":"IF(E204<(E205+E208),D207+1, IF(E204>(E205+E208),D207-1,D207))","v":{"$error":"#VALUE!"}},{"$error":"#VALUE!"},{"$error":"#VALUE!"},{"$error":"#VALUE!"},{"$error":"#VALUE!"},{"$error":"#VALUE!"},{"$error":"#VALUE!"},{"$error":"#VALUE!"},{"$error":"#VALUE!"},{"$error":"#VALUE!"},{"$error":"#VALUE!"},{"$error":"#VALUE!"},{"$error":"#VALUE!"},{"$error":"#VALUE!"},{"$error":"#VALUE!"},{"$error":"#VALUE!"},{"$error":"#VALUE!"}]
[null,null,null,{"$f":"IF($C204<$C205,-TRUNC(($C205-$C204-D$8+18)/18),TRUNC(($C204-$C205-D$8+18)/18))","v":{"$error":"#VALUE!"}},{"$f":"IF($C204<$C205,-TRUNC(($C205-$C204-E$8+18)/18),TRUNC(($C204-$C205-E$8+18)/18))","v":{"$error":"#VALUE!"}},{"$error":"#VALUE!"},{"$error":"#VALUE!"},{"$error":"#VALUE!"},{"$error":"#VALUE!"},{"$error":"#VALUE!"},{"$error":"#VALUE!"},{"$error":"#VALUE!"},{"$error":"#VALUE!"},{"$error":"#VALUE!"},{"$error":"#VALUE!"},{"$error":"#VALUE!"},{"$error":"#VALUE!"},{"$error":"#VALUE!"},{"$error":"#VALUE!"},{"$error":"#VALUE!"},{"$error":"#VALUE!"}]

{"sheet":"Posting Sheet","index":8,"n_rows":59,"n_cols":11,"rows_kept":59,"cut":false,"hidden":false,"merged":[[6,8,6,9],[44,9,44,10],[45,9,45,10],[32,9,32,10],[33,9,33,10],[34,9,34,10],[35,9,35,10],[28,9,28,10],[29,9,29,10],[30,9,30,10],[22,9,22,10],[23,9,23,10],[31,9,31,10],[24,9,24,10],[25,9,25,10],[26,9,26,10],[0,0,1,0],[0,3,1,10],[5,0,5,1],[0,1,1,1],[5,2,5,7],[4,8,4,9],[58,4,58,5],[48,9,48,10],[49,9,49,10],[58,1,58,3],[56,1,56,3],[54,4,54,7],[56,4,56,7],[54,1,54,3],[55,4,55,7],[46,9,46,10],[47,9,47,10],[36,9,36,10],[37,9,37,10],[38,9,38,10],[39,9,39,10],[40,9,40,10],[41,9,41,10],[42,9,42,10],[43,9,43,10],[27,9,27,10],[16,9,16,10],[17,9,17,10],[18,9,18,10],[19,9,19,10],[20,9,20,10],[21,9,21,10],[13,9,13,10],[14,9,14,10],[15,9,15,10],[9,9,9,10],[10,9,10,10],[11,9,11,10],[12,9,12,10]]}
[null,null,null,"SCGA SCORE POSTING SHEET"]
[]
[]
[]
[null,null,null,null,null,null,null,null,"ASSOCIATION NUMBER  ",null,73]
["COURSE PLAYED  ",null,{"$f":"IF(Players!B1=\"\",\"\",Players!B1)","v":"Mile Square Golf Course (Players)"}]
[null,null,null,null,null,null,null,null,"CLUB NUMBER  ",null,2249]
[]
[]
["NO.","DATE    PLAYED","ADJ. SCORE","COURSE RATING","SLOPE","GHIN NUMBER","LAST NAME, FIRST NAME","LAST NAME","INITIAL","HOME COURSE"]
[1,{"$f":"IF($G11=\"\",\"\",IF(VLOOKUP($G11,Scores,2,FALSE)=\"\",\"\",IF(VLOOKUP($G11,Scores,28,FALSE)=\"\",\"\",Players!$B$4)))","v":"2018-07-22"},{"$f":"IF($G11=\"\",\"\",IF(VLOOKUP($G11,Scores,2,FALSE)=\"\",\"\",IF(VLOOKUP($G11,Scores,28,FALSE)=\"\",\"\",VLOOKUP($G11,Scores,28,FALSE))))","v":79},{"$f":"IF($G11=\"\",\"\",IF(VLOOKUP($G11,Scores,2,FALSE)=\"\",\"\",IF(VLOOKUP($G11,Scores,28,FALSE)=\"\",\"\",IF(VLOOKUP($G11,Members,3,FALSE)=\"M\",Players!$B$2,IF(VLOOKUP($G11,Members,3,FALSE)=\"F\",Players!$F$2)))))","v":70.5},{"$f":"IF($G11=\"\",\"\",IF(VLOOKUP($G11,Scores,2,FALSE)=\"\",\"\",IF(VLOOKUP($G11,Scores,28,FALSE)=\"\",\"\",IF(VLOOKUP($G11,Members,3,FALSE)=\"M\",Players!$B$3,IF(VLOOKUP($G11,Members,3,FALSE)=\"F\",Players!$F$3)))))","v":122},{"$f":"IF($G11=\"\",\"\",IF(VLOOKUP($G11,Scores,2,FALSE)=\"\",\"\",IF(VLOOKUP($G11,Scores,28,FALSE)=\"\",\"\",VLOOKUP($G11,Scores,2,FALSE))))","v":9709739},{"$f":"IF('Results (Pairings)'!B6=\"\",\"\",'Results (Pairings)'!B6)","v":"Jones, Gary"},{"$f":"IF($G11=\"\",\"\",MID(G11,1,FIND(\",\",G11)-1))","v":"Jones"},{"$f":"IF($G11=\"\",\"\",MID(G11,FIND(\",\",G11)+2,1))","v":"G"},{"$f":"IF($G11=\"\",\"\",IF(VLOOKUP($G11,Scores,2,FALSE)=\"\",\"\",IF(VLOOKUP($G11,Scores,28,FALSE)=\"\",\"\",\"Hack Attack Golf Club\")))","v":"Hack Attack Golf Club"},{"$f":"IF($G11=\"\",\"\",IF(VLOOKUP($G11,Scores,2,FALSE)=\"\",\"\",IF(VLOOKUP($G11,Scores,28,FALSE)=\"\",\"\",Players!$B$4)))","v":43303}]
[2,{"$f":"IF($G12=\"\",\"\",IF(VLOOKUP($G12,Scores,2,FALSE)=\"\",\"\",IF(VLOOKUP($G12,Scores,28,FALSE)=\"\",\"\",Players!$B$4)))","v":"2018-07-22"},{"$f":"IF($G12=\"\",\"\",IF(VLOOKUP($G12,Scores,2,FALSE)=\"\",\"\",IF(VLOOKUP($G12,Scores,28,FALSE)=\"\",\"\",VLOOKUP($G12,Scores,28,FALSE))))","v":86},{"$f":"IF($G12=\"\",\"\",IF(VLOOKUP($G12,Scores,2,FALSE)=\"\",\"\",IF(VLOOKUP($G12,Scores,28,FALSE)=\"\",\"\",IF(VLOOKUP($G12,Members,3,FALSE)=\"M\",Players!$B$2,IF(VLOOKUP($G12,Members,3,FALSE)=\"F\",Players!$F$2)))))","v":70.5},{"$f":"IF($G12=\"\",\"\",IF(VLOOKUP($G12,Scores,2,FALSE)=\"\",\"\",IF(VLOOKUP($G12,Scores,28,FALSE)=\"\",\"\",IF(VLOOKUP($G12,Members,3,FALSE)=\"M\",Players!$B$3,IF(VLOOKUP($G12,Members,3,FALSE)=\"F\",Players!$F$3)))))","v":122},{"$f":"IF($G12=\"\",\"\",IF(VLOOKUP($G12,Scores,2,FALSE)=\"\",\"\",IF(VLOOKUP($G12,Scores,28,FALSE)=\"\",\"\",VLOOKUP($G12,Scores,2,FALSE))))","v":8696486},{"$f":"IF('Results (Pairings)'!B7=\"\",\"\",'Results (Pairings)'!B7)","v":"Escobedo, Hector"},{"$f":"IF($G12=\"\",\"\",MID(G12,1,FIND(\",\",G12)-1))","v":"Escobedo"},{"$f":"IF($G12=\"\",\"\",MID(G12,FIND(\",\",G12)+2,1))","v":"H"},{"$f":"IF($G12=\"\",\"\",IF(VLOOKUP($G12,Scores,2,FALSE)=\"\",\"\",IF(VLOOKUP($G12,Scores,28,FALSE)=\"\",\"\",\"Hack Attack Golf Club\")))","v":"Hack Attack Golf Club"},{"$f":"IF($G12=\"\",\"\",IF(VLOOKUP($G12,Scores,2,FALSE)=\"\",\"\",IF(VLOOKUP($G12,Scores,28,FALSE)=\"\",\"\",Players!$B$4)))","v":43303}]
[3,{"$f":"IF($G13=\"\",\"\",IF(VLOOKUP($G13,Scores,2,FALSE)=\"\",\"\",IF(VLOOKUP($G13,Scores,28,FALSE)=\"\",\"\",Players!$B$4)))","v":"2018-07-22"},93,{"$f":"IF($G13=\"\",\"\",IF(VLOOKUP($G13,Scores,2,FALSE)=\"\",\"\",IF(VLOOKUP($G13,Scores,28,FALSE)=\"\",\"\",IF(VLOOKUP($G13,Members,3,FALSE)=\"M\",Players!$B$2,IF(VLOOKUP($G13,Members,3,FALSE)=\"F\",Players!$F$2)))))","v":70.5},{"$f":"IF($G13=\"\",\"\",IF(VLOOKUP($G13,Scores,2,FALSE)=\"\",\"\",IF(VLOOKUP($G13,Scores,28,FALSE)=\"\",\"\",IF(VLOOKUP($G13,Members,3,FALSE)=\"M\",Players!$B$3,IF(VLOOKUP($G13,Members,3,FALSE)=\"F\",Players!$F$3)))))","v":122},282914,{"$f":"IF('Results (Pairings)'!B8=\"\",\"\",'Results (Pairings)'!B8)","v":"Mariano, Joe"},"Mariano",{"$f":"IF($G13=\"\",\"\",MID(G13,FIND(\",\",G13)+2,1))","v":"J"},"Hack Attack Golf Club",{"$f":"IF($G13=\"\",\"\",IF(VLOOKUP($G13,Scores,2,FALSE)=\"\",\"\",IF(VLOOKUP($G13,Scores,28,FALSE)=\"\",\"\",Players!$B$4)))","v":43303}]
[4,{"$f":"IF($G14=\"\",\"\",IF(VLOOKUP($G14,Scores,2,FALSE)=\"\",\"\",IF(VLOOKUP($G14,Scores,28,FALSE)=\"\",\"\",Players!$B$4)))","v":"2018-07-22"},85,{"$f":"IF($G14=\"\",\"\",IF(VLOOKUP($G14,Scores,2,FALSE)=\"\",\"\",IF(VLOOKUP($G14,Scores,28,FALSE)=\"\",\"\",IF(VLOOKUP($G14,Members,3,FALSE)=\"M\",Players!$B$2,IF(VLOOKUP($G14,Members,3,FALSE)=\"F\",Players!$F$2)))))","v":70.5},{"$f":"IF($G14=\"\",\"\",IF(VLOOKUP($G14,Scores,2,FALSE)=\"\",\"\",IF(VLOOKUP($G14,Scores,28,FALSE)=\"\",\"\",IF(VLOOKUP($G14,Members,3,FALSE)=\"M\",Players!$B$3,IF(VLOOKUP($G14,Members,3,FALSE)=\"F\",Players!$F$3)))))","v":122},9583397,{"$f":"IF('Results (Pairings)'!B9=\"\",\"\",'Results (Pairings)'!B9)","v":"Ornelas, Eddie"},"Ornelas","E","Hack Attack Golf Club",{"$f":"IF($G14=\"\",\"\",IF(VLOOKUP($G14,Scores,2,FALSE)=\"\",\"\",IF(VLOOKUP($G14,Scores,28,FALSE)=\"\",\"\",Players!$B$4)))","v":43303}]
[5,{"$f":"IF($G15=\"\",\"\",IF(VLOOKUP($G15,Scores,2,FALSE)=\"\",\"\",IF(VLOOKUP($G15,Scores,28,FALSE)=\"\",\"\",Players!$B$4)))","v":""},"",{"$f":"IF($G15=\"\",\"\",IF(VLOOKUP($G15,Scores,2,FALSE)=\"\",\"\",IF(VLOOKUP($G15,Scores,28,FALSE)=\"\",\"\",IF(VLOOKUP($G15,Members,3,FALSE)=\"M\",Players!$B$2,IF(VLOOKUP($G15,Members,3,FALSE)=\"F\",Players!$F$2)))))","v":""},{"$f":"IF($G15=\"\",\"\",IF(VLOOKUP($G15,Scores,2,FALSE)=\"\",\"\",IF(VLOOKUP($G15,Scores,28,FALSE)=\"\",\"\",IF(VLOOKUP($G15,Members,3,FALSE)=\"M\",Players!$B$3,IF(VLOOKUP($G15,Members,3,FALSE)=\"F\",Players!$F$3)))))","v":""},"",{"$f":"IF('Results (Pairings)'!B10=\"\",\"\",'Results (Pairings)'!B10)","v":""},"","","",{"$f":"IF($G15=\"\",\"\",IF(VLOOKUP($G15,Scores,2,FALSE)=\"\",\"\",IF(VLOOKUP($G15,Scores,28,FALSE)=\"\",\"\",Players!$B$4)))","v":""}]
[6,{"$f":"IF($G16=\"\",\"\",IF(VLOOKUP($G16,Scores,2,FALSE)=\"\",\"\",IF(VLOOKUP($G16,Scores,28,FALSE)=\"\",\"\",Players!$B$4)))","v":"2018-07-22"},84,{"$f":"IF($G16=\"\",\"\",IF(VLOOKUP($G16,Scores,2,FALSE)=\"\",\"\",IF(VLOOKUP($G16,Scores,28,FALSE)=\"\",\"\",IF(VLOOKUP($G16,Members,3,FALSE)=\"M\",Players!$B$2,IF(VLOOKUP($G16,Members,3,FALSE)=\"F\",Players!$F$2)))))","v":70.5},{"$f":"IF($G16=\"\",\"\",IF(VLOOKUP($G16,Scores,2,FALSE)=\"\",\"\",IF(VLOOKUP($G16,Scores,28,FALSE)=\"\",\"\",IF(VLOOKUP($G16,Members,3,FALSE)=\"M\",Players!$B$3,IF(VLOOKUP($G16,Members,3,FALSE)=\"F\",Players!$F$3)))))","v":122},9733927,{"$f":"IF('Results (Pairings)'!B11=\"\",\"\",'Results (Pairings)'!B11)","v":"Kozachenko, Jon"},"Kozachenko","J","Hack Attack Golf Club",{"$f":"IF($G16=\"\",\"\",IF(VLOOKUP($G16,Scores,2,FALSE)=\"\",\"\",IF(VLOOKUP($G16,Scores,28,FALSE)=\"\",\"\",Players!$B$4)))","v":43303}]
[7,{"$f":"IF($G17=\"\",\"\",IF(VLOOKUP($G17,Scores,2,FALSE)=\"\",\"\",IF(VLOOKUP($G17,Scores,28,FALSE)=\"\",\"\",Players!$B$4)))","v":"2018-07-22"},86,{"$f":"IF($G17=\"\",\"\",IF(VLOOKUP($G17,Scores,2,FALSE)=\"\",\"\",IF(VLOOKUP($G17,Scores,28,FALSE)=\"\",\"\",IF(VLOOKUP($G17,Members,3,FALSE)=\"M\",Players!$B$2,IF(VLOOKUP($G17,Members,3,FALSE)=\"F\",Players!$F$2)))))","v":70.5},{"$f":"IF($G17=\"\",\"\",IF(VLOOKUP($G17,Scores,2,FALSE)=\"\",\"\",IF(VLOOKUP($G17,Scores,28,FALSE)=\"\",\"\",IF(VLOOKUP($G17,Members,3,FALSE)=\"M\",Players!$B$3,IF(VLOOKUP($G17,Members,3,FALSE)=\"F\",Players!$F$3)))))","v":122},9720661,{"$f":"IF('Results (Pairings)'!B12=\"\",\"\",'Results (Pairings)'!B12)","v":"Matthews, Keith"},"Matthews","K","Hack Attack Golf Club",{"$f":"IF($G17=\"\",\"\",IF(VLOOKUP($G17,Scores,2,FALSE)=\"\",\"\",IF(VLOOKUP($G17,Scores,28,FALSE)=\"\",\"\",Players!$B$4)))","v":43303}]
[8,{"$f":"IF($G18=\"\",\"\",IF(VLOOKUP($G18,Scores,2,FALSE)=\"\",\"\",IF(VLOOKUP($G18,Scores,28,FALSE)=\"\",\"\",Players!$B$4)))","v":"2018-07-22"},79,{"$f":"IF($G18=\"\",\"\",IF(VLOOKUP($G18,Scores,2,FALSE)=\"\",\"\",IF(VLOOKUP($G18,Scores,28,FALSE)=\"\",\"\",IF(VLOOKUP($G18,Members,3,FALSE)=\"M\",Players!$B$2,IF(VLOOKUP($G18,Members,3,FALSE)=\"F\",Players!$F$2)))))","v":70.5},{"$f":"IF($G18=\"\",\"\",IF(VLOOKUP($G18,Scores,2,FALSE)=\"\",\"\",IF(VLOOKUP($G18,Scores,28,FALSE)=\"\",\"\",IF(VLOOKUP($G18,Members,3,FALSE)=\"M\",Players!$B$3,IF(VLOOKUP($G18,Members,3,FALSE)=\"F\",Players!$F$3)))))","v":122},9730638,{"$f":"IF('Results (Pairings)'!B13=\"\",\"\",'Results (Pairings)'!B13)","v":"Christen, Lou"},"Christen","L","Hack Attack Golf Club",{"$f":"IF($G18=\"\",\"\",IF(VLOOKUP($G18,Scores,2,FALSE)=\"\",\"\",IF(VLOOKUP($G18,Scores,28,FALSE)=\"\",\"\",Players!$B$4)))","v":43303}]
[9,{"$f":"IF($G19=\"\",\"\",IF(VLOOKUP($G19,Scores,2,FALSE)=\"\",\"\",IF(VLOOKUP($G19,Scores,28,FALSE)=\"\",\"\",Players!$B$4)))","v":"2018-07-22"},86,{"$f":"IF($G19=\"\",\"\",IF(VLOOKUP($G19,Scores,2,FALSE)=\"\",\"\",IF(VLOOKUP($G19,Scores,28,FALSE)=\"\",\"\",IF(VLOOKUP($G19,Members,3,FALSE)=\"M\",Players!$B$2,IF(VLOOKUP($G19,Members,3,FALSE)=\"F\",Players!$F$2)))))","v":70.5},{"$f":"IF($G19=\"\",\"\",IF(VLOOKUP($G19,Scores,2,FALSE)=\"\",\"\",IF(VLOOKUP($G19,Scores,28,FALSE)=\"\",\"\",IF(VLOOKUP($G19,Members,3,FALSE)=\"M\",Players!$B$3,IF(VLOOKUP($G19,Members,3,FALSE)=\"F\",Players!$F$3)))))","v":122},9653048,{"$f":"IF('Results (Pairings)'!B14=\"\",\"\",'Results (Pairings)'!B14)","v":"Havstad, Steve"},"Havstad","S","Hack Attack Golf Club",{"$f":"IF($G19=\"\",\"\",IF(VLOOKUP($G19,Scores,2,FALSE)=\"\",\"\",IF(VLOOKUP($G19,Scores,28,FALSE)=\"\",\"\",Players!$B$4)))","v":43303}]
[10,{"$f":"IF($G20=\"\",\"\",IF(VLOOKUP($G20,Scores,2,FALSE)=\"\",\"\",IF(VLOOKUP($G20,Scores,28,FALSE)=\"\",\"\",Players!$B$4)))","v":""},"",{"$f":"IF($G20=\"\",\"\",IF(VLOOKUP($G20,Scores,2,FALSE)=\"\",\"\",IF(VLOOKUP($G20,Scores,28,FALSE)=\"\",\"\",IF(VLOOKUP($G20,Members,3,FALSE)=\"M\",Players!$B$2,IF(VLOOKUP($G20,Members,3,FALSE)=\"F\",Players!$F$2)))))","v":""},{"$f":"IF($G20=\"\",\"\",IF(VLOOKUP($G20,Scores,2,FALSE)=\"\",\"\",IF(VLOOKUP($G20,Scores,28,FALSE)=\"\",\"\",IF(VLOOKUP($G20,Members,3,FALSE)=\"M\",Players!$B$3,IF(VLOOKUP($G20,Members,3,FALSE)=\"F\",Players!$F$3)))))","v":""},"",{"$f":"IF('Results (Pairings)'!B15=\"\",\"\",'Results (Pairings)'!B15)","v":""},"","","",{"$f":"IF($G20=\"\",\"\",IF(VLOOKUP($G20,Scores,2,FALSE)=\"\",\"\",IF(VLOOKUP($G20,Scores,28,FALSE)=\"\",\"\",Players!$B$4)))","v":""}]
[11,{"$f":"IF($G21=\"\",\"\",IF(VLOOKUP($G21,Scores,2,FALSE)=\"\",\"\",IF(VLOOKUP($G21,Scores,28,FALSE)=\"\",\"\",Players!$B$4)))","v":"2018-07-22"},86,{"$f":"IF($G21=\"\",\"\",IF(VLOOKUP($G21,Scores,2,FALSE)=\"\",\"\",IF(VLOOKUP($G21,Scores,28,FALSE)=\"\",\"\",IF(VLOOKUP($G21,Members,3,FALSE)=\"M\",Players!$B$2,IF(VLOOKUP($G21,Members,3,FALSE)=\"F\",Players!$F$2)))))","v":70.5},{"$f":"IF($G21=\"\",\"\",IF(VLOOKUP($G21,Scores,2,FALSE)=\"\",\"\",IF(VLOOKUP($G21,Scores,28,FALSE)=\"\",\"\",IF(VLOOKUP($G21,Members,3,FALSE)=\"M\",Players!$B$3,IF(VLOOKUP($G21,Members,3,FALSE)=\"F\",Players!$F$3)))))","v":122},282911,{"$f":"IF('Results (Pairings)'!B16=\"\",\"\",'Results (Pairings)'!B16)","v":"Tenorio, Noe"},"Tenorio","N","Hack Attack Golf Club",{"$f":"IF($G21=\"\",\"\",IF(VLOOKUP($G21,Scores,2,FALSE)=\"\",\"\",IF(VLOOKUP($G21,Scores,28,FALSE)=\"\",\"\",Players!$B$4)))","v":43303}]
[12,{"$f":"IF($G22=\"\",\"\",IF(VLOOKUP($G22,Scores,2,FALSE)=\"\",\"\",IF(VLOOKUP($G22,Scores,28,FALSE)=\"\",\"\",Players!$B$4)))","v":"2018-07-22"},90,{"$f":"IF($G22=\"\",\"\",IF(VLOOKUP($G22,Scores,2,FALSE)=\"\",\"\",IF(VLOOKUP($G22,Scores,28,FALSE)=\"\",\"\",IF(VLOOKUP($G22,Members,3,FALSE)=\"M\",Players!$B$2,IF(VLOOKUP($G22,Members,3,FALSE)=\"F\",Players!$F$2)))))","v":70.5},{"$f":"IF($G22=\"\",\"\",IF(VLOOKUP($G22,Scores,2,FALSE)=\"\",\"\",IF(VLOOKUP($G22,Scores,28,FALSE)=\"\",\"\",IF(VLOOKUP($G22,Members,3,FALSE)=\"M\",Players!$B$3,IF(VLOOKUP($G22,Members,3,FALSE)=\"F\",Players!$F$3)))))","v":122},2512167,{"$f":"IF('Results (Pairings)'!B17=\"\",\"\",'Results (Pairings)'!B17)","v":"Deutsch, Paul"},"Deutsch","P","Hack Attack Golf Club",{"$f":"IF($G22=\"\",\"\",IF(VLOOKUP($G22,Scores,2,FALSE)=\"\",\"\",IF(VLOOKUP($G22,Scores,28,FALSE)=\"\",\"\",Players!$B$4)))","v":43303}]
[13,{"$f":"IF($G23=\"\",\"\",IF(VLOOKUP($G23,Scores,2,FALSE)=\"\",\"\",IF(VLOOKUP($G23,Scores,28,FALSE)=\"\",\"\",Players!$B$4)))","v":"2018-07-22"},97,{"$f":"IF($G23=\"\",\"\",IF(VLOOKUP($G23,Scores,2,FALSE)=\"\",\"\",IF(VLOOKUP($G23,Scores,28,FALSE)=\"\",\"\",IF(VLOOKUP($G23,Members,3,FALSE)=\"M\",Players!$B$2,IF(VLOOKUP($G23,Members,3,FALSE)=\"F\",Players!$F$2)))))","v":70.5},{"$f":"IF($G23=\"\",\"\",IF(VLOOKUP($G23,Scores,2,FALSE)=\"\",\"\",IF(VLOOKUP($G23,Scores,28,FALSE)=\"\",\"\",IF(VLOOKUP($G23,Members,3,FALSE)=\"M\",Players!$B$3,IF(VLOOKUP($G23,Members,3,FALSE)=\"F\",Players!$F$3)))))","v":122},9724449,{"$f":"IF('Results (Pairings)'!B18=\"\",\"\",'Results (Pairings)'!B18)","v":"Lunghard, Rich"},"Lunghard","R","Hack Attack Golf Club",{"$f":"IF($G23=\"\",\"\",IF(VLOOKUP($G23,Scores,2,FALSE)=\"\",\"\",IF(VLOOKUP($G23,Scores,28,FALSE)=\"\",\"\",Players!$B$4)))","v":43303}]
[14,{"$f":"IF($G24=\"\",\"\",IF(VLOOKUP($G24,Scores,2,FALSE)=\"\",\"\",IF(VLOOKUP($G24,Scores,28,FALSE)=\"\",\"\",Players!$B$4)))","v":"2018-07-22"},101,{"$f":"IF($G24=\"\",\"\",IF(VLOOKUP($G24,Scores,2,FALSE)=\"\",\"\",IF(VLOOKUP($G24,Scores,28,FALSE)=\"\",\"\",IF(VLOOKUP($G24,Members,3,FALSE)=\"M\",Players!$B$2,IF(VLOOKUP($G24,Members,3,FALSE)=\"F\",Players!$F$2)))))","v":70.5},{"$f":"IF($G24=\"\",\"\",IF(VLOOKUP($G24,Scores,2,FALSE)=\"\",\"\",IF(VLOOKUP($G24,Scores,28,FALSE)=\"\",\"\",IF(VLOOKUP($G24,Members,3,FALSE)=\"M\",Players!$B$3,IF(VLOOKUP($G24,Members,3,FALSE)=\"F\",Players!$F$3)))))","v":122},2530159,{"$f":"IF('Results (Pairings)'!B19=\"\",\"\",'Results (Pairings)'!B19)","v":"Blodgett, Kevin"},"Blodgett","K","Hack Attack Golf Club",{"$f":"IF($G24=\"\",\"\",IF(VLOOKUP($G24,Scores,2,FALSE)=\"\",\"\",IF(VLOOKUP($G24,Scores,28,FALSE)=\"\",\"\",Players!$B$4)))","v":43303}]
[15,{"$f":"IF($G25=\"\",\"\",IF(VLOOKUP($G25,Scores,2,FALSE)=\"\",\"\",IF(VLOOKUP($G25,Scores,28,FALSE)=\"\",\"\",Players!$B$4)))","v":""},"",{"$f":"IF($G25=\"\",\"\",IF(VLOOKUP($G25,Scores,2,FALSE)=\"\",\"\",IF(VLOOKUP($G25,Scores,28,FALSE)=\"\",\"\",IF(VLOOKUP($G25,Members,3,FALSE)=\"M\",Players!$B$2,IF(VLOOKUP($G25,Members,3,FALSE)=\"F\",Players!$F$2)))))","v":""},{"$f":"IF($G25=\"\",\"\",IF(VLOOKUP($G25,Scores,2,FALSE)=\"\",\"\",IF(VLOOKUP($G25,Scores,28,FALSE)=\"\",\"\",IF(VLOOKUP($G25,Members,3,FALSE)=\"M\",Players!$B$3,IF(VLOOKUP($G25,Members,3,FALSE)=\"F\",Players!$F$3)))))","v":""},"",{"$f":"IF('Results (Pairings)'!B20=\"\",\"\",'Results (Pairings)'!B20)","v":""},"","","",{"$f":"IF($G25=\"\",\"\",IF(VLOOKUP($G25,Scores,2,FALSE)=\"\",\"\",IF(VLOOKUP($G25,Scores,28,FALSE)=\"\",\"\",Players!$B$4)))","v":""}]
[16,{"$f":"IF($G26=\"\",\"\",IF(VLOOKUP($G26,Scores,2,FALSE)=\"\",\"\",IF(VLOOKUP($G26,Scores,28,FALSE)=\"\",\"\",Players!$B$4)))","v":"2018-07-22"},110,{"$f":"IF($G26=\"\",\"\",IF(VLOOKUP($G26,Scores,2,FALSE)=\"\",\"\",IF(VLOOKUP($G26,Scores,28,FALSE)=\"\",\"\",IF(VLOOKUP($G26,Members,3,FALSE)=\"M\",Players!$B$2,IF(VLOOKUP($G26,Members,3,FALSE)=\"F\",Players!$F$2)))))","v":70.5},{"$f":"IF($G26=\"\",\"\",IF(VLOOKUP($G26,Scores,2,FALSE)=\"\",\"\",IF(VLOOKUP($G26,Scores,28,FALSE)=\"\",\"\",IF(VLOOKUP($G26,Members,3,FALSE)=\"M\",Players!$B$3,IF(VLOOKUP($G26,Members,3,FALSE)=\"F\",Players!$F$3)))))","v":122},"-",{"$f":"IF('Results (Pairings)'!B21=\"\",\"\",'Results (Pairings)'!B21)","v":"Iinuma, Shiro"},"Iinuma","S","Hack Attack Golf Club",{"$f":"IF($G26=\"\",\"\",IF(VLOOKUP($G26,Scores,2,FALSE)=\"\",\"\",IF(VLOOKUP($G26,Scores,28,FALSE)=\"\",\"\",Players!$B$4)))","v":43303}]
[17,{"$f":"IF($G27=\"\",\"\",IF(VLOOKUP($G27,Scores,2,FALSE)=\"\",\"\",IF(VLOOKUP($G27,Scores,28,FALSE)=\"\",\"\",Players!$B$4)))","v":"2018-07-22"},108,{"$f":"IF($G27=\"\",\"\",IF(VLOOKUP($G27,Scores,2,FALSE)=\"\",\"\",IF(VLOOKUP($G27,Scores,28,FALSE)=\"\",\"\",IF(VLOOKUP($G27,Members,3,FALSE)=\"M\",Players!$B$2,IF(VLOOKUP($G27,Members,3,FALSE)=\"F\",Players!$F$2)))))","v":70.5},{"$f":"IF($G27=\"\",\"\",IF(VLOOKUP($G27,Scores,2,FALSE)=\"\",\"\",IF(VLOOKUP($G27,Scores,28,FALSE)=\"\",\"\",IF(VLOOKUP($G27,Members,3,FALSE)=\"M\",Players!$B$3,IF(VLOOKUP($G27,Members,3,FALSE)=\"F\",Players!$F$3)))))","v":122},"-",{"$f":"IF('Results (Pairings)'!B22=\"\",\"\",'Results (Pairings)'!B22)","v":"Endo, Johnny"},"Endo","J","Hack Attack Golf Club",{"$f":"IF($G27=\"\",\"\",IF(VLOOKUP($G27,Scores,2,FALSE)=\"\",\"\",IF(VLOOKUP($G27,Scores,28,FALSE)=\"\",\"\",Players!$B$4)))","v":43303}]
[18,{"$f":"IF($G28=\"\",\"\",IF(VLOOKUP($G28,Scores,2,FALSE)=\"\",\"\",IF(VLOOKUP($G28,Scores,28,FALSE)=\"\",\"\",Players!$B$4)))","v":"2018-07-22"},96,{"$f":"IF($G28=\"\",\"\",IF(VLOOKUP($G28,Scores,2,FALSE)=\"\",\"\",IF(VLOOKUP($G28,Scores,28,FALSE)=\"\",\"\",IF(VLOOKUP($G28,Members,3,FALSE)=\"M\",Players!$B$2,IF(VLOOKUP($G28,Members,3,FALSE)=\"F\",Players!$F$2)))))","v":70.5},{"$f":"IF($G28=\"\",\"\",IF(VLOOKUP($G28,Scores,2,FALSE)=\"\",\"\",IF(VLOOKUP($G28,Scores,28,FALSE)=\"\",\"\",IF(VLOOKUP($G28,Members,3,FALSE)=\"M\",Players!$B$3,IF(VLOOKUP($G28,Members,3,FALSE)=\"F\",Players!$F$3)))))","v":122},"-",{"$f":"IF('Results (Pairings)'!B23=\"\",\"\",'Results (Pairings)'!B23)","v":"Ikeda, Blaine"},"Ikeda","B","Hack Attack Golf Club",{"$f":"IF($G28=\"\",\"\",IF(VLOOKUP($G28,Scores,2,FALSE)=\"\",\"\",IF(VLOOKUP($G28,Scores,28,FALSE)=\"\",\"\",Players!$B$4)))","v":43303}]
[19,{"$f":"IF($G29=\"\",\"\",IF(VLOOKUP($G29,Scores,2,FALSE)=\"\",\"\",IF(VLOOKUP($G29,Scores,28,FALSE)=\"\",\"\",Players!$B$4)))","v":"2018-07-22"},94,{"$f":"IF($G29=\"\",\"\",IF(VLOOKUP($G29,Scores,2,FALSE)=\"\",\"\",IF(VLOOKUP($G29,Scores,28,FALSE)=\"\",\"\",IF(VLOOKUP($G29,Members,3,FALSE)=\"M\",Players!$B$2,IF(VLOOKUP($G29,Members,3,FALSE)=\"F\",Players!$F$2)))))","v":70.5},{"$f":"IF($G29=\"\",\"\",IF(VLOOKUP($G29,Scores,2,FALSE)=\"\",\"\",IF(VLOOKUP($G29,Scores,28,FALSE)=\"\",\"\",IF(VLOOKUP($G29,Members,3,FALSE)=\"M\",Players!$B$3,IF(VLOOKUP($G29,Members,3,FALSE)=\"F\",Players!$F$3)))))","v":122},9307661,{"$f":"IF('Results (Pairings)'!B24=\"\",\"\",'Results (Pairings)'!B24)","v":"Holzrichter, Geoff"},"Holzrichter","G","Hack Attack Golf Club",{"$f":"IF($G29=\"\",\"\",IF(VLOOKUP($G29,Scores,2,FALSE)=\"\",\"\",IF(VLOOKUP($G29,Scores,28,FALSE)=\"\",\"\",Players!$B$4)))","v":43303}]
[20,{"$f":"IF($G30=\"\",\"\",IF(VLOOKUP($G30,Scores,2,FALSE)=\"\",\"\",IF(VLOOKUP($G30,Scores,28,FALSE)=\"\",\"\",Players!$B$4)))","v":""},"",{"$f":"IF($G30=\"\",\"\",IF(VLOOKUP($G30,Scores,2,FALSE)=\"\",\"\",IF(VLOOKUP($G30,Scores,28,FALSE)=\"\",\"\",IF(VLOOKUP($G30,Members,3,FALSE)=\"M\",Players!$B$2,IF(VLOOKUP($G30,Members,3,FALSE)=\"F\",Players!$F$2)))))","v":""},{"$f":"IF($G30=\"\",\"\",IF(VLOOKUP($G30,Scores,2,FALSE)=\"\",\"\",IF(VLOOKUP($G30,Scores,28,FALSE)=\"\",\"\",IF(VLOOKUP($G30,Members,3,FALSE)=\"M\",Players!$B$3,IF(VLOOKUP($G30,Members,3,FALSE)=\"F\",Players!$F$3)))))","v":""},"",{"$f":"IF('Results (Pairings)'!B25=\"\",\"\",'Results (Pairings)'!B25)","v":""},"","","",{"$f":"IF($G30=\"\",\"\",IF(VLOOKUP($G30,Scores,2,FALSE)=\"\",\"\",IF(VLOOKUP($G30,Scores,28,FALSE)=\"\",\"\",Players!$B$4)))","v":""}]
[21,{"$f":"IF($G31=\"\",\"\",IF(VLOOKUP($G31,Scores,2,FALSE)=\"\",\"\",IF(VLOOKUP($G31,Scores,28,FALSE)=\"\",\"\",Players!$B$4)))","v":""},"",{"$f":"IF($G31=\"\",\"\",IF(VLOOKUP($G31,Scores,2,FALSE)=\"\",\"\",IF(VLOOKUP($G31,Scores,28,FALSE)=\"\",\"\",IF(VLOOKUP($G31,Members,3,FALSE)=\"M\",Players!$B$2,IF(VLOOKUP($G31,Members,3,FALSE)=\"F\",Players!$F$2)))))","v":""},{"$f":"IF($G31=\"\",\"\",IF(VLOOKUP($G31,Scores,2,FALSE)=\"\",\"\",IF(VLOOKUP($G31,Scores,28,FALSE)=\"\",\"\",IF(VLOOKUP($G31,Members,3,FALSE)=\"M\",Players!$B$3,IF(VLOOKUP($G31,Members,3,FALSE)=\"F\",Players!$F$3)))))","v":""},"",{"$f":"IF('Results (Pairings)'!B26=\"\",\"\",'Results (Pairings)'!B26)","v":""},"","","",{"$f":"IF($G31=\"\",\"\",IF(VLOOKUP($G31,Scores,2,FALSE)=\"\",\"\",IF(VLOOKUP($G31,Scores,28,FALSE)=\"\",\"\",Players!$B$4)))","v":""}]
[22,{"$f":"IF($G32=\"\",\"\",IF(VLOOKUP($G32,Scores,2,FALSE)=\"\",\"\",IF(VLOOKUP($G32,Scores,28,FALSE)=\"\",\"\",Players!$B$4)))","v":""},"",{"$f":"IF($G32=\"\",\"\",IF(VLOOKUP($G32,Scores,2,FALSE)=\"\",\"\",IF(VLOOKUP($G32,Scores,28,FALSE)=\"\",\"\",IF(VLOOKUP($G32,Members,3,FALSE)=\"M\",Players!$B$2,IF(VLOOKUP($G32,Members,3,FALSE)=\"F\",Players!$F$2)))))","v":""},{"$f":"IF($G32=\"\",\"\",IF(VLOOKUP($G32,Scores,2,FALSE)=\"\",\"\",IF(VLOOKUP($G32,Scores,28,FALSE)=\"\",\"\",IF(VLOOKUP($G32,Members,3,FALSE)=\"M\",Players!$B$3,IF(VLOOKUP($G32,Members,3,FALSE)=\"F\",Players!$F$3)))))","v":""},"",{"$f":"IF('Results (Pairings)'!B27=\"\",\"\",'Results (Pairings)'!B27)","v":""},"","","",{"$f":"IF($G32=\"\",\"\",IF(VLOOKUP($G32,Scores,2,FALSE)=\"\",\"\",IF(VLOOKUP($G32,Scores,28,FALSE)=\"\",\"\",Players!$B$4)))","v":""}]
[23,{"$f":"IF($G33=\"\",\"\",IF(VLOOKUP($G33,Scores,2,FALSE)=\"\",\"\",IF(VLOOKUP($G33,Scores,28,FALSE)=\"\",\"\",Players!$B$4)))","v":""},"",{"$f":"IF($G33=\"\",\"\",IF(VLOOKUP($G33,Scores,2,FALSE)=\"\",\"\",IF(VLOOKUP($G33,Scores,28,FALSE)=\"\",\"\",IF(VLOOKUP($G33,Members,3,FALSE)=\"M\",Players!$B$2,IF(VLOOKUP($G33,Members,3,FALSE)=\"F\",Players!$F$2)))))","v":""},{"$f":"IF($G33=\"\",\"\",IF(VLOOKUP($G33,Scores,2,FALSE)=\"\",\"\",IF(VLOOKUP($G33,Scores,28,FALSE)=\"\",\"\",IF(VLOOKUP($G33,Members,3,FALSE)=\"M\",Players!$B$3,IF(VLOOKUP($G33,Members,3,FALSE)=\"F\",Players!$F$3)))))","v":""},"",{"$f":"IF('Results (Pairings)'!B28=\"\",\"\",'Results (Pairings)'!B28)","v":""},"","","",{"$f":"IF($G33=\"\",\"\",IF(VLOOKUP($G33,Scores,2,FALSE)=\"\",\"\",IF(VLOOKUP($G33,Scores,28,FALSE)=\"\",\"\",Players!$B$4)))","v":""}]
[24,{"$f":"IF($G34=\"\",\"\",IF(VLOOKUP($G34,Scores,2,FALSE)=\"\",\"\",IF(VLOOKUP($G34,Scores,28,FALSE)=\"\",\"\",Players!$B$4)))","v":""},"",{"$f":"IF($G34=\"\",\"\",IF(VLOOKUP($G34,Scores,2,FALSE)=\"\",\"\",IF(VLOOKUP($G34,Scores,28,FALSE)=\"\",\"\",IF(VLOOKUP($G34,Members,3,FALSE)=\"M\",Players!$B$2,IF(VLOOKUP($G34,Members,3,FALSE)=\"F\",Players!$F$2)))))","v":""},{"$f":"IF($G34=\"\",\"\",IF(VLOOKUP($G34,Scores,2,FALSE)=\"\",\"\",IF(VLOOKUP($G34,Scores,28,FALSE)=\"\",\"\",IF(VLOOKUP($G34,Members,3,FALSE)=\"M\",Players!$B$3,IF(VLOOKUP($G34,Members,3,FALSE)=\"F\",Players!$F$3)))))","v":""},"",{"$f":"IF('Results (Pairings)'!B29=\"\",\"\",'Results (Pairings)'!B29)","v":""},"","","",{"$f":"IF($G34=\"\",\"\",IF(VLOOKUP($G34,Scores,2,FALSE)=\"\",\"\",IF(VLOOKUP($G34,Scores,28,FALSE)=\"\",\"\",Players!$B$4)))","v":""}]
[25,{"$f":"IF($G35=\"\",\"\",IF(VLOOKUP($G35,Scores,2,FALSE)=\"\",\"\",IF(VLOOKUP($G35,Scores,28,FALSE)=\"\",\"\",Players!$B$4)))","v":""},"",{"$f":"IF($G35=\"\",\"\",IF(VLOOKUP($G35,Scores,2,FALSE)=\"\",\"\",IF(VLOOKUP($G35,Scores,28,FALSE)=\"\",\"\",IF(VLOOKUP($G35,Members,3,FALSE)=\"M\",Players!$B$2,IF(VLOOKUP($G35,Members,3,FALSE)=\"F\",Players!$F$2)))))","v":""},{"$f":"IF($G35=\"\",\"\",IF(VLOOKUP($G35,Scores,2,FALSE)=\"\",\"\",IF(VLOOKUP($G35,Scores,28,FALSE)=\"\",\"\",IF(VLOOKUP($G35,Members,3,FALSE)=\"M\",Players!$B$3,IF(VLOOKUP($G35,Members,3,FALSE)=\"F\",Players!$F$3)))))","v":""},"",{"$f":"IF('Results (Pairings)'!B30=\"\",\"\",'Results (Pairings)'!B30)","v":""},"","","",{"$f":"IF($G35=\"\",\"\",IF(VLOOKUP($G35,Scores,2,FALSE)=\"\",\"\",IF(VLOOKUP($G35,Scores,28,FALSE)=\"\",\"\",Players!$B$4)))","v":""}]
[26,{"$f":"IF($G36=\"\",\"\",IF(VLOOKUP($G36,Scores,2,FALSE)=\"\",\"\",IF(VLOOKUP($G36,Scores,28,FALSE)=\"\",\"\",Players!$B$4)))","v":""},"",{"$f":"IF($G36=\"\",\"\",IF(VLOOKUP($G36,Scores,2,FALSE)=\"\",\"\",IF(VLOOKUP($G36,Scores,28,FALSE)=\"\",\"\",IF(VLOOKUP($G36,Members,3,FALSE)=\"M\",Players!$B$2,IF(VLOOKUP($G36,Members,3,FALSE)=\"F\",Players!$F$2)))))","v":""},{"$f":"IF($G36=\"\",\"\",IF(VLOOKUP($G36,Scores,2,FALSE)=\"\",\"\",IF(VLOOKUP($G36,Scores,28,FALSE)=\"\",\"\",IF(VLOOKUP($G36,Members,3,FALSE)=\"M\",Players!$B$3,IF(VLOOKUP($G36,Members,3,FALSE)=\"F\",Players!$F$3)))))","v":""},"",{"$f":"IF('Results (Pairings)'!B31=\"\",\"\",'Results (Pairings)'!B31)","v":""},"","","",{"$f":"IF($G36=\"\",\"\",IF(VLOOKUP($G36,Scores,2,FALSE)=\"\",\"\",IF(VLOOKUP($G36,Scores,28,FALSE)=\"\",\"\",Players!$B$4)))","v":""}]
[27,{"$f":"IF($G37=\"\",\"\",IF(VLOOKUP($G37,Scores,2,FALSE)=\"\",\"\",IF(VLOOKUP($G37,Scores,28,FALSE)=\"\",\"\",Players!$B$4)))","v":""},"",{"$f":"IF($G37=\"\",\"\",IF(VLOOKUP($G37,Scores,2,FALSE)=\"\",\"\",IF(VLOOKUP($G37,Scores,28,FALSE)=\"\",\"\",IF(VLOOKUP($G37,Members,3,FALSE)=\"M\",Players!$B$2,IF(VLOOKUP($G37,Members,3,FALSE)=\"F\",Players!$F$2)))))","v":""},{"$f":"IF($G37=\"\",\"\",IF(VLOOKUP($G37,Scores,2,FALSE)=\"\",\"\",IF(VLOOKUP($G37,Scores,28,FALSE)=\"\",\"\",IF(VLOOKUP($G37,Members,3,FALSE)=\"M\",Players!$B$3,IF(VLOOKUP($G37,Members,3,FALSE)=\"F\",Players!$F$3)))))","v":""},"",{"$f":"IF('Results (Pairings)'!B32=\"\",\"\",'Results (Pairings)'!B32)","v":""},"",{"$f":"IF($G37=\"\",\"\",MID(G37,FIND(\",\",G37)+2,1))","v":""},"",{"$f":"IF($G37=\"\",\"\",IF(VLOOKUP($G37,Scores,2,FALSE)=\"\",\"\",IF(VLOOKUP($G37,Scores,28,FALSE)=\"\",\"\",Players!$B$4)))","v":""}]
[28,{"$f":"IF($G38=\"\",\"\",IF(VLOOKUP($G38,Scores,2,FALSE)=\"\",\"\",IF(VLOOKUP($G38,Scores,28,FALSE)=\"\",\"\",Players!$B$4)))","v":""},"",{"$f":"IF($G38=\"\",\"\",IF(VLOOKUP($G38,Scores,2,FALSE)=\"\",\"\",IF(VLOOKUP($G38,Scores,28,FALSE)=\"\",\"\",IF(VLOOKUP($G38,Members,3,FALSE)=\"M\",Players!$B$2,IF(VLOOKUP($G38,Members,3,FALSE)=\"F\",Players!$F$2)))))","v":""},{"$f":"IF($G38=\"\",\"\",IF(VLOOKUP($G38,Scores,2,FALSE)=\"\",\"\",IF(VLOOKUP($G38,Scores,28,FALSE)=\"\",\"\",IF(VLOOKUP($G38,Members,3,FALSE)=\"M\",Players!$B$3,IF(VLOOKUP($G38,Members,3,FALSE)=\"F\",Players!$F$3)))))","v":""},"",{"$f":"IF('Results (Pairings)'!B33=\"\",\"\",'Results (Pairings)'!B33)","v":""},"","","",{"$f":"IF($G38=\"\",\"\",IF(VLOOKUP($G38,Scores,2,FALSE)=\"\",\"\",IF(VLOOKUP($G38,Scores,28,FALSE)=\"\",\"\",Players!$B$4)))","v":""}]
[29,{"$f":"IF($G39=\"\",\"\",IF(VLOOKUP($G39,Scores,2,FALSE)=\"\",\"\",IF(VLOOKUP($G39,Scores,28,FALSE)=\"\",\"\",Players!$B$4)))","v":""},"",{"$f":"IF($G39=\"\",\"\",IF(VLOOKUP($G39,Scores,2,FALSE)=\"\",\"\",IF(VLOOKUP($G39,Scores,28,FALSE)=\"\",\"\",IF(VLOOKUP($G39,Members,3,FALSE)=\"M\",Players!$B$2,IF(VLOOKUP($G39,Members,3,FALSE)=\"F\",Players!$F$2)))))","v":""},{"$f":"IF($G39=\"\",\"\",IF(VLOOKUP($G39,Scores,2,FALSE)=\"\",\"\",IF(VLOOKUP($G39,Scores,28,FALSE)=\"\",\"\",IF(VLOOKUP($G39,Members,3,FALSE)=\"M\",Players!$B$3,IF(VLOOKUP($G39,Members,3,FALSE)=\"F\",Players!$F$3)))))","v":""},"",{"$f":"IF('Results (Pairings)'!B34=\"\",\"\",'Results (Pairings)'!B34)","v":""},"","","",{"$f":"IF($G39=\"\",\"\",IF(VLOOKUP($G39,Scores,2,FALSE)=\"\",\"\",IF(VLOOKUP($G39,Scores,28,FALSE)=\"\",\"\",Players!$B$4)))","v":""}]
[30,{"$f":"IF($G40=\"\",\"\",IF(VLOOKUP($G40,Scores,2,FALSE)=\"\",\"\",IF(VLOOKUP($G40,Scores,28,FALSE)=\"\",\"\",Players!$B$4)))","v":""},"",{"$f":"IF($G40=\"\",\"\",IF(VLOOKUP($G40,Scores,2,FALSE)=\"\",\"\",IF(VLOOKUP($G40,Scores,28,FALSE)=\"\",\"\",IF(VLOOKUP($G40,Members,3,FALSE)=\"M\",Players!$B$2,IF(VLOOKUP($G40,Members,3,FALSE)=\"F\",Players!$F$2)))))","v":""},{"$f":"IF($G40=\"\",\"\",IF(VLOOKUP($G40,Scores,2,FALSE)=\"\",\"\",IF(VLOOKUP($G40,Scores,28,FALSE)=\"\",\"\",IF(VLOOKUP($G40,Members,3,FALSE)=\"M\",Players!$B$3,IF(VLOOKUP($G40,Members,3,FALSE)=\"F\",Players!$F$3)))))","v":""},"",{"$f":"IF('Results (Pairings)'!B35=\"\",\"\",'Results (Pairings)'!B35)","v":""},"","","",{"$f":"IF($G40=\"\",\"\",IF(VLOOKUP($G40,Scores,2,FALSE)=\"\",\"\",IF(VLOOKUP($G40,Scores,28,FALSE)=\"\",\"\",Players!$B$4)))","v":""}]
[31,{"$f":"IF($G41=\"\",\"\",IF(VLOOKUP($G41,Scores,2,FALSE)=\"\",\"\",IF(VLOOKUP($G41,Scores,28,FALSE)=\"\",\"\",Players!$B$4)))","v":""},"",{"$f":"IF($G41=\"\",\"\",IF(VLOOKUP($G41,Scores,2,FALSE)=\"\",\"\",IF(VLOOKUP($G41,Scores,28,FALSE)=\"\",\"\",IF(VLOOKUP($G41,Members,3,FALSE)=\"M\",Players!$B$2,IF(VLOOKUP($G41,Members,3,FALSE)=\"F\",Players!$F$2)))))","v":""},{"$f":"IF($G41=\"\",\"\",IF(VLOOKUP($G41,Scores,2,FALSE)=\"\",\"\",IF(VLOOKUP($G41,Scores,28,FALSE)=\"\",\"\",IF(VLOOKUP($G41,Members,3,FALSE)=\"M\",Players!$B$3,IF(VLOOKUP($G41,Members,3,FALSE)=\"F\",Players!$F$3)))))","v":""},"",{"$f":"IF('Results (Pairings)'!B36=\"\",\"\",'Results (Pairings)'!B36)","v":""},"","","",{"$f":"IF($G41=\"\",\"\",IF(VLOOKUP($G41,Scores,2,FALSE)=\"\",\"\",IF(VLOOKUP($G41,Scores,28,FALSE)=\"\",\"\",Players!$B$4)))","v":""}]
[32,{"$f":"IF($G42=\"\",\"\",IF(VLOOKUP($G42,Scores,2,FALSE)=\"\",\"\",IF(VLOOKUP($G42,Scores,28,FALSE)=\"\",\"\",Players!$B$4)))","v":""},"",{"$f":"IF($G42=\"\",\"\",IF(VLOOKUP($G42,Scores,2,FALSE)=\"\",\"\",IF(VLOOKUP($G42,Scores,28,FALSE)=\"\",\"\",IF(VLOOKUP($G42,Members,3,FALSE)=\"M\",Players!$B$2,IF(VLOOKUP($G42,Members,3,FALSE)=\"F\",Players!$F$2)))))","v":""},{"$f":"IF($G42=\"\",\"\",IF(VLOOKUP($G42,Scores,2,FALSE)=\"\",\"\",IF(VLOOKUP($G42,Scores,28,FALSE)=\"\",\"\",IF(VLOOKUP($G42,Members,3,FALSE)=\"M\",Players!$B$3,IF(VLOOKUP($G42,Members,3,FALSE)=\"F\",Players!$F$3)))))","v":""},"",{"$f":"IF('Results (Pairings)'!B37=\"\",\"\",'Results (Pairings)'!B37)","v":""},"","","",{"$f":"IF($G42=\"\",\"\",IF(VLOOKUP($G42,Scores,2,FALSE)=\"\",\"\",IF(VLOOKUP($G42,Scores,28,FALSE)=\"\",\"\",Players!$B$4)))","v":""}]
[33,{"$f":"IF($G43=\"\",\"\",IF(VLOOKUP($G43,Scores,2,FALSE)=\"\",\"\",IF(VLOOKUP($G43,Scores,28,FALSE)=\"\",\"\",Players!$B$4)))","v":""},"",{"$f":"IF($G43=\"\",\"\",IF(VLOOKUP($G43,Scores,2,FALSE)=\"\",\"\",IF(VLOOKUP($G43,Scores,28,FALSE)=\"\",\"\",IF(VLOOKUP($G43,Members,3,FALSE)=\"M\",Players!$B$2,IF(VLOOKUP($G43,Members,3,FALSE)=\"F\",Players!$F$2)))))","v":""},{"$f":"IF($G43=\"\",\"\",IF(VLOOKUP($G43,Scores,2,FALSE)=\"\",\"\",IF(VLOOKUP($G43,Scores,28,FALSE)=\"\",\"\",IF(VLOOKUP($G43,Members,3,FALSE)=\"M\",Players!$B$3,IF(VLOOKUP($G43,Members,3,FALSE)=\"F\",Players!$F$3)))))","v":""},"",{"$f":"IF('Results (Pairings)'!B38=\"\",\"\",'Results (Pairings)'!B38)","v":""},"","","",{"$f":"IF($G43=\"\",\"\",IF(VLOOKUP($G43,Scores,2,FALSE)=\"\",\"\",IF(VLOOKUP($G43,Scores,28,FALSE)=\"\",\"\",Players!$B$4)))","v":""}]
[34,{"$f":"IF($G44=\"\",\"\",IF(VLOOKUP($G44,Scores,2,FALSE)=\"\",\"\",IF(VLOOKUP($G44,Scores,28,FALSE)=\"\",\"\",Players!$B$4)))","v":""},"",{"$f":"IF($G44=\"\",\"\",IF(VLOOKUP($G44,Scores,2,FALSE)=\"\",\"\",IF(VLOOKUP($G44,Scores,28,FALSE)=\"\",\"\",IF(VLOOKUP($G44,Members,3,FALSE)=\"M\",Players!$B$2,IF(VLOOKUP($G44,Members,3,FALSE)=\"F\",Players!$F$2)))))","v":""},{"$f":"IF($G44=\"\",\"\",IF(VLOOKUP($G44,Scores,2,FALSE)=\"\",\"\",IF(VLOOKUP($G44,Scores,28,FALSE)=\"\",\"\",IF(VLOOKUP($G44,Members,3,FALSE)=\"M\",Players!$B$3,IF(VLOOKUP($G44,Members,3,FALSE)=\"F\",Players!$F$3)))))","v":""},"",{"$f":"IF('Results (Pairings)'!B39=\"\",\"\",'Results (Pairings)'!B39)","v":""},"","","",{"$f":"IF($G44=\"\",\"\",IF(VLOOKUP($G44,Scores,2,FALSE)=\"\",\"\",IF(VLOOKUP($G44,Scores,28,FALSE)=\"\",\"\",Players!$B$4)))","v":""}]
[35,{"$f":"IF($G45=\"\",\"\",IF(VLOOKUP($G45,Scores,2,FALSE)=\"\",\"\",IF(VLOOKUP($G45,Scores,28,FALSE)=\"\",\"\",Players!$B$4)))","v":""},"",{"$f":"IF($G45=\"\",\"\",IF(VLOOKUP($G45,Scores,2,FALSE)=\"\",\"\",IF(VLOOKUP($G45,Scores,28,FALSE)=\"\",\"\",IF(VLOOKUP($G45,Members,3,FALSE)=\"M\",Players!$B$2,IF(VLOOKUP($G45,Members,3,FALSE)=\"F\",Players!$F$2)))))","v":""},{"$f":"IF($G45=\"\",\"\",IF(VLOOKUP($G45,Scores,2,FALSE)=\"\",\"\",IF(VLOOKUP($G45,Scores,28,FALSE)=\"\",\"\",IF(VLOOKUP($G45,Members,3,FALSE)=\"M\",Players!$B$3,IF(VLOOKUP($G45,Members,3,FALSE)=\"F\",Players!$F$3)))))","v":""},"",{"$f":"IF('Results (Pairings)'!B40=\"\",\"\",'Results (Pairings)'!B40)","v":""},"","","",{"$f":"IF($G45=\"\",\"\",IF(VLOOKUP($G45,Scores,2,FALSE)=\"\",\"\",IF(VLOOKUP($G45,Scores,28,FALSE)=\"\",\"\",Players!$B$4)))","v":""}]
[36,{"$f":"IF($G46=\"\",\"\",IF(VLOOKUP($G46,Scores,2,FALSE)=\"\",\"\",IF(VLOOKUP($G46,Scores,28,FALSE)=\"\",\"\",Players!$B$4)))","v":""},"",{"$f":"IF($G46=\"\",\"\",IF(VLOOKUP($G46,Scores,2,FALSE)=\"\",\"\",IF(VLOOKUP($G46,Scores,28,FALSE)=\"\",\"\",IF(VLOOKUP($G46,Members,3,FALSE)=\"M\",Players!$B$2,IF(VLOOKUP($G46,Members,3,FALSE)=\"F\",Players!$F$2)))))","v":""},{"$f":"IF($G46=\"\",\"\",IF(VLOOKUP($G46,Scores,2,FALSE)=\"\",\"\",IF(VLOOKUP($G46,Scores,28,FALSE)=\"\",\"\",IF(VLOOKUP($G46,Members,3,FALSE)=\"M\",Players!$B$3,IF(VLOOKUP($G46,Members,3,FALSE)=\"F\",Players!$F$3)))))","v":""},"",{"$f":"IF('Results (Pairings)'!B41=\"\",\"\",'Results (Pairings)'!B41)","v":""},"","","",{"$f":"IF($G46=\"\",\"\",IF(VLOOKUP($G46,Scores,2,FALSE)=\"\",\"\",IF(VLOOKUP($G46,Scores,28,FALSE)=\"\",\"\",Players!$B$4)))","v":""}]
[37,{"$f":"IF($G47=\"\",\"\",IF(VLOOKUP($G47,Scores,2,FALSE)=\"\",\"\",IF(VLOOKUP($G47,Scores,28,FALSE)=\"\",\"\",Players!$B$4)))","v":""},"",{"$f":"IF($G47=\"\",\"\",IF(VLOOKUP($G47,Scores,2,FALSE)=\"\",\"\",IF(VLOOKUP($G47,Scores,28,FALSE)=\"\",\"\",IF(VLOOKUP($G47,Members,3,FALSE)=\"M\",Players!$B$2,IF(VLOOKUP($G47,Members,3,FALSE)=\"F\",Players!$F$2)))))","v":""},{"$f":"IF($G47=\"\",\"\",IF(VLOOKUP($G47,Scores,2,FALSE)=\"\",\"\",IF(VLOOKUP($G47,Scores,28,FALSE)=\"\",\"\",IF(VLOOKUP($G47,Members,3,FALSE)=\"M\",Players!$B$3,IF(VLOOKUP($G47,Members,3,FALSE)=\"F\",Players!$F$3)))))","v":""},"",{"$f":"IF('Results (Pairings)'!B42=\"\",\"\",'Results (Pairings)'!B42)","v":""},"","","",{"$f":"IF($G47=\"\",\"\",IF(VLOOKUP($G47,Scores,2,FALSE)=\"\",\"\",IF(VLOOKUP($G47,Scores,28,FALSE)=\"\",\"\",Players!$B$4)))","v":""}]
[38,{"$f":"IF($G48=\"\",\"\",IF(VLOOKUP($G48,Scores,2,FALSE)=\"\",\"\",IF(VLOOKUP($G48,Scores,28,FALSE)=\"\",\"\",Players!$B$4)))","v":""},"",{"$f":"IF($G48=\"\",\"\",IF(VLOOKUP($G48,Scores,2,FALSE)=\"\",\"\",IF(VLOOKUP($G48,Scores,28,FALSE)=\"\",\"\",IF(VLOOKUP($G48,Members,3,FALSE)=\"M\",Players!$B$2,IF(VLOOKUP($G48,Members,3,FALSE)=\"F\",Players!$F$2)))))","v":""},{"$f":"IF($G48=\"\",\"\",IF(VLOOKUP($G48,Scores,2,FALSE)=\"\",\"\",IF(VLOOKUP($G48,Scores,28,FALSE)=\"\",\"\",IF(VLOOKUP($G48,Members,3,FALSE)=\"M\",Players!$B$3,IF(VLOOKUP($G48,Members,3,FALSE)=\"F\",Players!$F$3)))))","v":""},"",{"$f":"IF('Results (Pairings)'!B43=\"\",\"\",'Results (Pairings)'!B43)","v":""},"","","",{"$f":"IF($G48=\"\",\"\",IF(VLOOKUP($G48,Scores,2,FALSE)=\"\",\"\",IF(VLOOKUP($G48,Scores,28,FALSE)=\"\",\"\",Players!$B$4)))","v":""}]
[39,{"$f":"IF($G49=\"\",\"\",IF(VLOOKUP($G49,Scores,2,FALSE)=\"\",\"\",IF(VLOOKUP($G49,Scores,28,FALSE)=\"\",\"\",Players!$B$4)))","v":""},"",{"$f":"IF($G49=\"\",\"\",IF(VLOOKUP($G49,Scores,2,FALSE)=\"\",\"\",IF(VLOOKUP($G49,Scores,28,FALSE)=\"\",\"\",IF(VLOOKUP($G49,Members,3,FALSE)=\"M\",Players!$B$2,IF(VLOOKUP($G49,Members,3,FALSE)=\"F\",Players!$F$2)))))","v":""},{"$f":"IF($G49=\"\",\"\",IF(VLOOKUP($G49,Scores,2,FALSE)=\"\",\"\",IF(VLOOKUP($G49,Scores,28,FALSE)=\"\",\"\",IF(VLOOKUP($G49,Members,3,FALSE)=\"M\",Players!$B$3,IF(VLOOKUP($G49,Members,3,FALSE)=\"F\",Players!$F$3)))))","v":""},"",{"$f":"IF('Results (Pairings)'!B44=\"\",\"\",'Results (Pairings)'!B44)","v":""},"","","",{"$f":"IF($G49=\"\",\"\",IF(VLOOKUP($G49,Scores,2,FALSE)=\"\",\"\",IF(VLOOKUP($G49,Scores,28,FALSE)=\"\",\"\",Players!$B$4)))","v":""}]
[40,{"$f":"IF($G50=\"\",\"\",IF(VLOOKUP($G50,Scores,2,FALSE)=\"\",\"\",IF(VLOOKUP($G50,Scores,28,FALSE)=\"\",\"\",Players!$B$4)))","v":""},"",{"$f":"IF($G50=\"\",\"\",IF(VLOOKUP($G50,Scores,2,FALSE)=\"\",\"\",IF(VLOOKUP($G50,Scores,28,FALSE)=\"\",\"\",IF(VLOOKUP($G50,Members,3,FALSE)=\"M\",Players!$B$2,IF(VLOOKUP($G50,Members,3,FALSE)=\"F\",Players!$F$2)))))","v":""},{"$f":"IF($G50=\"\",\"\",IF(VLOOKUP($G50,Scores,2,FALSE)=\"\",\"\",IF(VLOOKUP($G50,Scores,28,FALSE)=\"\",\"\",IF(VLOOKUP($G50,Members,3,FALSE)=\"M\",Players!$B$3,IF(VLOOKUP($G50,Members,3,FALSE)=\"F\",Players!$F$3)))))","v":""},"",{"$f":"IF('Results (Pairings)'!B45=\"\",\"\",'Results (Pairings)'!B45)","v":""},"","","",{"$f":"IF($G50=\"\",\"\",IF(VLOOKUP($G50,Scores,2,FALSE)=\"\",\"\",IF(VLOOKUP($G50,Scores,28,FALSE)=\"\",\"\",Players!$B$4)))","v":""}]
[]
[]
["BELOW FOR HANDICAP CHAIRMAN USE ONLY:"]
[]
[null,"CHECKED and APPROVED BY:  "]
[null,null,null,null,"(HANDICAP CHAIRMAN OR DESIGNEE)"]
[null,"CLUB:  ",null,null,"Hack Attack Golf Club"]
[]
[null,"DATE:  ",null,null,{"$f":"IF(Players!B4=\"\",\"\",Players!B4)","v":"2018-07-22"}]

{"sheet":"Pots","index":9,"n_rows":122,"n_cols":13,"rows_kept":122,"cut":false,"hidden":false,"merged":[[0,9,1,9],[0,10,1,10],[0,11,1,11],[0,12,1,12],[0,0,1,0],[0,1,1,1],[0,7,1,7],[0,8,1,8]]}
["No.","Mile Square","Golf","Low Net","A-Skins","B-Skins","CPs/LP","Owes","Paid      To Me","Paid Other","I Owe","Check No.","Remarks"]
[null,null,69,10,5,5,5]
[null,{"$f":"Members!B2","v":"Aldrian, Mark"}]
[null,{"$f":"Members!B3","v":"Bateson, Brad"}]
[null,{"$f":"Members!B4","v":"Blodgett, Kevin"}]
[null,{"$f":"Members!B5","v":"Deutsch, Paul"}]
[null,{"$f":"Members!B6","v":"Doden, Jeff"}]
[null,{"$f":"Members!B7","v":"Escobedo, Hector"}]
[null,{"$f":"Members!B8","v":"Escobedo, Marco"}]
[null,{"$f":"Members!B9","v":"Forstot, Joshua"}]
[null,{"$f":"Members!B10","v":"Graham, Travis"}]
[null,{"$f":"Members!B11","v":"Hammond, Rob"}]
[null,{"$f":"Members!B12","v":"Hart, Dave"}]
[null,{"$f":"Members!B13","v":"Havstad, Peter"}]
[null,{"$f":"Members!B14","v":"Havstad, Steve"}]
[null,{"$f":"Members!B15","v":"Holzrichter, Geoff"}]
[null,{"$f":"Members!B16","v":"Johnson, Carl"}]
[null,{"$f":"Members!B17","v":"Jones, Gary"}]
[null,{"$f":"Members!B18","v":"Kozachenko, Jon"}]
[null,{"$f":"Members!B19","v":"Lujan, Fil"}]
[null,{"$f":"Members!B20","v":"Lunghard, Rich"}]
[null,{"$f":"Members!B21","v":"Mariano, Joe"}]
[null,{"$f":"Members!B22","v":"Matthews, Keith"}]
[null,{"$f":"Members!B23","v":"Medina, Randy"}]
[null,{"$f":"Members!B24","v":"Mikschl, Tom"}]
[null,{"$f":"Members!B25","v":"Montgomery, Andy"}]
[null,{"$f":"Members!B26","v":"Nagel, Rich"}]
[null,{"$f":"Members!B27","v":"Ornelas, Eddie"}]
[null,{"$f":"Members!B28","v":"Poyar, Bob"}]
[null,{"$f":"Members!B29","v":"Rojes, Ray"}]
[null,{"$f":"Members!B30","v":"Salinas, Frank"}]
[null,{"$f":"Members!B31","v":"Tenorio, Noe"}]
[null,{"$f":"Members!B32","v":"Thompson, Dan"}]
[null,{"$f":"Members!B33","v":0}]
[null,{"$f":"Members!B34","v":"Christen, Lou"}]
[null,{"$f":"Members!B35","v":"Iinuma, Shiro"}]
[null,{"$f":"Members!B36","v":"Ikeda, Blaine"}]
[null,{"$f":"Members!B37","v":"Endo, Johnny"}]
[null,{"$f":"Members!B38","v":0}]
[null,{"$f":"Members!B39","v":0}]
[null,{"$f":"Members!B40","v":0}]
[null,{"$f":"Members!B41","v":0}]
[null,{"$f":"Members!B42","v":0}]
[null,{"$f":"Members!B43","v":0}]
[null,{"$f":"Members!B44","v":0}]
[null,{"$f":"Members!B45","v":0}]
[null,{"$f":"Members!B46","v":0}]
[null,{"$f":"Members!B47","v":0}]
[null,{"$f":"Members!B48","v":0}]
[null,{"$f":"Members!B49","v":0}]
[null,{"$f":"Members!B50","v":0}]
[null,{"$f":"Members!B51","v":0}]
[null,{"$f":"Members!B52","v":0}]
[null,{"$f":"Members!B53","v":0}]
[null,{"$f":"Members!B54","v":0}]
[null,{"$f":"Members!B55","v":0}]
[null,{"$f":"Members!B56","v":0}]
[null,{"$f":"Members!B57","v":0}]
[null,{"$f":"Members!B58","v":0}]
[null,{"$f":"Members!B59","v":0}]
[null,{"$f":"Members!B60","v":0}]
[null,{"$f":"Members!B61","v":0}]
[null,{"$f":"Members!B62","v":0}]
[null,{"$f":"Members!B63","v":0}]
[null,{"$f":"Members!B64","v":0}]
[null,{"$f":"Members!B65","v":0}]
[null,{"$f":"Members!B66","v":0}]
[null,{"$f":"Members!B67","v":0}]
[null,{"$f":"Members!B68","v":0}]
[null,{"$f":"Members!B69","v":0}]
[null,{"$f":"Members!B70","v":0}]
[null,{"$f":"Members!B71","v":0}]
[null,{"$f":"Members!B72","v":0}]
[null,{"$f":"Members!B73","v":0}]
[null,{"$f":"Members!B74","v":0}]
[null,{"$f":"Members!B75","v":0}]
[null,{"$f":"Members!B76","v":0}]
[1,"Jones, Gary",1,1,1,null,1,{"$f":"(C78*C$2)+(D78*D$2)+(E78*E$2)+(F78*F$2)+(G78*G$2)","v":89},0,0,{"$f":"H78-I78-J78","v":89},null,"cart"]
[2,"Matthews, Keith",1,1,1,null,1,89,0,828,-739,null,"final payment due 7/8/2018"]
[3,"Iinuma, Shiro",1,null,null,null,1,74,74,0,0,"2995","pair w/ Endo, Ikeda, & Holz"]
[4,"Endo, Johnny",1,null,null,null,1,74,0,0,74]
[5,"Ikeda, Blaine",1,null,null,null,1,74,0,0,74]
[6,"Holzrichter, Geoff",1,1,null,1,1,89,89,0,0,"8134"]
[7,"Lunghard, Rich",1,1,null,1,1,89,89,0,0,"2772"]
[8,"Mariano, Joe",1,1,1,null,1,89,89,0,0,"2701"]
[9,"Blodgett, Kevin",1,1,1,1,1,94,94,0,0,"727"]
[10,"Deutsch, Paul",1,null,null,1,1,79,79,0,0,"cash"]
[11,"Escobedo, Hector",1,1,1,null,1,89,89,0,0,"239"]
[12,"Tenorio, Noe",1,1,null,1,1,89,0,89,0,"cash"]
[13,"Ornelas, Eddie",1,1,1,null,1,89,89,0,0,"396"]
[14,"Havstad, Steve",1,1,1,null,1,89,0,0,89]
[15,"Christen, Lou",1,1,1,null,1,89,0,0,89]
[16,"Kozachenko, Jon",1,1,1,null,1,89,94,0,-5,"2457"]
[17,null,null,null,null,null,null,0,0,0,0]
[18,null,null,null,null,null,null,0,0,0,0]
[19,null,null,null,null,null,null,0,0,0,0]
[20,null,null,null,null,null,null,0,0,0,0]
[21,null,null,null,null,null,null,0,0,0,0]
[22,null,null,null,null,null,null,0,0,0,0]
[23,null,null,null,null,null,null,0,0,0,0]
[24,null,null,null,null,null,null,0,0,0,0]
[25,null,null,null,null,null,null,0,0,0,0]
[26,null,null,null,null,null,null,0,0,0,0]
[27,null,null,null,null,null,null,0,0,0,0]
[28,null,null,null,null,null,null,0,0,0,0]
[29,null,null,null,null,null,null,0,0,0,0]
[30,null,null,null,null,null,null,0,0,0,0]
[31,null,null,null,null,null,null,0,0,0,0]
[32,null,null,null,null,null,null,0,0,0,0]
[33,null,null,null,null,null,null,0,0,0,0]
[34,null,null,null,null,null,null,0,0,0,0]
[35,null,null,null,null,null,null,0,0,0,0]
[36,null,null,null,null,null,null,0,0,0,0]
[37,null,null,null,null,null,null,0,0,0,0]
[38,null,null,null,null,null,null,0,0,0,0]
[39,null,null,null,null,null,null,0,0,0,0]
[40,null,null,null,null,null,null,0,0,0,0]
[]
[null,null,null,null,null,"00.0+"]
[null,null,{"$f":"COUNTIF(C78:C117,\"=1\")","v":16},{"$f":"COUNTIF(D78:D117,\"=1\")","v":12},{"$f":"COUNTIF(E78:E117,\"=1\")","v":9},{"$f":"COUNTIF(F78:F117,\"=1\")","v":5},{"$f":"COUNTIF(G78:G117,\"=1\")","v":16},{"$f":"SUM(H78:H118)","v":1374},{"$f":"SUM(I78:I118)","v":786},{"$f":"SUM(J78:J118)","v":917},{"$f":"SUM(K78:K118)","v":-329}]
[null,null,{"$f":"C120*C2","v":1104},{"$f":"D120*D2","v":120},{"$f":"E120*E2","v":45},{"$f":"F120*F2","v":25},{"$f":"G120*G2","v":80},{"$f":"SUM(C121:G121)","v":1374}]
[null,null,null,null,{"$f":"E120/(E120+F120)","v":0.6428571428571429},{"$f":"F120/(E120+F120)","v":0.35714285714285715}]

{"sheet":"Players","index":10,"n_rows":182,"n_cols":41,"rows_kept":182,"cut":false,"hidden":false,"merged":[[0,7,1,10],[1,2,1,4],[2,3,2,4],[180,5,181,5],[180,6,181,6],[176,5,177,5],[174,5,175,5],[174,6,175,6],[172,2,173,2],[172,3,173,3],[166,6,167,6],[4,3,6,3],[4,4,6,4],[98,6,99,6],[100,6,101,6],[102,6,103,6],[104,6,105,6],[90,6,91,6],[92,6,93,6],[94,6,95,6],[96,6,97,6],[114,6,115,6],[116,6,117,6],[118,6,119,6],[180,27,181,27],[180,28,181,28],[178,0,179,0],[178,1,179,1],[178,2,179,2],[178,3,179,3],[178,5,179,5],[178,6,179,6],[178,27,179,27],[178,28,179,28],[180,4,181,4],[180,0,181,0],[180,1,181,1],[180,2,181,2],[180,3,181,3],[178,4,179,4],[174,27,175,27],[174,28,175,28],[176,0,177,0],[176,1,177,1],[176,2,177,2],[176,3,177,3],[176,6,177,6],[176,27,177,27],[176,28,177,28],[174,0,175,0],[174,2,175,2],[174,3,175,3],[174,1,175,1],[176,4,177,4],[172,27,173,27],[172,28,173,28],[170,0,171,0],[170,1,171,1],[170,2,171,2],[170,3,171,3],[170,5,171,5],[170,6,171,6],[170,27,171,27],[170,28,171,28],[172,5,173,5],[172,6,173,6],[172,0,173,0],[172,1,173,1],[168,0,169,0],[168,1,169,1],[168,2,169,2],[168,3,169,3],[166,4,167,4],[164,28,165,28],[164,4,165,4],[168,6,169,6],[168,27,169,27],[168,28,169,28],[166,0,167,0],[166,1,167,1],[166,2,167,2],[166,3,167,3],[166,5,167,5],[168,5,169,5],[162,27,163,27],[162,28,163,28],[166,28,167,28],[164,0,165,0],[164,1,165,1],[164,2,165,2],[164,3,165,3],[164,5,165,5],[164,6,165,6],[164,27,165,27],[166,27,167,27],[4,38,6,38],[4,35,6,35],[4,36,6,36],[4,37,6,37],[162,0,163,0],[162,1,163,1],[162,2,163,2],[162,3,163,3],[162,5,163,5],[162,6,163,6],[160,5,161,5],[126,5,127,5],[128,5,129,5],[130,5,131,5],[132,5,133,5],[134,5,135,5],[92,5,93,5],[94,5,95,5],[96,5,97,5],[98,5,99,5],[100,5,101,5],[102,5,103,5],[158,27,159,27],[158,28,159,28],[160,27,161,27],[160,28,161,28],[4,5,6,5],[82,5,83,5],[84,5,85,5],[86,5,87,5],[88,5,89,5],[90,5,91,5],[152,27,153,27],[152,28,153,28],[154,27,155,27],[154,28,155,28],[156,27,157,27],[156,28,157,28],[146,27,147,27],[146,28,147,28],[148,27,149,27],[148,28,149,28],[150,27,151,27],[150,28,151,28],[140,27,141,27],[140,28,141,28],[142,27,143,27],[142,28,143,28],[144,27,145,27],[144,28,145,28],[134,27,135,27],[134,28,135,28],[136,27,137,27],[136,28,137,28],[138,27,139,27],[138,28,139,28],[128,27,129,27],[128,28,129,28],[130,27,131,27],[130,28,131,28],[132,27,133,27],[132,28,133,28],[122,27,123,27],[122,28,123,28],[124,27,125,27],[124,28,125,28],[126,27,127,27],[126,28,127,28],[116,27,117,27],[116,28,117,28],[118,27,119,27],[118,28,119,28],[120,27,121,27],[120,28,121,28],[110,27,111,27],[110,28,111,28],[112,27,113,27],[112,28,113,28],[114,27,115,27],[114,28,115,28],[104,27,105,27],[104,28,105,28],[106,27,107,27],[106,28,107,28],[108,27,109,27],[108,28,109,28],[98,27,99,27],[98,28,99,28],[100,27,101,27],[100,28,101,28],[102,27,103,27],[102,28,103,28],[92,27,93,27],[92,28,93,28],[94,27,95,27],[94,28,95,28],[96,27,97,27],[96,28,97,28],[86,27,87,27],[86,28,87,28],[88,27,89,27],[88,28,89,28],[90,27,91,27],[90,28,91,28],[4,33,6,33],[4,34,6,34],[82,27,83,27],[82,28,83,28],[4,28,6,28],[84,27,85,27],[84,28,85,28],[2,28,3,28],[4,31,6,31],[4,32,6,32],[2,16,3,16],[4,29,6,29],[4,30,6,30],[2,26,3,26],[2,27,3,27],[82,1,83,1],[84,1,85,1],[86,1,87,1],[88,1,89,1],[4,0,6,0],[2,17,2,25],[4,2,6,2],[4,6,6,6],[2,7,2,15],[4,1,6,1],[82,0,83,0],[84,0,85,0],[86,0,87,0],[88,0,89,0],[82,6,83,6],[84,6,85,6],[86,6,87,6],[88,6,89,6],[82,3,83,3],[84,3,85,3],[86,3,87,3],[88,3,89,3],[98,1,99,1],[100,1,101,1],[102,1,103,1],[104,1,105,1],[90,1,91,1],[92,1,93,1],[94,1,95,1],[96,1,97,1],[114,1,115,1],[116,1,117,1],[118,1,119,1],[120,1,121,1],[106,1,107,1],[108,1,109,1],[110,1,111,1],[112,1,113,1],[130,1,131,1],[132,1,133,1],[134,1,135,1],[136,1,137,1],[122,1,123,1],[124,1,125,1],[126,1,127,1],[128,1,129,1],[158,1,159,1],[160,1,161,1],[146,1,147,1],[148,1,149,1],[150,1,151,1],[152,1,153,1],[154,1,155,1],[156,1,157,1],[138,1,139,1],[140,1,141,1],[142,1,143,1],[144,1,145,1],[98,0,99,0],[100,0,101,0],[102,0,103,0],[104,0,105,0],[90,0,91,0],[92,0,93,0],[94,0,95,0],[96,0,97,0],[114,0,115,0],[116,0,117,0],[118,0,119,0],[120,0,121,0],[106,0,107,0],[108,0,109,0],[110,0,111,0],[112,0,113,0],[130,0,131,0],[132,0,133,0],[134,0,135,0],[136,0,137,0],[122,0,123,0],[124,0,125,0],[126,0,127,0],[128,0,129,0],[158,0,159,0],[160,0,161,0],[146,0,147,0],[148,0,149,0],[150,0,151,0],[152,0,153,0],[154,0,155,0],[156,0,157,0],[138,0,139,0],[140,0,141,0],[142,0,143,0],[144,0,145,0],[120,6,121,6],[106,6,107,6],[108,6,109,6],[110,6,111,6],[112,6,113,6],[130,6,131,6],[132,6,133,6],[134,6,135,6],[136,6,137,6],[122,6,123,6],[124,6,125,6],[126,6,127,6],[128,6,129,6],[158,6,159,6],[160,6,161,6],[146,6,147,6],[148,6,149,6],[150,6,151,6],[152,6,153,6],[82,2,83,2],[84,2,85,2],[86,2,87,2],[88,2,89,2],[154,6,155,6],[156,6,157,6],[138,6,139,6],[140,6,141,6],[142,6,143,6],[144,6,145,6],[98,2,99,2],[100,2,101,2],[102,2,103,2],[104,2,105,2],[90,2,91,2],[92,2,93,2],[94,2,95,2],[96,2,97,2],[114,2,115,2],[116,2,117,2],[118,2,119,2],[120,2,121,2],[106,2,107,2],[108,2,109,2],[110,2,111,2],[112,2,113,2],[130,2,131,2],[122,2,123,2],[124,2,125,2],[126,2,127,2],[128,2,129,2],[158,2,159,2],[160,2,161,2],[146,2,147,2],[148,2,149,2],[150,2,151,2],[152,2,153,2],[142,2,143,2],[144,2,145,2],[136,3,137,3],[138,3,139,3],[144,3,145,3],[146,3,147,3],[152,3,153,3],[154,3,155,3],[132,2,133,2],[134,2,135,2],[136,2,137,2],[136,5,137,5],[138,5,139,5],[136,4,137,4],[138,4,139,4],[140,3,141,3],[142,3,143,3],[140,5,141,5],[142,5,143,5],[140,4,141,4],[142,4,143,4],[146,5,147,5],[144,4,145,4],[146,4,147,4],[148,3,149,3],[150,3,151,3],[148,5,149,5],[150,5,151,5],[148,4,149,4],[150,4,151,4],[114,5,115,5],[116,5,117,5],[160,3,161,3],[90,3,91,3],[92,3,93,3],[94,3,95,3],[96,3,97,3],[98,3,99,3],[100,3,101,3],[102,3,103,3],[104,3,105,3],[110,3,111,3],[126,3,127,3],[152,5,153,5],[154,5,155,5],[152,4,153,4],[154,4,155,4],[156,3,157,3],[158,3,159,3],[156,5,157,5],[158,5,159,5],[156,4,157,4],[158,4,159,4],[144,5,145,5],[118,5,119,5],[120,5,121,5],[122,3,123,3],[118,4,119,4],[120,4,121,4],[124,3,125,3],[122,5,123,5],[124,5,125,5],[104,5,105,5],[106,3,107,3],[108,3,109,3],[106,5,107,5],[108,5,109,5],[106,4,107,4],[108,4,109,4],[118,3,119,3],[114,4,115,4],[116,4,117,4],[112,3,113,3],[110,5,111,5],[112,5,113,5],[114,3,115,3],[110,4,111,4],[112,4,113,4],[90,4,91,4],[92,4,93,4],[94,4,95,4],[96,4,97,4],[82,4,83,4],[84,4,85,4],[86,4,87,4],[88,4,89,4],[128,4,129,4],[122,4,123,4],[124,4,125,4],[126,4,127,4],[0,1,0,4],[168,4,169,4],[170,4,171,4],[172,4,173,4],[174,4,175,4],[160,4,161,4],[162,4,163,4],[130,4,131,4],[132,4,133,4],[134,4,135,4],[98,4,99,4],[100,4,101,4],[102,4,103,4],[104,4,105,4],[120,3,121,3],[116,3,117,3],[128,3,129,3],[130,3,131,3],[132,3,133,3],[134,3,135,3],[154,2,155,2],[156,2,157,2],[138,2,139,2],[140,2,141,2]]}
["Course:",{"$f":"IF(Information!$C6=\"\",\"\",Information!$C6)","v":"Mile Square Golf Course (Players)"},null,null,null,"Women's Tees"]
["Rating:",{"$f":"IF(Information!$C9=\"\",\"\",Information!$C9)","v":70.5},null,null,null,{"$f":"IF(Information!$C12=\"\",\"\",Information!$C12)","v":73.099999999999994}]
["Slope:",{"$f":"IF(Information!$C10=\"\",\"\",Information!$C10)","v":122},"1st Tee Time","Intervals",null,{"$f":"IF(Information!$C13=\"\",\"\",Information!$C13)","v":125},null,"Front (Hole No. / Par / Yardage / Hdcp.)",null,null,null,null,null,null,null,null,"F","Back (Hole No. / Par / Yardage / Hdcp.)",null,null,null,null,null,null,null,null,"B","T","AS"]
["Date:",{"$f":"IF(Information!$C3=\"\",\"\",Information!$C3)","v":"2018-07-22"},{"$f":"IF(Information!$C7=\"\",\"\",Information!$C7)","v":"10:00:00"},"00:07:00","00:08:00",null,null,{"$f":"IF(Information!$B17=\"\",\"\",Information!$B17)","v":1},{"$f":"IF(Information!$B18=\"\",\"\",Information!$B18)","v":2},{"$f":"IF(Information!$B19=\"\",\"\",Information!$B19)","v":3},{"$f":"IF(Information!$B20=\"\",\"\",Information!$B20)","v":4},{"$f":"IF(Information!$B21=\"\",\"\",Information!$B21)","v":5},{"$f":"IF(Information!$B22=\"\",\"\",Information!$B22)","v":6},{"$f":"IF(Information!$B23=\"\",\"\",Information!$B23)","v":7},{"$f":"IF(Information!$B24=\"\",\"\",Information!$B24)","v":8},{"$f":"IF(Information!$B25=\"\",\"\",Information!$B25)","v":9},null,{"$f":"IF(Information!$B28=\"\",\"\",Information!$B28)","v":10},{"$f":"IF(Information!$B29=\"\",\"\",Information!$B29)","v":11},{"$f":"IF(Information!$B30=\"\",\"\",Information!$B30)","v":12},{"$f":"IF(Information!$B31=\"\",\"\",Information!$B31)","v":13},{"$f":"IF(Information!$B32=\"\",\"\",Information!$B32)","v":14},{"$f":"IF(Information!$B33=\"\",\"\",Information!$B33)","v":15},{"$f":"IF(Information!$B34=\"\",\"\",Information!$B34)","v":16},{"$f":"IF(Information!$B35=\"\",\"\",Information!$B35)","v":17},{"$f":"IF(Information!$B36=\"\",\"\",Information!$B36)","v":18}]
["No.","Player","GHIN No.","Curr. Hdcp.","Tour. Hdcp.","Match Play Opponent","Putts",{"$f":"IF(Information!$C17=\"\",\"\",Information!$C17)","v":4},{"$f":"IF(Information!$C18=\"\",\"\",Information!$C18)","v":4},{"$f":"IF(Information!$C19=\"\",\"\",Information!$C19)","v":4},{"$f":"IF(Information!$C20=\"\",\"\",Information!$C20)","v":3},{"$f":"IF(Information!$C21=\"\",\"\",Information!$C21)","v":5},{"$f":"IF(Information!$C22=\"\",\"\",Information!$C22)","v":3},{"$f":"IF(Information!$C23=\"\",\"\",Information!$C23)","v":4},{"$f":"IF(Information!$C24=\"\",\"\",Information!$C24)","v":4},{"$f":"IF(Information!$C25=\"\",\"\",Information!$C25)","v":5},{"$f":"IF(P5=\"\",\"\",SUM(H5:P5))","v":36},{"$f":"IF(Information!$C28=\"\",\"\",Information!$C28)","v":4},{"$f":"IF(Information!$C29=\"\",\"\",Information!$C29)","v":4},{"$f":"IF(Information!$C30=\"\",\"\",Information!$C30)","v":3},{"$f":"IF(Information!$C31=\"\",\"\",Information!$C31)","v":4},{"$f":"IF(Information!$C32=\"\",\"\",Information!$C32)","v":5},{"$f":"IF(Information!$C33=\"\",\"\",Information!$C33)","v":4},{"$f":"IF(Information!$C34=\"\",\"\",Information!$C34)","v":3},{"$f":"IF(Information!$C35=\"\",\"\",Information!$C35)","v":5},{"$f":"IF(Information!$C36=\"\",\"\",Information!$C36)","v":4},{"$f":"IF(Z5=\"\",\"\",SUM(R5:Z5))","v":36},{"$f":"IF(OR(Q5=\"\",AA5=\"\"),\"\",SUM(AA5,Q5))","v":72},"-","No.","Player","Low Net","A-Skins","B-Skins","Low Putts & CPs","A-Skins","B-Skins","Low Putts & CPs","LP & CTPs"]
[null,null,null,null,null,null,null,{"$f":"IF(Information!$D17=\"\",\"\",Information!$D17)","v":354},{"$f":"IF(Information!$D18=\"\",\"\",Information!$D18)","v":383},{"$f":"IF(Information!$D19=\"\",\"\",Information!$D19)","v":347},{"$f":"IF(Information!$D20=\"\",\"\",Information!$D20)","v":111},{"$f":"IF(Information!$D21=\"\",\"\",Information!$D21)","v":480},{"$f":"IF(Information!$D22=\"\",\"\",Information!$D22)","v":169},{"$f":"IF(Information!$D23=\"\",\"\",Information!$D23)","v":374},{"$f":"IF(Information!$D24=\"\",\"\",Information!$D24)","v":410},{"$f":"IF(Information!$D25=\"\",\"\",Information!$D25)","v":476},{"$f":"IF(P6=\"\",\"\",SUM(H6:P6))","v":3104},{"$f":"IF(Information!$D28=\"\",\"\",Information!$D28)","v":376},{"$f":"IF(Information!$D29=\"\",\"\",Information!$D29)","v":405},{"$f":"IF(Information!$D30=\"\",\"\",Information!$D30)","v":153},{"$f":"IF(Information!$D31=\"\",\"\",Information!$D31)","v":332},{"$f":"IF(Information!$D32=\"\",\"\",Information!$D32)","v":515},{"$f":"IF(Information!$D33=\"\",\"\",Information!$D33)","v":431},{"$f":"IF(Information!$D34=\"\",\"\",Information!$D34)","v":141},{"$f":"IF(Information!$D35=\"\",\"\",Information!$D35)","v":477},{"$f":"IF(Information!$D36=\"\",\"\",Information!$D36)","v":400},{"$f":"IF(Z6=\"\",\"\",SUM(R6:Z6))","v":3230},{"$f":"IF(OR(Q6=\"\",AA6=\"\"),\"\",SUM(AA6,Q6))","v":6334}]
[null,null,null,null,null,null,null,{"$f":"IF(Information!$E17=\"\",\"\",Information!$E17)","v":15},{"$f":"IF(Information!$E18=\"\",\"\",Information!$E18)","v":1},{"$f":"IF(Information!$E19=\"\",\"\",Information!$E19)","v":13},{"$f":"IF(Information!$E20=\"\",\"\",Information!$E20)","v":17},{"$f":"IF(Information!$E21=\"\",\"\",Information!$E21)","v":7},{"$f":"IF(Information!$E22=\"\",\"\",Information!$E22)","v":9},{"$f":"IF(Information!$E23=\"\",\"\",Information!$E23)","v":11},{"$f":"IF(Information!$E24=\"\",\"\",Information!$E24)","v":3},{"$f":"IF(Information!$E25=\"\",\"\",Information!$E25)","v":5},"-",{"$f":"IF(Information!$E28=\"\",\"\",Information!$E28)","v":8},{"$f":"IF(Information!$E29=\"\",\"\",Information!$E29)","v":4},{"$f":"IF(Information!$E30=\"\",\"\",Information!$E30)","v":10},{"$f":"IF(Information!$E31=\"\",\"\",Information!$E31)","v":18},{"$f":"IF(Information!$E32=\"\",\"\",Information!$E32)","v":14},{"$f":"IF(Information!$E33=\"\",\"\",Information!$E33)","v":2},{"$f":"IF(Information!$E34=\"\",\"\",Information!$E34)","v":16},{"$f":"IF(Information!$E35=\"\",\"\",Information!$E35)","v":12},{"$f":"IF(Information!$E36=\"\",\"\",Information!$E36)","v":6},"-","-"]
[null,{"$f":"Members!B2","v":"Aldrian, Mark"},null,null,null,{"$f":"Members!B2","v":"Aldrian, Mark"}]
[null,{"$f":"Members!B3","v":"Bateson, Brad"},null,null,null,{"$f":"Members!B3","v":"Bateson, Brad"}]
[null,{"$f":"Members!B4","v":"Blodgett, Kevin"},null,null,null,{"$f":"Members!B4","v":"Blodgett, Kevin"}]
[null,{"$f":"Members!B5","v":"Deutsch, Paul"},null,null,null,{"$f":"Members!B5","v":"Deutsch, Paul"}]
[null,{"$f":"Members!B6","v":"Doden, Jeff"},null,null,null,{"$f":"Members!B6","v":"Doden, Jeff"}]
[null,{"$f":"Members!B7","v":"Escobedo, Hector"},null,null,null,{"$f":"Members!B7","v":"Escobedo, Hector"}]
[null,{"$f":"Members!B8","v":"Escobedo, Marco"},null,null,null,{"$f":"Members!B8","v":"Escobedo, Marco"}]
[null,{"$f":"Members!B9","v":"Forstot, Joshua"},null,null,null,{"$f":"Members!B9","v":"Forstot, Joshua"}]
[null,{"$f":"Members!B10","v":"Graham, Travis"},null,null,null,{"$f":"Members!B10","v":"Graham, Travis"}]
[null,{"$f":"Members!B11","v":"Hammond, Rob"},null,null,null,{"$f":"Members!B11","v":"Hammond, Rob"}]
[null,{"$f":"Members!B12","v":"Hart, Dave"},null,null,null,{"$f":"Members!B12","v":"Hart, Dave"}]
[null,{"$f":"Members!B13","v":"Havstad, Peter"},null,null,null,{"$f":"Members!B13","v":"Havstad, Peter"}]
[null,{"$f":"Members!B14","v":"Havstad, Steve"},null,null,null,{"$f":"Members!B14","v":"Havstad, Steve"}]
[null,{"$f":"Members!B15","v":"Holzrichter, Geoff"},null,null,null,{"$f":"Members!B15","v":"Holzrichter, Geoff"}]
[null,{"$f":"Members!B16","v":"Johnson, Carl"},null,null,null,{"$f":"Members!B16","v":"Johnson, Carl"}]
[null,{"$f":"Members!B17","v":"Jones, Gary"},null,null,null,{"$f":"Members!B17","v":"Jones, Gary"}]
[null,{"$f":"Members!B18","v":"Kozachenko, Jon"},null,null,null,{"$f":"Members!B18","v":"Kozachenko, Jon"}]
[null,{"$f":"Members!B19","v":"Lujan, Fil"},null,null,null,{"$f":"Members!B19","v":"Lujan, Fil"}]
[null,{"$f":"Members!B20","v":"Lunghard, Rich"},null,null,null,{"$f":"Members!B20","v":"Lunghard, Rich"}]
[null,{"$f":"Members!B21","v":"Mariano, Joe"},null,null,null,{"$f":"Members!B21","v":"Mariano, Joe"}]
[null,{"$f":"Members!B22","v":"Matthews, Keith"},null,null,null,{"$f":"Members!B22","v":"Matthews, Keith"}]
[null,{"$f":"Members!B23","v":"Medina, Randy"},null,null,null,{"$f":"Members!B23","v":"Medina, Randy"}]
[null,{"$f":"Members!B24","v":"Mikschl, Tom"},null,null,null,{"$f":"Members!B24","v":"Mikschl, Tom"}]
[null,{"$f":"Members!B25","v":"Montgomery, Andy"},null,null,null,{"$f":"Members!B25","v":"Montgomery, Andy"}]
[null,{"$f":"Members!B26","v":"Nagel, Rich"},null,null,null,{"$f":"Members!B26","v":"Nagel, Rich"}]
[null,{"$f":"Members!B27","v":"Ornelas, Eddie"},null,null,null,{"$f":"Members!B27","v":"Ornelas, Eddie"}]
[null,{"$f":"Members!B28","v":"Poyar, Bob"},null,null,null,{"$f":"Members!B28","v":"Poyar, Bob"}]
[null,{"$f":"Members!B29","v":"Rojes, Ray"},null,null,null,{"$f":"Members!B29","v":"Rojes, Ray"}]
[null,{"$f":"Members!B30","v":"Salinas, Frank"},null,null,null,{"$f":"Members!B30","v":"Salinas, Frank"}]
[null,{"$f":"Members!B31","v":"Tenorio, Noe"},null,null,null,{"$f":"Members!B31","v":"Tenorio, Noe"}]
[null,{"$f":"Members!B32","v":"Thompson, Dan"},null,null,null,{"$f":"Members!B32","v":"Thompson, Dan"}]
[null,{"$f":"Members!B33","v":0},null,null,null,{"$f":"Members!B33","v":0}]
[null,{"$f":"Members!B34","v":"Christen, Lou"},null,null,null,{"$f":"Members!B34","v":"Christen, Lou"}]
[null,{"$f":"Members!B35","v":"Iinuma, Shiro"},null,null,null,{"$f":"Members!B35","v":"Iinuma, Shiro"}]
[null,{"$f":"Members!B36","v":"Ikeda, Blaine"},null,null,null,{"$f":"Members!B36","v":"Ikeda, Blaine"}]
[null,{"$f":"Members!B37","v":"Endo, Johnny"},null,null,null,{"$f":"Members!B37","v":"Endo, Johnny"}]
[null,{"$f":"Members!B38","v":0},null,null,null,{"$f":"Members!B38","v":0}]
[null,{"$f":"Members!B39","v":0},null,null,null,{"$f":"Members!B39","v":0}]
[null,{"$f":"Members!B40","v":0},null,null,null,{"$f":"Members!B40","v":0}]
[null,{"$f":"Members!B41","v":0},null,null,null,{"$f":"Members!B41","v":0}]
[null,{"$f":"Members!B42","v":0},null,null,null,{"$f":"Members!B42","v":0}]
[null,{"$f":"Members!B43","v":0},null,null,null,{"$f":"Members!B43","v":0}]
[null,{"$f":"Members!B44","v":0},null,null,null,{"$f":"Members!B44","v":0}]
[null,{"$f":"Members!B45","v":0},null,null,null,{"$f":"Members!B45","v":0}]
[null,{"$f":"Members!B46","v":0},null,null,null,{"$f":"Members!B46","v":0}]
[null,{"$f":"Members!B47","v":0},null,null,null,{"$f":"Members!B47","v":0}]
[null,{"$f":"Members!B48","v":0},null,null,null,{"$f":"Members!B48","v":0}]
[null,{"$f":"Members!B49","v":0},null,null,null,{"$f":"Members!B49","v":0}]
[null,{"$f":"Members!B50","v":0},null,null,null,{"$f":"Members!B50","v":0}]
[null,{"$f":"Members!B51","v":0},null,null,null,{"$f":"Members!B51","v":0}]
[null,{"$f":"Members!B52","v":0},null,null,null,{"$f":"Members!B52","v":0}]
[null,{"$f":"Members!B53","v":0},null,null,null,{"$f":"Members!B53","v":0}]
[null,{"$f":"Members!B54","v":0},null,null,null,{"$f":"Members!B54","v":0}]
[null,{"$f":"Members!B55","v":0},null,null,null,{"$f":"Members!B55","v":0}]
[null,{"$f":"Members!B56","v":0},null,null,null,{"$f":"Members!B56","v":0}]
[null,{"$f":"Members!B57","v":0},null,null,null,{"$f":"Members!B57","v":0}]
[null,{"$f":"Members!B58","v":0},null,null,null,{"$f":"Members!B58","v":0}]
[null,{"$f":"Members!B59","v":0},null,null,null,{"$f":"Members!B59","v":0}]
[null,{"$f":"Members!B60","v":0},null,null,null,{"$f":"Members!B60","v":0}]
[null,{"$f":"Members!B61","v":0},null,null,null,{"$f":"Members!B61","v":0}]
[null,{"$f":"Members!B62","v":0},null,null,null,{"$f":"Members!B62","v":0}]
[null,{"$f":"Members!B63","v":0},null,null,null,{"$f":"Members!B63","v":0}]
[null,{"$f":"Members!B64","v":0},null,null,null,{"$f":"Members!B64","v":0}]
[null,{"$f":"Members!B65","v":0},null,null,null,{"$f":"Members!B65","v":0}]
[null,{"$f":"Members!B66","v":0},null,null,null,{"$f":"Members!B66","v":0}]
[null,{"$f":"Members!B67","v":0},null,null,null,{"$f":"Members!B67","v":0}]
[null,{"$f":"Members!B68","v":0},null,null,null,{"$f":"Members!B68","v":0}]
[null,{"$f":"Members!B69","v":0},null,null,null,{"$f":"Members!B69","v":0}]
[null,{"$f":"Members!B70","v":0},null,null,null,{"$f":"Members!B70","v":0}]
[null,{"$f":"Members!B71","v":0},null,null,null,{"$f":"Members!B71","v":0}]
[null,{"$f":"Members!B72","v":0},null,null,null,{"$f":"Members!B72","v":0}]
[null,{"$f":"Members!B73","v":0},null,null,null,{"$f":"Members!B73","v":0}]
[null,{"$f":"Members!B74","v":0},null,null,null,{"$f":"Members!B74","v":0}]
[null,{"$f":"Members!B75","v":0},null,null,null,{"$f":"Members!B75","v":0}]
[null,{"$f":"Members!B76","v":0},null,null,null,{"$f":"Members!B76","v":0}]
[null,"Jones, Gary",{"$f":"IF($B83=\"\",\"\",IF(VLOOKUP($B83,Members,2,FALSE)=\"\", \"-\",(VLOOKUP($B83,Members,2,FALSE))))","v":9709739},{"$f":"IF(OR($B83=\"\",$B$3=\"\",$F$3=\"\"),\"\",IF(OR(VLOOKUP($B83,Members,2,FALSE)=\"\",VLOOKUP($B83,Members,8,FALSE)=\"\"),\"-\",VLOOKUP($B83,Members,8,FALSE)))","v":13},{"$f":"IF(OR($B83=\"\",$B$3=\"\",$F$3=\"\"),\"\",IF(OR(VLOOKUP($B83,Members,2,FALSE)=\"\",VLOOKUP($B83,Members,9,FALSE)=\"\",VLOOKUP($B83,Pots,3,FALSE)=\"\"),\"-\",VLOOKUP($B83,Members,9,FALSE)))","v":13},"Escobedo, Hector",31,5,4,5,2,5,4,5,5,4,{"$f":"IF(P83=\"\",\"\",SUM(H83:P83))","v":39},5,6,2,5,5,5,2,4,6,{"$f":"IF(Z83=\"\",\"\",SUM(R83:Z83))","v":40},{"$f":"IF(OR(Q83=\"\",AA83=\"\"),\"\",SUM(AA83,Q83))","v":79},{"$f":"IF(AB83=\"\",\"\",SUM(Q84,AA84))","v":79},"","Iinuma, Shiro",{"$f":"IF($AE83=\"\",\"\",IF(VLOOKUP($AE83,Pots,3,FALSE)=1,1,\"\"))","v":""},{"$f":"IF($AE83=\"\",\"\",IF(VLOOKUP($AE83,Pots,4,FALSE)=1,1,\"\"))","v":""},{"$f":"IF($AE83=\"\",\"\",IF(VLOOKUP($AE83,Pots,5,FALSE)=1,1,\"\"))","v":""},{"$f":"IF($AE83=\"\",\"\",IF(VLOOKUP($AE83,Pots,6,FALSE)=1,1,\"\"))","v":1},{"$f":"IF($AG83=1,$AE83,\"\")","v":""},{"$f":"IF($AH83=1,$AE83,\"\")","v":""},{"$f":"IF(AND($AI83=1,$AG83=\"\",$AH83=\"\"),$AE83,\"\")","v":"Iinuma, Shiro"},{"$f":"IF(AND($AI83=1,$AG83=\"\",$AH83=\"\"),\"X\",\"\")","v":"X"},{"$f":"IF(A83=\"\",\"\",A83)","v":""},{"$f":"IF(B83=\"\",\"\",B83)","v":"Jones, Gary"}]
[null,null,null,null,null,null,null,{"$f":"IF(H83=\"\",\"\",IF($D83<=9,MIN(H83,H$5+2),IF($D83<=19,MIN(H83,7),IF($D83<=29,MIN(H83,8),IF($D83<=39,MIN(H83,9),IF($D83>=40,MIN(H83,10)))))))","v":5},4,5,2,5,4,5,5,4,{"$f":"IF(Q83=\"\",\"\",SUM(H84:P84))","v":39},{"$f":"IF(R83=\"\",\"\",IF($D83<=9,MIN(R83,R$5+2),IF($D83<=19,MIN(R83,7),IF($D83<=29,MIN(R83,8),IF($D83<=39,MIN(R83,9),IF($D83>=40,MIN(R83,10)))))))","v":5},6,2,5,5,5,2,4,6,{"$f":"IF(AA83=\"\",\"\",SUM(R84:Z84))","v":40},null,null,"","Endo, Johnny",{"$f":"IF($AE84=\"\",\"\",IF(VLOOKUP($AE84,Pots,3,FALSE)=1,1,\"\"))","v":""},{"$f":"IF($AE84=\"\",\"\",IF(VLOOKUP($AE84,Pots,4,FALSE)=1,1,\"\"))","v":""},{"$f":"IF($AE84=\"\",\"\",IF(VLOOKUP($AE84,Pots,5,FALSE)=1,1,\"\"))","v":""},{"$f":"IF($AE84=\"\",\"\",IF(VLOOKUP($AE84,Pots,6,FALSE)=1,1,\"\"))","v":1},{"$f":"IF($AG84=1,$AE84,\"\")","v":""},{"$f":"IF($AH84=1,$AE84,\"\")","v":""},{"$f":"IF(AND($AI84=1,$AG84=\"\",$AH84=\"\"),$AE84,\"\")","v":"Endo, Johnny"},{"$f":"IF(AND($AI84=1,$AG84=\"\",$AH84=\"\"),\"X\",\"\")","v":"X"},{"$f":"IF(A85=\"\",\"\",A85)","v":""},{"$f":"IF(B85=\"\",\"\",B85)","v":"Escobedo, Hector"}]
[null,"Escobedo, Hector",{"$f":"IF($B85=\"\",\"\",IF(VLOOKUP($B85,Members,2,FALSE)=\"\", \"-\",(VLOOKUP($B85,Members,2,FALSE))))","v":8696486},{"$f":"IF(OR($B85=\"\",$B$3=\"\",$F$3=\"\"),\"\",IF(OR(VLOOKUP($B85,Members,2,FALSE)=\"\",VLOOKUP($B85,Members,8,FALSE)=\"\"),\"-\",VLOOKUP($B85,Members,8,FALSE)))","v":11},{"$f":"IF(OR($B85=\"\",$B$3=\"\",$F$3=\"\"),\"\",IF(OR(VLOOKUP($B85,Members,2,FALSE)=\"\",VLOOKUP($B85,Members,9,FALSE)=\"\",VLOOKUP($B85,Pots,3,FALSE)=\"\"),\"-\",VLOOKUP($B85,Members,9,FALSE)))","v":11},"Jones, Gary",28,4,6,4,4,5,3,4,5,6,{"$f":"IF(P85=\"\",\"\",SUM(H85:P85))","v":41},7,5,3,5,7,4,3,5,6,{"$f":"IF(Z85=\"\",\"\",SUM(R85:Z85))","v":45},{"$f":"IF(OR(Q85=\"\",AA85=\"\"),\"\",SUM(AA85,Q85))","v":86},{"$f":"IF(AB85=\"\",\"\",SUM(Q86,AA86))","v":86},"","Ikeda, Blaine",{"$f":"IF($AE85=\"\",\"\",IF(VLOOKUP($AE85,Pots,3,FALSE)=1,1,\"\"))","v":""},{"$f":"IF($AE85=\"\",\"\",IF(VLOOKUP($AE85,Pots,4,FALSE)=1,1,\"\"))","v":""},{"$f":"IF($AE85=\"\",\"\",IF(VLOOKUP($AE85,Pots,5,FALSE)=1,1,\"\"))","v":""},{"$f":"IF($AE85=\"\",\"\",IF(VLOOKUP($AE85,Pots,6,FALSE)=1,1,\"\"))","v":1},{"$f":"IF($AG85=1,$AE85,\"\")","v":""},{"$f":"IF($AH85=1,$AE85,\"\")","v":""},{"$f":"IF(AND($AI85=1,$AG85=\"\",$AH85=\"\"),$AE85,\"\")","v":"Ikeda, Blaine"},{"$f":"IF(AND($AI85=1,$AG85=\"\",$AH85=\"\"),\"X\",\"\")","v":"X"},{"$f":"IF(A87=\"\",\"\",A87)","v":""},{"$f":"IF(B87=\"\",\"\",B87)","v":"Mariano, Joe"}]
[null,null,null,null,null,null,null,{"$f":"IF(H85=\"\",\"\",IF($D85<=9,MIN(H85,H$5+2),IF($D85<=19,MIN(H85,7),IF($D85<=29,MIN(H85,8),IF($D85<=39,MIN(H85,9),IF($D85>=40,MIN(H85,10)))))))","v":4},{"$f":"IF(I85=\"\",\"\",IF($D85<=9,MIN(I85,I$5+2),IF($D85<=19,MIN(I85,7),IF($D85<=29,MIN(I85,8),IF($D85<=39,MIN(I85,9),IF($D85>=40,MIN(I85,10)))))))","v":6},4,4,5,3,4,5,6,{"$f":"IF(Q85=\"\",\"\",SUM(H86:P86))","v":41},{"$f":"IF(R85=\"\",\"\",IF($D85<=9,MIN(R85,R$5+2),IF($D85<=19,MIN(R85,7),IF($D85<=29,MIN(R85,8),IF($D85<=39,MIN(R85,9),IF($D85>=40,MIN(R85,10)))))))","v":7},5,3,5,7,4,3,5,6,{"$f":"IF(AA85=\"\",\"\",SUM(R86:Z86))","v":45},null,null,"","Blodgett, Kevin",{"$f":"IF($AE86=\"\",\"\",IF(VLOOKUP($AE86,Pots,3,FALSE)=1,1,\"\"))","v":1},{"$f":"IF($AE86=\"\",\"\",IF(VLOOKUP($AE86,Pots,4,FALSE)=1,1,\"\"))","v":1},{"$f":"IF($AE86=\"\",\"\",IF(VLOOKUP($AE86,Pots,5,FALSE)=1,1,\"\"))","v":1},{"$f":"IF($AE86=\"\",\"\",IF(VLOOKUP($AE86,Pots,6,FALSE)=1,1,\"\"))","v":1},{"$f":"IF($AG86=1,$AE86,\"\")","v":"Blodgett, Kevin"},{"$f":"IF($AH86=1,$AE86,\"\")","v":"Blodgett, Kevin"},{"$f":"IF(AND($AI86=1,$AG86=\"\",$AH86=\"\"),$AE86,\"\")","v":""},{"$f":"IF(AND($AI86=1,$AG86=\"\",$AH86=\"\"),\"X\",\"\")","v":""},{"$f":"IF(A89=\"\",\"\",A89)","v":""},{"$f":"IF(B89=\"\",\"\",B89)","v":"Ornelas, Eddie"}]
[null,"Mariano, Joe",{"$f":"IF($B87=\"\",\"\",IF(VLOOKUP($B87,Members,2,FALSE)=\"\", \"-\",(VLOOKUP($B87,Members,2,FALSE))))","v":282914},{"$f":"IF(OR($B87=\"\",$B$3=\"\",$F$3=\"\"),\"\",IF(OR(VLOOKUP($B87,Members,2,FALSE)=\"\",VLOOKUP($B87,Members,8,FALSE)=\"\"),\"-\",VLOOKUP($B87,Members,8,FALSE)))","v":13},{"$f":"IF(OR($B87=\"\",$B$3=\"\",$F$3=\"\"),\"\",IF(OR(VLOOKUP($B87,Members,2,FALSE)=\"\",VLOOKUP($B87,Members,9,FALSE)=\"\",VLOOKUP($B87,Pots,3,FALSE)=\"\"),\"-\",VLOOKUP($B87,Members,9,FALSE)))","v":13},"Ornelas, Eddie",37,7,4,5,3,5,5,6,5,6,{"$f":"IF(P87=\"\",\"\",SUM(H87:P87))","v":46},5,6,5,4,7,5,3,6,6,{"$f":"IF(Z87=\"\",\"\",SUM(R87:Z87))","v":47},{"$f":"IF(OR(Q87=\"\",AA87=\"\"),\"\",SUM(AA87,Q87))","v":93},{"$f":"IF(AB87=\"\",\"\",SUM(Q88,AA88))","v":93},"","Tenorio, Noe",{"$f":"IF($AE87=\"\",\"\",IF(VLOOKUP($AE87,Pots,3,FALSE)=1,1,\"\"))","v":1},{"$f":"IF($AE87=\"\",\"\",IF(VLOOKUP($AE87,Pots,4,FALSE)=1,1,\"\"))","v":""},{"$f":"IF($AE87=\"\",\"\",IF(VLOOKUP($AE87,Pots,5,FALSE)=1,1,\"\"))","v":1},{"$f":"IF($AE87=\"\",\"\",IF(VLOOKUP($AE87,Pots,6,FALSE)=1,1,\"\"))","v":1},{"$f":"IF($AG87=1,$AE87,\"\")","v":""},{"$f":"IF($AH87=1,$AE87,\"\")","v":"Tenorio, Noe"},{"$f":"IF(AND($AI87=1,$AG87=\"\",$AH87=\"\"),$AE87,\"\")","v":""},{"$f":"IF(AND($AI87=1,$AG87=\"\",$AH87=\"\"),\"X\",\"\")","v":""},{"$f":"IF(A91=\"\",\"\",A91)","v":""},{"$f":"IF(B91=\"\",\"\",B91)","v":""}]
[null,null,null,null,null,null,null,{"$f":"IF(H87=\"\",\"\",IF($D87<=9,MIN(H87,H$5+2),IF($D87<=19,MIN(H87,7),IF($D87<=29,MIN(H87,8),IF($D87<=39,MIN(H87,9),IF($D87>=40,MIN(H87,10)))))))","v":7},4,5,3,5,5,6,5,6,{"$f":"IF(Q87=\"\",\"\",SUM(H88:P88))","v":46},{"$f":"IF(R87=\"\",\"\",IF($D87<=9,MIN(R87,R$5+2),IF($D87<=19,MIN(R87,7),IF($D87<=29,MIN(R87,8),IF($D87<=39,MIN(R87,9),IF($D87>=40,MIN(R87,10)))))))","v":5},6,5,4,7,5,3,6,6,{"$f":"IF(AA87=\"\",\"\",SUM(R88:Z88))","v":47},null,null,"","Deutsch, Paul",{"$f":"IF($AE88=\"\",\"\",IF(VLOOKUP($AE88,Pots,3,FALSE)=1,1,\"\"))","v":""},{"$f":"IF($AE88=\"\",\"\",IF(VLOOKUP($AE88,Pots,4,FALSE)=1,1,\"\"))","v":""},{"$f":"IF($AE88=\"\",\"\",IF(VLOOKUP($AE88,Pots,5,FALSE)=1,1,\"\"))","v":1},{"$f":"IF($AE88=\"\",\"\",IF(VLOOKUP($AE88,Pots,6,FALSE)=1,1,\"\"))","v":1},{"$f":"IF($AG88=1,$AE88,\"\")","v":""},{"$f":"IF($AH88=1,$AE88,\"\")","v":"Deutsch, Paul"},{"$f":"IF(AND($AI88=1,$AG88=\"\",$AH88=\"\"),$AE88,\"\")","v":""},{"$f":"IF(AND($AI88=1,$AG88=\"\",$AH88=\"\"),\"X\",\"\")","v":""},{"$f":"IF(A93=\"\",\"\",A93)","v":""},{"$f":"IF(B93=\"\",\"\",B93)","v":"Kozachenko, Jon"}]
[null,"Ornelas, Eddie",{"$f":"IF($B89=\"\",\"\",IF(VLOOKUP($B89,Members,2,FALSE)=\"\", \"-\",(VLOOKUP($B89,Members,2,FALSE))))","v":9583397},{"$f":"IF(OR($B89=\"\",$B$3=\"\",$F$3=\"\"),\"\",IF(OR(VLOOKUP($B89,Members,2,FALSE)=\"\",VLOOKUP($B89,Members,8,FALSE)=\"\"),\"-\",VLOOKUP($B89,Members,8,FALSE)))","v":10},{"$f":"IF(OR($B89=\"\",$B$3=\"\",$F$3=\"\"),\"\",IF(OR(VLOOKUP($B89,Members,2,FALSE)=\"\",VLOOKUP($B89,Members,9,FALSE)=\"\",VLOOKUP($B89,Pots,3,FALSE)=\"\"),\"-\",VLOOKUP($B89,Members,9,FALSE)))","v":10},"Mariano, Joe",34,4,5,6,4,5,4,4,6,5,{"$f":"IF(P89=\"\",\"\",SUM(H89:P89))","v":43},4,4,3,4,6,6,5,6,4,{"$f":"IF(Z89=\"\",\"\",SUM(R89:Z89))","v":42},{"$f":"IF(OR(Q89=\"\",AA89=\"\"),\"\",SUM(AA89,Q89))","v":85},{"$f":"IF(AB89=\"\",\"\",SUM(Q90,AA90))","v":85},"","Lunghard, Rich",{"$f":"IF($AE89=\"\",\"\",IF(VLOOKUP($AE89,Pots,3,FALSE)=1,1,\"\"))","v":1},{"$f":"IF($AE89=\"\",\"\",IF(VLOOKUP($AE89,Pots,4,FALSE)=1,1,\"\"))","v":""},{"$f":"IF($AE89=\"\",\"\",IF(VLOOKUP($AE89,Pots,5,FALSE)=1,1,\"\"))","v":1},{"$f":"IF($AE89=\"\",\"\",IF(VLOOKUP($AE89,Pots,6,FALSE)=1,1,\"\"))","v":1},{"$f":"IF($AG89=1,$AE89,\"\")","v":""},{"$f":"IF($AH89=1,$AE89,\"\")","v":"Lunghard, Rich"},{"$f":"IF(AND($AI89=1,$AG89=\"\",$AH89=\"\"),$AE89,\"\")","v":""},{"$f":"IF(AND($AI89=1,$AG89=\"\",$AH89=\"\"),\"X\",\"\")","v":""},{"$f":"IF(A95=\"\",\"\",A95)","v":""},{"$f":"IF(B95=\"\",\"\",B95)","v":"Matthews, Keith"}]
[null,null,null,null,null,null,null,{"$f":"IF(H89=\"\",\"\",IF($D89<=9,MIN(H89,H$5+2),IF($D89<=19,MIN(H89,7),IF($D89<=29,MIN(H89,8),IF($D89<=39,MIN(H89,9),IF($D89>=40,MIN(H89,10)))))))","v":4},5,6,4,5,4,4,6,5,{"$f":"IF(Q89=\"\",\"\",SUM(H90:P90))","v":43},{"$f":"IF(R89=\"\",\"\",IF($D89<=9,MIN(R89,R$5+2),IF($D89<=19,MIN(R89,7),IF($D89<=29,MIN(R89,8),IF($D89<=39,MIN(R89,9),IF($D89>=40,MIN(R89,10)))))))","v":4},4,3,4,6,6,5,6,4,{"$f":"IF(AA89=\"\",\"\",SUM(R90:Z90))","v":42},null,null,"","Holzrichter, Geoff",{"$f":"IF($AE90=\"\",\"\",IF(VLOOKUP($AE90,Pots,3,FALSE)=1,1,\"\"))","v":1},{"$f":"IF($AE90=\"\",\"\",IF(VLOOKUP($AE90,Pots,4,FALSE)=1,1,\"\"))","v":""},{"$f":"IF($AE90=\"\",\"\",IF(VLOOKUP($AE90,Pots,5,FALSE)=1,1,\"\"))","v":1},{"$f":"IF($AE90=\"\",\"\",IF(VLOOKUP($AE90,Pots,6,FALSE)=1,1,\"\"))","v":1},{"$f":"IF($AG90=1,$AE90,\"\")","v":""},{"$f":"IF($AH90=1,$AE90,\"\")","v":"Holzrichter, Geoff"},{"$f":"IF(AND($AI90=1,$AG90=\"\",$AH90=\"\"),$AE90,\"\")","v":""},{"$f":"IF(AND($AI90=1,$AG90=\"\",$AH90=\"\"),\"X\",\"\")","v":""},{"$f":"IF(A97=\"\",\"\",A97)","v":""},{"$f":"IF(B97=\"\",\"\",B97)","v":"Christen, Lou"}]
[null,null,{"$f":"IF($B91=\"\",\"\",IF(VLOOKUP($B91,Members,2,FALSE)=\"\", \"-\",(VLOOKUP($B91,Members,2,FALSE))))","v":""},{"$f":"IF(OR($B91=\"\",$B$3=\"\",$F$3=\"\"),\"\",IF(OR(VLOOKUP($B91,Members,2,FALSE)=\"\",VLOOKUP($B91,Members,8,FALSE)=\"\"),\"-\",VLOOKUP($B91,Members,8,FALSE)))","v":""},{"$f":"IF(OR($B91=\"\",$B$3=\"\",$F$3=\"\"),\"\",IF(OR(VLOOKUP($B91,Members,2,FALSE)=\"\",VLOOKUP($B91,Members,9,FALSE)=\"\",VLOOKUP($B91,Pots,3,FALSE)=\"\"),\"-\",VLOOKUP($B91,Members,9,FALSE)))","v":""},null,{"$f":"IF($B91=\"\",\"\",IF(VLOOKUP($B91,Pots,6,FALSE)=\"\",\"-\",\"\"))","v":""},null,null,null,null,null,null,null,null,null,{"$f":"IF(P91=\"\",\"\",SUM(H91:P91))","v":""},null,null,null,null,null,null,null,null,null,{"$f":"IF(Z91=\"\",\"\",SUM(R91:Z91))","v":""},{"$f":"IF(OR(Q91=\"\",AA91=\"\"),\"\",SUM(AA91,Q91))","v":""},{"$f":"IF(AB91=\"\",\"\",SUM(Q92,AA92))","v":""},"","Jones, Gary",{"$f":"IF($AE91=\"\",\"\",IF(VLOOKUP($AE91,Pots,3,FALSE)=1,1,\"\"))","v":1},{"$f":"IF($AE91=\"\",\"\",IF(VLOOKUP($AE91,Pots,4,FALSE)=1,1,\"\"))","v":1},{"$f":"IF($AE91=\"\",\"\",IF(VLOOKUP($AE91,Pots,5,FALSE)=1,1,\"\"))","v":""},{"$f":"IF($AE91=\"\",\"\",IF(VLOOKUP($AE91,Pots,6,FALSE)=1,1,\"\"))","v":1},{"$f":"IF($AG91=1,$AE91,\"\")","v":"Jones, Gary"},{"$f":"IF($AH91=1,$AE91,\"\")","v":""},{"$f":"IF(AND($AI91=1,$AG91=\"\",$AH91=\"\"),$AE91,\"\")","v":""},{"$f":"IF(AND($AI91=1,$AG91=\"\",$AH91=\"\"),\"X\",\"\")","v":""},{"$f":"IF(A99=\"\",\"\",A99)","v":""},{"$f":"IF(B99=\"\",\"\",B99)","v":"Havstad, Steve"}]
[null,null,null,null,null,null,null,{"$f":"IF(H91=\"\",\"\",IF($D91<=9,MIN(H91,H$5+2),IF($D91<=19,MIN(H91,7),IF($D91<=29,MIN(H91,8),IF($D91<=39,MIN(H91,9),IF($D91>=40,MIN(H91,10)))))))","v":""},"","","","","","","","",{"$f":"IF(Q91=\"\",\"\",SUM(H92:P92))","v":""},{"$f":"IF(R91=\"\",\"\",IF($D91<=9,MIN(R91,R$5+2),IF($D91<=19,MIN(R91,7),IF($D91<=29,MIN(R91,8),IF($D91<=39,MIN(R91,9),IF($D91>=40,MIN(R91,10)))))))","v":""},"","","","","","","","",{"$f":"IF(AA91=\"\",\"\",SUM(R92:Z92))","v":""},null,null,"","Escobedo, Hector",{"$f":"IF($AE92=\"\",\"\",IF(VLOOKUP($AE92,Pots,3,FALSE)=1,1,\"\"))","v":1},{"$f":"IF($AE92=\"\",\"\",IF(VLOOKUP($AE92,Pots,4,FALSE)=1,1,\"\"))","v":1},{"$f":"IF($AE92=\"\",\"\",IF(VLOOKUP($AE92,Pots,5,FALSE)=1,1,\"\"))","v":""},{"$f":"IF($AE92=\"\",\"\",IF(VLOOKUP($AE92,Pots,6,FALSE)=1,1,\"\"))","v":1},{"$f":"IF($AG92=1,$AE92,\"\")","v":"Escobedo, Hector"},{"$f":"IF($AH92=1,$AE92,\"\")","v":""},{"$f":"IF(AND($AI92=1,$AG92=\"\",$AH92=\"\"),$AE92,\"\")","v":""},{"$f":"IF(AND($AI92=1,$AG92=\"\",$AH92=\"\"),\"X\",\"\")","v":""},{"$f":"IF(A101=\"\",\"\",A101)","v":""},{"$f":"IF(B101=\"\",\"\",B101)","v":""}]
[null,"Kozachenko, Jon",{"$f":"IF($B93=\"\",\"\",IF(VLOOKUP($B93,Members,2,FALSE)=\"\", \"-\",(VLOOKUP($B93,Members,2,FALSE))))","v":9733927},{"$f":"IF(OR($B93=\"\",$B$3=\"\",$F$3=\"\"),\"\",IF(OR(VLOOKUP($B93,Members,2,FALSE)=\"\",VLOOKUP($B93,Members,8,FALSE)=\"\"),\"-\",VLOOKUP($B93,Members,8,FALSE)))","v":15},{"$f":"IF(OR($B93=\"\",$B$3=\"\",$F$3=\"\"),\"\",IF(OR(VLOOKUP($B93,Members,2,FALSE)=\"\",VLOOKUP($B93,Members,9,FALSE)=\"\",VLOOKUP($B93,Pots,3,FALSE)=\"\"),\"-\",VLOOKUP($B93,Members,9,FALSE)))","v":15},"Matthews, Keith",33,5,5,4,3,6,3,4,5,6,{"$f":"IF(P93=\"\",\"\",SUM(H93:P93))","v":41},5,4,5,4,6,4,3,6,6,{"$f":"IF(Z93=\"\",\"\",SUM(R93:Z93))","v":43},{"$f":"IF(OR(Q93=\"\",AA93=\"\"),\"\",SUM(AA93,Q93))","v":84},{"$f":"IF(AB93=\"\",\"\",SUM(Q94,AA94))","v":84},"","Mariano, Joe",{"$f":"IF($AE93=\"\",\"\",IF(VLOOKUP($AE93,Pots,3,FALSE)=1,1,\"\"))","v":1},{"$f":"IF($AE93=\"\",\"\",IF(VLOOKUP($AE93,Pots,4,FALSE)=1,1,\"\"))","v":1},{"$f":"IF($AE93=\"\",\"\",IF(VLOOKUP($AE93,Pots,5,FALSE)=1,1,\"\"))","v":""},{"$f":"IF($AE93=\"\",\"\",IF(VLOOKUP($AE93,Pots,6,FALSE)=1,1,\"\"))","v":1},{"$f":"IF($AG93=1,$AE93,\"\")","v":"Mariano, Joe"},{"$f":"IF($AH93=1,$AE93,\"\")","v":""},{"$f":"IF(AND($AI93=1,$AG93=\"\",$AH93=\"\"),$AE93,\"\")","v":""},{"$f":"IF(AND($AI93=1,$AG93=\"\",$AH93=\"\"),\"X\",\"\")","v":""},{"$f":"IF(A103=\"\",\"\",A103)","v":""},{"$f":"IF(B103=\"\",\"\",B103)","v":"Tenorio, Noe"}]
[null,null,null,null,null,null,null,{"$f":"IF(H93=\"\",\"\",IF($D93<=9,MIN(H93,H$5+2),IF($D93<=19,MIN(H93,7),IF($D93<=29,MIN(H93,8),IF($D93<=39,MIN(H93,9),IF($D93>=40,MIN(H93,10)))))))","v":5},5,4,3,6,3,4,5,6,{"$f":"IF(Q93=\"\",\"\",SUM(H94:P94))","v":41},{"$f":"IF(R93=\"\",\"\",IF($D93<=9,MIN(R93,R$5+2),IF($D93<=19,MIN(R93,7),IF($D93<=29,MIN(R93,8),IF($D93<=39,MIN(R93,9),IF($D93>=40,MIN(R93,10)))))))","v":5},4,5,4,6,4,3,6,6,{"$f":"IF(AA93=\"\",\"\",SUM(R94:Z94))","v":43},null,null,"","Ornelas, Eddie",{"$f":"IF($AE94=\"\",\"\",IF(VLOOKUP($AE94,Pots,3,FALSE)=1,1,\"\"))","v":1},{"$f":"IF($AE94=\"\",\"\",IF(VLOOKUP($AE94,Pots,4,FALSE)=1,1,\"\"))","v":1},{"$f":"IF($AE94=\"\",\"\",IF(VLOOKUP($AE94,Pots,5,FALSE)=1,1,\"\"))","v":""},{"$f":"IF($AE94=\"\",\"\",IF(VLOOKUP($AE94,Pots,6,FALSE)=1,1,\"\"))","v":1},{"$f":"IF($AG94=1,$AE94,\"\")","v":"Ornelas, Eddie"},{"$f":"IF($AH94=1,$AE94,\"\")","v":""},{"$f":"IF(AND($AI94=1,$AG94=\"\",$AH94=\"\"),$AE94,\"\")","v":""},{"$f":"IF(AND($AI94=1,$AG94=\"\",$AH94=\"\"),\"X\",\"\")","v":""},{"$f":"IF(A105=\"\",\"\",A105)","v":""},{"$f":"IF(B105=\"\",\"\",B105)","v":"Deutsch, Paul"}]
[null,"Matthews, Keith",{"$f":"IF($B95=\"\",\"\",IF(VLOOKUP($B95,Members,2,FALSE)=\"\", \"-\",(VLOOKUP($B95,Members,2,FALSE))))","v":9720661},{"$f":"IF(OR($B95=\"\",$B$3=\"\",$F$3=\"\"),\"\",IF(OR(VLOOKUP($B95,Members,2,FALSE)=\"\",VLOOKUP($B95,Members,8,FALSE)=\"\"),\"-\",VLOOKUP($B95,Members,8,FALSE)))","v":14},{"$f":"IF(OR($B95=\"\",$B$3=\"\",$F$3=\"\"),\"\",IF(OR(VLOOKUP($B95,Members,2,FALSE)=\"\",VLOOKUP($B95,Members,9,FALSE)=\"\",VLOOKUP($B95,Pots,3,FALSE)=\"\"),\"-\",VLOOKUP($B95,Members,9,FALSE)))","v":14},"Kozachenko, Jon",35,6,4,4,5,5,3,7,5,6,{"$f":"IF(P95=\"\",\"\",SUM(H95:P95))","v":45},4,4,4,5,5,4,3,6,6,{"$f":"IF(Z95=\"\",\"\",SUM(R95:Z95))","v":41},{"$f":"IF(OR(Q95=\"\",AA95=\"\"),\"\",SUM(AA95,Q95))","v":86},{"$f":"IF(AB95=\"\",\"\",SUM(Q96,AA96))","v":86},"","Kozachenko, Jon",{"$f":"IF($AE95=\"\",\"\",IF(VLOOKUP($AE95,Pots,3,FALSE)=1,1,\"\"))","v":1},{"$f":"IF($AE95=\"\",\"\",IF(VLOOKUP($AE95,Pots,4,FALSE)=1,1,\"\"))","v":1},{"$f":"IF($AE95=\"\",\"\",IF(VLOOKUP($AE95,Pots,5,FALSE)=1,1,\"\"))","v":""},{"$f":"IF($AE95=\"\",\"\",IF(VLOOKUP($AE95,Pots,6,FALSE)=1,1,\"\"))","v":1},{"$f":"IF($AG95=1,$AE95,\"\")","v":"Kozachenko, Jon"},{"$f":"IF($AH95=1,$AE95,\"\")","v":""},{"$f":"IF(AND($AI95=1,$AG95=\"\",$AH95=\"\"),$AE95,\"\")","v":""},{"$f":"IF(AND($AI95=1,$AG95=\"\",$AH95=\"\"),\"X\",\"\")","v":""},{"$f":"IF(A107=\"\",\"\",A107)","v":""},{"$f":"IF(B107=\"\",\"\",B107)","v":"Lunghard, Rich"}]
[null,null,null,null,null,null,null,{"$f":"IF(H95=\"\",\"\",IF($D95<=9,MIN(H95,H$5+2),IF($D95<=19,MIN(H95,7),IF($D95<=29,MIN(H95,8),IF($D95<=39,MIN(H95,9),IF($D95>=40,MIN(H95,10)))))))","v":6},{"$f":"IF(I95=\"\",\"\",IF($D95<=9,MIN(I95,I$5+2),IF($D95<=19,MIN(I95,7),IF($D95<=29,MIN(I95,8),IF($D95<=39,MIN(I95,9),IF($D95>=40,MIN(I95,10)))))))","v":4},4,5,5,3,7,5,6,{"$f":"IF(Q95=\"\",\"\",SUM(H96:P96))","v":45},{"$f":"IF(R95=\"\",\"\",IF($D95<=9,MIN(R95,R$5+2),IF($D95<=19,MIN(R95,7),IF($D95<=29,MIN(R95,8),IF($D95<=39,MIN(R95,9),IF($D95>=40,MIN(R95,10)))))))","v":4},4,4,5,5,4,3,6,6,{"$f":"IF(AA95=\"\",\"\",SUM(R96:Z96))","v":41},null,null,"","Matthews, Keith",{"$f":"IF($AE96=\"\",\"\",IF(VLOOKUP($AE96,Pots,3,FALSE)=1,1,\"\"))","v":1},{"$f":"IF($AE96=\"\",\"\",IF(VLOOKUP($AE96,Pots,4,FALSE)=1,1,\"\"))","v":1},{"$f":"IF($AE96=\"\",\"\",IF(VLOOKUP($AE96,Pots,5,FALSE)=1,1,\"\"))","v":""},{"$f":"IF($AE96=\"\",\"\",IF(VLOOKUP($AE96,Pots,6,FALSE)=1,1,\"\"))","v":1},{"$f":"IF($AG96=1,$AE96,\"\")","v":"Matthews, Keith"},{"$f":"IF($AH96=1,$AE96,\"\")","v":""},{"$f":"IF(AND($AI96=1,$AG96=\"\",$AH96=\"\"),$AE96,\"\")","v":""},{"$f":"IF(AND($AI96=1,$AG96=\"\",$AH96=\"\"),\"X\",\"\")","v":""},{"$f":"IF(A109=\"\",\"\",A109)","v":""},{"$f":"IF(B109=\"\",\"\",B109)","v":"Blodgett, Kevin"}]
[null,"Christen, Lou",{"$f":"IF($B97=\"\",\"\",IF(VLOOKUP($B97,Members,2,FALSE)=\"\", \"-\",(VLOOKUP($B97,Members,2,FALSE))))","v":9730638},{"$f":"IF(OR($B97=\"\",$B$3=\"\",$F$3=\"\"),\"\",IF(OR(VLOOKUP($B97,Members,2,FALSE)=\"\",VLOOKUP($B97,Members,8,FALSE)=\"\"),\"-\",VLOOKUP($B97,Members,8,FALSE)))","v":7},{"$f":"IF(OR($B97=\"\",$B$3=\"\",$F$3=\"\"),\"\",IF(OR(VLOOKUP($B97,Members,2,FALSE)=\"\",VLOOKUP($B97,Members,9,FALSE)=\"\",VLOOKUP($B97,Pots,3,FALSE)=\"\"),\"-\",VLOOKUP($B97,Members,9,FALSE)))","v":7},null,33,4,6,4,3,5,4,4,4,5,{"$f":"IF(P97=\"\",\"\",SUM(H97:P97))","v":39},3,5,3,4,6,5,3,6,5,{"$f":"IF(Z97=\"\",\"\",SUM(R97:Z97))","v":40},{"$f":"IF(OR(Q97=\"\",AA97=\"\"),\"\",SUM(AA97,Q97))","v":79},{"$f":"IF(AB97=\"\",\"\",SUM(Q98,AA98))","v":79},"","Christen, Lou",{"$f":"IF($AE97=\"\",\"\",IF(VLOOKUP($AE97,Pots,3,FALSE)=1,1,\"\"))","v":1},{"$f":"IF($AE97=\"\",\"\",IF(VLOOKUP($AE97,Pots,4,FALSE)=1,1,\"\"))","v":1},{"$f":"IF($AE97=\"\",\"\",IF(VLOOKUP($AE97,Pots,5,FALSE)=1,1,\"\"))","v":""},{"$f":"IF($AE97=\"\",\"\",IF(VLOOKUP($AE97,Pots,6,FALSE)=1,1,\"\"))","v":1},{"$f":"IF($AG97=1,$AE97,\"\")","v":"Christen, Lou"},{"$f":"IF($AH97=1,$AE97,\"\")","v":""},{"$f":"IF(AND($AI97=1,$AG97=\"\",$AH97=\"\"),$AE97,\"\")","v":""},{"$f":"IF(AND($AI97=1,$AG97=\"\",$AH97=\"\"),\"X\",\"\")","v":""},{"$f":"IF(A111=\"\",\"\",A111)","v":""},{"$f":"IF(B111=\"\",\"\",B111)","v":""}]
[null,null,null,null,null,null,null,{"$f":"IF(H97=\"\",\"\",IF($D97<=9,MIN(H97,H$5+2),IF($D97<=19,MIN(H97,7),IF($D97<=29,MIN(H97,8),IF($D97<=39,MIN(H97,9),IF($D97>=40,MIN(H97,10)))))))","v":4},6,4,3,5,4,4,4,5,{"$f":"IF(Q97=\"\",\"\",SUM(H98:P98))","v":39},{"$f":"IF(R97=\"\",\"\",IF($D97<=9,MIN(R97,R$5+2),IF($D97<=19,MIN(R97,7),IF($D97<=29,MIN(R97,8),IF($D97<=39,MIN(R97,9),IF($D97>=40,MIN(R97,10)))))))","v":3},5,3,4,6,5,3,6,5,{"$f":"IF(AA97=\"\",\"\",SUM(R98:Z98))","v":40},null,null,"","Havstad, Steve",{"$f":"IF($AE98=\"\",\"\",IF(VLOOKUP($AE98,Pots,3,FALSE)=1,1,\"\"))","v":1},{"$f":"IF($AE98=\"\",\"\",IF(VLOOKUP($AE98,Pots,4,FALSE)=1,1,\"\"))","v":1},{"$f":"IF($AE98=\"\",\"\",IF(VLOOKUP($AE98,Pots,5,FALSE)=1,1,\"\"))","v":""},{"$f":"IF($AE98=\"\",\"\",IF(VLOOKUP($AE98,Pots,6,FALSE)=1,1,\"\"))","v":1},{"$f":"IF($AG98=1,$AE98,\"\")","v":"Havstad, Steve"},{"$f":"IF($AH98=1,$AE98,\"\")","v":""},{"$f":"IF(AND($AI98=1,$AG98=\"\",$AH98=\"\"),$AE98,\"\")","v":""},{"$f":"IF(AND($AI98=1,$AG98=\"\",$AH98=\"\"),\"X\",\"\")","v":""},{"$f":"IF(A113=\"\",\"\",A113)","v":""},{"$f":"IF(B113=\"\",\"\",B113)","v":"Iinuma, Shiro"}]
[null,"Havstad, Steve",{"$f":"IF($B99=\"\",\"\",IF(VLOOKUP($B99,Members,2,FALSE)=\"\", \"-\",(VLOOKUP($B99,Members,2,FALSE))))","v":9653048},{"$f":"IF(OR($B99=\"\",$B$3=\"\",$F$3=\"\"),\"\",IF(OR(VLOOKUP($B99,Members,2,FALSE)=\"\",VLOOKUP($B99,Members,8,FALSE)=\"\"),\"-\",VLOOKUP($B99,Members,8,FALSE)))","v":14},{"$f":"IF(OR($B99=\"\",$B$3=\"\",$F$3=\"\"),\"\",IF(OR(VLOOKUP($B99,Members,2,FALSE)=\"\",VLOOKUP($B99,Members,9,FALSE)=\"\",VLOOKUP($B99,Pots,3,FALSE)=\"\"),\"-\",VLOOKUP($B99,Members,9,FALSE)))","v":14},null,29,4,5,5,3,5,4,5,5,5,{"$f":"IF(P99=\"\",\"\",SUM(H99:P99))","v":41},5,4,3,7,5,5,4,6,6,{"$f":"IF(Z99=\"\",\"\",SUM(R99:Z99))","v":45},{"$f":"IF(OR(Q99=\"\",AA99=\"\"),\"\",SUM(AA99,Q99))","v":86},{"$f":"IF(AB99=\"\",\"\",SUM(Q100,AA100))","v":86},"","",{"$f":"IF($AE99=\"\",\"\",IF(VLOOKUP($AE99,Pots,3,FALSE)=1,1,\"\"))","v":""},{"$f":"IF($AE99=\"\",\"\",IF(VLOOKUP($AE99,Pots,4,FALSE)=1,1,\"\"))","v":""},{"$f":"IF($AE99=\"\",\"\",IF(VLOOKUP($AE99,Pots,5,FALSE)=1,1,\"\"))","v":""},{"$f":"IF($AE99=\"\",\"\",IF(VLOOKUP($AE99,Pots,6,FALSE)=1,1,\"\"))","v":""},{"$f":"IF($AG99=1,$AE99,\"\")","v":""},{"$f":"IF($AH99=1,$AE99,\"\")","v":""},{"$f":"IF(AND($AI99=1,$AG99=\"\",$AH99=\"\"),$AE99,\"\")","v":""},{"$f":"IF(AND($AI99=1,$AG99=\"\",$AH99=\"\"),\"X\",\"\")","v":""},{"$f":"IF(A115=\"\",\"\",A115)","v":""},{"$f":"IF(B115=\"\",\"\",B115)","v":"Endo, Johnny"}]
[null,null,null,null,null,null,null,{"$f":"IF(H99=\"\",\"\",IF($D99<=9,MIN(H99,H$5+2),IF($D99<=19,MIN(H99,7),IF($D99<=29,MIN(H99,8),IF($D99<=39,MIN(H99,9),IF($D99>=40,MIN(H99,10)))))))","v":4},5,5,3,5,4,5,5,5,{"$f":"IF(Q99=\"\",\"\",SUM(H100:P100))","v":41},{"$f":"IF(R99=\"\",\"\",IF($D99<=9,MIN(R99,R$5+2),IF($D99<=19,MIN(R99,7),IF($D99<=29,MIN(R99,8),IF($D99<=39,MIN(R99,9),IF($D99>=40,MIN(R99,10)))))))","v":5},4,3,7,5,5,4,6,6,{"$f":"IF(AA99=\"\",\"\",SUM(R100:Z100))","v":45},null,null,"","",{"$f":"IF($AE100=\"\",\"\",IF(VLOOKUP($AE100,Pots,3,FALSE)=1,1,\"\"))","v":""},{"$f":"IF($AE100=\"\",\"\",IF(VLOOKUP($AE100,Pots,4,FALSE)=1,1,\"\"))","v":""},{"$f":"IF($AE100=\"\",\"\",IF(VLOOKUP($AE100,Pots,5,FALSE)=1,1,\"\"))","v":""},{"$f":"IF($AE100=\"\",\"\",IF(VLOOKUP($AE100,Pots,6,FALSE)=1,1,\"\"))","v":""},{"$f":"IF($AG100=1,$AE100,\"\")","v":""},{"$f":"IF($AH100=1,$AE100,\"\")","v":""},{"$f":"IF(AND($AI100=1,$AG100=\"\",$AH100=\"\"),$AE100,\"\")","v":""},{"$f":"IF(AND($AI100=1,$AG100=\"\",$AH100=\"\"),\"X\",\"\")","v":""},{"$f":"IF(A117=\"\",\"\",A117)","v":""},{"$f":"IF(B117=\"\",\"\",B117)","v":"Ikeda, Blaine"}]
[null,null,{"$f":"IF($B101=\"\",\"\",IF(VLOOKUP($B101,Members,2,FALSE)=\"\", \"-\",(VLOOKUP($B101,Members,2,FALSE))))","v":""},{"$f":"IF(OR($B101=\"\",$B$3=\"\",$F$3=\"\"),\"\",IF(OR(VLOOKUP($B101,Members,2,FALSE)=\"\",VLOOKUP($B101,Members,8,FALSE)=\"\"),\"-\",VLOOKUP($B101,Members,8,FALSE)))","v":""},{"$f":"IF(OR($B101=\"\",$B$3=\"\",$F$3=\"\"),\"\",IF(OR(VLOOKUP($B101,Members,2,FALSE)=\"\",VLOOKUP($B101,Members,9,FALSE)=\"\",VLOOKUP($B101,Pots,3,FALSE)=\"\"),\"-\",VLOOKUP($B101,Members,9,FALSE)))","v":""},null,{"$f":"IF($B101=\"\",\"\",IF(VLOOKUP($B101,Pots,6,FALSE)=\"\",\"-\",\"\"))","v":""},null,null,null,null,null,null,null,null,null,{"$f":"IF(P101=\"\",\"\",SUM(H101:P101))","v":""},null,null,null,null,null,null,null,null,null,{"$f":"IF(Z101=\"\",\"\",SUM(R101:Z101))","v":""},{"$f":"IF(OR(Q101=\"\",AA101=\"\"),\"\",SUM(AA101,Q101))","v":""},{"$f":"IF(AB101=\"\",\"\",SUM(Q102,AA102))","v":""},"","",{"$f":"IF($AE101=\"\",\"\",IF(VLOOKUP($AE101,Pots,3,FALSE)=1,1,\"\"))","v":""},{"$f":"IF($AE101=\"\",\"\",IF(VLOOKUP($AE101,Pots,4,FALSE)=1,1,\"\"))","v":""},{"$f":"IF($AE101=\"\",\"\",IF(VLOOKUP($AE101,Pots,5,FALSE)=1,1,\"\"))","v":""},{"$f":"IF($AE101=\"\",\"\",IF(VLOOKUP($AE101,Pots,6,FALSE)=1,1,\"\"))","v":""},{"$f":"IF($AG101=1,$AE101,\"\")","v":""},{"$f":"IF($AH101=1,$AE101,\"\")","v":""},{"$f":"IF(AND($AI101=1,$AG101=\"\",$AH101=\"\"),$AE101,\"\")","v":""},{"$f":"IF(AND($AI101=1,$AG101=\"\",$AH101=\"\"),\"X\",\"\")","v":""},{"$f":"IF(A119=\"\",\"\",A119)","v":""},{"$f":"IF(B119=\"\",\"\",B119)","v":"Holzrichter, Geoff"}]
[null,null,null,null,null,null,null,{"$f":"IF(H101=\"\",\"\",IF($D101<=9,MIN(H101,H$5+2),IF($D101<=19,MIN(H101,7),IF($D101<=29,MIN(H101,8),IF($D101<=39,MIN(H101,9),IF($D101>=40,MIN(H101,10)))))))","v":""},"","","","","","","","",{"$f":"IF(Q101=\"\",\"\",SUM(H102:P102))","v":""},{"$f":"IF(R101=\"\",\"\",IF($D101<=9,MIN(R101,R$5+2),IF($D101<=19,MIN(R101,7),IF($D101<=29,MIN(R101,8),IF($D101<=39,MIN(R101,9),IF($D101>=40,MIN(R101,10)))))))","v":""},"","","","","","","","",{"$f":"IF(AA101=\"\",\"\",SUM(R102:Z102))","v":""},null,null,"","",{"$f":"IF($AE102=\"\",\"\",IF(VLOOKUP($AE102,Pots,3,FALSE)=1,1,\"\"))","v":""},{"$f":"IF($AE102=\"\",\"\",IF(VLOOKUP($AE102,Pots,4,FALSE)=1,1,\"\"))","v":""},{"$f":"IF($AE102=\"\",\"\",IF(VLOOKUP($AE102,Pots,5,FALSE)=1,1,\"\"))","v":""},{"$f":"IF($AE102=\"\",\"\",IF(VLOOKUP($AE102,Pots,6,FALSE)=1,1,\"\"))","v":""},{"$f":"IF($AG102=1,$AE102,\"\")","v":""},{"$f":"IF($AH102=1,$AE102,\"\")","v":""},{"$f":"IF(AND($AI102=1,$AG102=\"\",$AH102=\"\"),$AE102,\"\")","v":""},{"$f":"IF(AND($AI102=1,$AG102=\"\",$AH102=\"\"),\"X\",\"\")","v":""},{"$f":"IF(A121=\"\",\"\",A121)","v":""},{"$f":"IF(B121=\"\",\"\",B121)","v":""}]
[null,"Tenorio, Noe",{"$f":"IF($B103=\"\",\"\",IF(VLOOKUP($B103,Members,2,FALSE)=\"\", \"-\",(VLOOKUP($B103,Members,2,FALSE))))","v":282911},{"$f":"IF(OR($B103=\"\",$B$3=\"\",$F$3=\"\"),\"\",IF(OR(VLOOKUP($B103,Members,2,FALSE)=\"\",VLOOKUP($B103,Members,8,FALSE)=\"\"),\"-\",VLOOKUP($B103,Members,8,FALSE)))","v":17},{"$f":"IF(OR($B103=\"\",$B$3=\"\",$F$3=\"\"),\"\",IF(OR(VLOOKUP($B103,Members,2,FALSE)=\"\",VLOOKUP($B103,Members,9,FALSE)=\"\",VLOOKUP($B103,Pots,3,FALSE)=\"\"),\"-\",VLOOKUP($B103,Members,9,FALSE)))","v":17},null,32,4,5,4,5,7,4,4,5,7,{"$f":"IF(P103=\"\",\"\",SUM(H103:P103))","v":45},5,4,2,5,7,6,3,5,4,{"$f":"IF(Z103=\"\",\"\",SUM(R103:Z103))","v":41},{"$f":"IF(OR(Q103=\"\",AA103=\"\"),\"\",SUM(AA103,Q103))","v":86},{"$f":"IF(AB103=\"\",\"\",SUM(Q104,AA104))","v":86},"","",{"$f":"IF($AE103=\"\",\"\",IF(VLOOKUP($AE103,Pots,3,FALSE)=1,1,\"\"))","v":""},{"$f":"IF($AE103=\"\",\"\",IF(VLOOKUP($AE103,Pots,4,FALSE)=1,1,\"\"))","v":""},{"$f":"IF($AE103=\"\",\"\",IF(VLOOKUP($AE103,Pots,5,FALSE)=1,1,\"\"))","v":""},{"$f":"IF($AE103=\"\",\"\",IF(VLOOKUP($AE103,Pots,6,FALSE)=1,1,\"\"))","v":""},{"$f":"IF($AG103=1,$AE103,\"\")","v":""},{"$f":"IF($AH103=1,$AE103,\"\")","v":""},{"$f":"IF(AND($AI103=1,$AG103=\"\",$AH103=\"\"),$AE103,\"\")","v":""},{"$f":"IF(AND($AI103=1,$AG103=\"\",$AH103=\"\"),\"X\",\"\")","v":""},{"$f":"IF(A123=\"\",\"\",A123)","v":""},{"$f":"IF(B123=\"\",\"\",B123)","v":""}]
[null,null,null,null,null,null,null,{"$f":"IF(H103=\"\",\"\",IF($D103<=9,MIN(H103,H$5+2),IF($D103<=19,MIN(H103,7),IF($D103<=29,MIN(H103,8),IF($D103<=39,MIN(H103,9),IF($D103>=40,MIN(H103,10)))))))","v":4},5,4,5,7,4,4,5,7,{"$f":"IF(Q103=\"\",\"\",SUM(H104:P104))","v":45},{"$f":"IF(R103=\"\",\"\",IF($D103<=9,MIN(R103,R$5+2),IF($D103<=19,MIN(R103,7),IF($D103<=29,MIN(R103,8),IF($D103<=39,MIN(R103,9),IF($D103>=40,MIN(R103,10)))))))","v":5},4,2,5,7,6,3,5,4,{"$f":"IF(AA103=\"\",\"\",SUM(R104:Z104))","v":41},null,null,"","",{"$f":"IF($AE104=\"\",\"\",IF(VLOOKUP($AE104,Pots,3,FALSE)=1,1,\"\"))","v":""},{"$f":"IF($AE104=\"\",\"\",IF(VLOOKUP($AE104,Pots,4,FALSE)=1,1,\"\"))","v":""},{"$f":"IF($AE104=\"\",\"\",IF(VLOOKUP($AE104,Pots,5,FALSE)=1,1,\"\"))","v":""},{"$f":"IF($AE104=\"\",\"\",IF(VLOOKUP($AE104,Pots,6,FALSE)=1,1,\"\"))","v":""},{"$f":"IF($AG104=1,$AE104,\"\")","v":""},{"$f":"IF($AH104=1,$AE104,\"\")","v":""},{"$f":"IF(AND($AI104=1,$AG104=\"\",$AH104=\"\"),$AE104,\"\")","v":""},{"$f":"IF(AND($AI104=1,$AG104=\"\",$AH104=\"\"),\"X\",\"\")","v":""},{"$f":"IF(A125=\"\",\"\",A125)","v":""},{"$f":"IF(B125=\"\",\"\",B125)","v":""}]
[null,"Deutsch, Paul",{"$f":"IF($B105=\"\",\"\",IF(VLOOKUP($B105,Members,2,FALSE)=\"\", \"-\",(VLOOKUP($B105,Members,2,FALSE))))","v":2512167},{"$f":"IF(OR($B105=\"\",$B$3=\"\",$F$3=\"\"),\"\",IF(OR(VLOOKUP($B105,Members,2,FALSE)=\"\",VLOOKUP($B105,Members,8,FALSE)=\"\"),\"-\",VLOOKUP($B105,Members,8,FALSE)))","v":"-"},{"$f":"IF(OR($B105=\"\",$B$3=\"\",$F$3=\"\"),\"\",IF(OR(VLOOKUP($B105,Members,2,FALSE)=\"\",VLOOKUP($B105,Members,9,FALSE)=\"\",VLOOKUP($B105,Pots,3,FALSE)=\"\"),\"-\",VLOOKUP($B105,Members,9,FALSE)))","v":"-"},null,29,6,4,4,4,6,4,6,5,6,{"$f":"IF(P105=\"\",\"\",SUM(H105:P105))","v":45},4,4,6,5,7,5,5,5,4,{"$f":"IF(Z105=\"\",\"\",SUM(R105:Z105))","v":45},{"$f":"IF(OR(Q105=\"\",AA105=\"\"),\"\",SUM(AA105,Q105))","v":90},{"$f":"IF(AB105=\"\",\"\",SUM(Q106,AA106))","v":90},"","",{"$f":"IF($AE105=\"\",\"\",IF(VLOOKUP($AE105,Pots,3,FALSE)=1,1,\"\"))","v":""},{"$f":"IF($AE105=\"\",\"\",IF(VLOOKUP($AE105,Pots,4,FALSE)=1,1,\"\"))","v":""},{"$f":"IF($AE105=\"\",\"\",IF(VLOOKUP($AE105,Pots,5,FALSE)=1,1,\"\"))","v":""},{"$f":"IF($AE105=\"\",\"\",IF(VLOOKUP($AE105,Pots,6,FALSE)=1,1,\"\"))","v":""},{"$f":"IF($AG105=1,$AE105,\"\")","v":""},{"$f":"IF($AH105=1,$AE105,\"\")","v":""},{"$f":"IF(AND($AI105=1,$AG105=\"\",$AH105=\"\"),$AE105,\"\")","v":""},{"$f":"IF(AND($AI105=1,$AG105=\"\",$AH105=\"\"),\"X\",\"\")","v":""},{"$f":"IF(A127=\"\",\"\",A127)","v":""},{"$f":"IF(B127=\"\",\"\",B127)","v":""}]
[null,null,null,null,null,null,null,{"$f":"IF(H105=\"\",\"\",IF($D105<=9,MIN(H105,H$5+2),IF($D105<=19,MIN(H105,7),IF($D105<=29,MIN(H105,8),IF($D105<=39,MIN(H105,9),IF($D105>=40,MIN(H105,10)))))))","v":6},4,4,4,6,4,6,5,6,{"$f":"IF(Q105=\"\",\"\",SUM(H106:P106))","v":45},{"$f":"IF(R105=\"\",\"\",IF($D105<=9,MIN(R105,R$5+2),IF($D105<=19,MIN(R105,7),IF($D105<=29,MIN(R105,8),IF($D105<=39,MIN(R105,9),IF($D105>=40,MIN(R105,10)))))))","v":4},4,6,5,7,5,5,5,4,{"$f":"IF(AA105=\"\",\"\",SUM(R106:Z106))","v":45},null,null,"","",{"$f":"IF($AE106=\"\",\"\",IF(VLOOKUP($AE106,Pots,3,FALSE)=1,1,\"\"))","v":""},{"$f":"IF($AE106=\"\",\"\",IF(VLOOKUP($AE106,Pots,4,FALSE)=1,1,\"\"))","v":""},{"$f":"IF($AE106=\"\",\"\",IF(VLOOKUP($AE106,Pots,5,FALSE)=1,1,\"\"))","v":""},{"$f":"IF($AE106=\"\",\"\",IF(VLOOKUP($AE106,Pots,6,FALSE)=1,1,\"\"))","v":""},{"$f":"IF($AG106=1,$AE106,\"\")","v":""},{"$f":"IF($AH106=1,$AE106,\"\")","v":""},{"$f":"IF(AND($AI106=1,$AG106=\"\",$AH106=\"\"),$AE106,\"\")","v":""},{"$f":"IF(AND($AI106=1,$AG106=\"\",$AH106=\"\"),\"X\",\"\")","v":""},{"$f":"IF(A129=\"\",\"\",A129)","v":""},{"$f":"IF(B129=\"\",\"\",B129)","v":""}]
[null,"Lunghard, Rich",{"$f":"IF($B107=\"\",\"\",IF(VLOOKUP($B107,Members,2,FALSE)=\"\", \"-\",(VLOOKUP($B107,Members,2,FALSE))))","v":9724449},{"$f":"IF(OR($B107=\"\",$B$3=\"\",$F$3=\"\"),\"\",IF(OR(VLOOKUP($B107,Members,2,FALSE)=\"\",VLOOKUP($B107,Members,8,FALSE)=\"\"),\"-\",VLOOKUP($B107,Members,8,FALSE)))","v":23},{"$f":"IF(OR($B107=\"\",$B$3=\"\",$F$3=\"\"),\"\",IF(OR(VLOOKUP($B107,Members,2,FALSE)=\"\",VLOOKUP($B107,Members,9,FALSE)=\"\",VLOOKUP($B107,Pots,3,FALSE)=\"\"),\"-\",VLOOKUP($B107,Members,9,FALSE)))","v":23},null,34,6,6,4,4,6,4,4,7,6,{"$f":"IF(P107=\"\",\"\",SUM(H107:P107))","v":47},6,6,3,6,6,6,4,7,6,{"$f":"IF(Z107=\"\",\"\",SUM(R107:Z107))","v":50},{"$f":"IF(OR(Q107=\"\",AA107=\"\"),\"\",SUM(AA107,Q107))","v":97},{"$f":"IF(AB107=\"\",\"\",SUM(Q108,AA108))","v":97},"","",{"$f":"IF($AE107=\"\",\"\",IF(VLOOKUP($AE107,Pots,3,FALSE)=1,1,\"\"))","v":""},{"$f":"IF($AE107=\"\",\"\",IF(VLOOKUP($AE107,Pots,4,FALSE)=1,1,\"\"))","v":""},{"$f":"IF($AE107=\"\",\"\",IF(VLOOKUP($AE107,Pots,5,FALSE)=1,1,\"\"))","v":""},{"$f":"IF($AE107=\"\",\"\",IF(VLOOKUP($AE107,Pots,6,FALSE)=1,1,\"\"))","v":""},{"$f":"IF($AG107=1,$AE107,\"\")","v":""},{"$f":"IF($AH107=1,$AE107,\"\")","v":""},{"$f":"IF(AND($AI107=1,$AG107=\"\",$AH107=\"\"),$AE107,\"\")","v":""},{"$f":"IF(AND($AI107=1,$AG107=\"\",$AH107=\"\"),\"X\",\"\")","v":""},{"$f":"IF(A131=\"\",\"\",A131)","v":""},{"$f":"IF(B131=\"\",\"\",B131)","v":""}]
[null,null,null,null,null,null,null,{"$f":"IF(H107=\"\",\"\",IF($D107<=9,MIN(H107,H$5+2),IF($D107<=19,MIN(H107,7),IF($D107<=29,MIN(H107,8),IF($D107<=39,MIN(H107,9),IF($D107>=40,MIN(H107,10)))))))","v":6},6,4,4,6,4,4,7,6,{"$f":"IF(Q107=\"\",\"\",SUM(H108:P108))","v":47},{"$f":"IF(R107=\"\",\"\",IF($D107<=9,MIN(R107,R$5+2),IF($D107<=19,MIN(R107,7),IF($D107<=29,MIN(R107,8),IF($D107<=39,MIN(R107,9),IF($D107>=40,MIN(R107,10)))))))","v":6},6,3,6,6,6,4,7,6,{"$f":"IF(AA107=\"\",\"\",SUM(R108:Z108))","v":50},null,null,"","",{"$f":"IF($AE108=\"\",\"\",IF(VLOOKUP($AE108,Pots,3,FALSE)=1,1,\"\"))","v":""},{"$f":"IF($AE108=\"\",\"\",IF(VLOOKUP($AE108,Pots,4,FALSE)=1,1,\"\"))","v":""},{"$f":"IF($AE108=\"\",\"\",IF(VLOOKUP($AE108,Pots,5,FALSE)=1,1,\"\"))","v":""},{"$f":"IF($AE108=\"\",\"\",IF(VLOOKUP($AE108,Pots,6,FALSE)=1,1,\"\"))","v":""},{"$f":"IF($AG108=1,$AE108,\"\")","v":""},{"$f":"IF($AH108=1,$AE108,\"\")","v":""},{"$f":"IF(AND($AI108=1,$AG108=\"\",$AH108=\"\"),$AE108,\"\")","v":""},{"$f":"IF(AND($AI108=1,$AG108=\"\",$AH108=\"\"),\"X\",\"\")","v":""},{"$f":"IF(A133=\"\",\"\",A133)","v":""},{"$f":"IF(B133=\"\",\"\",B133)","v":""}]
[null,"Blodgett, Kevin",{"$f":"IF($B109=\"\",\"\",IF(VLOOKUP($B109,Members,2,FALSE)=\"\", \"-\",(VLOOKUP($B109,Members,2,FALSE))))","v":2530159},{"$f":"IF(OR($B109=\"\",$B$3=\"\",$F$3=\"\"),\"\",IF(OR(VLOOKUP($B109,Members,2,FALSE)=\"\",VLOOKUP($B109,Members,8,FALSE)=\"\"),\"-\",VLOOKUP($B109,Members,8,FALSE)))","v":27},{"$f":"IF(OR($B109=\"\",$B$3=\"\",$F$3=\"\"),\"\",IF(OR(VLOOKUP($B109,Members,2,FALSE)=\"\",VLOOKUP($B109,Members,9,FALSE)=\"\",VLOOKUP($B109,Pots,3,FALSE)=\"\"),\"-\",VLOOKUP($B109,Members,9,FALSE)))","v":27},null,39,4,7,7,4,6,7,5,6,9,{"$f":"IF(P109=\"\",\"\",SUM(H109:P109))","v":55},5,5,4,4,6,5,6,7,5,{"$f":"IF(Z109=\"\",\"\",SUM(R109:Z109))","v":47},{"$f":"IF(OR(Q109=\"\",AA109=\"\"),\"\",SUM(AA109,Q109))","v":102},{"$f":"IF(AB109=\"\",\"\",SUM(Q110,AA110))","v":101},"","",{"$f":"IF($AE109=\"\",\"\",IF(VLOOKUP($AE109,Pots,3,FALSE)=1,1,\"\"))","v":""},{"$f":"IF($AE109=\"\",\"\",IF(VLOOKUP($AE109,Pots,4,FALSE)=1,1,\"\"))","v":""},{"$f":"IF($AE109=\"\",\"\",IF(VLOOKUP($AE109,Pots,5,FALSE)=1,1,\"\"))","v":""},{"$f":"IF($AE109=\"\",\"\",IF(VLOOKUP($AE109,Pots,6,FALSE)=1,1,\"\"))","v":""},{"$f":"IF($AG109=1,$AE109,\"\")","v":""},{"$f":"IF($AH109=1,$AE109,\"\")","v":""},{"$f":"IF(AND($AI109=1,$AG109=\"\",$AH109=\"\"),$AE109,\"\")","v":""},{"$f":"IF(AND($AI109=1,$AG109=\"\",$AH109=\"\"),\"X\",\"\")","v":""},{"$f":"IF(A135=\"\",\"\",A135)","v":""},{"$f":"IF(B135=\"\",\"\",B135)","v":""}]
[null,null,null,null,null,null,null,{"$f":"IF(H109=\"\",\"\",IF($D109<=9,MIN(H109,H$5+2),IF($D109<=19,MIN(H109,7),IF($D109<=29,MIN(H109,8),IF($D109<=39,MIN(H109,9),IF($D109>=40,MIN(H109,10)))))))","v":4},{"$f":"IF(I109=\"\",\"\",IF($D109<=9,MIN(I109,I$5+2),IF($D109<=19,MIN(I109,7),IF($D109<=29,MIN(I109,8),IF($D109<=39,MIN(I109,9),IF($D109>=40,MIN(I109,10)))))))","v":7},7,4,6,7,5,6,8,{"$f":"IF(Q109=\"\",\"\",SUM(H110:P110))","v":54},{"$f":"IF(R109=\"\",\"\",IF($D109<=9,MIN(R109,R$5+2),IF($D109<=19,MIN(R109,7),IF($D109<=29,MIN(R109,8),IF($D109<=39,MIN(R109,9),IF($D109>=40,MIN(R109,10)))))))","v":5},5,4,4,6,5,6,7,5,{"$f":"IF(AA109=\"\",\"\",SUM(R110:Z110))","v":47},null,null,"","",{"$f":"IF($AE110=\"\",\"\",IF(VLOOKUP($AE110,Pots,3,FALSE)=1,1,\"\"))","v":""},{"$f":"IF($AE110=\"\",\"\",IF(VLOOKUP($AE110,Pots,4,FALSE)=1,1,\"\"))","v":""},{"$f":"IF($AE110=\"\",\"\",IF(VLOOKUP($AE110,Pots,5,FALSE)=1,1,\"\"))","v":""},{"$f":"IF($AE110=\"\",\"\",IF(VLOOKUP($AE110,Pots,6,FALSE)=1,1,\"\"))","v":""},{"$f":"IF($AG110=1,$AE110,\"\")","v":""},{"$f":"IF($AH110=1,$AE110,\"\")","v":""},{"$f":"IF(AND($AI110=1,$AG110=\"\",$AH110=\"\"),$AE110,\"\")","v":""},{"$f":"IF(AND($AI110=1,$AG110=\"\",$AH110=\"\"),\"X\",\"\")","v":""},{"$f":"IF(A137=\"\",\"\",A137)","v":""},{"$f":"IF(B137=\"\",\"\",B137)","v":""}]
[null,null,{"$f":"IF($B111=\"\",\"\",IF(VLOOKUP($B111,Members,2,FALSE)=\"\", \"-\",(VLOOKUP($B111,Members,2,FALSE))))","v":""},{"$f":"IF(OR($B111=\"\",$B$3=\"\",$F$3=\"\"),\"\",IF(OR(VLOOKUP($B111,Members,2,FALSE)=\"\",VLOOKUP($B111,Members,8,FALSE)=\"\"),\"-\",VLOOKUP($B111,Members,8,FALSE)))","v":""},{"$f":"IF(OR($B111=\"\",$B$3=\"\",$F$3=\"\"),\"\",IF(OR(VLOOKUP($B111,Members,2,FALSE)=\"\",VLOOKUP($B111,Members,9,FALSE)=\"\",VLOOKUP($B111,Pots,3,FALSE)=\"\"),\"-\",VLOOKUP($B111,Members,9,FALSE)))","v":""},null,{"$f":"IF($B111=\"\",\"\",IF(VLOOKUP($B111,Pots,6,FALSE)=\"\",\"-\",\"\"))","v":""},null,null,null,null,null,null,null,null,null,{"$f":"IF(P111=\"\",\"\",SUM(H111:P111))","v":""},null,null,null,null,null,null,null,null,null,{"$f":"IF(Z111=\"\",\"\",SUM(R111:Z111))","v":""},{"$f":"IF(OR(Q111=\"\",AA111=\"\"),\"\",SUM(AA111,Q111))","v":""},{"$f":"IF(AB111=\"\",\"\",SUM(Q112,AA112))","v":""},"","",{"$f":"IF($AE111=\"\",\"\",IF(VLOOKUP($AE111,Pots,3,FALSE)=1,1,\"\"))","v":""},{"$f":"IF($AE111=\"\",\"\",IF(VLOOKUP($AE111,Pots,4,FALSE)=1,1,\"\"))","v":""},{"$f":"IF($AE111=\"\",\"\",IF(VLOOKUP($AE111,Pots,5,FALSE)=1,1,\"\"))","v":""},{"$f":"IF($AE111=\"\",\"\",IF(VLOOKUP($AE111,Pots,6,FALSE)=1,1,\"\"))","v":""},{"$f":"IF($AG111=1,$AE111,\"\")","v":""},{"$f":"IF($AH111=1,$AE111,\"\")","v":""},{"$f":"IF(AND($AI111=1,$AG111=\"\",$AH111=\"\"),$AE111,\"\")","v":""},{"$f":"IF(AND($AI111=1,$AG111=\"\",$AH111=\"\"),\"X\",\"\")","v":""},{"$f":"IF(A139=\"\",\"\",A139)","v":""},{"$f":"IF(B139=\"\",\"\",B139)","v":""}]
[null,null,null,null,null,null,null,{"$f":"IF(H111=\"\",\"\",IF($D111<=9,MIN(H111,H$5+2),IF($D111<=19,MIN(H111,7),IF($D111<=29,MIN(H111,8),IF($D111<=39,MIN(H111,9),IF($D111>=40,MIN(H111,10)))))))","v":""},"","","","","","","","",{"$f":"IF(Q111=\"\",\"\",SUM(H112:P112))","v":""},{"$f":"IF(R111=\"\",\"\",IF($D111<=9,MIN(R111,R$5+2),IF($D111<=19,MIN(R111,7),IF($D111<=29,MIN(R111,8),IF($D111<=39,MIN(R111,9),IF($D111>=40,MIN(R111,10)))))))","v":""},"","","","","","","","",{"$f":"IF(AA111=\"\",\"\",SUM(R112:Z112))","v":""},null,null,"","",{"$f":"IF($AE112=\"\",\"\",IF(VLOOKUP($AE112,Pots,3,FALSE)=1,1,\"\"))","v":""},{"$f":"IF($AE112=\"\",\"\",IF(VLOOKUP($AE112,Pots,4,FALSE)=1,1,\"\"))","v":""},{"$f":"IF($AE112=\"\",\"\",IF(VLOOKUP($AE112,Pots,5,FALSE)=1,1,\"\"))","v":""},{"$f":"IF($AE112=\"\",\"\",IF(VLOOKUP($AE112,Pots,6,FALSE)=1,1,\"\"))","v":""},{"$f":"IF($AG112=1,$AE112,\"\")","v":""},{"$f":"IF($AH112=1,$AE112,\"\")","v":""},{"$f":"IF(AND($AI112=1,$AG112=\"\",$AH112=\"\"),$AE112,\"\")","v":""},{"$f":"IF(AND($AI112=1,$AG112=\"\",$AH112=\"\"),\"X\",\"\")","v":""},{"$f":"IF(A141=\"\",\"\",A141)","v":""},{"$f":"IF(B141=\"\",\"\",B141)","v":""}]
[null,"Iinuma, Shiro",{"$f":"IF($B113=\"\",\"\",IF(VLOOKUP($B113,Members,2,FALSE)=\"\", \"-\",(VLOOKUP($B113,Members,2,FALSE))))","v":"-"},{"$f":"IF(OR($B113=\"\",$B$3=\"\",$F$3=\"\"),\"\",IF(OR(VLOOKUP($B113,Members,2,FALSE)=\"\",VLOOKUP($B113,Members,8,FALSE)=\"\"),\"-\",VLOOKUP($B113,Members,8,FALSE)))","v":"-"},{"$f":"IF(OR($B113=\"\",$B$3=\"\",$F$3=\"\"),\"\",IF(OR(VLOOKUP($B113,Members,2,FALSE)=\"\",VLOOKUP($B113,Members,9,FALSE)=\"\",VLOOKUP($B113,Pots,3,FALSE)=\"\"),\"-\",VLOOKUP($B113,Members,9,FALSE)))","v":"-"},null,46,5,8,6,5,8,4,7,7,6,{"$f":"IF(P113=\"\",\"\",SUM(H113:P113))","v":56},6,8,3,6,7,8,6,5,5,{"$f":"IF(Z113=\"\",\"\",SUM(R113:Z113))","v":54},{"$f":"IF(OR(Q113=\"\",AA113=\"\"),\"\",SUM(AA113,Q113))","v":110},{"$f":"IF(AB113=\"\",\"\",SUM(Q114,AA114))","v":110},"","",{"$f":"IF($AE113=\"\",\"\",IF(VLOOKUP($AE113,Pots,3,FALSE)=1,1,\"\"))","v":""},{"$f":"IF($AE113=\"\",\"\",IF(VLOOKUP($AE113,Pots,4,FALSE)=1,1,\"\"))","v":""},{"$f":"IF($AE113=\"\",\"\",IF(VLOOKUP($AE113,Pots,5,FALSE)=1,1,\"\"))","v":""},{"$f":"IF($AE113=\"\",\"\",IF(VLOOKUP($AE113,Pots,6,FALSE)=1,1,\"\"))","v":""},{"$f":"IF($AG113=1,$AE113,\"\")","v":""},{"$f":"IF($AH113=1,$AE113,\"\")","v":""},{"$f":"IF(AND($AI113=1,$AG113=\"\",$AH113=\"\"),$AE113,\"\")","v":""},{"$f":"IF(AND($AI113=1,$AG113=\"\",$AH113=\"\"),\"X\",\"\")","v":""},{"$f":"IF(A143=\"\",\"\",A143)","v":""},{"$f":"IF(B143=\"\",\"\",B143)","v":""}]
[null,null,null,null,null,null,null,{"$f":"IF(H113=\"\",\"\",IF($D113<=9,MIN(H113,H$5+2),IF($D113<=19,MIN(H113,7),IF($D113<=29,MIN(H113,8),IF($D113<=39,MIN(H113,9),IF($D113>=40,MIN(H113,10)))))))","v":5},8,6,5,8,4,7,7,6,{"$f":"IF(Q113=\"\",\"\",SUM(H114:P114))","v":56},{"$f":"IF(R113=\"\",\"\",IF($D113<=9,MIN(R113,R$5+2),IF($D113<=19,MIN(R113,7),IF($D113<=29,MIN(R113,8),IF($D113<=39,MIN(R113,9),IF($D113>=40,MIN(R113,10)))))))","v":6},8,3,6,7,8,6,5,5,{"$f":"IF(AA113=\"\",\"\",SUM(R114:Z114))","v":54},null,null,"","",{"$f":"IF($AE114=\"\",\"\",IF(VLOOKUP($AE114,Pots,3,FALSE)=1,1,\"\"))","v":""},{"$f":"IF($AE114=\"\",\"\",IF(VLOOKUP($AE114,Pots,4,FALSE)=1,1,\"\"))","v":""},{"$f":"IF($AE114=\"\",\"\",IF(VLOOKUP($AE114,Pots,5,FALSE)=1,1,\"\"))","v":""},{"$f":"IF($AE114=\"\",\"\",IF(VLOOKUP($AE114,Pots,6,FALSE)=1,1,\"\"))","v":""},{"$f":"IF($AG114=1,$AE114,\"\")","v":""},{"$f":"IF($AH114=1,$AE114,\"\")","v":""},{"$f":"IF(AND($AI114=1,$AG114=\"\",$AH114=\"\"),$AE114,\"\")","v":""},{"$f":"IF(AND($AI114=1,$AG114=\"\",$AH114=\"\"),\"X\",\"\")","v":""},{"$f":"IF(A145=\"\",\"\",A145)","v":""},{"$f":"IF(B145=\"\",\"\",B145)","v":""}]
[null,"Endo, Johnny",{"$f":"IF($B115=\"\",\"\",IF(VLOOKUP($B115,Members,2,FALSE)=\"\", \"-\",(VLOOKUP($B115,Members,2,FALSE))))","v":"-"},{"$f":"IF(OR($B115=\"\",$B$3=\"\",$F$3=\"\"),\"\",IF(OR(VLOOKUP($B115,Members,2,FALSE)=\"\",VLOOKUP($B115,Members,8,FALSE)=\"\"),\"-\",VLOOKUP($B115,Members,8,FALSE)))","v":"-"},{"$f":"IF(OR($B115=\"\",$B$3=\"\",$F$3=\"\"),\"\",IF(OR(VLOOKUP($B115,Members,2,FALSE)=\"\",VLOOKUP($B115,Members,9,FALSE)=\"\",VLOOKUP($B115,Pots,3,FALSE)=\"\"),\"-\",VLOOKUP($B115,Members,9,FALSE)))","v":"-"},null,41,6,11,7,4,5,6,5,8,6,{"$f":"IF(P115=\"\",\"\",SUM(H115:P115))","v":58},7,7,3,4,8,7,4,5,6,{"$f":"IF(Z115=\"\",\"\",SUM(R115:Z115))","v":51},{"$f":"IF(OR(Q115=\"\",AA115=\"\"),\"\",SUM(AA115,Q115))","v":109},{"$f":"IF(AB115=\"\",\"\",SUM(Q116,AA116))","v":108},"","",{"$f":"IF($AE115=\"\",\"\",IF(VLOOKUP($AE115,Pots,3,FALSE)=1,1,\"\"))","v":""},{"$f":"IF($AE115=\"\",\"\",IF(VLOOKUP($AE115,Pots,4,FALSE)=1,1,\"\"))","v":""},{"$f":"IF($AE115=\"\",\"\",IF(VLOOKUP($AE115,Pots,5,FALSE)=1,1,\"\"))","v":""},{"$f":"IF($AE115=\"\",\"\",IF(VLOOKUP($AE115,Pots,6,FALSE)=1,1,\"\"))","v":""},{"$f":"IF($AG115=1,$AE115,\"\")","v":""},{"$f":"IF($AH115=1,$AE115,\"\")","v":""},{"$f":"IF(AND($AI115=1,$AG115=\"\",$AH115=\"\"),$AE115,\"\")","v":""},{"$f":"IF(AND($AI115=1,$AG115=\"\",$AH115=\"\"),\"X\",\"\")","v":""},{"$f":"IF(A147=\"\",\"\",A147)","v":""},{"$f":"IF(B147=\"\",\"\",B147)","v":""}]
[null,null,null,null,null,null,null,{"$f":"IF(H115=\"\",\"\",IF($D115<=9,MIN(H115,H$5+2),IF($D115<=19,MIN(H115,7),IF($D115<=29,MIN(H115,8),IF($D115<=39,MIN(H115,9),IF($D115>=40,MIN(H115,10)))))))","v":6},10,7,4,5,6,5,8,6,{"$f":"IF(Q115=\"\",\"\",SUM(H116:P116))","v":57},{"$f":"IF(R115=\"\",\"\",IF($D115<=9,MIN(R115,R$5+2),IF($D115<=19,MIN(R115,7),IF($D115<=29,MIN(R115,8),IF($D115<=39,MIN(R115,9),IF($D115>=40,MIN(R115,10)))))))","v":7},7,3,4,8,7,4,5,6,{"$f":"IF(AA115=\"\",\"\",SUM(R116:Z116))","v":51},null,null,"","",{"$f":"IF($AE116=\"\",\"\",IF(VLOOKUP($AE116,Pots,3,FALSE)=1,1,\"\"))","v":""},{"$f":"IF($AE116=\"\",\"\",IF(VLOOKUP($AE116,Pots,4,FALSE)=1,1,\"\"))","v":""},{"$f":"IF($AE116=\"\",\"\",IF(VLOOKUP($AE116,Pots,5,FALSE)=1,1,\"\"))","v":""},{"$f":"IF($AE116=\"\",\"\",IF(VLOOKUP($AE116,Pots,6,FALSE)=1,1,\"\"))","v":""},{"$f":"IF($AG116=1,$AE116,\"\")","v":""},{"$f":"IF($AH116=1,$AE116,\"\")","v":""},{"$f":"IF(AND($AI116=1,$AG116=\"\",$AH116=\"\"),$AE116,\"\")","v":""},{"$f":"IF(AND($AI116=1,$AG116=\"\",$AH116=\"\"),\"X\",\"\")","v":""},{"$f":"IF(A149=\"\",\"\",A149)","v":""},{"$f":"IF(B149=\"\",\"\",B149)","v":""}]
[null,"Ikeda, Blaine",{"$f":"IF($B117=\"\",\"\",IF(VLOOKUP($B117,Members,2,FALSE)=\"\", \"-\",(VLOOKUP($B117,Members,2,FALSE))))","v":"-"},{"$f":"IF(OR($B117=\"\",$B$3=\"\",$F$3=\"\"),\"\",IF(OR(VLOOKUP($B117,Members,2,FALSE)=\"\",VLOOKUP($B117,Members,8,FALSE)=\"\"),\"-\",VLOOKUP($B117,Members,8,FALSE)))","v":"-"},{"$f":"IF(OR($B117=\"\",$B$3=\"\",$F$3=\"\"),\"\",IF(OR(VLOOKUP($B117,Members,2,FALSE)=\"\",VLOOKUP($B117,Members,9,FALSE)=\"\",VLOOKUP($B117,Pots,3,FALSE)=\"\"),\"-\",VLOOKUP($B117,Members,9,FALSE)))","v":"-"},null,35,7,4,6,5,6,4,7,6,6,{"$f":"IF(P117=\"\",\"\",SUM(H117:P117))","v":51},5,5,3,7,7,5,3,6,4,{"$f":"IF(Z117=\"\",\"\",SUM(R117:Z117))","v":45},{"$f":"IF(OR(Q117=\"\",AA117=\"\"),\"\",SUM(AA117,Q117))","v":96},{"$f":"IF(AB117=\"\",\"\",SUM(Q118,AA118))","v":96},"","",{"$f":"IF($AE117=\"\",\"\",IF(VLOOKUP($AE117,Pots,3,FALSE)=1,1,\"\"))","v":""},{"$f":"IF($AE117=\"\",\"\",IF(VLOOKUP($AE117,Pots,4,FALSE)=1,1,\"\"))","v":""},{"$f":"IF($AE117=\"\",\"\",IF(VLOOKUP($AE117,Pots,5,FALSE)=1,1,\"\"))","v":""},{"$f":"IF($AE117=\"\",\"\",IF(VLOOKUP($AE117,Pots,6,FALSE)=1,1,\"\"))","v":""},{"$f":"IF($AG117=1,$AE117,\"\")","v":""},{"$f":"IF($AH117=1,$AE117,\"\")","v":""},{"$f":"IF(AND($AI117=1,$AG117=\"\",$AH117=\"\"),$AE117,\"\")","v":""},{"$f":"IF(AND($AI117=1,$AG117=\"\",$AH117=\"\"),\"X\",\"\")","v":""},{"$f":"IF(A151=\"\",\"\",A151)","v":""},{"$f":"IF(B151=\"\",\"\",B151)","v":""}]
[null,null,null,null,null,null,null,{"$f":"IF(H117=\"\",\"\",IF($D117<=9,MIN(H117,H$5+2),IF($D117<=19,MIN(H117,7),IF($D117<=29,MIN(H117,8),IF($D117<=39,MIN(H117,9),IF($D117>=40,MIN(H117,10)))))))","v":7},4,6,5,6,4,7,6,6,{"$f":"IF(Q117=\"\",\"\",SUM(H118:P118))","v":51},{"$f":"IF(R117=\"\",\"\",IF($D117<=9,MIN(R117,R$5+2),IF($D117<=19,MIN(R117,7),IF($D117<=29,MIN(R117,8),IF($D117<=39,MIN(R117,9),IF($D117>=40,MIN(R117,10)))))))","v":5},5,3,7,7,5,3,6,4,{"$f":"IF(AA117=\"\",\"\",SUM(R118:Z118))","v":45},null,null,"","",{"$f":"IF($AE118=\"\",\"\",IF(VLOOKUP($AE118,Pots,3,FALSE)=1,1,\"\"))","v":""},{"$f":"IF($AE118=\"\",\"\",IF(VLOOKUP($AE118,Pots,4,FALSE)=1,1,\"\"))","v":""},{"$f":"IF($AE118=\"\",\"\",IF(VLOOKUP($AE118,Pots,5,FALSE)=1,1,\"\"))","v":""},{"$f":"IF($AE118=\"\",\"\",IF(VLOOKUP($AE118,Pots,6,FALSE)=1,1,\"\"))","v":""},{"$f":"IF($AG118=1,$AE118,\"\")","v":""},{"$f":"IF($AH118=1,$AE118,\"\")","v":""},{"$f":"IF(AND($AI118=1,$AG118=\"\",$AH118=\"\"),$AE118,\"\")","v":""},{"$f":"IF(AND($AI118=1,$AG118=\"\",$AH118=\"\"),\"X\",\"\")","v":""},{"$f":"IF(A153=\"\",\"\",A153)","v":""},{"$f":"IF(B153=\"\",\"\",B153)","v":""}]
[null,"Holzrichter, Geoff",{"$f":"IF($B119=\"\",\"\",IF(VLOOKUP($B119,Members,2,FALSE)=\"\", \"-\",(VLOOKUP($B119,Members,2,FALSE))))","v":9307661},{"$f":"IF(OR($B119=\"\",$B$3=\"\",$F$3=\"\"),\"\",IF(OR(VLOOKUP($B119,Members,2,FALSE)=\"\",VLOOKUP($B119,Members,8,FALSE)=\"\"),\"-\",VLOOKUP($B119,Members,8,FALSE)))","v":22},{"$f":"IF(OR($B119=\"\",$B$3=\"\",$F$3=\"\"),\"\",IF(OR(VLOOKUP($B119,Members,2,FALSE)=\"\",VLOOKUP($B119,Members,9,FALSE)=\"\",VLOOKUP($B119,Pots,3,FALSE)=\"\"),\"-\",VLOOKUP($B119,Members,9,FALSE)))","v":22},null,32,4,5,7,4,5,5,5,5,5,{"$f":"IF(P119=\"\",\"\",SUM(H119:P119))","v":45},4,5,5,4,7,6,4,10,6,{"$f":"IF(Z119=\"\",\"\",SUM(R119:Z119))","v":51},{"$f":"IF(OR(Q119=\"\",AA119=\"\"),\"\",SUM(AA119,Q119))","v":96},{"$f":"IF(AB119=\"\",\"\",SUM(Q120,AA120))","v":94},"","",{"$f":"IF($AE119=\"\",\"\",IF(VLOOKUP($AE119,Pots,3,FALSE)=1,1,\"\"))","v":""},{"$f":"IF($AE119=\"\",\"\",IF(VLOOKUP($AE119,Pots,4,FALSE)=1,1,\"\"))","v":""},{"$f":"IF($AE119=\"\",\"\",IF(VLOOKUP($AE119,Pots,5,FALSE)=1,1,\"\"))","v":""},{"$f":"IF($AE119=\"\",\"\",IF(VLOOKUP($AE119,Pots,6,FALSE)=1,1,\"\"))","v":""},{"$f":"IF($AG119=1,$AE119,\"\")","v":""},{"$f":"IF($AH119=1,$AE119,\"\")","v":""},{"$f":"IF(AND($AI119=1,$AG119=\"\",$AH119=\"\"),$AE119,\"\")","v":""},{"$f":"IF(AND($AI119=1,$AG119=\"\",$AH119=\"\"),\"X\",\"\")","v":""},{"$f":"IF(A155=\"\",\"\",A155)","v":""},{"$f":"IF(B155=\"\",\"\",B155)","v":""}]
[null,null,null,null,null,null,null,{"$f":"IF(H119=\"\",\"\",IF($D119<=9,MIN(H119,H$5+2),IF($D119<=19,MIN(H119,7),IF($D119<=29,MIN(H119,8),IF($D119<=39,MIN(H119,9),IF($D119>=40,MIN(H119,10)))))))","v":4},5,7,4,5,5,5,5,5,{"$f":"IF(Q119=\"\",\"\",SUM(H120:P120))","v":45},{"$f":"IF(R119=\"\",\"\",IF($D119<=9,MIN(R119,R$5+2),IF($D119<=19,MIN(R119,7),IF($D119<=29,MIN(R119,8),IF($D119<=39,MIN(R119,9),IF($D119>=40,MIN(R119,10)))))))","v":4},5,5,4,7,6,4,8,6,{"$f":"IF(AA119=\"\",\"\",SUM(R120:Z120))","v":49},null,null,"","",{"$f":"IF($AE120=\"\",\"\",IF(VLOOKUP($AE120,Pots,3,FALSE)=1,1,\"\"))","v":""},{"$f":"IF($AE120=\"\",\"\",IF(VLOOKUP($AE120,Pots,4,FALSE)=1,1,\"\"))","v":""},{"$f":"IF($AE120=\"\",\"\",IF(VLOOKUP($AE120,Pots,5,FALSE)=1,1,\"\"))","v":""},{"$f":"IF($AE120=\"\",\"\",IF(VLOOKUP($AE120,Pots,6,FALSE)=1,1,\"\"))","v":""},{"$f":"IF($AG120=1,$AE120,\"\")","v":""},{"$f":"IF($AH120=1,$AE120,\"\")","v":""},{"$f":"IF(AND($AI120=1,$AG120=\"\",$AH120=\"\"),$AE120,\"\")","v":""},{"$f":"IF(AND($AI120=1,$AG120=\"\",$AH120=\"\"),\"X\",\"\")","v":""},{"$f":"IF(A157=\"\",\"\",A157)","v":""},{"$f":"IF(B157=\"\",\"\",B157)","v":""}]
[null,null,{"$f":"IF($B121=\"\",\"\",IF(VLOOKUP($B121,Members,2,FALSE)=\"\", \"-\",(VLOOKUP($B121,Members,2,FALSE))))","v":""},{"$f":"IF(OR($B121=\"\",$B$3=\"\",$F$3=\"\"),\"\",IF(OR(VLOOKUP($B121,Members,2,FALSE)=\"\",VLOOKUP($B121,Members,8,FALSE)=\"\"),\"-\",VLOOKUP($B121,Members,8,FALSE)))","v":""},{"$f":"IF(OR($B121=\"\",$B$3=\"\",$F$3=\"\"),\"\",IF(OR(VLOOKUP($B121,Members,2,FALSE)=\"\",VLOOKUP($B121,Members,9,FALSE)=\"\",VLOOKUP($B121,Pots,3,FALSE)=\"\"),\"-\",VLOOKUP($B121,Members,9,FALSE)))","v":""},null,{"$f":"IF($B121=\"\",\"\",IF(VLOOKUP($B121,Pots,6,FALSE)=\"\",\"-\",\"\"))","v":""},null,null,null,null,null,null,null,null,null,{"$f":"IF(P121=\"\",\"\",SUM(H121:P121))","v":""},null,null,null,null,null,null,null,null,null,{"$f":"IF(Z121=\"\",\"\",SUM(R121:Z121))","v":""},{"$f":"IF(OR(Q121=\"\",AA121=\"\"),\"\",SUM(AA121,Q121))","v":""},{"$f":"IF(AB121=\"\",\"\",SUM(Q122,AA122))","v":""},"","",{"$f":"IF($AE121=\"\",\"\",IF(VLOOKUP($AE121,Pots,3,FALSE)=1,1,\"\"))","v":""},{"$f":"IF($AE121=\"\",\"\",IF(VLOOKUP($AE121,Pots,4,FALSE)=1,1,\"\"))","v":""},{"$f":"IF($AE121=\"\",\"\",IF(VLOOKUP($AE121,Pots,5,FALSE)=1,1,\"\"))","v":""},{"$f":"IF($AE121=\"\",\"\",IF(VLOOKUP($AE121,Pots,6,FALSE)=1,1,\"\"))","v":""},{"$f":"IF($AG121=1,$AE121,\"\")","v":""},{"$f":"IF($AH121=1,$AE121,\"\")","v":""},{"$f":"IF(AND($AI121=1,$AG121=\"\",$AH121=\"\"),$AE121,\"\")","v":""},{"$f":"IF(AND($AI121=1,$AG121=\"\",$AH121=\"\"),\"X\",\"\")","v":""},{"$f":"IF(A159=\"\",\"\",A159)","v":""},{"$f":"IF(B159=\"\",\"\",B159)","v":""}]
[null,null,null,null,null,null,null,{"$f":"IF(H121=\"\",\"\",IF($D121<=9,MIN(H121,H$5+2),IF($D121<=19,MIN(H121,7),IF($D121<=29,MIN(H121,8),IF($D121<=39,MIN(H121,9),IF($D121>=40,MIN(H121,10)))))))","v":""},"","","","","","","","",{"$f":"IF(Q121=\"\",\"\",SUM(H122:P122))","v":""},{"$f":"IF(R121=\"\",\"\",IF($D121<=9,MIN(R121,R$5+2),IF($D121<=19,MIN(R121,7),IF($D121<=29,MIN(R121,8),IF($D121<=39,MIN(R121,9),IF($D121>=40,MIN(R121,10)))))))","v":""},"","","","","","","","",{"$f":"IF(AA121=\"\",\"\",SUM(R122:Z122))","v":""},null,null,"","",{"$f":"IF($AE122=\"\",\"\",IF(VLOOKUP($AE122,Pots,3,FALSE)=1,1,\"\"))","v":""},{"$f":"IF($AE122=\"\",\"\",IF(VLOOKUP($AE122,Pots,4,FALSE)=1,1,\"\"))","v":""},{"$f":"IF($AE122=\"\",\"\",IF(VLOOKUP($AE122,Pots,5,FALSE)=1,1,\"\"))","v":""},{"$f":"IF($AE122=\"\",\"\",IF(VLOOKUP($AE122,Pots,6,FALSE)=1,1,\"\"))","v":""},{"$f":"IF($AG122=1,$AE122,\"\")","v":""},{"$f":"IF($AH122=1,$AE122,\"\")","v":""},{"$f":"IF(AND($AI122=1,$AG122=\"\",$AH122=\"\"),$AE122,\"\")","v":""},{"$f":"IF(AND($AI122=1,$AG122=\"\",$AH122=\"\"),\"X\",\"\")","v":""},{"$f":"IF(A161=\"\",\"\",A161)","v":""},{"$f":"IF(B161=\"\",\"\",B161)","v":""}]
[null,null,{"$f":"IF($B123=\"\",\"\",IF(VLOOKUP($B123,Members,2,FALSE)=\"\", \"-\",(VLOOKUP($B123,Members,2,FALSE))))","v":""},{"$f":"IF(OR($B123=\"\",$B$3=\"\",$F$3=\"\"),\"\",IF(OR(VLOOKUP($B123,Members,2,FALSE)=\"\",VLOOKUP($B123,Members,8,FALSE)=\"\"),\"-\",VLOOKUP($B123,Members,8,FALSE)))","v":""},{"$f":"IF(OR($B123=\"\",$B$3=\"\",$F$3=\"\"),\"\",IF(OR(VLOOKUP($B123,Members,2,FALSE)=\"\",VLOOKUP($B123,Members,9,FALSE)=\"\",VLOOKUP($B123,Pots,3,FALSE)=\"\"),\"-\",VLOOKUP($B123,Members,9,FALSE)))","v":""},null,{"$f":"IF($B123=\"\",\"\",IF(VLOOKUP($B123,Pots,6,FALSE)=\"\",\"-\",\"\"))","v":""},null,null,null,null,null,null,null,null,null,{"$f":"IF(P123=\"\",\"\",SUM(H123:P123))","v":""},null,null,null,null,null,null,null,null,null,{"$f":"IF(Z123=\"\",\"\",SUM(R123:Z123))","v":""},{"$f":"IF(OR(Q123=\"\",AA123=\"\"),\"\",SUM(AA123,Q123))","v":""},{"$f":"IF(AB123=\"\",\"\",SUM(Q124,AA124))","v":""},"","",{"$f":"IF($AE123=\"\",\"\",IF(VLOOKUP($AE123,Pots,3,FALSE)=1,1,\"\"))","v":""},{"$f":"IF($AE123=\"\",\"\",IF(VLOOKUP($AE123,Pots,4,FALSE)=1,1,\"\"))","v":""},{"$f":"IF($AE123=\"\",\"\",IF(VLOOKUP($AE123,Pots,5,FALSE)=1,1,\"\"))","v":""},{"$f":"IF($AE123=\"\",\"\",IF(VLOOKUP($AE123,Pots,6,FALSE)=1,1,\"\"))","v":""},{"$f":"IF($AG123=1,$AE123,\"\")","v":""},{"$f":"IF($AH123=1,$AE123,\"\")","v":""},{"$f":"IF(AND($AI123=1,$AG123=\"\",$AH123=\"\"),$AE123,\"\")","v":""},{"$f":"IF(AND($AI123=1,$AG123=\"\",$AH123=\"\"),\"X\",\"\")","v":""},{"$f":"IF(A163=\"\",\"\",A163)","v":""},{"$f":"IF(B163=\"\",\"\",B163)","v":""}]
[null,null,null,null,null,null,null,{"$f":"IF(H123=\"\",\"\",IF($D123<=9,MIN(H123,H$5+2),IF($D123<=19,MIN(H123,7),IF($D123<=29,MIN(H123,8),IF($D123<=39,MIN(H123,9),IF($D123>=40,MIN(H123,10)))))))","v":""},"","","","","","","","",{"$f":"IF(Q123=\"\",\"\",SUM(H124:P124))","v":""},{"$f":"IF(R123=\"\",\"\",IF($D123<=9,MIN(R123,R$5+2),IF($D123<=19,MIN(R123,7),IF($D123<=29,MIN(R123,8),IF($D123<=39,MIN(R123,9),IF($D123>=40,MIN(R123,10)))))))","v":""},"","","","","","","","",{"$f":"IF(AA123=\"\",\"\",SUM(R124:Z124))","v":""},null,null,"","",{"$f":"IF($AE124=\"\",\"\",IF(VLOOKUP($AE124,Pots,3,FALSE)=1,1,\"\"))","v":""},{"$f":"IF($AE124=\"\",\"\",IF(VLOOKUP($AE124,Pots,4,FALSE)=1,1,\"\"))","v":""},{"$f":"IF($AE124=\"\",\"\",IF(VLOOKUP($AE124,Pots,5,FALSE)=1,1,\"\"))","v":""},{"$f":"IF($AE124=\"\",\"\",IF(VLOOKUP($AE124,Pots,6,FALSE)=1,1,\"\"))","v":""},{"$f":"IF($AG124=1,$AE124,\"\")","v":""},{"$f":"IF($AH124=1,$AE124,\"\")","v":""},{"$f":"IF(AND($AI124=1,$AG124=\"\",$AH124=\"\"),$AE124,\"\")","v":""},{"$f":"IF(AND($AI124=1,$AG124=\"\",$AH124=\"\"),\"X\",\"\")","v":""},{"$f":"IF(A165=\"\",\"\",A165)","v":""},{"$f":"IF(B165=\"\",\"\",B165)","v":""}]
[null,null,{"$f":"IF($B125=\"\",\"\",IF(VLOOKUP($B125,Members,2,FALSE)=\"\", \"-\",(VLOOKUP($B125,Members,2,FALSE))))","v":""},{"$f":"IF(OR($B125=\"\",$B$3=\"\",$F$3=\"\"),\"\",IF(OR(VLOOKUP($B125,Members,2,FALSE)=\"\",VLOOKUP($B125,Members,8,FALSE)=\"\"),\"-\",VLOOKUP($B125,Members,8,FALSE)))","v":""},{"$f":"IF(OR($B125=\"\",$B$3=\"\",$F$3=\"\"),\"\",IF(OR(VLOOKUP($B125,Members,2,FALSE)=\"\",VLOOKUP($B125,Members,9,FALSE)=\"\",VLOOKUP($B125,Pots,3,FALSE)=\"\"),\"-\",VLOOKUP($B125,Members,9,FALSE)))","v":""},null,{"$f":"IF($B125=\"\",\"\",IF(VLOOKUP($B125,Pots,6,FALSE)=\"\",\"-\",\"\"))","v":""},null,null,null,null,null,null,null,null,null,{"$f":"IF(P125=\"\",\"\",SUM(H125:P125))","v":""},null,null,null,null,null,null,null,null,null,{"$f":"IF(Z125=\"\",\"\",SUM(R125:Z125))","v":""},{"$f":"IF(OR(Q125=\"\",AA125=\"\"),\"\",SUM(AA125,Q125))","v":""},{"$f":"IF(AB125=\"\",\"\",SUM(Q126,AA126))","v":""},"","",{"$f":"IF($AE125=\"\",\"\",IF(VLOOKUP($AE125,Pots,3,FALSE)=1,1,\"\"))","v":""},{"$f":"IF($AE125=\"\",\"\",IF(VLOOKUP($AE125,Pots,4,FALSE)=1,1,\"\"))","v":""},{"$f":"IF($AE125=\"\",\"\",IF(VLOOKUP($AE125,Pots,5,FALSE)=1,1,\"\"))","v":""},{"$f":"IF($AE125=\"\",\"\",IF(VLOOKUP($AE125,Pots,6,FALSE)=1,1,\"\"))","v":""},{"$f":"IF($AG125=1,$AE125,\"\")","v":""},{"$f":"IF($AH125=1,$AE125,\"\")","v":""},{"$f":"IF(AND($AI125=1,$AG125=\"\",$AH125=\"\"),$AE125,\"\")","v":""},{"$f":"IF(AND($AI125=1,$AG125=\"\",$AH125=\"\"),\"X\",\"\")","v":""},{"$f":"IF(A167=\"\",\"\",A167)","v":""},{"$f":"IF(B167=\"\",\"\",B167)","v":""}]
[null,null,null,null,null,null,null,{"$f":"IF(H125=\"\",\"\",IF($D125<=9,MIN(H125,H$5+2),IF($D125<=19,MIN(H125,7),IF($D125<=29,MIN(H125,8),IF($D125<=39,MIN(H125,9),IF($D125>=40,MIN(H125,10)))))))","v":""},"","","","","","","","",{"$f":"IF(Q125=\"\",\"\",SUM(H126:P126))","v":""},{"$f":"IF(R125=\"\",\"\",IF($D125<=9,MIN(R125,R$5+2),IF($D125<=19,MIN(R125,7),IF($D125<=29,MIN(R125,8),IF($D125<=39,MIN(R125,9),IF($D125>=40,MIN(R125,10)))))))","v":""},"","","","","","","","",{"$f":"IF(AA125=\"\",\"\",SUM(R126:Z126))","v":""},null,null,"","",{"$f":"IF($AE126=\"\",\"\",IF(VLOOKUP($AE126,Pots,3,FALSE)=1,1,\"\"))","v":""},{"$f":"IF($AE126=\"\",\"\",IF(VLOOKUP($AE126,Pots,4,FALSE)=1,1,\"\"))","v":""},{"$f":"IF($AE126=\"\",\"\",IF(VLOOKUP($AE126,Pots,5,FALSE)=1,1,\"\"))","v":""},{"$f":"IF($AE126=\"\",\"\",IF(VLOOKUP($AE126,Pots,6,FALSE)=1,1,\"\"))","v":""},{"$f":"IF($AG126=1,$AE126,\"\")","v":""},{"$f":"IF($AH126=1,$AE126,\"\")","v":""},{"$f":"IF(AND($AI126=1,$AG126=\"\",$AH126=\"\"),$AE126,\"\")","v":""},{"$f":"IF(AND($AI126=1,$AG126=\"\",$AH126=\"\"),\"X\",\"\")","v":""},{"$f":"IF(A169=\"\",\"\",A169)","v":""},{"$f":"IF(B169=\"\",\"\",B169)","v":""}]
[null,null,{"$f":"IF($B127=\"\",\"\",IF(VLOOKUP($B127,Members,2,FALSE)=\"\", \"-\",(VLOOKUP($B127,Members,2,FALSE))))","v":""},{"$f":"IF(OR($B127=\"\",$B$3=\"\",$F$3=\"\"),\"\",IF(OR(VLOOKUP($B127,Members,2,FALSE)=\"\",VLOOKUP($B127,Members,8,FALSE)=\"\"),\"-\",VLOOKUP($B127,Members,8,FALSE)))","v":""},{"$f":"IF(OR($B127=\"\",$B$3=\"\",$F$3=\"\"),\"\",IF(OR(VLOOKUP($B127,Members,2,FALSE)=\"\",VLOOKUP($B127,Members,9,FALSE)=\"\",VLOOKUP($B127,Pots,3,FALSE)=\"\"),\"-\",VLOOKUP($B127,Members,9,FALSE)))","v":""},null,{"$f":"IF($B127=\"\",\"\",IF(VLOOKUP($B127,Pots,6,FALSE)=\"\",\"-\",\"\"))","v":""},null,null,null,null,null,null,null,null,null,{"$f":"IF(P127=\"\",\"\",SUM(H127:P127))","v":""},null,null,null,null,null,null,null,null,null,{"$f":"IF(Z127=\"\",\"\",SUM(R127:Z127))","v":""},{"$f":"IF(OR(Q127=\"\",AA127=\"\"),\"\",SUM(AA127,Q127))","v":""},{"$f":"IF(AB127=\"\",\"\",SUM(Q128,AA128))","v":""},"","",{"$f":"IF($AE127=\"\",\"\",IF(VLOOKUP($AE127,Pots,3,FALSE)=1,1,\"\"))","v":""},{"$f":"IF($AE127=\"\",\"\",IF(VLOOKUP($AE127,Pots,4,FALSE)=1,1,\"\"))","v":""},{"$f":"IF($AE127=\"\",\"\",IF(VLOOKUP($AE127,Pots,5,FALSE)=1,1,\"\"))","v":""},{"$f":"IF($AE127=\"\",\"\",IF(VLOOKUP($AE127,Pots,6,FALSE)=1,1,\"\"))","v":""},{"$f":"IF($AG127=1,$AE127,\"\")","v":""},{"$f":"IF($AH127=1,$AE127,\"\")","v":""},{"$f":"IF(AND($AI127=1,$AG127=\"\",$AH127=\"\"),$AE127,\"\")","v":""},{"$f":"IF(AND($AI127=1,$AG127=\"\",$AH127=\"\"),\"X\",\"\")","v":""},{"$f":"IF(A171=\"\",\"\",A171)","v":""},{"$f":"IF(B171=\"\",\"\",B171)","v":""}]
[null,null,null,null,null,null,null,{"$f":"IF(H127=\"\",\"\",IF($D127<=9,MIN(H127,H$5+2),IF($D127<=19,MIN(H127,7),IF($D127<=29,MIN(H127,8),IF($D127<=39,MIN(H127,9),IF($D127>=40,MIN(H127,10)))))))","v":""},"","","","","","","","",{"$f":"IF(Q127=\"\",\"\",SUM(H128:P128))","v":""},{"$f":"IF(R127=\"\",\"\",IF($D127<=9,MIN(R127,R$5+2),IF($D127<=19,MIN(R127,7),IF($D127<=29,MIN(R127,8),IF($D127<=39,MIN(R127,9),IF($D127>=40,MIN(R127,10)))))))","v":""},"","","","","","","","",{"$f":"IF(AA127=\"\",\"\",SUM(R128:Z128))","v":""},null,null,"","",{"$f":"IF($AE128=\"\",\"\",IF(VLOOKUP($AE128,Pots,3,FALSE)=1,1,\"\"))","v":""},{"$f":"IF($AE128=\"\",\"\",IF(VLOOKUP($AE128,Pots,4,FALSE)=1,1,\"\"))","v":""},{"$f":"IF($AE128=\"\",\"\",IF(VLOOKUP($AE128,Pots,5,FALSE)=1,1,\"\"))","v":""},{"$f":"IF($AE128=\"\",\"\",IF(VLOOKUP($AE128,Pots,6,FALSE)=1,1,\"\"))","v":""},{"$f":"IF($AG128=1,$AE128,\"\")","v":""},{"$f":"IF($AH128=1,$AE128,\"\")","v":""},{"$f":"IF(AND($AI128=1,$AG128=\"\",$AH128=\"\"),$AE128,\"\")","v":""},{"$f":"IF(AND($AI128=1,$AG128=\"\",$AH128=\"\"),\"X\",\"\")","v":""},{"$f":"IF(A173=\"\",\"\",A173)","v":""},{"$f":"IF(B173=\"\",\"\",B173)","v":""}]
[null,null,{"$f":"IF($B129=\"\",\"\",IF(VLOOKUP($B129,Members,2,FALSE)=\"\", \"-\",(VLOOKUP($B129,Members,2,FALSE))))","v":""},{"$f":"IF(OR($B129=\"\",$B$3=\"\",$F$3=\"\"),\"\",IF(OR(VLOOKUP($B129,Members,2,FALSE)=\"\",VLOOKUP($B129,Members,8,FALSE)=\"\"),\"-\",VLOOKUP($B129,Members,8,FALSE)))","v":""},{"$f":"IF(OR($B129=\"\",$B$3=\"\",$F$3=\"\"),\"\",IF(OR(VLOOKUP($B129,Members,2,FALSE)=\"\",VLOOKUP($B129,Members,9,FALSE)=\"\",VLOOKUP($B129,Pots,3,FALSE)=\"\"),\"-\",VLOOKUP($B129,Members,9,FALSE)))","v":""},null,{"$f":"IF($B129=\"\",\"\",IF(VLOOKUP($B129,Pots,6,FALSE)=\"\",\"-\",\"\"))","v":""},null,null,null,null,null,null,null,null,null,{"$f":"IF(P129=\"\",\"\",SUM(H129:P129))","v":""},null,null,null,null,null,null,null,null,null,{"$f":"IF(Z129=\"\",\"\",SUM(R129:Z129))","v":""},{"$f":"IF(OR(Q129=\"\",AA129=\"\"),\"\",SUM(AA129,Q129))","v":""},{"$f":"IF(AB129=\"\",\"\",SUM(Q130,AA130))","v":""},"","",{"$f":"IF($AE129=\"\",\"\",IF(VLOOKUP($AE129,Pots,3,FALSE)=1,1,\"\"))","v":""},{"$f":"IF($AE129=\"\",\"\",IF(VLOOKUP($AE129,Pots,4,FALSE)=1,1,\"\"))","v":""},{"$f":"IF($AE129=\"\",\"\",IF(VLOOKUP($AE129,Pots,5,FALSE)=1,1,\"\"))","v":""},{"$f":"IF($AE129=\"\",\"\",IF(VLOOKUP($AE129,Pots,6,FALSE)=1,1,\"\"))","v":""},{"$f":"IF($AG129=1,$AE129,\"\")","v":""},{"$f":"IF($AH129=1,$AE129,\"\")","v":""},{"$f":"IF(AND($AI129=1,$AG129=\"\",$AH129=\"\"),$AE129,\"\")","v":""},{"$f":"IF(AND($AI129=1,$AG129=\"\",$AH129=\"\"),\"X\",\"\")","v":""},{"$f":"IF(A175=\"\",\"\",A175)","v":""},{"$f":"IF(B175=\"\",\"\",B175)","v":""}]
[null,null,null,null,null,null,null,{"$f":"IF(H129=\"\",\"\",IF($D129<=9,MIN(H129,H$5+2),IF($D129<=19,MIN(H129,7),IF($D129<=29,MIN(H129,8),IF($D129<=39,MIN(H129,9),IF($D129>=40,MIN(H129,10)))))))","v":""},"","","","","","","","",{"$f":"IF(Q129=\"\",\"\",SUM(H130:P130))","v":""},{"$f":"IF(R129=\"\",\"\",IF($D129<=9,MIN(R129,R$5+2),IF($D129<=19,MIN(R129,7),IF($D129<=29,MIN(R129,8),IF($D129<=39,MIN(R129,9),IF($D129>=40,MIN(R129,10)))))))","v":""},"","","","","","","","",{"$f":"IF(AA129=\"\",\"\",SUM(R130:Z130))","v":""},null,null,"","",{"$f":"IF($AE130=\"\",\"\",IF(VLOOKUP($AE130,Pots,3,FALSE)=1,1,\"\"))","v":""},{"$f":"IF($AE130=\"\",\"\",IF(VLOOKUP($AE130,Pots,4,FALSE)=1,1,\"\"))","v":""},{"$f":"IF($AE130=\"\",\"\",IF(VLOOKUP($AE130,Pots,5,FALSE)=1,1,\"\"))","v":""},{"$f":"IF($AE130=\"\",\"\",IF(VLOOKUP($AE130,Pots,6,FALSE)=1,1,\"\"))","v":""},{"$f":"IF($AG130=1,$AE130,\"\")","v":""},{"$f":"IF($AH130=1,$AE130,\"\")","v":""},{"$f":"IF(AND($AI130=1,$AG130=\"\",$AH130=\"\"),$AE130,\"\")","v":""},{"$f":"IF(AND($AI130=1,$AG130=\"\",$AH130=\"\"),\"X\",\"\")","v":""},{"$f":"IF(A177=\"\",\"\",A177)","v":""},{"$f":"IF(B177=\"\",\"\",B177)","v":""}]
[null,null,{"$f":"IF($B131=\"\",\"\",IF(VLOOKUP($B131,Members,2,FALSE)=\"\", \"-\",(VLOOKUP($B131,Members,2,FALSE))))","v":""},{"$f":"IF(OR($B131=\"\",$B$3=\"\",$F$3=\"\"),\"\",IF(OR(VLOOKUP($B131,Members,2,FALSE)=\"\",VLOOKUP($B131,Members,8,FALSE)=\"\"),\"-\",VLOOKUP($B131,Members,8,FALSE)))","v":""},{"$f":"IF(OR($B131=\"\",$B$3=\"\",$F$3=\"\"),\"\",IF(OR(VLOOKUP($B131,Members,2,FALSE)=\"\",VLOOKUP($B131,Members,9,FALSE)=\"\",VLOOKUP($B131,Pots,3,FALSE)=\"\"),\"-\",VLOOKUP($B131,Members,9,FALSE)))","v":""},null,{"$f":"IF($B131=\"\",\"\",IF(VLOOKUP($B131,Pots,6,FALSE)=\"\",\"-\",\"\"))","v":""},null,null,null,null,null,null,null,null,null,{"$f":"IF(P131=\"\",\"\",SUM(H131:P131))","v":""},null,null,null,null,null,null,null,null,null,{"$f":"IF(Z131=\"\",\"\",SUM(R131:Z131))","v":""},{"$f":"IF(OR(Q131=\"\",AA131=\"\"),\"\",SUM(AA131,Q131))","v":""},{"$f":"IF(AB131=\"\",\"\",SUM(Q132,AA132))","v":""},"","",{"$f":"IF($AE131=\"\",\"\",IF(VLOOKUP($AE131,Pots,3,FALSE)=1,1,\"\"))","v":""},{"$f":"IF($AE131=\"\",\"\",IF(VLOOKUP($AE131,Pots,4,FALSE)=1,1,\"\"))","v":""},{"$f":"IF($AE131=\"\",\"\",IF(VLOOKUP($AE131,Pots,5,FALSE)=1,1,\"\"))","v":""},{"$f":"IF($AE131=\"\",\"\",IF(VLOOKUP($AE131,Pots,6,FALSE)=1,1,\"\"))","v":""},{"$f":"IF($AG131=1,$AE131,\"\")","v":""},{"$f":"IF($AH131=1,$AE131,\"\")","v":""},{"$f":"IF(AND($AI131=1,$AG131=\"\",$AH131=\"\"),$AE131,\"\")","v":""},{"$f":"IF(AND($AI131=1,$AG131=\"\",$AH131=\"\"),\"X\",\"\")","v":""},{"$f":"IF(A179=\"\",\"\",A179)","v":""},{"$f":"IF(B179=\"\",\"\",B179)","v":""}]
[null,null,null,null,null,null,null,{"$f":"IF(H131=\"\",\"\",IF($D131<=9,MIN(H131,H$5+2),IF($D131<=19,MIN(H131,7),IF($D131<=29,MIN(H131,8),IF($D131<=39,MIN(H131,9),IF($D131>=40,MIN(H131,10)))))))","v":""},"","","","","","","","",{"$f":"IF(Q131=\"\",\"\",SUM(H132:P132))","v":""},{"$f":"IF(R131=\"\",\"\",IF($D131<=9,MIN(R131,R$5+2),IF($D131<=19,MIN(R131,7),IF($D131<=29,MIN(R131,8),IF($D131<=39,MIN(R131,9),IF($D131>=40,MIN(R131,10)))))))","v":""},"","","","","","","","",{"$f":"IF(AA131=\"\",\"\",SUM(R132:Z132))","v":""},null,null,"","",{"$f":"IF($AE132=\"\",\"\",IF(VLOOKUP($AE132,Pots,3,FALSE)=1,1,\"\"))","v":""},{"$f":"IF($AE132=\"\",\"\",IF(VLOOKUP($AE132,Pots,4,FALSE)=1,1,\"\"))","v":""},{"$f":"IF($AE132=\"\",\"\",IF(VLOOKUP($AE132,Pots,5,FALSE)=1,1,\"\"))","v":""},{"$f":"IF($AE132=\"\",\"\",IF(VLOOKUP($AE132,Pots,6,FALSE)=1,1,\"\"))","v":""},{"$f":"IF($AG132=1,$AE132,\"\")","v":""},{"$f":"IF($AH132=1,$AE132,\"\")","v":""},{"$f":"IF(AND($AI132=1,$AG132=\"\",$AH132=\"\"),$AE132,\"\")","v":""},{"$f":"IF(AND($AI132=1,$AG132=\"\",$AH132=\"\"),\"X\",\"\")","v":""},{"$f":"IF(A181=\"\",\"\",A181)","v":""},{"$f":"IF(B181=\"\",\"\",B181)","v":""}]
[null,null,{"$f":"IF($B133=\"\",\"\",IF(VLOOKUP($B133,Members,2,FALSE)=\"\", \"-\",(VLOOKUP($B133,Members,2,FALSE))))","v":""},{"$f":"IF(OR($B133=\"\",$B$3=\"\",$F$3=\"\"),\"\",IF(OR(VLOOKUP($B133,Members,2,FALSE)=\"\",VLOOKUP($B133,Members,8,FALSE)=\"\"),\"-\",VLOOKUP($B133,Members,8,FALSE)))","v":""},{"$f":"IF(OR($B133=\"\",$B$3=\"\",$F$3=\"\"),\"\",IF(OR(VLOOKUP($B133,Members,2,FALSE)=\"\",VLOOKUP($B133,Members,9,FALSE)=\"\",VLOOKUP($B133,Pots,3,FALSE)=\"\"),\"-\",VLOOKUP($B133,Members,9,FALSE)))","v":""},null,{"$f":"IF($B133=\"\",\"\",IF(VLOOKUP($B133,Pots,6,FALSE)=\"\",\"-\",\"\"))","v":""},null,null,null,null,null,null,null,null,null,{"$f":"IF(P133=\"\",\"\",SUM(H133:P133))","v":""},null,null,null,null,null,null,null,null,null,{"$f":"IF(Z133=\"\",\"\",SUM(R133:Z133))","v":""},{"$f":"IF(OR(Q133=\"\",AA133=\"\"),\"\",SUM(AA133,Q133))","v":""},{"$f":"IF(AB133=\"\",\"\",SUM(Q134,AA134))","v":""}]
[null,null,null,null,null,null,null,{"$f":"IF(H133=\"\",\"\",IF($D133<=9,MIN(H133,H$5+2),IF($D133<=19,MIN(H133,7),IF($D133<=29,MIN(H133,8),IF($D133<=39,MIN(H133,9),IF($D133>=40,MIN(H133,10)))))))","v":""},"","","","","","","","",{"$f":"IF(Q133=\"\",\"\",SUM(H134:P134))","v":""},{"$f":"IF(R133=\"\",\"\",IF($D133<=9,MIN(R133,R$5+2),IF($D133<=19,MIN(R133,7),IF($D133<=29,MIN(R133,8),IF($D133<=39,MIN(R133,9),IF($D133>=40,MIN(R133,10)))))))","v":""},"","","","","","","","",{"$f":"IF(AA133=\"\",\"\",SUM(R134:Z134))","v":""}]
[null,null,{"$f":"IF($B135=\"\",\"\",IF(VLOOKUP($B135,Members,2,FALSE)=\"\", \"-\",(VLOOKUP($B135,Members,2,FALSE))))","v":""},{"$f":"IF(OR($B135=\"\",$B$3=\"\",$F$3=\"\"),\"\",IF(OR(VLOOKUP($B135,Members,2,FALSE)=\"\",VLOOKUP($B135,Members,8,FALSE)=\"\"),\"-\",VLOOKUP($B135,Members,8,FALSE)))","v":""},{"$f":"IF(OR($B135=\"\",$B$3=\"\",$F$3=\"\"),\"\",IF(OR(VLOOKUP($B135,Members,2,FALSE)=\"\",VLOOKUP($B135,Members,9,FALSE)=\"\",VLOOKUP($B135,Pots,3,FALSE)=\"\"),\"-\",VLOOKUP($B135,Members,9,FALSE)))","v":""},null,{"$f":"IF($B135=\"\",\"\",IF(VLOOKUP($B135,Pots,6,FALSE)=\"\",\"-\",\"\"))","v":""},null,null,null,null,null,null,null,null,null,{"$f":"IF(P135=\"\",\"\",SUM(H135:P135))","v":""},null,null,null,null,null,null,null,null,null,{"$f":"IF(Z135=\"\",\"\",SUM(R135:Z135))","v":""},{"$f":"IF(OR(Q135=\"\",AA135=\"\"),\"\",SUM(AA135,Q135))","v":""},{"$f":"IF(AB135=\"\",\"\",SUM(Q136,AA136))","v":""},null,null,{"$f":"IF($AE135=\"\",\"\",IF(VLOOKUP($AE135,Pots,3,FALSE)=1,1,\"\"))","v":""},{"$f":"IF($AE135=\"\",\"\",IF(VLOOKUP($AE135,Pots,4,FALSE)=1,1,\"\"))","v":""},{"$f":"IF($AE135=\"\",\"\",IF(VLOOKUP($AE135,Pots,5,FALSE)=1,1,\"\"))","v":""},{"$f":"IF($AE135=\"\",\"\",IF(VLOOKUP($AE135,Pots,6,FALSE)=1,1,\"\"))","v":""},{"$f":"IF(AG135=1,AE135,\"\")","v":""},{"$f":"IF(AH135=1,AE135,\"\")","v":""},{"$f":"IF(AND(AI135=1,AG135=\"\",AH135=\"\"),AE135,\"\")","v":""},{"$f":"IF(AND(AI135=1,AG135=\"\",AH135=\"\"),\"X\",\"\")","v":""}]
[null,null,null,null,null,null,null,{"$f":"IF(H135=\"\",\"\",IF($D135<=9,MIN(H135,H$5+2),IF($D135<=19,MIN(H135,7),IF($D135<=29,MIN(H135,8),IF($D135<=39,MIN(H135,9),IF($D135>=40,MIN(H135,10)))))))","v":""},"","","","","","","","",{"$f":"IF(Q135=\"\",\"\",SUM(H136:P136))","v":""},{"$f":"IF(R135=\"\",\"\",IF($D135<=9,MIN(R135,R$5+2),IF($D135<=19,MIN(R135,7),IF($D135<=29,MIN(R135,8),IF($D135<=39,MIN(R135,9),IF($D135>=40,MIN(R135,10)))))))","v":""},"","","","","","","","",{"$f":"IF(AA135=\"\",\"\",SUM(R136:Z136))","v":""}]
[null,null,{"$f":"IF($B137=\"\",\"\",IF(VLOOKUP($B137,Members,2,FALSE)=\"\", \"-\",(VLOOKUP($B137,Members,2,FALSE))))","v":""},{"$f":"IF(OR($B137=\"\",$B$3=\"\",$F$3=\"\"),\"\",IF(OR(VLOOKUP($B137,Members,2,FALSE)=\"\",VLOOKUP($B137,Members,8,FALSE)=\"\"),\"-\",VLOOKUP($B137,Members,8,FALSE)))","v":""},{"$f":"IF(OR($B137=\"\",$B$3=\"\",$F$3=\"\"),\"\",IF(OR(VLOOKUP($B137,Members,2,FALSE)=\"\",VLOOKUP($B137,Members,9,FALSE)=\"\",VLOOKUP($B137,Pots,3,FALSE)=\"\"),\"-\",VLOOKUP($B137,Members,9,FALSE)))","v":""},null,{"$f":"IF($B137=\"\",\"\",IF(VLOOKUP($B137,Pots,6,FALSE)=\"\",\"-\",\"\"))","v":""},null,null,null,null,null,null,null,null,null,{"$f":"IF(P137=\"\",\"\",SUM(H137:P137))","v":""},null,null,null,null,null,null,null,null,null,{"$f":"IF(Z137=\"\",\"\",SUM(R137:Z137))","v":""},{"$f":"IF(OR(Q137=\"\",AA137=\"\"),\"\",SUM(AA137,Q137))","v":""},{"$f":"IF(AB137=\"\",\"\",SUM(Q138,AA138))","v":""},null,null,{"$f":"IF($AE137=\"\",\"\",IF(VLOOKUP($AE137,Pots,3,FALSE)=1,1,\"\"))","v":""},{"$f":"IF($AE137=\"\",\"\",IF(VLOOKUP($AE137,Pots,4,FALSE)=1,1,\"\"))","v":""},{"$f":"IF($AE137=\"\",\"\",IF(VLOOKUP($AE137,Pots,5,FALSE)=1,1,\"\"))","v":""},{"$f":"IF($AE137=\"\",\"\",IF(VLOOKUP($AE137,Pots,6,FALSE)=1,1,\"\"))","v":""},{"$f":"IF(AG137=1,AE137,\"\")","v":""},{"$f":"IF(AH137=1,AE137,\"\")","v":""},{"$f":"IF(AND(AI137=1,AG137=\"\",AH137=\"\"),AE137,\"\")","v":""},{"$f":"IF(AND(AI137=1,AG137=\"\",AH137=\"\"),\"X\",\"\")","v":""}]
[null,null,null,null,null,null,null,{"$f":"IF(H137=\"\",\"\",IF($D137<=9,MIN(H137,H$5+2),IF($D137<=19,MIN(H137,7),IF($D137<=29,MIN(H137,8),IF($D137<=39,MIN(H137,9),IF($D137>=40,MIN(H137,10)))))))","v":""},"","","","","","","","",{"$f":"IF(Q137=\"\",\"\",SUM(H138:P138))","v":""},{"$f":"IF(R137=\"\",\"\",IF($D137<=9,MIN(R137,R$5+2),IF($D137<=19,MIN(R137,7),IF($D137<=29,MIN(R137,8),IF($D137<=39,MIN(R137,9),IF($D137>=40,MIN(R137,10)))))))","v":""},"","","","","","","","",{"$f":"IF(AA137=\"\",\"\",SUM(R138:Z138))","v":""}]
[null,null,{"$f":"IF($B139=\"\",\"\",IF(VLOOKUP($B139,Members,2,FALSE)=\"\", \"-\",(VLOOKUP($B139,Members,2,FALSE))))","v":""},{"$f":"IF(OR($B139=\"\",$B$3=\"\",$F$3=\"\"),\"\",IF(OR(VLOOKUP($B139,Members,2,FALSE)=\"\",VLOOKUP($B139,Members,8,FALSE)=\"\"),\"-\",VLOOKUP($B139,Members,8,FALSE)))","v":""},{"$f":"IF(OR($B139=\"\",$B$3=\"\",$F$3=\"\"),\"\",IF(OR(VLOOKUP($B139,Members,2,FALSE)=\"\",VLOOKUP($B139,Members,9,FALSE)=\"\",VLOOKUP($B139,Pots,3,FALSE)=\"\"),\"-\",VLOOKUP($B139,Members,9,FALSE)))","v":""},null,{"$f":"IF($B139=\"\",\"\",IF(VLOOKUP($B139,Pots,6,FALSE)=\"\",\"-\",\"\"))","v":""},null,null,null,null,null,null,null,null,null,{"$f":"IF(P139=\"\",\"\",SUM(H139:P139))","v":""},null,null,null,null,null,null,null,null,null,{"$f":"IF(Z139=\"\",\"\",SUM(R139:Z139))","v":""},{"$f":"IF(OR(Q139=\"\",AA139=\"\"),\"\",SUM(AA139,Q139))","v":""},{"$f":"IF(AB139=\"\",\"\",SUM(Q140,AA140))","v":""},null,null,{"$f":"IF($AE139=\"\",\"\",IF(VLOOKUP($AE139,Pots,3,FALSE)=1,1,\"\"))","v":""},{"$f":"IF($AE139=\"\",\"\",IF(VLOOKUP($AE139,Pots,4,FALSE)=1,1,\"\"))","v":""},{"$f":"IF($AE139=\"\",\"\",IF(VLOOKUP($AE139,Pots,5,FALSE)=1,1,\"\"))","v":""},{"$f":"IF($AE139=\"\",\"\",IF(VLOOKUP($AE139,Pots,6,FALSE)=1,1,\"\"))","v":""},{"$f":"IF(AG139=1,AE139,\"\")","v":""},{"$f":"IF(AH139=1,AE139,\"\")","v":""},{"$f":"IF(AND(AI139=1,AG139=\"\",AH139=\"\"),AE139,\"\")","v":""},{"$f":"IF(AND(AI139=1,AG139=\"\",AH139=\"\"),\"X\",\"\")","v":""}]
[null,null,null,null,null,null,null,{"$f":"IF(H139=\"\",\"\",IF($D139<=9,MIN(H139,H$5+2),IF($D139<=19,MIN(H139,7),IF($D139<=29,MIN(H139,8),IF($D139<=39,MIN(H139,9),IF($D139>=40,MIN(H139,10)))))))","v":""},"","","","","","","","",{"$f":"IF(Q139=\"\",\"\",SUM(H140:P140))","v":""},{"$f":"IF(R139=\"\",\"\",IF($D139<=9,MIN(R139,R$5+2),IF($D139<=19,MIN(R139,7),IF($D139<=29,MIN(R139,8),IF($D139<=39,MIN(R139,9),IF($D139>=40,MIN(R139,10)))))))","v":""},"","","","","","","","",{"$f":"IF(AA139=\"\",\"\",SUM(R140:Z140))","v":""}]
[null,null,{"$f":"IF($B141=\"\",\"\",IF(VLOOKUP($B141,Members,2,FALSE)=\"\", \"-\",(VLOOKUP($B141,Members,2,FALSE))))","v":""},{"$f":"IF(OR($B141=\"\",$B$3=\"\",$F$3=\"\"),\"\",IF(OR(VLOOKUP($B141,Members,2,FALSE)=\"\",VLOOKUP($B141,Members,8,FALSE)=\"\"),\"-\",VLOOKUP($B141,Members,8,FALSE)))","v":""},{"$f":"IF(OR($B141=\"\",$B$3=\"\",$F$3=\"\"),\"\",IF(OR(VLOOKUP($B141,Members,2,FALSE)=\"\",VLOOKUP($B141,Members,9,FALSE)=\"\",VLOOKUP($B141,Pots,3,FALSE)=\"\"),\"-\",VLOOKUP($B141,Members,9,FALSE)))","v":""},null,{"$f":"IF($B141=\"\",\"\",IF(VLOOKUP($B141,Pots,6,FALSE)=\"\",\"-\",\"\"))","v":""},null,null,null,null,null,null,null,null,null,{"$f":"IF(P141=\"\",\"\",SUM(H141:P141))","v":""},null,null,null,null,null,null,null,null,null,{"$f":"IF(Z141=\"\",\"\",SUM(R141:Z141))","v":""},{"$f":"IF(OR(Q141=\"\",AA141=\"\"),\"\",SUM(AA141,Q141))","v":""},{"$f":"IF(AB141=\"\",\"\",SUM(Q142,AA142))","v":""},null,null,{"$f":"IF($AE141=\"\",\"\",IF(VLOOKUP($AE141,Pots,3,FALSE)=1,1,\"\"))","v":""},{"$f":"IF($AE141=\"\",\"\",IF(VLOOKUP($AE141,Pots,4,FALSE)=1,1,\"\"))","v":""},{"$f":"IF($AE141=\"\",\"\",IF(VLOOKUP($AE141,Pots,5,FALSE)=1,1,\"\"))","v":""},{"$f":"IF($AE141=\"\",\"\",IF(VLOOKUP($AE141,Pots,6,FALSE)=1,1,\"\"))","v":""},{"$f":"IF(AG141=1,AE141,\"\")","v":""},{"$f":"IF(AH141=1,AE141,\"\")","v":""},{"$f":"IF(AND(AI141=1,AG141=\"\",AH141=\"\"),AE141,\"\")","v":""},{"$f":"IF(AND(AI141=1,AG141=\"\",AH141=\"\"),\"X\",\"\")","v":""}]
[null,null,null,null,null,null,null,{"$f":"IF(H141=\"\",\"\",IF($D141<=9,MIN(H141,H$5+2),IF($D141<=19,MIN(H141,7),IF($D141<=29,MIN(H141,8),IF($D141<=39,MIN(H141,9),IF($D141>=40,MIN(H141,10)))))))","v":""},"","","","","","","","",{"$f":"IF(Q141=\"\",\"\",SUM(H142:P142))","v":""},{"$f":"IF(R141=\"\",\"\",IF($D141<=9,MIN(R141,R$5+2),IF($D141<=19,MIN(R141,7),IF($D141<=29,MIN(R141,8),IF($D141<=39,MIN(R141,9),IF($D141>=40,MIN(R141,10)))))))","v":""},"","","","","","","","",{"$f":"IF(AA141=\"\",\"\",SUM(R142:Z142))","v":""}]
[null,null,{"$f":"IF($B143=\"\",\"\",IF(VLOOKUP($B143,Members,2,FALSE)=\"\", \"-\",(VLOOKUP($B143,Members,2,FALSE))))","v":""},{"$f":"IF(OR($B143=\"\",$B$3=\"\",$F$3=\"\"),\"\",IF(OR(VLOOKUP($B143,Members,2,FALSE)=\"\",VLOOKUP($B143,Members,8,FALSE)=\"\"),\"-\",VLOOKUP($B143,Members,8,FALSE)))","v":""},{"$f":"IF(OR($B143=\"\",$B$3=\"\",$F$3=\"\"),\"\",IF(OR(VLOOKUP($B143,Members,2,FALSE)=\"\",VLOOKUP($B143,Members,9,FALSE)=\"\",VLOOKUP($B143,Pots,3,FALSE)=\"\"),\"-\",VLOOKUP($B143,Members,9,FALSE)))","v":""},null,{"$f":"IF($B143=\"\",\"\",IF(VLOOKUP($B143,Pots,6,FALSE)=\"\",\"-\",\"\"))","v":""},null,null,null,null,null,null,null,null,null,{"$f":"IF(P143=\"\",\"\",SUM(H143:P143))","v":""},null,null,null,null,null,null,null,null,null,{"$f":"IF(Z143=\"\",\"\",SUM(R143:Z143))","v":""},{"$f":"IF(OR(Q143=\"\",AA143=\"\"),\"\",SUM(AA143,Q143))","v":""},{"$f":"IF(AB143=\"\",\"\",SUM(Q144,AA144))","v":""},null,null,{"$f":"IF($AE143=\"\",\"\",IF(VLOOKUP($AE143,Pots,3,FALSE)=1,1,\"\"))","v":""},{"$f":"IF($AE143=\"\",\"\",IF(VLOOKUP($AE143,Pots,4,FALSE)=1,1,\"\"))","v":""},{"$f":"IF($AE143=\"\",\"\",IF(VLOOKUP($AE143,Pots,5,FALSE)=1,1,\"\"))","v":""},{"$f":"IF($AE143=\"\",\"\",IF(VLOOKUP($AE143,Pots,6,FALSE)=1,1,\"\"))","v":""},{"$f":"IF(AG143=1,AE143,\"\")","v":""},{"$f":"IF(AH143=1,AE143,\"\")","v":""},{"$f":"IF(AND(AI143=1,AG143=\"\",AH143=\"\"),AE143,\"\")","v":""},{"$f":"IF(AND(AI143=1,AG143=\"\",AH143=\"\"),\"X\",\"\")","v":""}]
[null,null,null,null,null,null,null,{"$f":"IF(H143=\"\",\"\",IF($D143<=9,MIN(H143,H$5+2),IF($D143<=19,MIN(H143,7),IF($D143<=29,MIN(H143,8),IF($D143<=39,MIN(H143,9),IF($D143>=40,MIN(H143,10)))))))","v":""},"","","","","","","","",{"$f":"IF(Q143=\"\",\"\",SUM(H144:P144))","v":""},{"$f":"IF(R143=\"\",\"\",IF($D143<=9,MIN(R143,R$5+2),IF($D143<=19,MIN(R143,7),IF($D143<=29,MIN(R143,8),IF($D143<=39,MIN(R143,9),IF($D143>=40,MIN(R143,10)))))))","v":""},"","","","","","","","",{"$f":"IF(AA143=\"\",\"\",SUM(R144:Z144))","v":""}]
[null,null,{"$f":"IF($B145=\"\",\"\",IF(VLOOKUP($B145,Members,2,FALSE)=\"\", \"-\",(VLOOKUP($B145,Members,2,FALSE))))","v":""},{"$f":"IF(OR($B145=\"\",$B$3=\"\",$F$3=\"\"),\"\",IF(OR(VLOOKUP($B145,Members,2,FALSE)=\"\",VLOOKUP($B145,Members,8,FALSE)=\"\"),\"-\",VLOOKUP($B145,Members,8,FALSE)))","v":""},{"$f":"IF(OR($B145=\"\",$B$3=\"\",$F$3=\"\"),\"\",IF(OR(VLOOKUP($B145,Members,2,FALSE)=\"\",VLOOKUP($B145,Members,9,FALSE)=\"\",VLOOKUP($B145,Pots,3,FALSE)=\"\"),\"-\",VLOOKUP($B145,Members,9,FALSE)))","v":""},null,{"$f":"IF($B145=\"\",\"\",IF(VLOOKUP($B145,Pots,6,FALSE)=\"\",\"-\",\"\"))","v":""},null,null,null,null,null,null,null,null,null,{"$f":"IF(P145=\"\",\"\",SUM(H145:P145))","v":""},null,null,null,null,null,null,null,null,null,{"$f":"IF(Z145=\"\",\"\",SUM(R145:Z145))","v":""},{"$f":"IF(OR(Q145=\"\",AA145=\"\"),\"\",SUM(AA145,Q145))","v":""},{"$f":"IF(AB145=\"\",\"\",SUM(Q146,AA146))","v":""},null,null,{"$f":"IF($AE145=\"\",\"\",IF(VLOOKUP($AE145,Pots,3,FALSE)=1,1,\"\"))","v":""},{"$f":"IF($AE145=\"\",\"\",IF(VLOOKUP($AE145,Pots,4,FALSE)=1,1,\"\"))","v":""},{"$f":"IF($AE145=\"\",\"\",IF(VLOOKUP($AE145,Pots,5,FALSE)=1,1,\"\"))","v":""},{"$f":"IF($AE145=\"\",\"\",IF(VLOOKUP($AE145,Pots,6,FALSE)=1,1,\"\"))","v":""},{"$f":"IF(AG145=1,AE145,\"\")","v":""},{"$f":"IF(AH145=1,AE145,\"\")","v":""},{"$f":"IF(AND(AI145=1,AG145=\"\",AH145=\"\"),AE145,\"\")","v":""},{"$f":"IF(AND(AI145=1,AG145=\"\",AH145=\"\"),\"X\",\"\")","v":""}]
[null,null,null,null,null,null,null,{"$f":"IF(H145=\"\",\"\",IF($D145<=9,MIN(H145,H$5+2),IF($D145<=19,MIN(H145,7),IF($D145<=29,MIN(H145,8),IF($D145<=39,MIN(H145,9),IF($D145>=40,MIN(H145,10)))))))","v":""},"","","","","","","","",{"$f":"IF(Q145=\"\",\"\",SUM(H146:P146))","v":""},{"$f":"IF(R145=\"\",\"\",IF($D145<=9,MIN(R145,R$5+2),IF($D145<=19,MIN(R145,7),IF($D145<=29,MIN(R145,8),IF($D145<=39,MIN(R145,9),IF($D145>=40,MIN(R145,10)))))))","v":""},"","","","","","","","",{"$f":"IF(AA145=\"\",\"\",SUM(R146:Z146))","v":""}]
[null,null,{"$f":"IF($B147=\"\",\"\",IF(VLOOKUP($B147,Members,2,FALSE)=\"\", \"-\",(VLOOKUP($B147,Members,2,FALSE))))","v":""},{"$f":"IF(OR($B147=\"\",$B$3=\"\",$F$3=\"\"),\"\",IF(OR(VLOOKUP($B147,Members,2,FALSE)=\"\",VLOOKUP($B147,Members,8,FALSE)=\"\"),\"-\",VLOOKUP($B147,Members,8,FALSE)))","v":""},{"$f":"IF(OR($B147=\"\",$B$3=\"\",$F$3=\"\"),\"\",IF(OR(VLOOKUP($B147,Members,2,FALSE)=\"\",VLOOKUP($B147,Members,9,FALSE)=\"\",VLOOKUP($B147,Pots,3,FALSE)=\"\"),\"-\",VLOOKUP($B147,Members,9,FALSE)))","v":""},null,{"$f":"IF($B147=\"\",\"\",IF(VLOOKUP($B147,Pots,6,FALSE)=\"\",\"-\",\"\"))","v":""},null,null,null,null,null,null,null,null,null,{"$f":"IF(P147=\"\",\"\",SUM(H147:P147))","v":""},null,null,null,null,null,null,null,null,null,{"$f":"IF(Z147=\"\",\"\",SUM(R147:Z147))","v":""},{"$f":"IF(OR(Q147=\"\",AA147=\"\"),\"\",SUM(AA147,Q147))","v":""},{"$f":"IF(AB147=\"\",\"\",SUM(Q148,AA148))","v":""},null,null,{"$f":"IF($AE147=\"\",\"\",IF(VLOOKUP($AE147,Pots,3,FALSE)=1,1,\"\"))","v":""},{"$f":"IF($AE147=\"\",\"\",IF(VLOOKUP($AE147,Pots,4,FALSE)=1,1,\"\"))","v":""},{"$f":"IF($AE147=\"\",\"\",IF(VLOOKUP($AE147,Pots,5,FALSE)=1,1,\"\"))","v":""},{"$f":"IF($AE147=\"\",\"\",IF(VLOOKUP($AE147,Pots,6,FALSE)=1,1,\"\"))","v":""},{"$f":"IF(AG147=1,AE147,\"\")","v":""},{"$f":"IF(AH147=1,AE147,\"\")","v":""},{"$f":"IF(AND(AI147=1,AG147=\"\",AH147=\"\"),AE147,\"\")","v":""},{"$f":"IF(AND(AI147=1,AG147=\"\",AH147=\"\"),\"X\",\"\")","v":""}]
[null,null,null,null,null,null,null,{"$f":"IF(H147=\"\",\"\",IF($D147<=9,MIN(H147,H$5+2),IF($D147<=19,MIN(H147,7),IF($D147<=29,MIN(H147,8),IF($D147<=39,MIN(H147,9),IF($D147>=40,MIN(H147,10)))))))","v":""},"","","","","","","","",{"$f":"IF(Q147=\"\",\"\",SUM(H148:P148))","v":""},{"$f":"IF(R147=\"\",\"\",IF($D147<=9,MIN(R147,R$5+2),IF($D147<=19,MIN(R147,7),IF($D147<=29,MIN(R147,8),IF($D147<=39,MIN(R147,9),IF($D147>=40,MIN(R147,10)))))))","v":""},"","","","","","","","",{"$f":"IF(AA147=\"\",\"\",SUM(R148:Z148))","v":""}]
[null,null,{"$f":"IF($B149=\"\",\"\",IF(VLOOKUP($B149,Members,2,FALSE)=\"\", \"-\",(VLOOKUP($B149,Members,2,FALSE))))","v":""},{"$f":"IF(OR($B149=\"\",$B$3=\"\",$F$3=\"\"),\"\",IF(OR(VLOOKUP($B149,Members,2,FALSE)=\"\",VLOOKUP($B149,Members,8,FALSE)=\"\"),\"-\",VLOOKUP($B149,Members,8,FALSE)))","v":""},{"$f":"IF(OR($B149=\"\",$B$3=\"\",$F$3=\"\"),\"\",IF(OR(VLOOKUP($B149,Members,2,FALSE)=\"\",VLOOKUP($B149,Members,9,FALSE)=\"\",VLOOKUP($B149,Pots,3,FALSE)=\"\"),\"-\",VLOOKUP($B149,Members,9,FALSE)))","v":""},null,{"$f":"IF($B149=\"\",\"\",IF(VLOOKUP($B149,Pots,6,FALSE)=\"\",\"-\",\"\"))","v":""},null,null,null,null,null,null,null,null,null,{"$f":"IF(P149=\"\",\"\",SUM(H149:P149))","v":""},null,null,null,null,null,null,null,null,null,{"$f":"IF(Z149=\"\",\"\",SUM(R149:Z149))","v":""},{"$f":"IF(OR(Q149=\"\",AA149=\"\"),\"\",SUM(AA149,Q149))","v":""},{"$f":"IF(AB149=\"\",\"\",SUM(Q150,AA150))","v":""},null,null,{"$f":"IF($AE149=\"\",\"\",IF(VLOOKUP($AE149,Pots,3,FALSE)=1,1,\"\"))","v":""},{"$f":"IF($AE149=\"\",\"\",IF(VLOOKUP($AE149,Pots,4,FALSE)=1,1,\"\"))","v":""},{"$f":"IF($AE149=\"\",\"\",IF(VLOOKUP($AE149,Pots,5,FALSE)=1,1,\"\"))","v":""},{"$f":"IF($AE149=\"\",\"\",IF(VLOOKUP($AE149,Pots,6,FALSE)=1,1,\"\"))","v":""},{"$f":"IF(AG149=1,AE149,\"\")","v":""},{"$f":"IF(AH149=1,AE149,\"\")","v":""},{"$f":"IF(AND(AI149=1,AG149=\"\",AH149=\"\"),AE149,\"\")","v":""},{"$f":"IF(AND(AI149=1,AG149=\"\",AH149=\"\"),\"X\",\"\")","v":""}]
[null,null,null,null,null,null,null,{"$f":"IF(H149=\"\",\"\",IF($D149<=9,MIN(H149,H$5+2),IF($D149<=19,MIN(H149,7),IF($D149<=29,MIN(H149,8),IF($D149<=39,MIN(H149,9),IF($D149>=40,MIN(H149,10)))))))","v":""},"","","","","","","","",{"$f":"IF(Q149=\"\",\"\",SUM(H150:P150))","v":""},{"$f":"IF(R149=\"\",\"\",IF($D149<=9,MIN(R149,R$5+2),IF($D149<=19,MIN(R149,7),IF($D149<=29,MIN(R149,8),IF($D149<=39,MIN(R149,9),IF($D149>=40,MIN(R149,10)))))))","v":""},"","","","","","","","",{"$f":"IF(AA149=\"\",\"\",SUM(R150:Z150))","v":""}]
[null,null,{"$f":"IF($B151=\"\",\"\",IF(VLOOKUP($B151,Members,2,FALSE)=\"\", \"-\",(VLOOKUP($B151,Members,2,FALSE))))","v":""},{"$f":"IF(OR($B151=\"\",$B$3=\"\",$F$3=\"\"),\"\",IF(OR(VLOOKUP($B151,Members,2,FALSE)=\"\",VLOOKUP($B151,Members,8,FALSE)=\"\"),\"-\",VLOOKUP($B151,Members,8,FALSE)))","v":""},{"$f":"IF(OR($B151=\"\",$B$3=\"\",$F$3=\"\"),\"\",IF(OR(VLOOKUP($B151,Members,2,FALSE)=\"\",VLOOKUP($B151,Members,9,FALSE)=\"\",VLOOKUP($B151,Pots,3,FALSE)=\"\"),\"-\",VLOOKUP($B151,Members,9,FALSE)))","v":""},null,{"$f":"IF($B151=\"\",\"\",IF(VLOOKUP($B151,Pots,6,FALSE)=\"\",\"-\",\"\"))","v":""},null,null,null,null,null,null,null,null,null,{"$f":"IF(P151=\"\",\"\",SUM(H151:P151))","v":""},null,null,null,null,null,null,null,null,null,{"$f":"IF(Z151=\"\",\"\",SUM(R151:Z151))","v":""},{"$f":"IF(OR(Q151=\"\",AA151=\"\"),\"\",SUM(AA151,Q151))","v":""},{"$f":"IF(AB151=\"\",\"\",SUM(Q152,AA152))","v":""},null,null,{"$f":"IF($AE151=\"\",\"\",IF(VLOOKUP($AE151,Pots,3,FALSE)=1,1,\"\"))","v":""},{"$f":"IF($AE151=\"\",\"\",IF(VLOOKUP($AE151,Pots,4,FALSE)=1,1,\"\"))","v":""},{"$f":"IF($AE151=\"\",\"\",IF(VLOOKUP($AE151,Pots,5,FALSE)=1,1,\"\"))","v":""},{"$f":"IF($AE151=\"\",\"\",IF(VLOOKUP($AE151,Pots,6,FALSE)=1,1,\"\"))","v":""},{"$f":"IF(AG151=1,AE151,\"\")","v":""},{"$f":"IF(AH151=1,AE151,\"\")","v":""},{"$f":"IF(AND(AI151=1,AG151=\"\",AH151=\"\"),AE151,\"\")","v":""},{"$f":"IF(AND(AI151=1,AG151=\"\",AH151=\"\"),\"X\",\"\")","v":""}]
[null,null,null,null,null,null,null,{"$f":"IF(H151=\"\",\"\",IF($D151<=9,MIN(H151,H$5+2),IF($D151<=19,MIN(H151,7),IF($D151<=29,MIN(H151,8),IF($D151<=39,MIN(H151,9),IF($D151>=40,MIN(H151,10)))))))","v":""},"","","","","","","","",{"$f":"IF(Q151=\"\",\"\",SUM(H152:P152))","v":""},{"$f":"IF(R151=\"\",\"\",IF($D151<=9,MIN(R151,R$5+2),IF($D151<=19,MIN(R151,7),IF($D151<=29,MIN(R151,8),IF($D151<=39,MIN(R151,9),IF($D151>=40,MIN(R151,10)))))))","v":""},"","","","","","","","",{"$f":"IF(AA151=\"\",\"\",SUM(R152:Z152))","v":""}]
[null,null,{"$f":"IF($B153=\"\",\"\",IF(VLOOKUP($B153,Members,2,FALSE)=\"\", \"-\",(VLOOKUP($B153,Members,2,FALSE))))","v":""},{"$f":"IF(OR($B153=\"\",$B$3=\"\",$F$3=\"\"),\"\",IF(OR(VLOOKUP($B153,Members,2,FALSE)=\"\",VLOOKUP($B153,Members,8,FALSE)=\"\"),\"-\",VLOOKUP($B153,Members,8,FALSE)))","v":""},{"$f":"IF(OR($B153=\"\",$B$3=\"\",$F$3=\"\"),\"\",IF(OR(VLOOKUP($B153,Members,2,FALSE)=\"\",VLOOKUP($B153,Members,9,FALSE)=\"\",VLOOKUP($B153,Pots,3,FALSE)=\"\"),\"-\",VLOOKUP($B153,Members,9,FALSE)))","v":""},null,{"$f":"IF($B153=\"\",\"\",IF(VLOOKUP($B153,Pots,6,FALSE)=\"\",\"-\",\"\"))","v":""},null,null,null,null,null,null,null,null,null,{"$f":"IF(P153=\"\",\"\",SUM(H153:P153))","v":""},null,null,null,null,null,null,null,null,null,{"$f":"IF(Z153=\"\",\"\",SUM(R153:Z153))","v":""},{"$f":"IF(OR(Q153=\"\",AA153=\"\"),\"\",SUM(AA153,Q153))","v":""},{"$f":"IF(AB153=\"\",\"\",SUM(Q154,AA154))","v":""},null,null,{"$f":"IF($AE153=\"\",\"\",IF(VLOOKUP($AE153,Pots,3,FALSE)=1,1,\"\"))","v":""},{"$f":"IF($AE153=\"\",\"\",IF(VLOOKUP($AE153,Pots,4,FALSE)=1,1,\"\"))","v":""},{"$f":"IF($AE153=\"\",\"\",IF(VLOOKUP($AE153,Pots,5,FALSE)=1,1,\"\"))","v":""},{"$f":"IF($AE153=\"\",\"\",IF(VLOOKUP($AE153,Pots,6,FALSE)=1,1,\"\"))","v":""},{"$f":"IF(AG153=1,AE153,\"\")","v":""},{"$f":"IF(AH153=1,AE153,\"\")","v":""},{"$f":"IF(AND(AI153=1,AG153=\"\",AH153=\"\"),AE153,\"\")","v":""},{"$f":"IF(AND(AI153=1,AG153=\"\",AH153=\"\"),\"X\",\"\")","v":""}]
[null,null,null,null,null,null,null,{"$f":"IF(H153=\"\",\"\",IF($D153<=9,MIN(H153,H$5+2),IF($D153<=19,MIN(H153,7),IF($D153<=29,MIN(H153,8),IF($D153<=39,MIN(H153,9),IF($D153>=40,MIN(H153,10)))))))","v":""},"","","","","","","","",{"$f":"IF(Q153=\"\",\"\",SUM(H154:P154))","v":""},{"$f":"IF(R153=\"\",\"\",IF($D153<=9,MIN(R153,R$5+2),IF($D153<=19,MIN(R153,7),IF($D153<=29,MIN(R153,8),IF($D153<=39,MIN(R153,9),IF($D153>=40,MIN(R153,10)))))))","v":""},"","","","","","","","",{"$f":"IF(AA153=\"\",\"\",SUM(R154:Z154))","v":""}]
[null,null,{"$f":"IF($B155=\"\",\"\",IF(VLOOKUP($B155,Members,2,FALSE)=\"\", \"-\",(VLOOKUP($B155,Members,2,FALSE))))","v":""},{"$f":"IF(OR($B155=\"\",$B$3=\"\",$F$3=\"\"),\"\",IF(OR(VLOOKUP($B155,Members,2,FALSE)=\"\",VLOOKUP($B155,Members,8,FALSE)=\"\"),\"-\",VLOOKUP($B155,Members,8,FALSE)))","v":""},{"$f":"IF(OR($B155=\"\",$B$3=\"\",$F$3=\"\"),\"\",IF(OR(VLOOKUP($B155,Members,2,FALSE)=\"\",VLOOKUP($B155,Members,9,FALSE)=\"\",VLOOKUP($B155,Pots,3,FALSE)=\"\"),\"-\",VLOOKUP($B155,Members,9,FALSE)))","v":""},null,{"$f":"IF($B155=\"\",\"\",IF(VLOOKUP($B155,Pots,6,FALSE)=\"\",\"-\",\"\"))","v":""},null,null,null,null,null,null,null,null,null,{"$f":"IF(P155=\"\",\"\",SUM(H155:P155))","v":""},null,null,null,null,null,null,null,null,null,{"$f":"IF(Z155=\"\",\"\",SUM(R155:Z155))","v":""},{"$f":"IF(OR(Q155=\"\",AA155=\"\"),\"\",SUM(AA155,Q155))","v":""},{"$f":"IF(AB155=\"\",\"\",SUM(Q156,AA156))","v":""},null,null,{"$f":"IF($AE155=\"\",\"\",IF(VLOOKUP($AE155,Pots,3,FALSE)=1,1,\"\"))","v":""},{"$f":"IF($AE155=\"\",\"\",IF(VLOOKUP($AE155,Pots,4,FALSE)=1,1,\"\"))","v":""},{"$f":"IF($AE155=\"\",\"\",IF(VLOOKUP($AE155,Pots,5,FALSE)=1,1,\"\"))","v":""},{"$f":"IF($AE155=\"\",\"\",IF(VLOOKUP($AE155,Pots,6,FALSE)=1,1,\"\"))","v":""},{"$f":"IF(AG155=1,AE155,\"\")","v":""},{"$f":"IF(AH155=1,AE155,\"\")","v":""},{"$f":"IF(AND(AI155=1,AG155=\"\",AH155=\"\"),AE155,\"\")","v":""},{"$f":"IF(AND(AI155=1,AG155=\"\",AH155=\"\"),\"X\",\"\")","v":""}]
[null,null,null,null,null,null,null,{"$f":"IF(H155=\"\",\"\",IF($D155<=9,MIN(H155,H$5+2),IF($D155<=19,MIN(H155,7),IF($D155<=29,MIN(H155,8),IF($D155<=39,MIN(H155,9),IF($D155>=40,MIN(H155,10)))))))","v":""},"","","","","","","","",{"$f":"IF(Q155=\"\",\"\",SUM(H156:P156))","v":""},{"$f":"IF(R155=\"\",\"\",IF($D155<=9,MIN(R155,R$5+2),IF($D155<=19,MIN(R155,7),IF($D155<=29,MIN(R155,8),IF($D155<=39,MIN(R155,9),IF($D155>=40,MIN(R155,10)))))))","v":""},"","","","","","","","",{"$f":"IF(AA155=\"\",\"\",SUM(R156:Z156))","v":""}]
[null,null,{"$f":"IF($B157=\"\",\"\",IF(VLOOKUP($B157,Members,2,FALSE)=\"\", \"-\",(VLOOKUP($B157,Members,2,FALSE))))","v":""},{"$f":"IF(OR($B157=\"\",$B$3=\"\",$F$3=\"\"),\"\",IF(OR(VLOOKUP($B157,Members,2,FALSE)=\"\",VLOOKUP($B157,Members,8,FALSE)=\"\"),\"-\",VLOOKUP($B157,Members,8,FALSE)))","v":""},{"$f":"IF(OR($B157=\"\",$B$3=\"\",$F$3=\"\"),\"\",IF(OR(VLOOKUP($B157,Members,2,FALSE)=\"\",VLOOKUP($B157,Members,9,FALSE)=\"\",VLOOKUP($B157,Pots,3,FALSE)=\"\"),\"-\",VLOOKUP($B157,Members,9,FALSE)))","v":""},null,{"$f":"IF($B157=\"\",\"\",IF(VLOOKUP($B157,Pots,6,FALSE)=\"\",\"-\",\"\"))","v":""},null,null,null,null,null,null,null,null,null,{"$f":"IF(P157=\"\",\"\",SUM(H157:P157))","v":""},null,null,null,null,null,null,null,null,null,{"$f":"IF(Z157=\"\",\"\",SUM(R157:Z157))","v":""},{"$f":"IF(OR(Q157=\"\",AA157=\"\"),\"\",SUM(AA157,Q157))","v":""},{"$f":"IF(AB157=\"\",\"\",SUM(Q158,AA158))","v":""},null,null,{"$f":"IF($AE157=\"\",\"\",IF(VLOOKUP($AE157,Pots,3,FALSE)=1,1,\"\"))","v":""},{"$f":"IF($AE157=\"\",\"\",IF(VLOOKUP($AE157,Pots,4,FALSE)=1,1,\"\"))","v":""},{"$f":"IF($AE157=\"\",\"\",IF(VLOOKUP($AE157,Pots,5,FALSE)=1,1,\"\"))","v":""},{"$f":"IF($AE157=\"\",\"\",IF(VLOOKUP($AE157,Pots,6,FALSE)=1,1,\"\"))","v":""},{"$f":"IF(AG157=1,AE157,\"\")","v":""},{"$f":"IF(AH157=1,AE157,\"\")","v":""},{"$f":"IF(AND(AI157=1,AG157=\"\",AH157=\"\"),AE157,\"\")","v":""},{"$f":"IF(AND(AI157=1,AG157=\"\",AH157=\"\"),\"X\",\"\")","v":""}]
[null,null,null,null,null,null,null,{"$f":"IF(H157=\"\",\"\",IF($D157<=9,MIN(H157,H$5+2),IF($D157<=19,MIN(H157,7),IF($D157<=29,MIN(H157,8),IF($D157<=39,MIN(H157,9),IF($D157>=40,MIN(H157,10)))))))","v":""},"","","","","","","","",{"$f":"IF(Q157=\"\",\"\",SUM(H158:P158))","v":""},{"$f":"IF(R157=\"\",\"\",IF($D157<=9,MIN(R157,R$5+2),IF($D157<=19,MIN(R157,7),IF($D157<=29,MIN(R157,8),IF($D157<=39,MIN(R157,9),IF($D157>=40,MIN(R157,10)))))))","v":""},"","","","","","","","",{"$f":"IF(AA157=\"\",\"\",SUM(R158:Z158))","v":""}]
[null,null,{"$f":"IF($B159=\"\",\"\",IF(VLOOKUP($B159,Members,2,FALSE)=\"\", \"-\",(VLOOKUP($B159,Members,2,FALSE))))","v":""},{"$f":"IF(OR($B159=\"\",$B$3=\"\",$F$3=\"\"),\"\",IF(OR(VLOOKUP($B159,Members,2,FALSE)=\"\",VLOOKUP($B159,Members,8,FALSE)=\"\"),\"-\",VLOOKUP($B159,Members,8,FALSE)))","v":""},{"$f":"IF(OR($B159=\"\",$B$3=\"\",$F$3=\"\"),\"\",IF(OR(VLOOKUP($B159,Members,2,FALSE)=\"\",VLOOKUP($B159,Members,9,FALSE)=\"\",VLOOKUP($B159,Pots,3,FALSE)=\"\"),\"-\",VLOOKUP($B159,Members,9,FALSE)))","v":""},null,{"$f":"IF($B159=\"\",\"\",IF(VLOOKUP($B159,Pots,6,FALSE)=\"\",\"-\",\"\"))","v":""},null,null,null,null,null,null,null,null,null,{"$f":"IF(P159=\"\",\"\",SUM(H159:P159))","v":""},null,null,null,null,null,null,null,null,null,{"$f":"IF(Z159=\"\",\"\",SUM(R159:Z159))","v":""},{"$f":"IF(OR(Q159=\"\",AA159=\"\"),\"\",SUM(AA159,Q159))","v":""},{"$f":"IF(AB159=\"\",\"\",SUM(Q160,AA160))","v":""},null,null,{"$f":"IF($AE159=\"\",\"\",IF(VLOOKUP($AE159,Pots,3,FALSE)=1,1,\"\"))","v":""},{"$f":"IF($AE159=\"\",\"\",IF(VLOOKUP($AE159,Pots,4,FALSE)=1,1,\"\"))","v":""},{"$f":"IF($AE159=\"\",\"\",IF(VLOOKUP($AE159,Pots,5,FALSE)=1,1,\"\"))","v":""},{"$f":"IF($AE159=\"\",\"\",IF(VLOOKUP($AE159,Pots,6,FALSE)=1,1,\"\"))","v":""},{"$f":"IF(AG159=1,AE159,\"\")","v":""},{"$f":"IF(AH159=1,AE159,\"\")","v":""},{"$f":"IF(AND(AI159=1,AG159=\"\",AH159=\"\"),AE159,\"\")","v":""},{"$f":"IF(AND(AI159=1,AG159=\"\",AH159=\"\"),\"X\",\"\")","v":""}]
[null,null,null,null,null,null,null,{"$f":"IF(H159=\"\",\"\",IF($D159<=9,MIN(H159,H$5+2),IF($D159<=19,MIN(H159,7),IF($D159<=29,MIN(H159,8),IF($D159<=39,MIN(H159,9),IF($D159>=40,MIN(H159,10)))))))","v":""},"","","","","","","","",{"$f":"IF(Q159=\"\",\"\",SUM(H160:P160))","v":""},{"$f":"IF(R159=\"\",\"\",IF($D159<=9,MIN(R159,R$5+2),IF($D159<=19,MIN(R159,7),IF($D159<=29,MIN(R159,8),IF($D159<=39,MIN(R159,9),IF($D159>=40,MIN(R159,10)))))))","v":""},"","","","","","","","",{"$f":"IF(AA159=\"\",\"\",SUM(R160:Z160))","v":""}]
[null,null,{"$f":"IF($B161=\"\",\"\",IF(VLOOKUP($B161,Members,2,FALSE)=\"\", \"-\",(VLOOKUP($B161,Members,2,FALSE))))","v":""},{"$f":"IF(OR($B161=\"\",$B$3=\"\",$F$3=\"\"),\"\",IF(OR(VLOOKUP($B161,Members,2,FALSE)=\"\",VLOOKUP($B161,Members,8,FALSE)=\"\"),\"-\",VLOOKUP($B161,Members,8,FALSE)))","v":""},{"$f":"IF(OR($B161=\"\",$B$3=\"\",$F$3=\"\"),\"\",IF(OR(VLOOKUP($B161,Members,2,FALSE)=\"\",VLOOKUP($B161,Members,9,FALSE)=\"\",VLOOKUP($B161,Pots,3,FALSE)=\"\"),\"-\",VLOOKUP($B161,Members,9,FALSE)))","v":""},null,{"$f":"IF($B161=\"\",\"\",IF(VLOOKUP($B161,Pots,6,FALSE)=\"\",\"-\",\"\"))","v":""},null,null,null,null,null,null,null,null,null,{"$f":"IF(P161=\"\",\"\",SUM(H161:P161))","v":""},null,null,null,null,null,null,null,null,null,{"$f":"IF(Z161=\"\",\"\",SUM(R161:Z161))","v":""},{"$f":"IF(OR(Q161=\"\",AA161=\"\"),\"\",SUM(AA161,Q161))","v":""},{"$f":"IF(AB161=\"\",\"\",SUM(Q162,AA162))","v":""},null,null,{"$f":"IF($AE161=\"\",\"\",IF(VLOOKUP($AE161,Pots,3,FALSE)=1,1,\"\"))","v":""},{"$f":"IF($AE161=\"\",\"\",IF(VLOOKUP($AE161,Pots,4,FALSE)=1,1,\"\"))","v":""},{"$f":"IF($AE161=\"\",\"\",IF(VLOOKUP($AE161,Pots,5,FALSE)=1,1,\"\"))","v":""},{"$f":"IF($AE161=\"\",\"\",IF(VLOOKUP($AE161,Pots,6,FALSE)=1,1,\"\"))","v":""},{"$f":"IF(AG161=1,AE161,\"\")","v":""},{"$f":"IF(AH161=1,AE161,\"\")","v":""},{"$f":"IF(AND(AI161=1,AG161=\"\",AH161=\"\"),AE161,\"\")","v":""},{"$f":"IF(AND(AI161=1,AG161=\"\",AH161=\"\"),\"X\",\"\")","v":""}]
[null,null,null,null,null,null,null,{"$f":"IF(H161=\"\",\"\",IF($D161<=9,MIN(H161,H$5+2),IF($D161<=19,MIN(H161,7),IF($D161<=29,MIN(H161,8),IF($D161<=39,MIN(H161,9),IF($D161>=40,MIN(H161,10)))))))","v":""},"","","","","","","","",{"$f":"IF(Q161=\"\",\"\",SUM(H162:P162))","v":""},{"$f":"IF(R161=\"\",\"\",IF($D161<=9,MIN(R161,R$5+2),IF($D161<=19,MIN(R161,7),IF($D161<=29,MIN(R161,8),IF($D161<=39,MIN(R161,9),IF($D161>=40,MIN(R161,10)))))))","v":""},"","","","","","","","",{"$f":"IF(AA161=\"\",\"\",SUM(R162:Z162))","v":""}]
[null,null,{"$f":"IF($B163=\"\",\"\",IF(VLOOKUP($B163,Members,2,FALSE)=\"\", \"-\",(VLOOKUP($B163,Members,2,FALSE))))","v":""},{"$f":"IF(OR($B163=\"\",$B$3=\"\",$F$3=\"\"),\"\",IF(OR(VLOOKUP($B163,Members,2,FALSE)=\"\",VLOOKUP($B163,Members,8,FALSE)=\"\"),\"-\",VLOOKUP($B163,Members,8,FALSE)))","v":""},{"$f":"IF(OR($B163=\"\",$B$3=\"\",$F$3=\"\"),\"\",IF(OR(VLOOKUP($B163,Members,2,FALSE)=\"\",VLOOKUP($B163,Members,9,FALSE)=\"\",VLOOKUP($B163,Pots,3,FALSE)=\"\"),\"-\",VLOOKUP($B163,Members,9,FALSE)))","v":""},null,{"$f":"IF($B163=\"\",\"\",IF(VLOOKUP($B163,Pots,6,FALSE)=\"\",\"-\",\"\"))","v":""},null,null,null,null,null,null,null,null,null,{"$f":"IF(P163=\"\",\"\",SUM(H163:P163))","v":""},null,null,null,null,null,null,null,null,null,{"$f":"IF(Z163=\"\",\"\",SUM(R163:Z163))","v":""},{"$f":"IF(OR(Q163=\"\",AA163=\"\"),\"\",SUM(AA163,Q163))","v":""},{"$f":"IF(AB163=\"\",\"\",SUM(Q164,AA164))","v":""},null,null,{"$f":"IF($AE163=\"\",\"\",IF(VLOOKUP($AE163,Pots,3,FALSE)=1,1,\"\"))","v":""},{"$f":"IF($AE163=\"\",\"\",IF(VLOOKUP($AE163,Pots,4,FALSE)=1,1,\"\"))","v":""},{"$f":"IF($AE163=\"\",\"\",IF(VLOOKUP($AE163,Pots,5,FALSE)=1,1,\"\"))","v":""},{"$f":"IF($AE163=\"\",\"\",IF(VLOOKUP($AE163,Pots,6,FALSE)=1,1,\"\"))","v":""},{"$f":"IF(AG163=1,AE163,\"\")","v":""},{"$f":"IF(AH163=1,AE163,\"\")","v":""},{"$f":"IF(AND(AI163=1,AG163=\"\",AH163=\"\"),AE163,\"\")","v":""},{"$f":"IF(AND(AI163=1,AG163=\"\",AH163=\"\"),\"X\",\"\")","v":""}]
[null,null,null,null,null,null,null,{"$f":"IF(H163=\"\",\"\",IF($D163<=9,MIN(H163,H$5+2),IF($D163<=19,MIN(H163,7),IF($D163<=29,MIN(H163,8),IF($D163<=39,MIN(H163,9),IF($D163>=40,MIN(H163,10)))))))","v":""},"","","","","","","","",{"$f":"IF(Q163=\"\",\"\",SUM(H164:P164))","v":""},{"$f":"IF(R163=\"\",\"\",IF($D163<=9,MIN(R163,R$5+2),IF($D163<=19,MIN(R163,7),IF($D163<=29,MIN(R163,8),IF($D163<=39,MIN(R163,9),IF($D163>=40,MIN(R163,10)))))))","v":""},"","","","","","","","",{"$f":"IF(AA163=\"\",\"\",SUM(R164:Z164))","v":""}]
[null,null,{"$f":"IF($B165=\"\",\"\",IF(VLOOKUP($B165,Members,2,FALSE)=\"\", \"-\",(VLOOKUP($B165,Members,2,FALSE))))","v":""},{"$f":"IF(OR($B165=\"\",$B$3=\"\",$F$3=\"\"),\"\",IF(OR(VLOOKUP($B165,Members,2,FALSE)=\"\",VLOOKUP($B165,Members,8,FALSE)=\"\"),\"-\",VLOOKUP($B165,Members,8,FALSE)))","v":""},{"$f":"IF(OR($B165=\"\",$B$3=\"\",$F$3=\"\"),\"\",IF(OR(VLOOKUP($B165,Members,2,FALSE)=\"\",VLOOKUP($B165,Members,9,FALSE)=\"\",VLOOKUP($B165,Pots,3,FALSE)=\"\"),\"-\",VLOOKUP($B165,Members,9,FALSE)))","v":""},null,{"$f":"IF($B165=\"\",\"\",IF(VLOOKUP($B165,Pots,6,FALSE)=\"\",\"-\",\"\"))","v":""},null,null,null,null,null,null,null,null,null,{"$f":"IF(P165=\"\",\"\",SUM(H165:P165))","v":""},null,null,null,null,null,null,null,null,null,{"$f":"IF(Z165=\"\",\"\",SUM(R165:Z165))","v":""},{"$f":"IF(OR(Q165=\"\",AA165=\"\"),\"\",SUM(AA165,Q165))","v":""},{"$f":"IF(AB165=\"\",\"\",SUM(Q166,AA166))","v":""},null,null,{"$f":"IF($AE165=\"\",\"\",IF(VLOOKUP($AE165,Pots,3,FALSE)=1,1,\"\"))","v":""},{"$f":"IF($AE165=\"\",\"\",IF(VLOOKUP($AE165,Pots,4,FALSE)=1,1,\"\"))","v":""},{"$f":"IF($AE165=\"\",\"\",IF(VLOOKUP($AE165,Pots,5,FALSE)=1,1,\"\"))","v":""},{"$f":"IF($AE165=\"\",\"\",IF(VLOOKUP($AE165,Pots,6,FALSE)=1,1,\"\"))","v":""},{"$f":"IF(AG165=1,AE165,\"\")","v":""},{"$f":"IF(AH165=1,AE165,\"\")","v":""},{"$f":"IF(AND(AI165=1,AG165=\"\",AH165=\"\"),AE165,\"\")","v":""},{"$f":"IF(AND(AI165=1,AG165=\"\",AH165=\"\"),\"X\",\"\")","v":""}]
[null,null,null,null,null,null,null,{"$f":"IF(H165=\"\",\"\",IF($D165<=9,MIN(H165,H$5+2),IF($D165<=19,MIN(H165,7),IF($D165<=29,MIN(H165,8),IF($D165<=39,MIN(H165,9),IF($D165>=40,MIN(H165,10)))))))","v":""},"","","","","","","","",{"$f":"IF(Q165=\"\",\"\",SUM(H166:P166))","v":""},{"$f":"IF(R165=\"\",\"\",IF($D165<=9,MIN(R165,R$5+2),IF($D165<=19,MIN(R165,7),IF($D165<=29,MIN(R165,8),IF($D165<=39,MIN(R165,9),IF($D165>=40,MIN(R165,10)))))))","v":""},"","","","","","","","",{"$f":"IF(AA165=\"\",\"\",SUM(R166:Z166))","v":""}]
[null,null,{"$f":"IF($B167=\"\",\"\",IF(VLOOKUP($B167,Members,2,FALSE)=\"\", \"-\",(VLOOKUP($B167,Members,2,FALSE))))","v":""},{"$f":"IF(OR($B167=\"\",$B$3=\"\",$F$3=\"\"),\"\",IF(OR(VLOOKUP($B167,Members,2,FALSE)=\"\",VLOOKUP($B167,Members,8,FALSE)=\"\"),\"-\",VLOOKUP($B167,Members,8,FALSE)))","v":""},{"$f":"IF(OR($B167=\"\",$B$3=\"\",$F$3=\"\"),\"\",IF(OR(VLOOKUP($B167,Members,2,FALSE)=\"\",VLOOKUP($B167,Members,9,FALSE)=\"\",VLOOKUP($B167,Pots,3,FALSE)=\"\"),\"-\",VLOOKUP($B167,Members,9,FALSE)))","v":""},null,{"$f":"IF($B167=\"\",\"\",IF(VLOOKUP($B167,Pots,6,FALSE)=\"\",\"-\",\"\"))","v":""},null,null,null,null,null,null,null,null,null,{"$f":"IF(P167=\"\",\"\",SUM(H167:P167))","v":""},null,null,null,null,null,null,null,null,null,{"$f":"IF(Z167=\"\",\"\",SUM(R167:Z167))","v":""},{"$f":"IF(OR(Q167=\"\",AA167=\"\"),\"\",SUM(AA167,Q167))","v":""},{"$f":"IF(AB167=\"\",\"\",SUM(Q168,AA168))","v":""},null,null,{"$f":"IF($AE167=\"\",\"\",IF(VLOOKUP($AE167,Pots,3,FALSE)=1,1,\"\"))","v":""},{"$f":"IF($AE167=\"\",\"\",IF(VLOOKUP($AE167,Pots,4,FALSE)=1,1,\"\"))","v":""},{"$f":"IF($AE167=\"\",\"\",IF(VLOOKUP($AE167,Pots,5,FALSE)=1,1,\"\"))","v":""},{"$f":"IF($AE167=\"\",\"\",IF(VLOOKUP($AE167,Pots,6,FALSE)=1,1,\"\"))","v":""},{"$f":"IF(AG167=1,AE167,\"\")","v":""},{"$f":"IF(AH167=1,AE167,\"\")","v":""},{"$f":"IF(AND(AI167=1,AG167=\"\",AH167=\"\"),AE167,\"\")","v":""},{"$f":"IF(AND(AI167=1,AG167=\"\",AH167=\"\"),\"X\",\"\")","v":""}]
[null,null,null,null,null,null,null,{"$f":"IF(H167=\"\",\"\",IF($D167<=9,MIN(H167,H$5+2),IF($D167<=19,MIN(H167,7),IF($D167<=29,MIN(H167,8),IF($D167<=39,MIN(H167,9),IF($D167>=40,MIN(H167,10)))))))","v":""},"","","","","","","","",{"$f":"IF(Q167=\"\",\"\",SUM(H168:P168))","v":""},{"$f":"IF(R167=\"\",\"\",IF($D167<=9,MIN(R167,R$5+2),IF($D167<=19,MIN(R167,7),IF($D167<=29,MIN(R167,8),IF($D167<=39,MIN(R167,9),IF($D167>=40,MIN(R167,10)))))))","v":""},"","","","","","","","",{"$f":"IF(AA167=\"\",\"\",SUM(R168:Z168))","v":""}]
[null,null,{"$f":"IF($B169=\"\",\"\",IF(VLOOKUP($B169,Members,2,FALSE)=\"\", \"-\",(VLOOKUP($B169,Members,2,FALSE))))","v":""},{"$f":"IF(OR($B169=\"\",$B$3=\"\",$F$3=\"\"),\"\",IF(OR(VLOOKUP($B169,Members,2,FALSE)=\"\",VLOOKUP($B169,Members,8,FALSE)=\"\"),\"-\",VLOOKUP($B169,Members,8,FALSE)))","v":""},{"$f":"IF(OR($B169=\"\",$B$3=\"\",$F$3=\"\"),\"\",IF(OR(VLOOKUP($B169,Members,2,FALSE)=\"\",VLOOKUP($B169,Members,9,FALSE)=\"\",VLOOKUP($B169,Pots,3,FALSE)=\"\"),\"-\",VLOOKUP($B169,Members,9,FALSE)))","v":""},null,{"$f":"IF($B169=\"\",\"\",IF(VLOOKUP($B169,Pots,6,FALSE)=\"\",\"-\",\"\"))","v":""},null,null,null,null,null,null,null,null,null,{"$f":"IF(P169=\"\",\"\",SUM(H169:P169))","v":""},null,null,null,null,null,null,null,null,null,{"$f":"IF(Z169=\"\",\"\",SUM(R169:Z169))","v":""},{"$f":"IF(OR(Q169=\"\",AA169=\"\"),\"\",SUM(AA169,Q169))","v":""},{"$f":"IF(AB169=\"\",\"\",SUM(Q170,AA170))","v":""},null,null,{"$f":"IF($AE169=\"\",\"\",IF(VLOOKUP($AE169,Pots,3,FALSE)=1,1,\"\"))","v":""},{"$f":"IF($AE169=\"\",\"\",IF(VLOOKUP($AE169,Pots,4,FALSE)=1,1,\"\"))","v":""},{"$f":"IF($AE169=\"\",\"\",IF(VLOOKUP($AE169,Pots,5,FALSE)=1,1,\"\"))","v":""},{"$f":"IF($AE169=\"\",\"\",IF(VLOOKUP($AE169,Pots,6,FALSE)=1,1,\"\"))","v":""},{"$f":"IF(AG169=1,AE169,\"\")","v":""},{"$f":"IF(AH169=1,AE169,\"\")","v":""},{"$f":"IF(AND(AI169=1,AG169=\"\",AH169=\"\"),AE169,\"\")","v":""},{"$f":"IF(AND(AI169=1,AG169=\"\",AH169=\"\"),\"X\",\"\")","v":""}]
[null,null,null,null,null,null,null,{"$f":"IF(H169=\"\",\"\",IF($D169<=9,MIN(H169,H$5+2),IF($D169<=19,MIN(H169,7),IF($D169<=29,MIN(H169,8),IF($D169<=39,MIN(H169,9),IF($D169>=40,MIN(H169,10)))))))","v":""},"","","","","","","","",{"$f":"IF(Q169=\"\",\"\",SUM(H170:P170))","v":""},{"$f":"IF(R169=\"\",\"\",IF($D169<=9,MIN(R169,R$5+2),IF($D169<=19,MIN(R169,7),IF($D169<=29,MIN(R169,8),IF($D169<=39,MIN(R169,9),IF($D169>=40,MIN(R169,10)))))))","v":""},"","","","","","","","",{"$f":"IF(AA169=\"\",\"\",SUM(R170:Z170))","v":""}]
[null,null,{"$f":"IF($B171=\"\",\"\",IF(VLOOKUP($B171,Members,2,FALSE)=\"\", \"-\",(VLOOKUP($B171,Members,2,FALSE))))","v":""},{"$f":"IF(OR($B171=\"\",$B$3=\"\",$F$3=\"\"),\"\",IF(OR(VLOOKUP($B171,Members,2,FALSE)=\"\",VLOOKUP($B171,Members,8,FALSE)=\"\"),\"-\",VLOOKUP($B171,Members,8,FALSE)))","v":""},{"$f":"IF(OR($B171=\"\",$B$3=\"\",$F$3=\"\"),\"\",IF(OR(VLOOKUP($B171,Members,2,FALSE)=\"\",VLOOKUP($B171,Members,9,FALSE)=\"\",VLOOKUP($B171,Pots,3,FALSE)=\"\"),\"-\",VLOOKUP($B171,Members,9,FALSE)))","v":""},null,{"$f":"IF($B171=\"\",\"\",IF(VLOOKUP($B171,Pots,6,FALSE)=\"\",\"-\",\"\"))","v":""},null,null,null,null,null,null,null,null,null,{"$f":"IF(P171=\"\",\"\",SUM(H171:P171))","v":""},null,null,null,null,null,null,null,null,null,{"$f":"IF(Z171=\"\",\"\",SUM(R171:Z171))","v":""},{"$f":"IF(OR(Q171=\"\",AA171=\"\"),\"\",SUM(AA171,Q171))","v":""},{"$f":"IF(AB171=\"\",\"\",SUM(Q172,AA172))","v":""},null,null,{"$f":"IF($AE171=\"\",\"\",IF(VLOOKUP($AE171,Pots,3,FALSE)=1,1,\"\"))","v":""},{"$f":"IF($AE171=\"\",\"\",IF(VLOOKUP($AE171,Pots,4,FALSE)=1,1,\"\"))","v":""},{"$f":"IF($AE171=\"\",\"\",IF(VLOOKUP($AE171,Pots,5,FALSE)=1,1,\"\"))","v":""},{"$f":"IF($AE171=\"\",\"\",IF(VLOOKUP($AE171,Pots,6,FALSE)=1,1,\"\"))","v":""},{"$f":"IF(AG171=1,AE171,\"\")","v":""},{"$f":"IF(AH171=1,AE171,\"\")","v":""},{"$f":"IF(AND(AI171=1,AG171=\"\",AH171=\"\"),AE171,\"\")","v":""},{"$f":"IF(AND(AI171=1,AG171=\"\",AH171=\"\"),\"X\",\"\")","v":""}]
[null,null,null,null,null,null,null,{"$f":"IF(H171=\"\",\"\",IF($D171<=9,MIN(H171,H$5+2),IF($D171<=19,MIN(H171,7),IF($D171<=29,MIN(H171,8),IF($D171<=39,MIN(H171,9),IF($D171>=40,MIN(H171,10)))))))","v":""},"","","","","","","","",{"$f":"IF(Q171=\"\",\"\",SUM(H172:P172))","v":""},{"$f":"IF(R171=\"\",\"\",IF($D171<=9,MIN(R171,R$5+2),IF($D171<=19,MIN(R171,7),IF($D171<=29,MIN(R171,8),IF($D171<=39,MIN(R171,9),IF($D171>=40,MIN(R171,10)))))))","v":""},"","","","","","","","",{"$f":"IF(AA171=\"\",\"\",SUM(R172:Z172))","v":""}]
[null,null,{"$f":"IF($B173=\"\",\"\",IF(VLOOKUP($B173,Members,2,FALSE)=\"\", \"-\",(VLOOKUP($B173,Members,2,FALSE))))","v":""},{"$f":"IF(OR($B173=\"\",$B$3=\"\",$F$3=\"\"),\"\",IF(OR(VLOOKUP($B173,Members,2,FALSE)=\"\",VLOOKUP($B173,Members,8,FALSE)=\"\"),\"-\",VLOOKUP($B173,Members,8,FALSE)))","v":""},{"$f":"IF(OR($B173=\"\",$B$3=\"\",$F$3=\"\"),\"\",IF(OR(VLOOKUP($B173,Members,2,FALSE)=\"\",VLOOKUP($B173,Members,9,FALSE)=\"\",VLOOKUP($B173,Pots,3,FALSE)=\"\"),\"-\",VLOOKUP($B173,Members,9,FALSE)))","v":""},null,{"$f":"IF($B173=\"\",\"\",IF(VLOOKUP($B173,Pots,6,FALSE)=\"\",\"-\",\"\"))","v":""},null,null,null,null,null,null,null,null,null,{"$f":"IF(P173=\"\",\"\",SUM(H173:P173))","v":""},null,null,null,null,null,null,null,null,null,{"$f":"IF(Z173=\"\",\"\",SUM(R173:Z173))","v":""},{"$f":"IF(OR(Q173=\"\",AA173=\"\"),\"\",SUM(AA173,Q173))","v":""},{"$f":"IF(AB173=\"\",\"\",SUM(Q174,AA174))","v":""},null,null,{"$f":"IF($AE173=\"\",\"\",IF(VLOOKUP($AE173,Pots,3,FALSE)=1,1,\"\"))","v":""},{"$f":"IF($AE173=\"\",\"\",IF(VLOOKUP($AE173,Pots,4,FALSE)=1,1,\"\"))","v":""},{"$f":"IF($AE173=\"\",\"\",IF(VLOOKUP($AE173,Pots,5,FALSE)=1,1,\"\"))","v":""},{"$f":"IF($AE173=\"\",\"\",IF(VLOOKUP($AE173,Pots,6,FALSE)=1,1,\"\"))","v":""},{"$f":"IF(AG173=1,AE173,\"\")","v":""},{"$f":"IF(AH173=1,AE173,\"\")","v":""},{"$f":"IF(AND(AI173=1,AG173=\"\",AH173=\"\"),AE173,\"\")","v":""},{"$f":"IF(AND(AI173=1,AG173=\"\",AH173=\"\"),\"X\",\"\")","v":""}]
[null,null,null,null,null,null,null,{"$f":"IF(H173=\"\",\"\",IF($D173<=9,MIN(H173,H$5+2),IF($D173<=19,MIN(H173,7),IF($D173<=29,MIN(H173,8),IF($D173<=39,MIN(H173,9),IF($D173>=40,MIN(H173,10)))))))","v":""},"","","","","","","","",{"$f":"IF(Q173=\"\",\"\",SUM(H174:P174))","v":""},{"$f":"IF(R173=\"\",\"\",IF($D173<=9,MIN(R173,R$5+2),IF($D173<=19,MIN(R173,7),IF($D173<=29,MIN(R173,8),IF($D173<=39,MIN(R173,9),IF($D173>=40,MIN(R173,10)))))))","v":""},"","","","","","","","",{"$f":"IF(AA173=\"\",\"\",SUM(R174:Z174))","v":""}]
[null,null,{"$f":"IF($B175=\"\",\"\",IF(VLOOKUP($B175,Members,2,FALSE)=\"\", \"-\",(VLOOKUP($B175,Members,2,FALSE))))","v":""},{"$f":"IF(OR($B175=\"\",$B$3=\"\",$F$3=\"\"),\"\",IF(OR(VLOOKUP($B175,Members,2,FALSE)=\"\",VLOOKUP($B175,Members,8,FALSE)=\"\"),\"-\",VLOOKUP($B175,Members,8,FALSE)))","v":""},{"$f":"IF(OR($B175=\"\",$B$3=\"\",$F$3=\"\"),\"\",IF(OR(VLOOKUP($B175,Members,2,FALSE)=\"\",VLOOKUP($B175,Members,9,FALSE)=\"\",VLOOKUP($B175,Pots,3,FALSE)=\"\"),\"-\",VLOOKUP($B175,Members,9,FALSE)))","v":""},null,{"$f":"IF($B175=\"\",\"\",IF(VLOOKUP($B175,Pots,6,FALSE)=\"\",\"-\",\"\"))","v":""},null,null,null,null,null,null,null,null,null,{"$f":"IF(P175=\"\",\"\",SUM(H175:P175))","v":""},null,null,null,null,null,null,null,null,null,{"$f":"IF(Z175=\"\",\"\",SUM(R175:Z175))","v":""},{"$f":"IF(OR(Q175=\"\",AA175=\"\"),\"\",SUM(AA175,Q175))","v":""},{"$f":"IF(AB175=\"\",\"\",SUM(Q176,AA176))","v":""},null,null,{"$f":"IF($AE175=\"\",\"\",IF(VLOOKUP($AE175,Pots,3,FALSE)=1,1,\"\"))","v":""},{"$f":"IF($AE175=\"\",\"\",IF(VLOOKUP($AE175,Pots,4,FALSE)=1,1,\"\"))","v":""},{"$f":"IF($AE175=\"\",\"\",IF(VLOOKUP($AE175,Pots,5,FALSE)=1,1,\"\"))","v":""},{"$f":"IF($AE175=\"\",\"\",IF(VLOOKUP($AE175,Pots,6,FALSE)=1,1,\"\"))","v":""},{"$f":"IF(AG175=1,AE175,\"\")","v":""},{"$f":"IF(AH175=1,AE175,\"\")","v":""},{"$f":"IF(AND(AI175=1,AG175=\"\",AH175=\"\"),AE175,\"\")","v":""},{"$f":"IF(AND(AI175=1,AG175=\"\",AH175=\"\"),\"X\",\"\")","v":""}]
[null,null,null,null,null,null,null,{"$f":"IF(H175=\"\",\"\",IF($D175<=9,MIN(H175,H$5+2),IF($D175<=19,MIN(H175,7),IF($D175<=29,MIN(H175,8),IF($D175<=39,MIN(H175,9),IF($D175>=40,MIN(H175,10)))))))","v":""},"","","","","","","","",{"$f":"IF(Q175=\"\",\"\",SUM(H176:P176))","v":""},{"$f":"IF(R175=\"\",\"\",IF($D175<=9,MIN(R175,R$5+2),IF($D175<=19,MIN(R175,7),IF($D175<=29,MIN(R175,8),IF($D175<=39,MIN(R175,9),IF($D175>=40,MIN(R175,10)))))))","v":""},"","","","","","","","",{"$f":"IF(AA175=\"\",\"\",SUM(R176:Z176))","v":""}]
[null,null,{"$f":"IF($B177=\"\",\"\",IF(VLOOKUP($B177,Members,2,FALSE)=\"\", \"-\",(VLOOKUP($B177,Members,2,FALSE))))","v":""},{"$f":"IF(OR($B177=\"\",$B$3=\"\",$F$3=\"\"),\"\",IF(OR(VLOOKUP($B177,Members,2,FALSE)=\"\",VLOOKUP($B177,Members,8,FALSE)=\"\"),\"-\",VLOOKUP($B177,Members,8,FALSE)))","v":""},{"$f":"IF(OR($B177=\"\",$B$3=\"\",$F$3=\"\"),\"\",IF(OR(VLOOKUP($B177,Members,2,FALSE)=\"\",VLOOKUP($B177,Members,9,FALSE)=\"\",VLOOKUP($B177,Pots,3,FALSE)=\"\"),\"-\",VLOOKUP($B177,Members,9,FALSE)))","v":""},null,{"$f":"IF($B177=\"\",\"\",IF(VLOOKUP($B177,Pots,6,FALSE)=\"\",\"-\",\"\"))","v":""},null,null,null,null,null,null,null,null,null,{"$f":"IF(P177=\"\",\"\",SUM(H177:P177))","v":""},null,null,null,null,null,null,null,null,null,{"$f":"IF(Z177=\"\",\"\",SUM(R177:Z177))","v":""},{"$f":"IF(OR(Q177=\"\",AA177=\"\"),\"\",SUM(AA177,Q177))","v":""},{"$f":"IF(AB177=\"\",\"\",SUM(Q178,AA178))","v":""},null,null,{"$f":"IF($AE177=\"\",\"\",IF(VLOOKUP($AE177,Pots,3,FALSE)=1,1,\"\"))","v":""},{"$f":"IF($AE177=\"\",\"\",IF(VLOOKUP($AE177,Pots,4,FALSE)=1,1,\"\"))","v":""},{"$f":"IF($AE177=\"\",\"\",IF(VLOOKUP($AE177,Pots,5,FALSE)=1,1,\"\"))","v":""},{"$f":"IF($AE177=\"\",\"\",IF(VLOOKUP($AE177,Pots,6,FALSE)=1,1,\"\"))","v":""},{"$f":"IF(AG177=1,AE177,\"\")","v":""},{"$f":"IF(AH177=1,AE177,\"\")","v":""},{"$f":"IF(AND(AI177=1,AG177=\"\",AH177=\"\"),AE177,\"\")","v":""},{"$f":"IF(AND(AI177=1,AG177=\"\",AH177=\"\"),\"X\",\"\")","v":""}]
[null,null,null,null,null,null,null,{"$f":"IF(H177=\"\",\"\",IF($D177<=9,MIN(H177,H$5+2),IF($D177<=19,MIN(H177,7),IF($D177<=29,MIN(H177,8),IF($D177<=39,MIN(H177,9),IF($D177>=40,MIN(H177,10)))))))","v":""},"","","","","","","","",{"$f":"IF(Q177=\"\",\"\",SUM(H178:P178))","v":""},{"$f":"IF(R177=\"\",\"\",IF($D177<=9,MIN(R177,R$5+2),IF($D177<=19,MIN(R177,7),IF($D177<=29,MIN(R177,8),IF($D177<=39,MIN(R177,9),IF($D177>=40,MIN(R177,10)))))))","v":""},"","","","","","","","",{"$f":"IF(AA177=\"\",\"\",SUM(R178:Z178))","v":""}]
[null,null,{"$f":"IF($B179=\"\",\"\",IF(VLOOKUP($B179,Members,2,FALSE)=\"\", \"-\",(VLOOKUP($B179,Members,2,FALSE))))","v":""},{"$f":"IF(OR($B179=\"\",$B$3=\"\",$F$3=\"\"),\"\",IF(OR(VLOOKUP($B179,Members,2,FALSE)=\"\",VLOOKUP($B179,Members,8,FALSE)=\"\"),\"-\",VLOOKUP($B179,Members,8,FALSE)))","v":""},{"$f":"IF(OR($B179=\"\",$B$3=\"\",$F$3=\"\"),\"\",IF(OR(VLOOKUP($B179,Members,2,FALSE)=\"\",VLOOKUP($B179,Members,9,FALSE)=\"\",VLOOKUP($B179,Pots,3,FALSE)=\"\"),\"-\",VLOOKUP($B179,Members,9,FALSE)))","v":""},null,{"$f":"IF($B179=\"\",\"\",IF(VLOOKUP($B179,Pots,6,FALSE)=\"\",\"-\",\"\"))","v":""},null,null,null,null,null,null,null,null,null,{"$f":"IF(P179=\"\",\"\",SUM(H179:P179))","v":""},null,null,null,null,null,null,null,null,null,{"$f":"IF(Z179=\"\",\"\",SUM(R179:Z179))","v":""},{"$f":"IF(OR(Q179=\"\",AA179=\"\"),\"\",SUM(AA179,Q179))","v":""},{"$f":"IF(AB179=\"\",\"\",SUM(Q180,AA180))","v":""},null,null,{"$f":"IF($AE179=\"\",\"\",IF(VLOOKUP($AE179,Pots,3,FALSE)=1,1,\"\"))","v":""},{"$f":"IF($AE179=\"\",\"\",IF(VLOOKUP($AE179,Pots,4,FALSE)=1,1,\"\"))","v":""},{"$f":"IF($AE179=\"\",\"\",IF(VLOOKUP($AE179,Pots,5,FALSE)=1,1,\"\"))","v":""},{"$f":"IF($AE179=\"\",\"\",IF(VLOOKUP($AE179,Pots,6,FALSE)=1,1,\"\"))","v":""},{"$f":"IF(AG179=1,AE179,\"\")","v":""},{"$f":"IF(AH179=1,AE179,\"\")","v":""},{"$f":"IF(AND(AI179=1,AG179=\"\",AH179=\"\"),AE179,\"\")","v":""},{"$f":"IF(AND(AI179=1,AG179=\"\",AH179=\"\"),\"X\",\"\")","v":""}]
[null,null,null,null,null,null,null,{"$f":"IF(H179=\"\",\"\",IF($D179<=9,MIN(H179,H$5+2),IF($D179<=19,MIN(H179,7),IF($D179<=29,MIN(H179,8),IF($D179<=39,MIN(H179,9),IF($D179>=40,MIN(H179,10)))))))","v":""},"","","","","","","","",{"$f":"IF(Q179=\"\",\"\",SUM(H180:P180))","v":""},{"$f":"IF(R179=\"\",\"\",IF($D179<=9,MIN(R179,R$5+2),IF($D179<=19,MIN(R179,7),IF($D179<=29,MIN(R179,8),IF($D179<=39,MIN(R179,9),IF($D179>=40,MIN(R179,10)))))))","v":""},"","","","","","","","",{"$f":"IF(AA179=\"\",\"\",SUM(R180:Z180))","v":""}]
[null,null,{"$f":"IF($B181=\"\",\"\",IF(VLOOKUP($B181,Members,2,FALSE)=\"\", \"-\",(VLOOKUP($B181,Members,2,FALSE))))","v":""},{"$f":"IF(OR($B181=\"\",$B$3=\"\",$F$3=\"\"),\"\",IF(OR(VLOOKUP($B181,Members,2,FALSE)=\"\",VLOOKUP($B181,Members,8,FALSE)=\"\"),\"-\",VLOOKUP($B181,Members,8,FALSE)))","v":""},{"$f":"IF(OR($B181=\"\",$B$3=\"\",$F$3=\"\"),\"\",IF(OR(VLOOKUP($B181,Members,2,FALSE)=\"\",VLOOKUP($B181,Members,9,FALSE)=\"\",VLOOKUP($B181,Pots,3,FALSE)=\"\"),\"-\",VLOOKUP($B181,Members,9,FALSE)))","v":""},null,{"$f":"IF($B181=\"\",\"\",IF(VLOOKUP($B181,Pots,6,FALSE)=\"\",\"-\",\"\"))","v":""},null,null,null,null,null,null,null,null,null,{"$f":"IF(P181=\"\",\"\",SUM(H181:P181))","v":""},null,null,null,null,null,null,null,null,null,{"$f":"IF(Z181=\"\",\"\",SUM(R181:Z181))","v":""},{"$f":"IF(OR(Q181=\"\",AA181=\"\"),\"\",SUM(AA181,Q181))","v":""},{"$f":"IF(AB181=\"\",\"\",SUM(Q182,AA182))","v":""},null,null,{"$f":"IF($AE181=\"\",\"\",IF(VLOOKUP($AE181,Pots,3,FALSE)=1,1,\"\"))","v":""},{"$f":"IF($AE181=\"\",\"\",IF(VLOOKUP($AE181,Pots,4,FALSE)=1,1,\"\"))","v":""},{"$f":"IF($AE181=\"\",\"\",IF(VLOOKUP($AE181,Pots,5,FALSE)=1,1,\"\"))","v":""},{"$f":"IF($AE181=\"\",\"\",IF(VLOOKUP($AE181,Pots,6,FALSE)=1,1,\"\"))","v":""},{"$f":"IF(AG181=1,AE181,\"\")","v":""},{"$f":"IF(AH181=1,AE181,\"\")","v":""},{"$f":"IF(AND(AI181=1,AG181=\"\",AH181=\"\"),AE181,\"\")","v":""},{"$f":"IF(AND(AI181=1,AG181=\"\",AH181=\"\"),\"X\",\"\")","v":""}]
[null,null,null,null,null,null,null,{"$f":"IF(H181=\"\",\"\",IF($D181<=9,MIN(H181,H$5+2),IF($D181<=19,MIN(H181,7),IF($D181<=29,MIN(H181,8),IF($D181<=39,MIN(H181,9),IF($D181>=40,MIN(H181,10)))))))","v":""},"","","","","","","","",{"$f":"IF(Q181=\"\",\"\",SUM(H182:P182))","v":""},{"$f":"IF(R181=\"\",\"\",IF($D181<=9,MIN(R181,R$5+2),IF($D181<=19,MIN(R181,7),IF($D181<=29,MIN(R181,8),IF($D181<=39,MIN(R181,9),IF($D181>=40,MIN(R181,10)))))))","v":""},"","","","","","","","",{"$f":"IF(AA181=\"\",\"\",SUM(R182:Z182))","v":""}]

{"sheet":"Pairings","index":11,"n_rows":62,"n_cols":10,"rows_kept":62,"cut":false,"hidden":false,"merged":[[57,0,57,10],[61,0,61,10],[44,3,44,10],[46,3,46,10],[51,0,51,10],[47,3,47,10],[56,0,56,10],[49,3,49,9],[53,0,53,10],[59,0,59,10],[58,0,58,10],[55,0,55,10],[54,0,54,10],[43,3,43,10],[42,3,42,10],[37,3,37,10],[38,3,38,10],[40,3,40,10],[41,3,41,10],[0,0,0,10],[1,0,1,10],[36,3,36,10],[2,0,2,10],[3,0,3,10],[5,0,5,10],[23,0,23,10],[35,0,35,10],[4,0,4,10],[11,0,11,10],[17,0,17,10],[29,0,29,10]]}
[{"$f":"IF(Players!B4=\"\",\"\",\"Hack Attack \"&Information!C4&\" - \"&Players!B1&\" - \"&TEXT(Players!B4,\"dddd\")&\", \"&TEXT(Players!B4,\"mmmm d, yyyy\"))","v":"Hack Attack Summer Scorcher - Mile Square Golf Course (Players) - Sunday, July 22, 2018"}]
[{"$f":"\"Welcome to the Hack Attack Golf Club's \"&Information!C5&\" event of the year.  The match-play matches will continue.  1st group needs to get the closest-to-the-pin flags.  Last group needs to pick up the flags.  Here are the pairings and matches:\"","v":"Welcome to the Hack Attack Golf Club's fourth event of the year.  The match-play matches will continue.  1st group needs to get the closest-to-the-pin flags.  Last group needs to pick up the flags.  Here are the pairings and matches:"}]
[]
["PLEASE DO NOT POST YOUR SCORE AT THE COURSE AFTER YOUR ROUND OF GOLF"]
["THE HACK ATTACK GOLF CLUB WILL ADJUST YOUR SCORE AND POST IT FOR YOU"]
[]
[{"$f":"IF($B7=\"\",\"\",IF(AND(VLOOKUP($B7,Pots,3,FALSE)=\"\",Players!$F$83=\"\"),$B7,$B7&\" (\"&VLOOKUP($B7,Members,9,FALSE)&\")\"))","v":"Jones, Gary (13)"},{"$f":"IF(Players!$B$83=\"\",\"\",Players!$B$83)","v":"Jones, Gary"},{"$f":"IF(AND(ISTEXT(Players!$F$83),VLOOKUP(Players!$B$83,Members,6,FALSE)=\"A\"),\"B\",IF(AND(ISTEXT(Players!$F$83),VLOOKUP(Players!$B$83,Members,6,FALSE)=\"B\"),\"BI\",\"N\"))","v":"B"},{"$f":"IF(Players!$C$4=\"\",\"\",Players!$C$4)","v":"10:00:00"},null,null,{"$f":"IF($H7=\"\",\"\",IF(AND(VLOOKUP($H7,Pots,3,FALSE)=\"\",Players!$F$93=\"\"),$H7,$H7&\" (\"&VLOOKUP($H7,Members,9,FALSE)&\")\"))","v":"Kozachenko, Jon (15)"},{"$f":"IF(Players!$B$93=\"\",\"\",Players!$B$93)","v":"Kozachenko, Jon"},{"$f":"IF(AND(ISTEXT(Players!$F93),VLOOKUP(Players!$B93,Members,6,FALSE)=\"A\"),\"B\",IF(AND(ISTEXT(Players!$F93),VLOOKUP(Players!$B93,Members,6,FALSE)=\"B\"),\"BI\",\"N\"))","v":"BI"},{"$f":"IF(Players!$C$4=\"\",\"\",D7+Players!$D$4)","v":"10:07:00"}]
[{"$f":"IF($B8=\"\",\"\",IF(AND(VLOOKUP($B8,Pots,3,FALSE)=\"\",Players!$F$85=\"\"),$B8,$B8&\" (\"&VLOOKUP($B8,Members,9,FALSE)&\")\"))","v":"Escobedo, Hector (11)"},{"$f":"IF(Players!$B$85=\"\",\"\",Players!$B$85)","v":"Escobedo, Hector"},{"$f":"IF(AND(ISTEXT(Players!$F$85),VLOOKUP(Players!$B$85,Members,6,FALSE)=\"A\"),\"B\",IF(AND(ISTEXT(Players!$F$85),VLOOKUP(Players!$B$85,Members,6,FALSE)=\"B\"),\"BI\",\"N\"))","v":"B"},null,null,null,{"$f":"IF($H8=\"\",\"\",IF(AND(VLOOKUP($H8,Pots,3,FALSE)=\"\",Players!$F$95=\"\"),$H8,$H8&\" (\"&VLOOKUP($H8,Members,9,FALSE)&\")\"))","v":"Matthews, Keith (14)"},{"$f":"IF(Players!$B$95=\"\",\"\",Players!$B$95)","v":"Matthews, Keith"},{"$f":"IF(AND(ISTEXT(Players!$F95),VLOOKUP(Players!$B95,Members,6,FALSE)=\"A\"),\"B\",IF(AND(ISTEXT(Players!$F95),VLOOKUP(Players!$B95,Members,6,FALSE)=\"B\"),\"BI\",\"N\"))","v":"BI"}]
[{"$f":"IF($B9=\"\",\"\",IF(AND(VLOOKUP($B9,Pots,3,FALSE)=\"\",Players!$F$87=\"\"),$B9,$B9&\" (\"&VLOOKUP($B9,Members,9,FALSE)&\")\"))","v":"Mariano, Joe (13)"},{"$f":"IF(Players!$B$87=\"\",\"\",Players!$B$87)","v":"Mariano, Joe"},{"$f":"IF(AND(ISTEXT(Players!$F$87),VLOOKUP(Players!$B$87,Members,6,FALSE)=\"A\"),\"B\",IF(AND(ISTEXT(Players!$F$87),VLOOKUP(Players!$B$87,Members,6,FALSE)=\"B\"),\"BI\",\"N\"))","v":"B"},null,null,null,{"$f":"IF($H9=\"\",\"\",IF(AND(VLOOKUP($H9,Pots,3,FALSE)=\"\",Players!$F$97=\"\"),$H9,$H9&\" (\"&VLOOKUP($H9,Members,9,FALSE)&\")\"))","v":"Christen, Lou (7)"},{"$f":"IF(Players!$B$97=\"\",\"\",Players!$B$97)","v":"Christen, Lou"},{"$f":"IF(AND(ISTEXT(Players!$F97),VLOOKUP(Players!$B97,Members,6,FALSE)=\"A\"),\"B\",IF(AND(ISTEXT(Players!$F97),VLOOKUP(Players!$B97,Members,6,FALSE)=\"B\"),\"BI\",\"N\"))","v":"N"}]
[{"$f":"IF($B10=\"\",\"\",IF(AND(VLOOKUP($B10,Pots,3,FALSE)=\"\",Players!$F$89=\"\"),$B10,$B10&\" (\"&VLOOKUP($B10,Members,9,FALSE)&\")\"))","v":"Ornelas, Eddie (10)"},{"$f":"IF(Players!$B$89=\"\",\"\",Players!$B$89)","v":"Ornelas, Eddie"},{"$f":"IF(AND(ISTEXT(Players!$F$89),VLOOKUP(Players!$B$89,Members,6,FALSE)=\"A\"),\"B\",IF(AND(ISTEXT(Players!$F$89),VLOOKUP(Players!$B$89,Members,6,FALSE)=\"B\"),\"BI\",\"N\"))","v":"B"},null,null,null,{"$f":"IF($H10=\"\",\"\",IF(AND(VLOOKUP($H10,Pots,3,FALSE)=\"\",Players!$F$99=\"\"),$H10,$H10&\" (\"&VLOOKUP($H10,Members,9,FALSE)&\")\"))","v":"Havstad, Steve (14)"},{"$f":"IF(Players!$B$99=\"\",\"\",Players!$B$99)","v":"Havstad, Steve"},{"$f":"IF(AND(ISTEXT(Players!$F99),VLOOKUP(Players!$B99,Members,6,FALSE)=\"A\"),\"B\",IF(AND(ISTEXT(Players!$F99),VLOOKUP(Players!$B99,Members,6,FALSE)=\"B\"),\"BI\",\"N\"))","v":"N"}]
[{"$f":"IF($B11=\"\",\"\",IF(AND(VLOOKUP($B11,Pots,3,FALSE)=\"\",Players!$F$91=\"\"),$B11,$B11&\" (\"&VLOOKUP($B11,Members,9,FALSE)&\")\"))","v":""},{"$f":"IF(Players!$B$91=\"\",\"\",Players!$B$91)","v":""},{"$f":"IF(AND(ISTEXT(Players!$F$91),VLOOKUP(Players!$B$91,Members,6,FALSE)=\"A\"),\"B\",IF(AND(ISTEXT(Players!$F$91),VLOOKUP(Players!$B$91,Members,6,FALSE)=\"B\"),\"BI\",\"N\"))","v":{"$error":"#N/A"}},null,null,null,{"$f":"IF($H11=\"\",\"\",IF(AND(VLOOKUP($H11,Pots,3,FALSE)=\"\",Players!$F$101=\"\"),$H11,$H11&\" (\"&VLOOKUP($H11,Members,9,FALSE)&\")\"))","v":""},{"$f":"IF(Players!$B$101=\"\",\"\",Players!$B$101)","v":""},{"$f":"IF(AND(ISTEXT(Players!$F101),VLOOKUP(Players!$B101,Members,6,FALSE)=\"A\"),\"B\",IF(AND(ISTEXT(Players!$F101),VLOOKUP(Players!$B101,Members,6,FALSE)=\"B\"),\"BI\",\"N\"))","v":{"$error":"#N/A"}}]
[]
[{"$f":"IF($B13=\"\",\"\",IF(AND(VLOOKUP($B13,Pots,3,FALSE)=\"\",Players!$F$103=\"\"),$B13,$B13&\" (\"&VLOOKUP($B13,Members,9,FALSE)&\")\"))","v":"Tenorio, Noe (17)"},{"$f":"IF(Players!$B$103=\"\",\"\",Players!$B$103)","v":"Tenorio, Noe"},{"$f":"IF(AND(ISTEXT(Players!$F$103),VLOOKUP(Players!$B$103,Members,6,FALSE)=\"A\"),\"B\",IF(AND(ISTEXT(Players!$F$103),VLOOKUP(Players!$B$103,Members,6,FALSE)=\"B\"),\"BI\",\"N\"))","v":"N"},{"$f":"IF(Players!$C$4=\"\",\"\",J7+Players!$E$4)","v":"10:15:00"},null,null,{"$f":"IF($H13=\"\",\"\",IF(AND(VLOOKUP($H13,Pots,3,FALSE)=\"\",Players!$F$113=\"\"),$H13,$H13&\" (\"&VLOOKUP($H13,Members,9,FALSE)&\")\"))","v":"Iinuma, Shiro"},{"$f":"IF(Players!$B$113=\"\",\"\",Players!$B$113)","v":"Iinuma, Shiro"},{"$f":"IF(AND(ISTEXT(Players!$F$113),VLOOKUP(Players!$B$113,Members,6,FALSE)=\"A\"),\"B\",IF(AND(ISTEXT(Players!$F$113),VLOOKUP(Players!$B$113,Members,6,FALSE)=\"B\"),\"BI\",\"N\"))","v":"N"},{"$f":"IF(Players!$C$4=\"\",\"\",D13+Players!$D$4)","v":"10:22:00"}]
[{"$f":"IF($B14=\"\",\"\",IF(AND(VLOOKUP($B14,Pots,3,FALSE)=\"\",Players!$F$105=\"\"),$B14,$B14&\" (\"&VLOOKUP($B14,Members,9,FALSE)&\")\"))","v":"Deutsch, Paul"},{"$f":"IF(Players!$B$105=\"\",\"\",Players!$B$105)","v":"Deutsch, Paul"},{"$f":"IF(AND(ISTEXT(Players!$F$105),VLOOKUP(Players!$B$105,Members,6,FALSE)=\"A\"),\"B\",IF(AND(ISTEXT(Players!$F$105),VLOOKUP(Players!$B$105,Members,6,FALSE)=\"B\"),\"BI\",\"N\"))","v":"N"},null,null,null,{"$f":"IF($H14=\"\",\"\",IF(AND(VLOOKUP($H14,Pots,3,FALSE)=\"\",Players!$F$115=\"\"),$H14,$H14&\" (\"&VLOOKUP($H14,Members,9,FALSE)&\")\"))","v":"Endo, Johnny"},{"$f":"IF(Players!$B$115=\"\",\"\",Players!$B$115)","v":"Endo, Johnny"},{"$f":"IF(AND(ISTEXT(Players!$F$115),VLOOKUP(Players!$B$115,Members,6,FALSE)=\"A\"),\"B\",IF(AND(ISTEXT(Players!$F$115),VLOOKUP(Players!$B$115,Members,6,FALSE)=\"B\"),\"BI\",\"N\"))","v":"N"}]
[{"$f":"IF($B15=\"\",\"\",IF(AND(VLOOKUP($B15,Pots,3,FALSE)=\"\",Players!$F$107=\"\"),$B15,$B15&\" (\"&VLOOKUP($B15,Members,9,FALSE)&\")\"))","v":"Lunghard, Rich (23)"},{"$f":"IF(Players!$B$107=\"\",\"\",Players!$B$107)","v":"Lunghard, Rich"},{"$f":"IF(AND(ISTEXT(Players!$F$107),VLOOKUP(Players!$B$107,Members,6,FALSE)=\"A\"),\"B\",IF(AND(ISTEXT(Players!$F$107),VLOOKUP(Players!$B$107,Members,6,FALSE)=\"B\"),\"BI\",\"N\"))","v":"N"},null,null,null,{"$f":"IF($H15=\"\",\"\",IF(AND(VLOOKUP($H15,Pots,3,FALSE)=\"\",Players!$F$117=\"\"),$H15,$H15&\" (\"&VLOOKUP($H15,Members,9,FALSE)&\")\"))","v":"Ikeda, Blaine"},{"$f":"IF(Players!$B$117=\"\",\"\",Players!$B$117)","v":"Ikeda, Blaine"},{"$f":"IF(AND(ISTEXT(Players!$F$117),VLOOKUP(Players!$B$117,Members,6,FALSE)=\"A\"),\"B\",IF(AND(ISTEXT(Players!$F$117),VLOOKUP(Players!$B$117,Members,6,FALSE)=\"B\"),\"BI\",\"N\"))","v":"N"}]
[{"$f":"IF($B16=\"\",\"\",IF(AND(VLOOKUP($B16,Pots,3,FALSE)=\"\",Players!$F$109=\"\"),$B16,$B16&\" (\"&VLOOKUP($B16,Members,9,FALSE)&\")\"))","v":"Blodgett, Kevin (27)"},{"$f":"IF(Players!$B$109=\"\",\"\",Players!$B$109)","v":"Blodgett, Kevin"},{"$f":"IF(AND(ISTEXT(Players!$F$109),VLOOKUP(Players!$B$109,Members,6,FALSE)=\"A\"),\"B\",IF(AND(ISTEXT(Players!$F$109),VLOOKUP(Players!$B$109,Members,6,FALSE)=\"B\"),\"BI\",\"N\"))","v":"N"},null,null,null,{"$f":"IF($H16=\"\",\"\",IF(AND(VLOOKUP($H16,Pots,3,FALSE)=\"\",Players!$F$119=\"\"),$H16,$H16&\" (\"&VLOOKUP($H16,Members,9,FALSE)&\")\"))","v":"Holzrichter, Geoff (22)"},{"$f":"IF(Players!$B$119=\"\",\"\",Players!$B$119)","v":"Holzrichter, Geoff"},{"$f":"IF(AND(ISTEXT(Players!$F$119),VLOOKUP(Players!$B$119,Members,6,FALSE)=\"A\"),\"B\",IF(AND(ISTEXT(Players!$F$119),VLOOKUP(Players!$B$119,Members,6,FALSE)=\"B\"),\"BI\",\"N\"))","v":"N"}]
[{"$f":"IF($B17=\"\",\"\",IF(AND(VLOOKUP($B17,Pots,3,FALSE)=\"\",Players!$F$111=\"\"),$B17,$B17&\" (\"&VLOOKUP($B17,Members,9,FALSE)&\")\"))","v":""},{"$f":"IF(Players!$B$111=\"\",\"\",Players!$B$111)","v":""},{"$f":"IF(AND(ISTEXT(Players!$F$111),VLOOKUP(Players!$B$111,Members,6,FALSE)=\"A\"),\"B\",IF(AND(ISTEXT(Players!$F$111),VLOOKUP(Players!$B$111,Members,6,FALSE)=\"B\"),\"BI\",\"N\"))","v":{"$error":"#N/A"}},null,null,null,{"$f":"IF($H17=\"\",\"\",IF(AND(VLOOKUP($H17,Pots,3,FALSE)=\"\",Players!$F$121=\"\"),$H17,$H17&\" (\"&VLOOKUP($H17,Members,9,FALSE)&\")\"))","v":""},{"$f":"IF(Players!$B$121=\"\",\"\",Players!$B$121)","v":""},{"$f":"IF(AND(ISTEXT(Players!$F$121),VLOOKUP(Players!$B$121,Members,6,FALSE)=\"A\"),\"B\",IF(AND(ISTEXT(Players!$F$121),VLOOKUP(Players!$B$121,Members,6,FALSE)=\"B\"),\"BI\",\"N\"))","v":{"$error":"#N/A"}}]
[]
[{"$f":"IF($B19=\"\",\"\",IF(AND(VLOOKUP($B19,Pots,3,FALSE)=\"\",Players!$F$123=\"\"),$B19,$B19&\" (\"&VLOOKUP($B19,Members,9,FALSE)&\")\"))","v":""},{"$f":"IF(Players!$B$123=\"\",\"\",Players!$B$123)","v":""},{"$f":"IF(AND(ISTEXT(Players!$F$123),VLOOKUP(Players!$B$123,Members,6,FALSE)=\"A\"),\"B\",IF(AND(ISTEXT(Players!$F$123),VLOOKUP(Players!$B$123,Members,6,FALSE)=\"B\"),\"BI\",\"N\"))","v":{"$error":"#N/A"}},{"$f":"IF(Players!$C$4=\"\",\"\",J13+Players!$E$4)","v":"10:30:00"},null,null,{"$f":"IF($H19=\"\",\"\",IF(AND(VLOOKUP($H19,Pots,3,FALSE)=\"\",Players!$F$133=\"\"),$H19,$H19&\" (\"&VLOOKUP($H19,Members,9,FALSE)&\")\"))","v":""},{"$f":"IF(Players!$B$133=\"\",\"\",Players!$B$133)","v":""},{"$f":"IF(AND(ISTEXT(Players!$F$133),VLOOKUP(Players!$B$133,Members,6,FALSE)=\"A\"),\"B\",IF(AND(ISTEXT(Players!$F$133),VLOOKUP(Players!$B$133,Members,6,FALSE)=\"B\"),\"BI\",\"N\"))","v":{"$error":"#N/A"}},{"$f":"IF(Players!$C$4=\"\",\"\",D19+Players!$D$4)","v":"10:37:00"}]
[{"$f":"IF($B20=\"\",\"\",IF(AND(VLOOKUP($B20,Pots,3,FALSE)=\"\",Players!$F$125=\"\"),$B20,$B20&\" (\"&VLOOKUP($B20,Members,9,FALSE)&\")\"))","v":""},{"$f":"IF(Players!$B$125=\"\",\"\",Players!$B$125)","v":""},{"$f":"IF(AND(ISTEXT(Players!$F$125),VLOOKUP(Players!$B$125,Members,6,FALSE)=\"A\"),\"B\",IF(AND(ISTEXT(Players!$F$125),VLOOKUP(Players!$B$125,Members,6,FALSE)=\"B\"),\"BI\",\"N\"))","v":{"$error":"#N/A"}},null,null,null,{"$f":"IF($H20=\"\",\"\",IF(AND(VLOOKUP($H20,Pots,3,FALSE)=\"\",Players!$F$135=\"\"),$H20,$H20&\" (\"&VLOOKUP($H20,Members,9,FALSE)&\")\"))","v":""},{"$f":"IF(Players!$B$135=\"\",\"\",Players!$B$135)","v":""},{"$f":"IF(AND(ISTEXT(Players!$F$135),VLOOKUP(Players!$B$135,Members,6,FALSE)=\"A\"),\"B\",IF(AND(ISTEXT(Players!$F$135),VLOOKUP(Players!$B$135,Members,6,FALSE)=\"B\"),\"BI\",\"N\"))","v":{"$error":"#N/A"}}]
[{"$f":"IF($B21=\"\",\"\",IF(AND(VLOOKUP($B21,Pots,3,FALSE)=\"\",Players!$F$127=\"\"),$B21,$B21&\" (\"&VLOOKUP($B21,Members,9,FALSE)&\")\"))","v":""},{"$f":"IF(Players!$B$127=\"\",\"\",Players!$B$127)","v":""},{"$f":"IF(AND(ISTEXT(Players!$F$127),VLOOKUP(Players!$B$127,Members,6,FALSE)=\"A\"),\"B\",IF(AND(ISTEXT(Players!$F$127),VLOOKUP(Players!$B$127,Members,6,FALSE)=\"B\"),\"BI\",\"N\"))","v":{"$error":"#N/A"}},null,null,null,{"$f":"IF($H21=\"\",\"\",IF(AND(VLOOKUP($H21,Pots,3,FALSE)=\"\",Players!$F$137=\"\"),$H21,$H21&\" (\"&VLOOKUP($H21,Members,9,FALSE)&\")\"))","v":""},{"$f":"IF(Players!$B$137=\"\",\"\",Players!$B$137)","v":""},{"$f":"IF(AND(ISTEXT(Players!$F$137),VLOOKUP(Players!$B$137,Members,6,FALSE)=\"A\"),\"B\",IF(AND(ISTEXT(Players!$F$137),VLOOKUP(Players!$B$137,Members,6,FALSE)=\"B\"),\"BI\",\"N\"))","v":{"$error":"#N/A"}}]
[{"$f":"IF($B22=\"\",\"\",IF(AND(VLOOKUP($B22,Pots,3,FALSE)=\"\",Players!$F$129=\"\"),$B22,$B22&\" (\"&VLOOKUP($B22,Members,9,FALSE)&\")\"))","v":""},{"$f":"IF(Players!$B$129=\"\",\"\",Players!$B$129)","v":""},{"$f":"IF(AND(ISTEXT(Players!$F$129),VLOOKUP(Players!$B$129,Members,6,FALSE)=\"A\"),\"B\",IF(AND(ISTEXT(Players!$F$129),VLOOKUP(Players!$B$129,Members,6,FALSE)=\"B\"),\"BI\",\"N\"))","v":{"$error":"#N/A"}},null,null,null,{"$f":"IF($H22=\"\",\"\",IF(AND(VLOOKUP($H22,Pots,3,FALSE)=\"\",Players!$F$139=\"\"),$H22,$H22&\" (\"&VLOOKUP($H22,Members,9,FALSE)&\")\"))","v":""},{"$f":"IF(Players!$B$139=\"\",\"\",Players!$B$139)","v":""},{"$f":"IF(AND(ISTEXT(Players!$F$139),VLOOKUP(Players!$B$139,Members,6,FALSE)=\"A\"),\"B\",IF(AND(ISTEXT(Players!$F$139),VLOOKUP(Players!$B$139,Members,6,FALSE)=\"B\"),\"BI\",\"N\"))","v":{"$error":"#N/A"}}]
[{"$f":"IF($B23=\"\",\"\",IF(AND(VLOOKUP($B23,Pots,3,FALSE)=\"\",Players!$F$131=\"\"),$B23,$B23&\" (\"&VLOOKUP($B23,Members,9,FALSE)&\")\"))","v":""},{"$f":"IF(Players!$B$131=\"\",\"\",Players!$B$131)","v":""},{"$f":"IF(AND(ISTEXT(Players!$F$131),VLOOKUP(Players!$B$131,Members,6,FALSE)=\"A\"),\"B\",IF(AND(ISTEXT(Players!$F$131),VLOOKUP(Players!$B$131,Members,6,FALSE)=\"B\"),\"BI\",\"N\"))","v":{"$error":"#N/A"}},null,null,null,{"$f":"IF($H23=\"\",\"\",IF(AND(VLOOKUP($H23,Pots,3,FALSE)=\"\",Players!$F$141=\"\"),$H23,$H23&\" (\"&VLOOKUP($H23,Members,9,FALSE)&\")\"))","v":""},{"$f":"IF(Players!$B$141=\"\",\"\",Players!$B$141)","v":""},{"$f":"IF(AND(ISTEXT(Players!$F$141),VLOOKUP(Players!$B$141,Members,6,FALSE)=\"A\"),\"B\",IF(AND(ISTEXT(Players!$F$141),VLOOKUP(Players!$B$141,Members,6,FALSE)=\"B\"),\"BI\",\"N\"))","v":{"$error":"#N/A"}}]
[]
[{"$f":"IF($B25=\"\",\"\",IF(AND(VLOOKUP($B25,Pots,3,FALSE)=\"\",Players!$F$143=\"\"),$B25,$B25&\" (\"&VLOOKUP($B25,Members,9,FALSE)&\")\"))","v":""},{"$f":"IF(Players!$B$143=\"\",\"\",Players!$B$143)","v":""},{"$f":"IF(AND(ISTEXT(Players!$F$143),VLOOKUP(Players!$B$143,Members,6,FALSE)=\"A\"),\"B\",IF(AND(ISTEXT(Players!$F$143),VLOOKUP(Players!$B$143,Members,6,FALSE)=\"B\"),\"BI\",\"N\"))","v":{"$error":"#N/A"}},{"$f":"IF(Players!$C$4=\"\",\"\",J19+Players!$E$4)","v":"10:45:00"},null,null,{"$f":"IF($H25=\"\",\"\",IF(AND(VLOOKUP($H25,Pots,3,FALSE)=\"\",Players!$F$153=\"\"),$H25,$H25&\" (\"&VLOOKUP($H25,Members,9,FALSE)&\")\"))","v":""},{"$f":"IF(Players!$B$153=\"\",\"\",Players!$B$153)","v":""},{"$f":"IF(AND(ISTEXT(Players!$F$153),VLOOKUP(Players!$B$153,Members,6,FALSE)=\"A\"),\"B\",IF(AND(ISTEXT(Players!$F$153),VLOOKUP(Players!$B$153,Members,6,FALSE)=\"B\"),\"BI\",\"N\"))","v":{"$error":"#N/A"}},{"$f":"IF(Players!$C$4=\"\",\"\",D25+Players!$D$4)","v":"10:52:00"}]
[{"$f":"IF($B26=\"\",\"\",IF(AND(VLOOKUP($B26,Pots,3,FALSE)=\"\",Players!$F$145=\"\"),$B26,$B26&\" (\"&VLOOKUP($B26,Members,9,FALSE)&\")\"))","v":""},{"$f":"IF(Players!$B$145=\"\",\"\",Players!$B$145)","v":""},{"$f":"IF(AND(ISTEXT(Players!$F$145),VLOOKUP(Players!$B$145,Members,6,FALSE)=\"A\"),\"B\",IF(AND(ISTEXT(Players!$F$145),VLOOKUP(Players!$B$145,Members,6,FALSE)=\"B\"),\"BI\",\"N\"))","v":{"$error":"#N/A"}},null,null,null,{"$f":"IF($H26=\"\",\"\",IF(AND(VLOOKUP($H26,Pots,3,FALSE)=\"\",Players!$F$155=\"\"),$H26,$H26&\" (\"&VLOOKUP($H26,Members,9,FALSE)&\")\"))","v":""},{"$f":"IF(Players!$B$155=\"\",\"\",Players!$B$155)","v":""},{"$f":"IF(AND(ISTEXT(Players!$F$155),VLOOKUP(Players!$B$155,Members,6,FALSE)=\"A\"),\"B\",IF(AND(ISTEXT(Players!$F$155),VLOOKUP(Players!$B$155,Members,6,FALSE)=\"B\"),\"BI\",\"N\"))","v":{"$error":"#N/A"}}]
[{"$f":"IF($B27=\"\",\"\",IF(AND(VLOOKUP($B27,Pots,3,FALSE)=\"\",Players!$F$147=\"\"),$B27,$B27&\" (\"&VLOOKUP($B27,Members,9,FALSE)&\")\"))","v":""},{"$f":"IF(Players!$B$147=\"\",\"\",Players!$B$147)","v":""},{"$f":"IF(AND(ISTEXT(Players!$F$147),VLOOKUP(Players!$B$147,Members,6,FALSE)=\"A\"),\"B\",IF(AND(ISTEXT(Players!$F$147),VLOOKUP(Players!$B$147,Members,6,FALSE)=\"B\"),\"BI\",\"N\"))","v":{"$error":"#N/A"}},null,null,null,{"$f":"IF($H27=\"\",\"\",IF(AND(VLOOKUP($H27,Pots,3,FALSE)=\"\",Players!$F$157=\"\"),$H27,$H27&\" (\"&VLOOKUP($H27,Members,9,FALSE)&\")\"))","v":""},{"$f":"IF(Players!$B$157=\"\",\"\",Players!$B$157)","v":""},{"$f":"IF(AND(ISTEXT(Players!$F$157),VLOOKUP(Players!$B$157,Members,6,FALSE)=\"A\"),\"B\",IF(AND(ISTEXT(Players!$F$157),VLOOKUP(Players!$B$157,Members,6,FALSE)=\"B\"),\"BI\",\"N\"))","v":{"$error":"#N/A"}}]
[{"$f":"IF($B28=\"\",\"\",IF(AND(VLOOKUP($B28,Pots,3,FALSE)=\"\",Players!$F$149=\"\"),$B28,$B28&\" (\"&VLOOKUP($B28,Members,9,FALSE)&\")\"))","v":""},{"$f":"IF(Players!$B$149=\"\",\"\",Players!$B$149)","v":""},{"$f":"IF(AND(ISTEXT(Players!$F$149),VLOOKUP(Players!$B$149,Members,6,FALSE)=\"A\"),\"B\",IF(AND(ISTEXT(Players!$F$149),VLOOKUP(Players!$B$149,Members,6,FALSE)=\"B\"),\"BI\",\"N\"))","v":{"$error":"#N/A"}},null,null,null,{"$f":"IF($H28=\"\",\"\",IF(AND(VLOOKUP($H28,Pots,3,FALSE)=\"\",Players!$F$159=\"\"),$H28,$H28&\" (\"&VLOOKUP($H28,Members,9,FALSE)&\")\"))","v":""},{"$f":"IF(Players!$B$159=\"\",\"\",Players!$B$159)","v":""},{"$f":"IF(AND(ISTEXT(Players!$F$159),VLOOKUP(Players!$B$159,Members,6,FALSE)=\"A\"),\"B\",IF(AND(ISTEXT(Players!$F$159),VLOOKUP(Players!$B$159,Members,6,FALSE)=\"B\"),\"BI\",\"N\"))","v":{"$error":"#N/A"}}]
[{"$f":"IF($B29=\"\",\"\",IF(AND(VLOOKUP($B29,Pots,3,FALSE)=\"\",Players!$F$151=\"\"),$B29,$B29&\" (\"&VLOOKUP($B29,Members,9,FALSE)&\")\"))","v":""},{"$f":"IF(Players!$B$151=\"\",\"\",Players!$B$151)","v":""},{"$f":"IF(AND(ISTEXT(Players!$F$151),VLOOKUP(Players!$B$151,Members,6,FALSE)=\"A\"),\"B\",IF(AND(ISTEXT(Players!$F$151),VLOOKUP(Players!$B$151,Members,6,FALSE)=\"B\"),\"BI\",\"N\"))","v":{"$error":"#N/A"}},null,null,null,{"$f":"IF($H29=\"\",\"\",IF(AND(VLOOKUP($H29,Pots,3,FALSE)=\"\",Players!$F$161=\"\"),$H29,$H29&\" (\"&VLOOKUP($H29,Members,9,FALSE)&\")\"))","v":""},{"$f":"IF(Players!$B$161=\"\",\"\",Players!$B$161)","v":""},{"$f":"IF(AND(ISTEXT(Players!$F$161),VLOOKUP(Players!$B$161,Members,6,FALSE)=\"A\"),\"B\",IF(AND(ISTEXT(Players!$F$161),VLOOKUP(Players!$B$161,Members,6,FALSE)=\"B\"),\"BI\",\"N\"))","v":{"$error":"#N/A"}}]
[]
[{"$f":"IF($B31=\"\",\"\",IF(AND(VLOOKUP($B31,Pots,3,FALSE)=\"\",Players!$F$163=\"\"),$B31,$B31&\" (\"&VLOOKUP($B31,Members,9,FALSE)&\")\"))","v":""},{"$f":"IF(Players!$B$163=\"\",\"\",Players!$B$163)","v":""},{"$f":"IF(AND(ISTEXT(Players!$F$143),VLOOKUP(Players!$B$143,Members,6,FALSE)=\"A\"),\"B\",IF(AND(ISTEXT(Players!$F$143),VLOOKUP(Players!$B$143,Members,6,FALSE)=\"B\"),\"BI\",\"N\"))","v":{"$error":"#N/A"}},{"$f":"IF(Players!$C$4=\"\",\"\",J25+Players!$E$4)","v":"11:00:00"},null,null,{"$f":"IF($H31=\"\",\"\",IF(AND(VLOOKUP($H31,Pots,3,FALSE)=\"\",Players!$F$173=\"\"),$H31,$H31&\" (\"&VLOOKUP($H31,Members,9,FALSE)&\")\"))","v":""},{"$f":"IF(Players!$B$173=\"\",\"\",Players!$B$173)","v":""},{"$f":"IF(AND(ISTEXT(Players!$F$153),VLOOKUP(Players!$B$153,Members,6,FALSE)=\"A\"),\"B\",IF(AND(ISTEXT(Players!$F$153),VLOOKUP(Players!$B$153,Members,6,FALSE)=\"B\"),\"BI\",\"N\"))","v":{"$error":"#N/A"}},{"$f":"IF(Players!$C$4=\"\",\"\",D31+Players!$D$4)","v":"11:07:00"}]
[{"$f":"IF($B32=\"\",\"\",IF(AND(VLOOKUP($B32,Pots,3,FALSE)=\"\",Players!$F$165=\"\"),$B32,$B32&\" (\"&VLOOKUP($B32,Members,9,FALSE)&\")\"))","v":""},{"$f":"IF(Players!$B$165=\"\",\"\",Players!$B$165)","v":""},{"$f":"IF(AND(ISTEXT(Players!$F$145),VLOOKUP(Players!$B$145,Members,6,FALSE)=\"A\"),\"B\",IF(AND(ISTEXT(Players!$F$145),VLOOKUP(Players!$B$145,Members,6,FALSE)=\"B\"),\"BI\",\"N\"))","v":{"$error":"#N/A"}},null,null,null,{"$f":"IF($H32=\"\",\"\",IF(AND(VLOOKUP($H32,Pots,3,FALSE)=\"\",Players!$F$175=\"\"),$H32,$H32&\" (\"&VLOOKUP($H32,Members,9,FALSE)&\")\"))","v":""},{"$f":"IF(Players!$B$175=\"\",\"\",Players!$B$175)","v":""},{"$f":"IF(AND(ISTEXT(Players!$F$155),VLOOKUP(Players!$B$155,Members,6,FALSE)=\"A\"),\"B\",IF(AND(ISTEXT(Players!$F$155),VLOOKUP(Players!$B$155,Members,6,FALSE)=\"B\"),\"BI\",\"N\"))","v":{"$error":"#N/A"}}]
[{"$f":"IF($B33=\"\",\"\",IF(AND(VLOOKUP($B33,Pots,3,FALSE)=\"\",Players!$F$167=\"\"),$B33,$B33&\" (\"&VLOOKUP($B33,Members,9,FALSE)&\")\"))","v":""},{"$f":"IF(Players!$B$167=\"\",\"\",Players!$B$167)","v":""},{"$f":"IF(AND(ISTEXT(Players!$F$147),VLOOKUP(Players!$B$147,Members,6,FALSE)=\"A\"),\"B\",IF(AND(ISTEXT(Players!$F$147),VLOOKUP(Players!$B$147,Members,6,FALSE)=\"B\"),\"BI\",\"N\"))","v":{"$error":"#N/A"}},null,null,null,{"$f":"IF($H33=\"\",\"\",IF(AND(VLOOKUP($H33,Pots,3,FALSE)=\"\",Players!$F$177=\"\"),$H33,$H33&\" (\"&VLOOKUP($H33,Members,9,FALSE)&\")\"))","v":""},{"$f":"IF(Players!$B$177=\"\",\"\",Players!$B$177)","v":""},{"$f":"IF(AND(ISTEXT(Players!$F$157),VLOOKUP(Players!$B$157,Members,6,FALSE)=\"A\"),\"B\",IF(AND(ISTEXT(Players!$F$157),VLOOKUP(Players!$B$157,Members,6,FALSE)=\"B\"),\"BI\",\"N\"))","v":{"$error":"#N/A"}}]
[{"$f":"IF($B34=\"\",\"\",IF(AND(VLOOKUP($B34,Pots,3,FALSE)=\"\",Players!$F$169=\"\"),$B34,$B34&\" (\"&VLOOKUP($B34,Members,9,FALSE)&\")\"))","v":""},{"$f":"IF(Players!$B$169=\"\",\"\",Players!$B$169)","v":""},{"$f":"IF(AND(ISTEXT(Players!$F$149),VLOOKUP(Players!$B$149,Members,6,FALSE)=\"A\"),\"B\",IF(AND(ISTEXT(Players!$F$149),VLOOKUP(Players!$B$149,Members,6,FALSE)=\"B\"),\"BI\",\"N\"))","v":{"$error":"#N/A"}},null,null,null,{"$f":"IF($H34=\"\",\"\",IF(AND(VLOOKUP($H34,Pots,3,FALSE)=\"\",Players!$F$179=\"\"),$H34,$H34&\" (\"&VLOOKUP($H34,Members,9,FALSE)&\")\"))","v":""},{"$f":"IF(Players!$B$179=\"\",\"\",Players!$B$179)","v":""},{"$f":"IF(AND(ISTEXT(Players!$F$159),VLOOKUP(Players!$B$159,Members,6,FALSE)=\"A\"),\"B\",IF(AND(ISTEXT(Players!$F$159),VLOOKUP(Players!$B$159,Members,6,FALSE)=\"B\"),\"BI\",\"N\"))","v":{"$error":"#N/A"}}]
[{"$f":"IF($B35=\"\",\"\",IF(AND(VLOOKUP($B35,Pots,3,FALSE)=\"\",Players!$F$171=\"\"),$B35,$B35&\" (\"&VLOOKUP($B35,Members,9,FALSE)&\")\"))","v":""},{"$f":"IF(Players!$B$171=\"\",\"\",Players!$B$171)","v":""},{"$f":"IF(AND(ISTEXT(Players!$F$151),VLOOKUP(Players!$B$151,Members,6,FALSE)=\"A\"),\"B\",IF(AND(ISTEXT(Players!$F$151),VLOOKUP(Players!$B$151,Members,6,FALSE)=\"B\"),\"BI\",\"N\"))","v":{"$error":"#N/A"}},null,null,null,{"$f":"IF($H35=\"\",\"\",IF(AND(VLOOKUP($H35,Pots,3,FALSE)=\"\",Players!$F$181=\"\"),$H35,$H35&\" (\"&VLOOKUP($H35,Members,9,FALSE)&\")\"))","v":""},{"$f":"IF(Players!$B$181=\"\",\"\",Players!$B$181)","v":""},{"$f":"IF(AND(ISTEXT(Players!$F$161),VLOOKUP(Players!$B$161,Members,6,FALSE)=\"A\"),\"B\",IF(AND(ISTEXT(Players!$F$161),VLOOKUP(Players!$B$161,Members,6,FALSE)=\"B\"),\"BI\",\"N\"))","v":{"$error":"#N/A"}}]
[]
["Note: ",null,null,"  A-Flight matches are in Bold.  B-Flight matches are in Bold Italics."]
[null,null,null,"  There will also be one \"Pseudo Match\" played (____________"]
[null,null,null,"  against _______________ score)."]
[]
["Open Side Pots: ",null,null,"  $5.00 Birdie Skins Pot."]
[null,null,null,"A-Flight Skins is open to everyone."]
[null,null,null,"B-Flight Skins is for the bottom 1/3 of those in Skins Pot."]
[null,null,null,"  $5.00 Closest-to-the-Pin (4 holes) and Low Putts (Gary Jones)."]
["Low Net Pot: ",null,null,"$10.00 - Requires GHIN Handicap to enter (Gary Jones)."]
[]
["Tournament Notes: ",null,null,"No \"Gimmes\";  Count only putts on the green, not the fringe."]
[null,null,null,{"$f":"\"Men's tees: \"&UPPER(Information!C8)&\"     Women's tees: \"&UPPER(Information!C11)","v":"Men's tees: WHITE     Women's tees: RED"}]
[]
["LOOK…  ",null,null,"Do you want to be on the Slow-Play hit list… Ready golf!!!   If you're not keeping up with the group ahead, you better hustle.  Nobody likes playing with slow players, NOBODY!"]
[]
["Mark your 2018 calendars for upcoming Hack Attack events…"]
[]
["Saturday, January 20th, 2018 at Goose Creek Golf Club in Mira Loma."]
["Sunday, March 18th, 2018 at Los Serranos Country Club in Chino Hills."]
["Sunday, May 20th, 2018 at Arroyo Trabuco Golf Club in Mission Viejo."]
["Sunday, July 15th, 2018 at Mile Square Golf Course in Fountain Valley."]
["Saturday, September 15th, 2018 at Eagle Falls Golf Course in Indio."]
["Sunday, September 16th, 2018 at Indian Canyons Golf Resort in Palm Springs."]
["Saturday, November 1st, 2018 at TBD."]
[]
["Check out our website:   http://www.HackAttackGolfClub.com"]

{"sheet":"Members","index":12,"n_rows":76,"n_cols":10,"rows_kept":76,"cut":false,"hidden":false,"merged":[]}
["No.","Player","GHIN No.","Gender","Hack Attack Index","GOY","Match Play Flight","Current Index","Current Hdcp.","Tourney Hdcp."]
[1,"Aldrian, Mark",9254848,"M","X","X","B",18,{"$f":"IF(OR($H2=\"\",Players!$B$3=\"\",Players!$F$3=\"\"),\"\",IF($D2=\"M\",ROUND($H2*(Players!$B$3/113),0),IF($D2=\"F\",ROUND($H2*(Players!$F$3/113),0))))","v":19},{"$f":"IF(OR($H2=\"\",Players!$B$3=\"\",Players!$F$3=\"\"),\"\",IF($D2=\"M\",$I2,IF($D2=\"F\",($I2+ROUND((Players!$F$2-Players!$B$2),0)))))","v":19}]
[2,"Bateson, Brad",8690384,"M","X","X",null,17.600000000000001,{"$f":"IF(OR($H3=\"\",Players!$B$3=\"\",Players!$F$3=\"\"),\"\",IF($D3=\"M\",ROUND($H3*(Players!$B$3/113),0),IF($D3=\"F\",ROUND($H3*(Players!$F$3/113),0))))","v":19},{"$f":"IF(OR($H3=\"\",Players!$B$3=\"\",Players!$F$3=\"\"),\"\",IF($D3=\"M\",$I3,IF($D3=\"F\",($I3+ROUND((Players!$F$2-Players!$B$2),0)))))","v":19}]
[3,"Blodgett, Kevin",2530159,"M","X","X",null,25.1,{"$f":"IF(OR($H4=\"\",Players!$B$3=\"\",Players!$F$3=\"\"),\"\",IF($D4=\"M\",ROUND($H4*(Players!$B$3/113),0),IF($D4=\"F\",ROUND($H4*(Players!$F$3/113),0))))","v":27},{"$f":"IF(OR($H4=\"\",Players!$B$3=\"\",Players!$F$3=\"\"),\"\",IF($D4=\"M\",$I4,IF($D4=\"F\",($I4+ROUND((Players!$F$2-Players!$B$2),0)))))","v":27}]
[4,"Deutsch, Paul",2512167,"M","X","X",null,null,{"$f":"IF(OR($H5=\"\",Players!$B$3=\"\",Players!$F$3=\"\"),\"\",IF($D5=\"M\",ROUND($H5*(Players!$B$3/113),0),IF($D5=\"F\",ROUND($H5*(Players!$F$3/113),0))))","v":""},{"$f":"IF(OR($H5=\"\",Players!$B$3=\"\",Players!$F$3=\"\"),\"\",IF($D5=\"M\",$I5,IF($D5=\"F\",($I5+ROUND((Players!$F$2-Players!$B$2),0)))))","v":""}]
[5,"Doden, Jeff",8687845,"M","X","X","A",10.9,{"$f":"IF(OR($H6=\"\",Players!$B$3=\"\",Players!$F$3=\"\"),\"\",IF($D6=\"M\",ROUND($H6*(Players!$B$3/113),0),IF($D6=\"F\",ROUND($H6*(Players!$F$3/113),0))))","v":12},{"$f":"IF(OR($H6=\"\",Players!$B$3=\"\",Players!$F$3=\"\"),\"\",IF($D6=\"M\",$I6,IF($D6=\"F\",($I6+ROUND((Players!$F$2-Players!$B$2),0)))))","v":12}]
[6,"Escobedo, Hector",8696486,"M","X","X","A",10.4,{"$f":"IF(OR($H7=\"\",Players!$B$3=\"\",Players!$F$3=\"\"),\"\",IF($D7=\"M\",ROUND($H7*(Players!$B$3/113),0),IF($D7=\"F\",ROUND($H7*(Players!$F$3/113),0))))","v":11},{"$f":"IF(OR($H7=\"\",Players!$B$3=\"\",Players!$F$3=\"\"),\"\",IF($D7=\"M\",$I7,IF($D7=\"F\",($I7+ROUND((Players!$F$2-Players!$B$2),0)))))","v":11}]
[7,"Escobedo, Marco",282910,"M","X","X","B",14.5,{"$f":"IF(OR($H8=\"\",Players!$B$3=\"\",Players!$F$3=\"\"),\"\",IF($D8=\"M\",ROUND($H8*(Players!$B$3/113),0),IF($D8=\"F\",ROUND($H8*(Players!$F$3/113),0))))","v":16},{"$f":"IF(OR($H8=\"\",Players!$B$3=\"\",Players!$F$3=\"\"),\"\",IF($D8=\"M\",$I8,IF($D8=\"F\",($I8+ROUND((Players!$F$2-Players!$B$2),0)))))","v":16}]
[8,"Forstot, Joshua",1957777,"M","X","X",null,29.4,{"$f":"IF(OR($H9=\"\",Players!$B$3=\"\",Players!$F$3=\"\"),\"\",IF($D9=\"M\",ROUND($H9*(Players!$B$3/113),0),IF($D9=\"F\",ROUND($H9*(Players!$F$3/113),0))))","v":32},{"$f":"IF(OR($H9=\"\",Players!$B$3=\"\",Players!$F$3=\"\"),\"\",IF($D9=\"M\",$I9,IF($D9=\"F\",($I9+ROUND((Players!$F$2-Players!$B$2),0)))))","v":32}]
[9,"Graham, Travis",9721329,"M","X","X","A",4.2,{"$f":"IF(OR($H10=\"\",Players!$B$3=\"\",Players!$F$3=\"\"),\"\",IF($D10=\"M\",ROUND($H10*(Players!$B$3/113),0),IF($D10=\"F\",ROUND($H10*(Players!$F$3/113),0))))","v":5},{"$f":"IF(OR($H10=\"\",Players!$B$3=\"\",Players!$F$3=\"\"),\"\",IF($D10=\"M\",$I10,IF($D10=\"F\",($I10+ROUND((Players!$F$2-Players!$B$2),0)))))","v":5}]
[10,"Hammond, Rob",9715015,"M","X","X",null,11.8,{"$f":"IF(OR($H11=\"\",Players!$B$3=\"\",Players!$F$3=\"\"),\"\",IF($D11=\"M\",ROUND($H11*(Players!$B$3/113),0),IF($D11=\"F\",ROUND($H11*(Players!$F$3/113),0))))","v":13},{"$f":"IF(OR($H11=\"\",Players!$B$3=\"\",Players!$F$3=\"\"),\"\",IF($D11=\"M\",$I11,IF($D11=\"F\",($I11+ROUND((Players!$F$2-Players!$B$2),0)))))","v":13}]
[11,"Hart, Dave",9724451,"M","X","X",null,23.4,{"$f":"IF(OR($H12=\"\",Players!$B$3=\"\",Players!$F$3=\"\"),\"\",IF($D12=\"M\",ROUND($H12*(Players!$B$3/113),0),IF($D12=\"F\",ROUND($H12*(Players!$F$3/113),0))))","v":25},{"$f":"IF(OR($H12=\"\",Players!$B$3=\"\",Players!$F$3=\"\"),\"\",IF($D12=\"M\",$I12,IF($D12=\"F\",($I12+ROUND((Players!$F$2-Players!$B$2),0)))))","v":25}]
[12,"Havstad, Peter",398265,"M","X","X",null,15.1,{"$f":"IF(OR($H13=\"\",Players!$B$3=\"\",Players!$F$3=\"\"),\"\",IF($D13=\"M\",ROUND($H13*(Players!$B$3/113),0),IF($D13=\"F\",ROUND($H13*(Players!$F$3/113),0))))","v":16},{"$f":"IF(OR($H13=\"\",Players!$B$3=\"\",Players!$F$3=\"\"),\"\",IF($D13=\"M\",$I13,IF($D13=\"F\",($I13+ROUND((Players!$F$2-Players!$B$2),0)))))","v":16}]
[13,"Havstad, Steve",9653048,"M","X","X","B",13.3,{"$f":"IF(OR($H14=\"\",Players!$B$3=\"\",Players!$F$3=\"\"),\"\",IF($D14=\"M\",ROUND($H14*(Players!$B$3/113),0),IF($D14=\"F\",ROUND($H14*(Players!$F$3/113),0))))","v":14},{"$f":"IF(OR($H14=\"\",Players!$B$3=\"\",Players!$F$3=\"\"),\"\",IF($D14=\"M\",$I14,IF($D14=\"F\",($I14+ROUND((Players!$F$2-Players!$B$2),0)))))","v":14}]
[14,"Holzrichter, Geoff",9307661,"M","X","X",null,20.6,{"$f":"IF(OR($H15=\"\",Players!$B$3=\"\",Players!$F$3=\"\"),\"\",IF($D15=\"M\",ROUND($H15*(Players!$B$3/113),0),IF($D15=\"F\",ROUND($H15*(Players!$F$3/113),0))))","v":22},{"$f":"IF(OR($H15=\"\",Players!$B$3=\"\",Players!$F$3=\"\"),\"\",IF($D15=\"M\",$I15,IF($D15=\"F\",($I15+ROUND((Players!$F$2-Players!$B$2),0)))))","v":22}]
[15,"Johnson, Carl",1762356,"M","X","X",null,19.2,{"$f":"IF(OR($H16=\"\",Players!$B$3=\"\",Players!$F$3=\"\"),\"\",IF($D16=\"M\",ROUND($H16*(Players!$B$3/113),0),IF($D16=\"F\",ROUND($H16*(Players!$F$3/113),0))))","v":21},{"$f":"IF(OR($H16=\"\",Players!$B$3=\"\",Players!$F$3=\"\"),\"\",IF($D16=\"M\",$I16,IF($D16=\"F\",($I16+ROUND((Players!$F$2-Players!$B$2),0)))))","v":21}]
[16,"Jones, Gary",9709739,"M","X","X","A",11.8,{"$f":"IF(OR($H17=\"\",Players!$B$3=\"\",Players!$F$3=\"\"),\"\",IF($D17=\"M\",ROUND($H17*(Players!$B$3/113),0),IF($D17=\"F\",ROUND($H17*(Players!$F$3/113),0))))","v":13},{"$f":"IF(OR($H17=\"\",Players!$B$3=\"\",Players!$F$3=\"\"),\"\",IF($D17=\"M\",$I17,IF($D17=\"F\",($I17+ROUND((Players!$F$2-Players!$B$2),0)))))","v":13}]
[17,"Kozachenko, Jon",9733927,"M","X","X","B",13.8,{"$f":"IF(OR($H18=\"\",Players!$B$3=\"\",Players!$F$3=\"\"),\"\",IF($D18=\"M\",ROUND($H18*(Players!$B$3/113),0),IF($D18=\"F\",ROUND($H18*(Players!$F$3/113),0))))","v":15},{"$f":"IF(OR($H18=\"\",Players!$B$3=\"\",Players!$F$3=\"\"),\"\",IF($D18=\"M\",$I18,IF($D18=\"F\",($I18+ROUND((Players!$F$2-Players!$B$2),0)))))","v":15}]
[18,"Lujan, Fil",1886465,"M","X","X","B",23.3,{"$f":"IF(OR($H19=\"\",Players!$B$3=\"\",Players!$F$3=\"\"),\"\",IF($D19=\"M\",ROUND($H19*(Players!$B$3/113),0),IF($D19=\"F\",ROUND($H19*(Players!$F$3/113),0))))","v":25},{"$f":"IF(OR($H19=\"\",Players!$B$3=\"\",Players!$F$3=\"\"),\"\",IF($D19=\"M\",$I19,IF($D19=\"F\",($I19+ROUND((Players!$F$2-Players!$B$2),0)))))","v":25}]
[19,"Lunghard, Rich",9724449,"M","X","X",null,21.2,{"$f":"IF(OR($H20=\"\",Players!$B$3=\"\",Players!$F$3=\"\"),\"\",IF($D20=\"M\",ROUND($H20*(Players!$B$3/113),0),IF($D20=\"F\",ROUND($H20*(Players!$F$3/113),0))))","v":23},{"$f":"IF(OR($H20=\"\",Players!$B$3=\"\",Players!$F$3=\"\"),\"\",IF($D20=\"M\",$I20,IF($D20=\"F\",($I20+ROUND((Players!$F$2-Players!$B$2),0)))))","v":23}]
[20,"Mariano, Joe",282914,"M","X","X","A",11.6,{"$f":"IF(OR($H21=\"\",Players!$B$3=\"\",Players!$F$3=\"\"),\"\",IF($D21=\"M\",ROUND($H21*(Players!$B$3/113),0),IF($D21=\"F\",ROUND($H21*(Players!$F$3/113),0))))","v":13},{"$f":"IF(OR($H21=\"\",Players!$B$3=\"\",Players!$F$3=\"\"),\"\",IF($D21=\"M\",$I21,IF($D21=\"F\",($I21+ROUND((Players!$F$2-Players!$B$2),0)))))","v":13}]
[21,"Matthews, Keith",9720661,"M","X","X","B",13.4,{"$f":"IF(OR($H22=\"\",Players!$B$3=\"\",Players!$F$3=\"\"),\"\",IF($D22=\"M\",ROUND($H22*(Players!$B$3/113),0),IF($D22=\"F\",ROUND($H22*(Players!$F$3/113),0))))","v":14},{"$f":"IF(OR($H22=\"\",Players!$B$3=\"\",Players!$F$3=\"\"),\"\",IF($D22=\"M\",$I22,IF($D22=\"F\",($I22+ROUND((Players!$F$2-Players!$B$2),0)))))","v":14}]
[22,"Medina, Randy",9727279,"M","X","X",null,18.3,{"$f":"IF(OR($H23=\"\",Players!$B$3=\"\",Players!$F$3=\"\"),\"\",IF($D23=\"M\",ROUND($H23*(Players!$B$3/113),0),IF($D23=\"F\",ROUND($H23*(Players!$F$3/113),0))))","v":20},{"$f":"IF(OR($H23=\"\",Players!$B$3=\"\",Players!$F$3=\"\"),\"\",IF($D23=\"M\",$I23,IF($D23=\"F\",($I23+ROUND((Players!$F$2-Players!$B$2),0)))))","v":20}]
[23,"Mikschl, Tom",9256637,"M","X","X","A",6,{"$f":"IF(OR($H24=\"\",Players!$B$3=\"\",Players!$F$3=\"\"),\"\",IF($D24=\"M\",ROUND($H24*(Players!$B$3/113),0),IF($D24=\"F\",ROUND($H24*(Players!$F$3/113),0))))","v":6},{"$f":"IF(OR($H24=\"\",Players!$B$3=\"\",Players!$F$3=\"\"),\"\",IF($D24=\"M\",$I24,IF($D24=\"F\",($I24+ROUND((Players!$F$2-Players!$B$2),0)))))","v":6}]
[24,"Montgomery, Andy",9679794,"M","X","X",null,12,{"$f":"IF(OR($H25=\"\",Players!$B$3=\"\",Players!$F$3=\"\"),\"\",IF($D25=\"M\",ROUND($H25*(Players!$B$3/113),0),IF($D25=\"F\",ROUND($H25*(Players!$F$3/113),0))))","v":13},{"$f":"IF(OR($H25=\"\",Players!$B$3=\"\",Players!$F$3=\"\"),\"\",IF($D25=\"M\",$I25,IF($D25=\"F\",($I25+ROUND((Players!$F$2-Players!$B$2),0)))))","v":13}]
[25,"Nagel, Rich",9276115,"M","X","X",null,11,{"$f":"IF(OR($H26=\"\",Players!$B$3=\"\",Players!$F$3=\"\"),\"\",IF($D26=\"M\",ROUND($H26*(Players!$B$3/113),0),IF($D26=\"F\",ROUND($H26*(Players!$F$3/113),0))))","v":12},{"$f":"IF(OR($H26=\"\",Players!$B$3=\"\",Players!$F$3=\"\"),\"\",IF($D26=\"M\",$I26,IF($D26=\"F\",($I26+ROUND((Players!$F$2-Players!$B$2),0)))))","v":12}]
[26,"Ornelas, Eddie",9583397,"M","X","X","A",9.1,{"$f":"IF(OR($H27=\"\",Players!$B$3=\"\",Players!$F$3=\"\"),\"\",IF($D27=\"M\",ROUND($H27*(Players!$B$3/113),0),IF($D27=\"F\",ROUND($H27*(Players!$F$3/113),0))))","v":10},{"$f":"IF(OR($H27=\"\",Players!$B$3=\"\",Players!$F$3=\"\"),\"\",IF($D27=\"M\",$I27,IF($D27=\"F\",($I27+ROUND((Players!$F$2-Players!$B$2),0)))))","v":10}]
[27,"Poyar, Bob",2512169,"M","X","X",null,null,{"$f":"IF(OR($H28=\"\",Players!$B$3=\"\",Players!$F$3=\"\"),\"\",IF($D28=\"M\",ROUND($H28*(Players!$B$3/113),0),IF($D28=\"F\",ROUND($H28*(Players!$F$3/113),0))))","v":""},{"$f":"IF(OR($H28=\"\",Players!$B$3=\"\",Players!$F$3=\"\"),\"\",IF($D28=\"M\",$I28,IF($D28=\"F\",($I28+ROUND((Players!$F$2-Players!$B$2),0)))))","v":""}]
[28,"Rojes, Ray",9720931,"M","X","X",null,24,{"$f":"IF(OR($H29=\"\",Players!$B$3=\"\",Players!$F$3=\"\"),\"\",IF($D29=\"M\",ROUND($H29*(Players!$B$3/113),0),IF($D29=\"F\",ROUND($H29*(Players!$F$3/113),0))))","v":26},{"$f":"IF(OR($H29=\"\",Players!$B$3=\"\",Players!$F$3=\"\"),\"\",IF($D29=\"M\",$I29,IF($D29=\"F\",($I29+ROUND((Players!$F$2-Players!$B$2),0)))))","v":26}]
[29,"Salinas, Frank",2395771,"M","X","X",null,null,{"$f":"IF(OR($H30=\"\",Players!$B$3=\"\",Players!$F$3=\"\"),\"\",IF($D30=\"M\",ROUND($H30*(Players!$B$3/113),0),IF($D30=\"F\",ROUND($H30*(Players!$F$3/113),0))))","v":""},{"$f":"IF(OR($H30=\"\",Players!$B$3=\"\",Players!$F$3=\"\"),\"\",IF($D30=\"M\",$I30,IF($D30=\"F\",($I30+ROUND((Players!$F$2-Players!$B$2),0)))))","v":""}]
[30,"Tenorio, Noe",282911,"M","X","X","B",15.3,{"$f":"IF(OR($H31=\"\",Players!$B$3=\"\",Players!$F$3=\"\"),\"\",IF($D31=\"M\",ROUND($H31*(Players!$B$3/113),0),IF($D31=\"F\",ROUND($H31*(Players!$F$3/113),0))))","v":17},{"$f":"IF(OR($H31=\"\",Players!$B$3=\"\",Players!$F$3=\"\"),\"\",IF($D31=\"M\",$I31,IF($D31=\"F\",($I31+ROUND((Players!$F$2-Players!$B$2),0)))))","v":17}]
[31,"Thompson, Dan",1560778,"M","X","X","A",12.4,{"$f":"IF(OR($H32=\"\",Players!$B$3=\"\",Players!$F$3=\"\"),\"\",IF($D32=\"M\",ROUND($H32*(Players!$B$3/113),0),IF($D32=\"F\",ROUND($H32*(Players!$F$3/113),0))))","v":13},{"$f":"IF(OR($H32=\"\",Players!$B$3=\"\",Players!$F$3=\"\"),\"\",IF($D32=\"M\",$I32,IF($D32=\"F\",($I32+ROUND((Players!$F$2-Players!$B$2),0)))))","v":13}]
[32,null,null,null,null,null,null,null,{"$f":"IF(OR($H33=\"\",Players!$B$3=\"\",Players!$F$3=\"\"),\"\",IF($D33=\"M\",ROUND($H33*(Players!$B$3/113),0),IF($D33=\"F\",ROUND($H33*(Players!$F$3/113),0))))","v":""},{"$f":"IF(OR($H33=\"\",Players!$B$3=\"\",Players!$F$3=\"\"),\"\",IF($D33=\"M\",$I33,IF($D33=\"F\",($I33+ROUND((Players!$F$2-Players!$B$2),0)))))","v":""}]
[33,"Christen, Lou",9730638,"M",null,null,null,6.4,{"$f":"IF(OR($H34=\"\",Players!$B$3=\"\",Players!$F$3=\"\"),\"\",IF($D34=\"M\",ROUND($H34*(Players!$B$3/113),0),IF($D34=\"F\",ROUND($H34*(Players!$F$3/113),0))))","v":7},{"$f":"IF(OR($H34=\"\",Players!$B$3=\"\",Players!$F$3=\"\"),\"\",IF($D34=\"M\",$I34,IF($D34=\"F\",($I34+ROUND((Players!$F$2-Players!$B$2),0)))))","v":7}]
[34,"Iinuma, Shiro",null,"M",null,null,null,null,{"$f":"IF(OR($H35=\"\",Players!$B$3=\"\",Players!$F$3=\"\"),\"\",IF($D35=\"M\",ROUND($H35*(Players!$B$3/113),0),IF($D35=\"F\",ROUND($H35*(Players!$F$3/113),0))))","v":""},{"$f":"IF(OR($H35=\"\",Players!$B$3=\"\",Players!$F$3=\"\"),\"\",IF($D35=\"M\",$I35,IF($D35=\"F\",($I35+ROUND((Players!$F$2-Players!$B$2),0)))))","v":""}]
[35,"Ikeda, Blaine",null,"M",null,null,null,null,{"$f":"IF(OR($H36=\"\",Players!$B$3=\"\",Players!$F$3=\"\"),\"\",IF($D36=\"M\",ROUND($H36*(Players!$B$3/113),0),IF($D36=\"F\",ROUND($H36*(Players!$F$3/113),0))))","v":""},{"$f":"IF(OR($H36=\"\",Players!$B$3=\"\",Players!$F$3=\"\"),\"\",IF($D36=\"M\",$I36,IF($D36=\"F\",($I36+ROUND((Players!$F$2-Players!$B$2),0)))))","v":""}]
[36,"Endo, Johnny",null,"M",null,null,null,null,{"$f":"IF(OR($H37=\"\",Players!$B$3=\"\",Players!$F$3=\"\"),\"\",IF($D37=\"M\",ROUND($H37*(Players!$B$3/113),0),IF($D37=\"F\",ROUND($H37*(Players!$F$3/113),0))))","v":""},{"$f":"IF(OR($H37=\"\",Players!$B$3=\"\",Players!$F$3=\"\"),\"\",IF($D37=\"M\",$I37,IF($D37=\"F\",($I37+ROUND((Players!$F$2-Players!$B$2),0)))))","v":""}]
[37,null,null,null,null,null,null,null,{"$f":"IF(OR($H38=\"\",Players!$B$3=\"\",Players!$F$3=\"\"),\"\",IF($D38=\"M\",ROUND($H38*(Players!$B$3/113),0),IF($D38=\"F\",ROUND($H38*(Players!$F$3/113),0))))","v":""},{"$f":"IF(OR($H38=\"\",Players!$B$3=\"\",Players!$F$3=\"\"),\"\",IF($D38=\"M\",$I38,IF($D38=\"F\",($I38+ROUND((Players!$F$2-Players!$B$2),0)))))","v":""}]
[38,null,null,null,null,null,null,null,{"$f":"IF(OR($H39=\"\",Players!$B$3=\"\",Players!$F$3=\"\"),\"\",IF($D39=\"M\",ROUND($H39*(Players!$B$3/113),0),IF($D39=\"F\",ROUND($H39*(Players!$F$3/113),0))))","v":""},{"$f":"IF(OR($H39=\"\",Players!$B$3=\"\",Players!$F$3=\"\"),\"\",IF($D39=\"M\",$I39,IF($D39=\"F\",($I39+ROUND((Players!$F$2-Players!$B$2),0)))))","v":""}]
[39,null,null,null,null,null,null,null,{"$f":"IF(OR($H40=\"\",Players!$B$3=\"\",Players!$F$3=\"\"),\"\",IF($D40=\"M\",ROUND($H40*(Players!$B$3/113),0),IF($D40=\"F\",ROUND($H40*(Players!$F$3/113),0))))","v":""},{"$f":"IF(OR($H40=\"\",Players!$B$3=\"\",Players!$F$3=\"\"),\"\",IF($D40=\"M\",$I40,IF($D40=\"F\",($I40+ROUND((Players!$F$2-Players!$B$2),0)))))","v":""}]
[40,null,null,null,null,null,null,null,{"$f":"IF(OR($H41=\"\",Players!$B$3=\"\",Players!$F$3=\"\"),\"\",IF($D41=\"M\",ROUND($H41*(Players!$B$3/113),0),IF($D41=\"F\",ROUND($H41*(Players!$F$3/113),0))))","v":""},{"$f":"IF(OR($H41=\"\",Players!$B$3=\"\",Players!$F$3=\"\"),\"\",IF($D41=\"M\",$I41,IF($D41=\"F\",($I41+ROUND((Players!$F$2-Players!$B$2),0)))))","v":""}]
[41,null,null,null,null,null,null,null,{"$f":"IF(OR($H42=\"\",Players!$B$3=\"\",Players!$F$3=\"\"),\"\",IF($D42=\"M\",ROUND($H42*(Players!$B$3/113),0),IF($D42=\"F\",ROUND($H42*(Players!$F$3/113),0))))","v":""},{"$f":"IF(OR($H42=\"\",Players!$B$3=\"\",Players!$F$3=\"\"),\"\",IF($D42=\"M\",$I42,IF($D42=\"F\",($I42+ROUND((Players!$F$2-Players!$B$2),0)))))","v":""}]
[42,null,null,null,null,null,null,null,{"$f":"IF(OR($H43=\"\",Players!$B$3=\"\",Players!$F$3=\"\"),\"\",IF($D43=\"M\",ROUND($H43*(Players!$B$3/113),0),IF($D43=\"F\",ROUND($H43*(Players!$F$3/113),0))))","v":""},{"$f":"IF(OR($H43=\"\",Players!$B$3=\"\",Players!$F$3=\"\"),\"\",IF($D43=\"M\",$I43,IF($D43=\"F\",($I43+ROUND((Players!$F$2-Players!$B$2),0)))))","v":""}]
[43,null,null,null,null,null,null,null,{"$f":"IF(OR($H44=\"\",Players!$B$3=\"\",Players!$F$3=\"\"),\"\",IF($D44=\"M\",ROUND($H44*(Players!$B$3/113),0),IF($D44=\"F\",ROUND($H44*(Players!$F$3/113),0))))","v":""},{"$f":"IF(OR($H44=\"\",Players!$B$3=\"\",Players!$F$3=\"\"),\"\",IF($D44=\"M\",$I44,IF($D44=\"F\",($I44+ROUND((Players!$F$2-Players!$B$2),0)))))","v":""}]
[44,null,null,null,null,null,null,null,{"$f":"IF(OR($H45=\"\",Players!$B$3=\"\",Players!$F$3=\"\"),\"\",IF($D45=\"M\",ROUND($H45*(Players!$B$3/113),0),IF($D45=\"F\",ROUND($H45*(Players!$F$3/113),0))))","v":""},{"$f":"IF(OR($H45=\"\",Players!$B$3=\"\",Players!$F$3=\"\"),\"\",IF($D45=\"M\",$I45,IF($D45=\"F\",($I45+ROUND((Players!$F$2-Players!$B$2),0)))))","v":""}]
[45,null,null,null,null,null,null,null,{"$f":"IF(OR($H46=\"\",Players!$B$3=\"\",Players!$F$3=\"\"),\"\",IF($D46=\"M\",ROUND($H46*(Players!$B$3/113),0),IF($D46=\"F\",ROUND($H46*(Players!$F$3/113),0))))","v":""},{"$f":"IF(OR($H46=\"\",Players!$B$3=\"\",Players!$F$3=\"\"),\"\",IF($D46=\"M\",$I46,IF($D46=\"F\",($I46+ROUND((Players!$F$2-Players!$B$2),0)))))","v":""}]
[46,null,null,null,null,null,null,null,{"$f":"IF(OR($H47=\"\",Players!$B$3=\"\",Players!$F$3=\"\"),\"\",IF($D47=\"M\",ROUND($H47*(Players!$B$3/113),0),IF($D47=\"F\",ROUND($H47*(Players!$F$3/113),0))))","v":""},{"$f":"IF(OR($H47=\"\",Players!$B$3=\"\",Players!$F$3=\"\"),\"\",IF($D47=\"M\",$I47,IF($D47=\"F\",($I47+ROUND((Players!$F$2-Players!$B$2),0)))))","v":""}]
[47,null,null,null,null,null,null,null,{"$f":"IF(OR($H48=\"\",Players!$B$3=\"\",Players!$F$3=\"\"),\"\",IF($D48=\"M\",ROUND($H48*(Players!$B$3/113),0),IF($D48=\"F\",ROUND($H48*(Players!$F$3/113),0))))","v":""},{"$f":"IF(OR($H48=\"\",Players!$B$3=\"\",Players!$F$3=\"\"),\"\",IF($D48=\"M\",$I48,IF($D48=\"F\",($I48+ROUND((Players!$F$2-Players!$B$2),0)))))","v":""}]
[48,null,null,null,null,null,null,null,{"$f":"IF(OR($H49=\"\",Players!$B$3=\"\",Players!$F$3=\"\"),\"\",IF($D49=\"M\",ROUND($H49*(Players!$B$3/113),0),IF($D49=\"F\",ROUND($H49*(Players!$F$3/113),0))))","v":""},{"$f":"IF(OR($H49=\"\",Players!$B$3=\"\",Players!$F$3=\"\"),\"\",IF($D49=\"M\",$I49,IF($D49=\"F\",($I49+ROUND((Players!$F$2-Players!$B$2),0)))))","v":""}]
[49,null,null,null,null,null,null,null,{"$f":"IF(OR($H50=\"\",Players!$B$3=\"\",Players!$F$3=\"\"),\"\",IF($D50=\"M\",ROUND($H50*(Players!$B$3/113),0),IF($D50=\"F\",ROUND($H50*(Players!$F$3/113),0))))","v":""},{"$f":"IF(OR($H50=\"\",Players!$B$3=\"\",Players!$F$3=\"\"),\"\",IF($D50=\"M\",$I50,IF($D50=\"F\",($I50+ROUND((Players!$F$2-Players!$B$2),0)))))","v":""}]
[50,null,null,null,null,null,null,null,{"$f":"IF(OR($H51=\"\",Players!$B$3=\"\",Players!$F$3=\"\"),\"\",IF($D51=\"M\",ROUND($H51*(Players!$B$3/113),0),IF($D51=\"F\",ROUND($H51*(Players!$F$3/113),0))))","v":""},{"$f":"IF(OR($H51=\"\",Players!$B$3=\"\",Players!$F$3=\"\"),\"\",IF($D51=\"M\",$I51,IF($D51=\"F\",($I51+ROUND((Players!$F$2-Players!$B$2),0)))))","v":""}]
[51,null,null,null,null,null,null,null,{"$f":"IF(OR($H52=\"\",Players!$B$3=\"\",Players!$F$3=\"\"),\"\",IF($D52=\"M\",ROUND($H52*(Players!$B$3/113),0),IF($D52=\"F\",ROUND($H52*(Players!$F$3/113),0))))","v":""},{"$f":"IF(OR($H52=\"\",Players!$B$3=\"\",Players!$F$3=\"\"),\"\",IF($D52=\"M\",$I52,IF($D52=\"F\",($I52+ROUND((Players!$F$2-Players!$B$2),0)))))","v":""}]
[52,null,null,null,null,null,null,null,{"$f":"IF(OR($H53=\"\",Players!$B$3=\"\",Players!$F$3=\"\"),\"\",IF($D53=\"M\",ROUND($H53*(Players!$B$3/113),0),IF($D53=\"F\",ROUND($H53*(Players!$F$3/113),0))))","v":""},{"$f":"IF(OR($H53=\"\",Players!$B$3=\"\",Players!$F$3=\"\"),\"\",IF($D53=\"M\",$I53,IF($D53=\"F\",($I53+ROUND((Players!$F$2-Players!$B$2),0)))))","v":""}]
[53,null,null,null,null,null,null,null,{"$f":"IF(OR($H54=\"\",Players!$B$3=\"\",Players!$F$3=\"\"),\"\",IF($D54=\"M\",ROUND($H54*(Players!$B$3/113),0),IF($D54=\"F\",ROUND($H54*(Players!$F$3/113),0))))","v":""},{"$f":"IF(OR($H54=\"\",Players!$B$3=\"\",Players!$F$3=\"\"),\"\",IF($D54=\"M\",$I54,IF($D54=\"F\",($I54+ROUND((Players!$F$2-Players!$B$2),0)))))","v":""}]
[54,null,null,null,null,null,null,null,{"$f":"IF(OR($H55=\"\",Players!$B$3=\"\",Players!$F$3=\"\"),\"\",IF($D55=\"M\",ROUND($H55*(Players!$B$3/113),0),IF($D55=\"F\",ROUND($H55*(Players!$F$3/113),0))))","v":""},{"$f":"IF(OR($H55=\"\",Players!$B$3=\"\",Players!$F$3=\"\"),\"\",IF($D55=\"M\",$I55,IF($D55=\"F\",($I55+ROUND((Players!$F$2-Players!$B$2),0)))))","v":""}]
[55,null,null,null,null,null,null,null,{"$f":"IF(OR($H56=\"\",Players!$B$3=\"\",Players!$F$3=\"\"),\"\",IF($D56=\"M\",ROUND($H56*(Players!$B$3/113),0),IF($D56=\"F\",ROUND($H56*(Players!$F$3/113),0))))","v":""},{"$f":"IF(OR($H56=\"\",Players!$B$3=\"\",Players!$F$3=\"\"),\"\",IF($D56=\"M\",$I56,IF($D56=\"F\",($I56+ROUND((Players!$F$2-Players!$B$2),0)))))","v":""}]
[56,null,null,null,null,null,null,null,{"$f":"IF(OR($H57=\"\",Players!$B$3=\"\",Players!$F$3=\"\"),\"\",IF($D57=\"M\",ROUND($H57*(Players!$B$3/113),0),IF($D57=\"F\",ROUND($H57*(Players!$F$3/113),0))))","v":""},{"$f":"IF(OR($H57=\"\",Players!$B$3=\"\",Players!$F$3=\"\"),\"\",IF($D57=\"M\",$I57,IF($D57=\"F\",($I57+ROUND((Players!$F$2-Players!$B$2),0)))))","v":""}]
[57,null,null,null,null,null,null,null,{"$f":"IF(OR($H58=\"\",Players!$B$3=\"\",Players!$F$3=\"\"),\"\",IF($D58=\"M\",ROUND($H58*(Players!$B$3/113),0),IF($D58=\"F\",ROUND($H58*(Players!$F$3/113),0))))","v":""},{"$f":"IF(OR($H58=\"\",Players!$B$3=\"\",Players!$F$3=\"\"),\"\",IF($D58=\"M\",$I58,IF($D58=\"F\",($I58+ROUND((Players!$F$2-Players!$B$2),0)))))","v":""}]
[58,null,null,null,null,null,null,null,{"$f":"IF(OR($H59=\"\",Players!$B$3=\"\",Players!$F$3=\"\"),\"\",IF($D59=\"M\",ROUND($H59*(Players!$B$3/113),0),IF($D59=\"F\",ROUND($H59*(Players!$F$3/113),0))))","v":""},{"$f":"IF(OR($H59=\"\",Players!$B$3=\"\",Players!$F$3=\"\"),\"\",IF($D59=\"M\",$I59,IF($D59=\"F\",($I59+ROUND((Players!$F$2-Players!$B$2),0)))))","v":""}]
[59,null,null,null,null,null,null,null,{"$f":"IF(OR($H60=\"\",Players!$B$3=\"\",Players!$F$3=\"\"),\"\",IF($D60=\"M\",ROUND($H60*(Players!$B$3/113),0),IF($D60=\"F\",ROUND($H60*(Players!$F$3/113),0))))","v":""},{"$f":"IF(OR($H60=\"\",Players!$B$3=\"\",Players!$F$3=\"\"),\"\",IF($D60=\"M\",$I60,IF($D60=\"F\",($I60+ROUND((Players!$F$2-Players!$B$2),0)))))","v":""}]
[60,null,null,null,null,null,null,null,{"$f":"IF(OR($H61=\"\",Players!$B$3=\"\",Players!$F$3=\"\"),\"\",IF($D61=\"M\",ROUND($H61*(Players!$B$3/113),0),IF($D61=\"F\",ROUND($H61*(Players!$F$3/113),0))))","v":""},{"$f":"IF(OR($H61=\"\",Players!$B$3=\"\",Players!$F$3=\"\"),\"\",IF($D61=\"M\",$I61,IF($D61=\"F\",($I61+ROUND((Players!$F$2-Players!$B$2),0)))))","v":""}]
[61,null,null,null,null,null,null,null,{"$f":"IF(OR($H62=\"\",Players!$B$3=\"\",Players!$F$3=\"\"),\"\",IF($D62=\"M\",ROUND($H62*(Players!$B$3/113),0),IF($D62=\"F\",ROUND($H62*(Players!$F$3/113),0))))","v":""},{"$f":"IF(OR($H62=\"\",Players!$B$3=\"\",Players!$F$3=\"\"),\"\",IF($D62=\"M\",$I62,IF($D62=\"F\",($I62+ROUND((Players!$F$2-Players!$B$2),0)))))","v":""}]
[62,null,null,null,null,null,null,null,{"$f":"IF(OR($H63=\"\",Players!$B$3=\"\",Players!$F$3=\"\"),\"\",IF($D63=\"M\",ROUND($H63*(Players!$B$3/113),0),IF($D63=\"F\",ROUND($H63*(Players!$F$3/113),0))))","v":""},{"$f":"IF(OR($H63=\"\",Players!$B$3=\"\",Players!$F$3=\"\"),\"\",IF($D63=\"M\",$I63,IF($D63=\"F\",($I63+ROUND((Players!$F$2-Players!$B$2),0)))))","v":""}]
[63,null,null,null,null,null,null,null,{"$f":"IF(OR($H64=\"\",Players!$B$3=\"\",Players!$F$3=\"\"),\"\",IF($D64=\"M\",ROUND($H64*(Players!$B$3/113),0),IF($D64=\"F\",ROUND($H64*(Players!$F$3/113),0))))","v":""},{"$f":"IF(OR($H64=\"\",Players!$B$3=\"\",Players!$F$3=\"\"),\"\",IF($D64=\"M\",$I64,IF($D64=\"F\",($I64+ROUND((Players!$F$2-Players!$B$2),0)))))","v":""}]
[64,null,null,null,null,null,null,null,{"$f":"IF(OR($H65=\"\",Players!$B$3=\"\",Players!$F$3=\"\"),\"\",IF($D65=\"M\",ROUND($H65*(Players!$B$3/113),0),IF($D65=\"F\",ROUND($H65*(Players!$F$3/113),0))))","v":""},{"$f":"IF(OR($H65=\"\",Players!$B$3=\"\",Players!$F$3=\"\"),\"\",IF($D65=\"M\",$I65,IF($D65=\"F\",($I65+ROUND((Players!$F$2-Players!$B$2),0)))))","v":""}]
[65,null,null,null,null,null,null,null,{"$f":"IF(OR($H66=\"\",Players!$B$3=\"\",Players!$F$3=\"\"),\"\",IF($D66=\"M\",ROUND($H66*(Players!$B$3/113),0),IF($D66=\"F\",ROUND($H66*(Players!$F$3/113),0))))","v":""},{"$f":"IF(OR($H66=\"\",Players!$B$3=\"\",Players!$F$3=\"\"),\"\",IF($D66=\"M\",$I66,IF($D66=\"F\",($I66+ROUND((Players!$F$2-Players!$B$2),0)))))","v":""}]
[66,null,null,null,null,null,null,null,{"$f":"IF(OR($H67=\"\",Players!$B$3=\"\",Players!$F$3=\"\"),\"\",IF($D67=\"M\",ROUND($H67*(Players!$B$3/113),0),IF($D67=\"F\",ROUND($H67*(Players!$F$3/113),0))))","v":""},{"$f":"IF(OR($H67=\"\",Players!$B$3=\"\",Players!$F$3=\"\"),\"\",IF($D67=\"M\",$I67,IF($D67=\"F\",($I67+ROUND((Players!$F$2-Players!$B$2),0)))))","v":""}]
[67,null,null,null,null,null,null,null,{"$f":"IF(OR($H68=\"\",Players!$B$3=\"\",Players!$F$3=\"\"),\"\",IF($D68=\"M\",ROUND($H68*(Players!$B$3/113),0),IF($D68=\"F\",ROUND($H68*(Players!$F$3/113),0))))","v":""},{"$f":"IF(OR($H68=\"\",Players!$B$3=\"\",Players!$F$3=\"\"),\"\",IF($D68=\"M\",$I68,IF($D68=\"F\",($I68+ROUND((Players!$F$2-Players!$B$2),0)))))","v":""}]
[68,null,null,null,null,null,null,null,{"$f":"IF(OR($H69=\"\",Players!$B$3=\"\",Players!$F$3=\"\"),\"\",IF($D69=\"M\",ROUND($H69*(Players!$B$3/113),0),IF($D69=\"F\",ROUND($H69*(Players!$F$3/113),0))))","v":""},{"$f":"IF(OR($H69=\"\",Players!$B$3=\"\",Players!$F$3=\"\"),\"\",IF($D69=\"M\",$I69,IF($D69=\"F\",($I69+ROUND((Players!$F$2-Players!$B$2),0)))))","v":""}]
[69,null,null,null,null,null,null,null,{"$f":"IF(OR($H70=\"\",Players!$B$3=\"\",Players!$F$3=\"\"),\"\",IF($D70=\"M\",ROUND($H70*(Players!$B$3/113),0),IF($D70=\"F\",ROUND($H70*(Players!$F$3/113),0))))","v":""},{"$f":"IF(OR($H70=\"\",Players!$B$3=\"\",Players!$F$3=\"\"),\"\",IF($D70=\"M\",$I70,IF($D70=\"F\",($I70+ROUND((Players!$F$2-Players!$B$2),0)))))","v":""}]
[70,null,null,null,null,null,null,null,{"$f":"IF(OR($H71=\"\",Players!$B$3=\"\",Players!$F$3=\"\"),\"\",IF($D71=\"M\",ROUND($H71*(Players!$B$3/113),0),IF($D71=\"F\",ROUND($H71*(Players!$F$3/113),0))))","v":""},{"$f":"IF(OR($H71=\"\",Players!$B$3=\"\",Players!$F$3=\"\"),\"\",IF($D71=\"M\",$I71,IF($D71=\"F\",($I71+ROUND((Players!$F$2-Players!$B$2),0)))))","v":""}]
[71,null,null,null,null,null,null,null,{"$f":"IF(OR($H72=\"\",Players!$B$3=\"\",Players!$F$3=\"\"),\"\",IF($D72=\"M\",ROUND($H72*(Players!$B$3/113),0),IF($D72=\"F\",ROUND($H72*(Players!$F$3/113),0))))","v":""},{"$f":"IF(OR($H72=\"\",Players!$B$3=\"\",Players!$F$3=\"\"),\"\",IF($D72=\"M\",$I72,IF($D72=\"F\",($I72+ROUND((Players!$F$2-Players!$B$2),0)))))","v":""}]
[72,null,null,null,null,null,null,null,{"$f":"IF(OR($H73=\"\",Players!$B$3=\"\",Players!$F$3=\"\"),\"\",IF($D73=\"M\",ROUND($H73*(Players!$B$3/113),0),IF($D73=\"F\",ROUND($H73*(Players!$F$3/113),0))))","v":""},{"$f":"IF(OR($H73=\"\",Players!$B$3=\"\",Players!$F$3=\"\"),\"\",IF($D73=\"M\",$I73,IF($D73=\"F\",($I73+ROUND((Players!$F$2-Players!$B$2),0)))))","v":""}]
[73,null,null,null,null,null,null,null,{"$f":"IF(OR($H74=\"\",Players!$B$3=\"\",Players!$F$3=\"\"),\"\",IF($D74=\"M\",ROUND($H74*(Players!$B$3/113),0),IF($D74=\"F\",ROUND($H74*(Players!$F$3/113),0))))","v":""},{"$f":"IF(OR($H74=\"\",Players!$B$3=\"\",Players!$F$3=\"\"),\"\",IF($D74=\"M\",$I74,IF($D74=\"F\",($I74+ROUND((Players!$F$2-Players!$B$2),0)))))","v":""}]
[74,null,null,null,null,null,null,null,{"$f":"IF(OR($H75=\"\",Players!$B$3=\"\",Players!$F$3=\"\"),\"\",IF($D75=\"M\",ROUND($H75*(Players!$B$3/113),0),IF($D75=\"F\",ROUND($H75*(Players!$F$3/113),0))))","v":""},{"$f":"IF(OR($H75=\"\",Players!$B$3=\"\",Players!$F$3=\"\"),\"\",IF($D75=\"M\",$I75,IF($D75=\"F\",($I75+ROUND((Players!$F$2-Players!$B$2),0)))))","v":""}]
[75,null,null,null,null,null,null,null,{"$f":"IF(OR($H76=\"\",Players!$B$3=\"\",Players!$F$3=\"\"),\"\",IF($D76=\"M\",ROUND($H76*(Players!$B$3/113),0),IF($D76=\"F\",ROUND($H76*(Players!$F$3/113),0))))","v":""},{"$f":"IF(OR($H76=\"\",Players!$B$3=\"\",Players!$F$3=\"\"),\"\",IF($D76=\"M\",$I76,IF($D76=\"F\",($I76+ROUND((Players!$F$2-Players!$B$2),0)))))","v":""}]

{"sheet":"Information","index":13,"n_rows":37,"n_cols":14,"rows_kept":37,"cut":false,"hidden":false,"merged":[[0,0,0,4],[5,0,5,1],[7,0,7,1],[8,0,8,1],[7,2,7,4],[6,0,6,1],[2,0,2,1],[3,0,3,1],[2,2,2,4],[3,2,3,4],[10,2,10,4],[4,2,4,4],[6,2,6,4],[11,0,11,1],[12,0,12,1],[9,0,9,1],[10,0,10,1],[4,0,4,1],[12,2,12,4],[11,2,11,4],[5,2,5,4],[8,2,8,4],[9,2,9,4]]}
["Tournament Information"]
[]
["Date:",null,"2018-07-22",null,null,"2018-01-20","Kickoff Classic","first","Goose Creek Golf Club","06:00:00","Black",3,1,2]
["Event Name:",null,"Summer Scorcher",null,null,"2018-03-18","March Madness","second","Los Serranos Country Club (South)","06:30:00","Blue",4,3,4]
["Event No.:",null,"fourth",null,null,"2018-05-20","Spring Fling","third","Arroyo Trabuco Golf Club","07:00:00","Green",5,5,6]
["Course:",null,"Mile Square Golf Course (Players)",null,null,"2018-07-22","Summer Scorcher","fourth","Mile Square Golf Course (Players)","07:30:00","White",null,7,8]
["1st Tee Time:",null,"10:00:00",null,null,"2018-09-15","2-Day Event","fifth","Eagle Falls Golf Course","08:00:00","Gold",null,9,10]
["Men's Tees:",null,"White",null,null,"2018-09-16","Fall Classic","sixth","Indian Canyons Golf Resort (South)","08:30:00","Silver",null,11,12]
["Rating:",null,70.5,null,null,"2018-11-01",null,"seventh",null,"09:00:00","Red",null,13,14]
["Slope:",null,122,null,null,null,null,null,null,"09:30:00",null,null,15,16]
["Ladie's Tees:",null,"Red",null,null,null,null,null,null,"10:00:00",null,null,17,18]
["Rating:",null,73.099999999999994,null,null,null,null,null,null,"10:30:00"]
["Slope:",null,125,null,null,null,null,null,null,"11:00:00"]
[null,null,null,null,null,null,null,null,null,"11:30:00"]
[null,null,null,null,null,null,null,null,null,"12:00:00"]
["Hole","No.","Par","Ydg.","Hdcp."]
["1st",1,4,354,15]
["2nd",2,4,383,1]
["3rd",3,4,347,13]
["4th",4,3,111,17]
["5th",5,5,480,7]
["6th",6,3,169,9]
["7th",7,4,374,11]
["8th",8,4,410,3]
["9th",9,5,476,5]
[null,null,{"$f":"IF(C17=\"\",\"\",SUM(C17:C25))","v":36},{"$f":"IF(D17=\"\",\"\",SUM(D17:D25))","v":3104},{"$f":"IF(E17=\"\",\"\",SUM(E17:E25))","v":81}]
[]
["10th",10,4,376,8]
["11th",11,4,405,4]
["12th",12,3,153,10]
["13th",13,4,332,18]
["14th",14,5,515,14]
["15th",15,4,431,2]
["16th",16,3,141,16]
["17th",17,5,477,12]
["18th",18,4,400,6]
[null,null,{"$f":"IF(C28=\"\",\"\",SUM(C28:C36))","v":36},{"$f":"IF(D28=\"\",\"\",SUM(D28:D36))","v":3230},{"$f":"IF(E28=\"\",\"\",SUM(E28:E36))","v":90}]